{"text_format":"1","workbook":"xlsx","n_sheets":26,"sheets":["iMaps","iWorks","tblIndicators","tblIndiSets","iPalette","iRankIndi","tblCountries","Data_raw","Cover","Contents","Summary","Indicator_Rankings","iRank","iCountry","Country_Summary","Country_Scores","iSixComp","Six_Country_Comparison","iScatter","Scatter_Plot","iWeights","Weights","Weights_Information","Data","Scores","aRoundedScores"],"not_rendered":{"charts":2,"images":26,"macros":1,"external_links":1,"defined_names":22,"comments":1,"pivot_tables":0},"unopened":[],"bounds":{"document_bytes":16777216,"sheet_cells":100000,"rows_first":2000,"rows_last":500,"rows_between":2000,"halvings":0,"cell_chars":16384,"cell_head_chars":4096},"cells_cut":0,"cells_raw":0,"read":"whole","date_system":"1900"}

{"sheet":"iMaps","index":0,"n_rows":0,"n_cols":0,"rows_kept":0,"cut":false,"hidden":true,"merged":[]}

{"sheet":"iWorks","index":1,"n_rows":114,"n_cols":38,"rows_kept":114,"cut":false,"hidden":true,"merged":[]}
["GLOBALS"]
[]
["ABOVE_AVERAGE_DOR","●"]
["NA SYMBOL","–",null,"—"]
["WEIGHT_PROFILE_ID",1]
["DIRTY_WEIGHTS",{"$f":"iWeights!Q48","v":0},"1=TRUE, 0=FALSE"]
["DIRTY_WEIGHTS_TEXT",{"$f":"IF(B6=1,\"WEIGHT PROFILE HAS BEEN MODIFIED - CLICK HERE TO UNDO\",\"\")","v":""}]
["NON_DEFAULT_WARNING",{"$f":"IF(OR(B6=1,B5>1),\"A CUSTOM WEIGHT PROFILE IS ACTIVE\",\"\")","v":""}]
["TOTAL_COUNTRIES",20,{"$f":"CONCATENATE(\"Rank / \",B9)","v":"Rank / 20"}]
["TIE_TEXT","= denotes tie in rank"]
["DELTA_TEXT","Δ denotes change in score between 2012 and 2014 "]
[null,"Scores are normalized (0-100, where 100=most favorable)"]
[]
[null,"Scores of 0 and 100 represent the lowest or highest possible score respectively."]
[]
[]
[]
[]
[]
[]
[]
[]
[]
[]
[]
["MULTI SHEET SELECTIONS"]
[]
["REGION_FILTER_ID",1]
["ACTIVE_COUNTRY_COUNT",{"$f":"tblCountries!$L$7","v":20}]
["COUNTRY_HIGHLIGHT_DD",1]
["COUNTRY_HIGHLIGHT_ID",{"$f":"B30-1","v":0}]
[]
["REGION_HIGHLIGHT_DD",1]
["REGION_HIGHLIGHT_ID",{"$f":"B33-1","v":0}]
[]
["COUNTRY1_ID",11,{"$f":"INDEX(luCountries,$B36)","v":"Nigeria"}]
["COUNTRY2_ID",18,{"$f":"INDEX(luCountries,$B37)","v":"Spain"}]
["REGION1_AVERAGE_ID",1,{"$f":"INDEX(tblCountries!$O$3:$O$24,$B38)","v":"All Countries"},"(Have this hard-coded to 1 actually, for \"Index Average\" in country sheets)"]
["REGION2_AVERAGE_ID",2,{"$f":"INDEX(tblCountries!$O$3:$O$24,$B39)","v":"UN: Africa"}]
[]
["RANK_BY",1,null,"1=2014 score, 2=Score delta",null,"2014 score"]
[null,null,null,null,null,"Score change"]
[]
["INIDCATOR RANKING"]
[]
["CATEGORY_FILTER_ID",1]
["FILTERED_INDICATOR_COUNT",{"$f":"INDEX(tblIndiSets!$G$127:$M$127,B46)","v":74}]
["INDI_DD",1,"CODE","PARENTCODE","DEPTH","REF","INDICATOR","UNIT","SOURCE","SCORING_NOTES","DESCRIPTION","QUESTION","GUIDELINES","G0","G1","G2","G3","G4","G5","G6","G7","G8","NORM_ID","Max","FACTOR","ISBG","FORMAT","MODE","DYNAMIC_UNIT","DYNAMIC_UNIT_2","NumberDesc",null,null,"Weight_row","Weight_nom","Weight-%","SP#11","SP#12"]
["INDI_ID",{"$f":"INDEX(tblIndiSets!$B$129:$B$206,B48)","v":1},{"$f":"INDEX(tblIndicators!B$2:B$75,$B49)","v":"OVERALL"},{"$f":"INDEX(tblIndicators!C$2:C$75,$B49)","v":0},{"$f":"INDEX(tblIndicators!D$2:D$75,$B49)","v":0},{"$f":"INDEX(tblIndicators!E$2:E$75,$B49)","v":0},{"$f":"INDEX(tblIndicators!F$2:F$75,$B49)","v":"OVERALL SCORE"},{"$f":"INDEX(tblIndicators!G$2:G$75,$B49)","v":"Scored 0-100 where 100=most favorable coastal governance environment"},{"$f":"INDEX(tblIndicators!H$2:H$75,$B49)","v":"Calculated from category scores"},{"$f":"INDEX(tblIndicators!I$2:I$75,$B49)","v":"Weighted total of the following six categories:\\n1) Policy and Institutional Capacity \\n2) Business Environment for Coastal Activities \\n3) Water Quality \\n4) Minerals and Energy \\n5) Land \\n6) Living Resources"},{"$f":"IF(INDEX(tblIndicators!J$2:J$75,$B49)=\"\",\"\",INDEX(tblIndicators!J$2:J$75,$B49))","v":""},{"$f":"IF(INDEX(tblIndicators!K$2:K$75,$B49)=\"\",\"\",INDEX(tblIndicators!K$2:K$75,$B49))","v":"The OVERALL SCORE is the combination of the six category scores, as determined by the weighting profile (see Scoring Notes)."},{"$f":"INDEX(tblIndicators!L$2:L$75,$B49)","v":0},{"$f":"INDEX(tblIndicators!M$2:M$75,$B49)","v":0},{"$f":"INDEX(tblIndicators!N$2:N$75,$B49)","v":0},{"$f":"INDEX(tblIndicators!O$2:O$75,$B49)","v":0},{"$f":"INDEX(tblIndicators!P$2:P$75,$B49)","v":0},{"$f":"INDEX(tblIndicators!Q$2:Q$75,$B49)","v":0},{"$f":"INDEX(tblIndicators!R$2:R$75,$B49)","v":0},{"$f":"INDEX(tblIndicators!S$2:S$75,$B49)","v":0},{"$f":"INDEX(tblIndicators!T$2:T$75,$B49)","v":0},{"$f":"INDEX(tblIndicators!U$2:U$75,$B49)","v":0},{"$f":"INDEX(tblIndicators!V$2:V$75,$B49)","v":1},{"$f":"INDEX(tblIndicators!X$2:X$75,$B49)","v":100},{"$f":"INDEX(tblIndicators!Y$2:Y$75,$B49)","v":0},{"$f":"INDEX(tblIndicators!Z$2:Z$75,$B49)","v":0},{"$f":"INDEX(tblIndicators!AA$2:AA$75,$B49)","v":"#0"},{"$f":"INDEX(tblIndicators!AB$2:AB$75,$B49)","v":"OVERALL SCORE"},{"$f":"INDEX(tblIndicators!AC$2:AC$75,$B49)","v":"Scored 0-100 where 100=most favorable conditions"},{"$f":"INDEX(tblIndicators!AD$2:AD$75,$B49)","v":"Scored 0-100"},{"$f":"INDEX(tblIndicators!AE$2:AE$75,$B49)","v":"OVERALL SCORE"},{"$f":"INDEX(tblIndicators!AF$2:AF$75,$B49)","v":0},{"$f":"INDEX(tblIndicators!AG$2:AG$75,$B49)","v":0},{"$f":"INDEX(tblIndicators!AH$2:AH$75,$B49)","v":0},{"$f":"INDEX(tblIndicators!AI$2:AI$75,$B49)","v":0},{"$f":"INDEX(tblIndicators!AJ$2:AJ$75,$B49)","v":0},{"$f":"INDEX(tblIndicators!AK$2:AK$75,$B49)","v":0},{"$f":"INDEX(tblIndicators!AL$2:AL$75,$B49)","v":0}]
["INDI_MAX",{"$f":"X49","v":100}]
[]
["HEADS",{"$f":"IF($AB$49=\"OVERALL SCORE\", \"\",$AB$49)","v":""}]
[]
[null,{"$f":"CHOOSE(E49+1,\"overall\",\"category\",\"indicator\",\"sub-indicator\")","v":"overall"}]
[null,{"$f":"CHOOSE(E49+1,\"category\",\"indicator\",\"sub-indicator\",\"xxx\")","v":"category"}]
[]
[]
[{"$f":"IF(E49=3,\"Data / \",\"Score / \")","v":"Score / "}]
[]
["SUPER_SPECIAL_TEXT",{"$f":"IF($E49=3,CONCATENATE(L49,CHAR(10),CHAR(10),AC49),CONCATENATE(AC49,CHAR(10),CHAR(10),L49))","v":"Scored 0-100 where 100=most favorable conditions\n\nThe OVERALL SCORE is the combination of the six category scores, as determined by the weighting profile (see Scoring Notes)."}]
["TABLE_HEAD",{"$f":"CONCATENATE(A58,X49)","v":"Score / 100"}]
[]
["WEIGHT_TEXT",{"$f":"IF(B49=1,\"\",IF(E49=3,\"Sub-indicator - not weighted\",CONCATENATE(TEXT(AJ49,\"0.0%\"),\"; contributes to \",AK49)))","v":""}]
[]
[]
["SCATTER"]
["INDI_X_DD",1]
["INDI_X_ID",{"$f":"INDEX(tblIndiSets!$B$12:$B$42,B67)","v":1},{"$f":"INDEX(tblIndicators!B$2:B$75,$B68)","v":"OVERALL"},{"$f":"INDEX(tblIndicators!C$2:C$75,$B68)","v":0},{"$f":"INDEX(tblIndicators!D$2:D$75,$B68)","v":0},{"$f":"INDEX(tblIndicators!E$2:E$75,$B68)","v":0},{"$f":"INDEX(tblIndicators!F$2:F$75,$B68)","v":"OVERALL SCORE"},{"$f":"INDEX(tblIndicators!G$2:G$75,$B68)","v":"Scored 0-100 where 100=most favorable coastal governance environment"},{"$f":"INDEX(tblIndicators!H$2:H$75,$B68)","v":"Calculated from category scores"},{"$f":"INDEX(tblIndicators!I$2:I$75,$B68)","v":"Weighted total of the following six categories:\\n1) Policy and Institutional Capacity \\n2) Business Environment for Coastal Activities \\n3) Water Quality \\n4) Minerals and Energy \\n5) Land \\n6) Living Resources"},{"$f":"INDEX(tblIndicators!J$2:J$75,$B68)","v":0},{"$f":"INDEX(tblIndicators!K$2:K$75,$B68)","v":"The OVERALL SCORE is the combination of the six category scores, as determined by the weighting profile (see Scoring Notes)."},{"$f":"INDEX(tblIndicators!L$2:L$75,$B68)","v":0},{"$f":"INDEX(tblIndicators!M$2:M$75,$B68)","v":0},{"$f":"INDEX(tblIndicators!N$2:N$75,$B68)","v":0},{"$f":"INDEX(tblIndicators!O$2:O$75,$B68)","v":0},{"$f":"INDEX(tblIndicators!P$2:P$75,$B68)","v":0},{"$f":"INDEX(tblIndicators!Q$2:Q$75,$B68)","v":0},{"$f":"INDEX(tblIndicators!R$2:R$75,$B68)","v":0},{"$f":"INDEX(tblIndicators!S$2:S$75,$B68)","v":0},{"$f":"INDEX(tblIndicators!T$2:T$75,$B68)","v":0},{"$f":"INDEX(tblIndicators!U$2:U$75,$B68)","v":0},{"$f":"INDEX(tblIndicators!V$2:V$75,$B68)","v":1},{"$f":"INDEX(tblIndicators!X$2:X$75,$B68)","v":100},{"$f":"INDEX(tblIndicators!Y$2:Y$75,$B68)","v":0},{"$f":"INDEX(tblIndicators!Z$2:Z$75,$B68)","v":0},{"$f":"INDEX(tblIndicators!AA$2:AA$75,$B68)","v":"#0"},{"$f":"INDEX(tblIndicators!AB$2:AB$75,$B68)","v":"OVERALL SCORE"},{"$f":"INDEX(tblIndicators!AC$2:AC$75,$B68)","v":"Scored 0-100 where 100=most favorable conditions"},{"$f":"INDEX(tblIndicators!AD$2:AD$75,$B68)","v":"Scored 0-100"},{"$f":"INDEX(tblIndicators!AE$2:AE$75,$B68)","v":"OVERALL SCORE"},{"$f":"INDEX(tblIndicators!AF$2:AF$75,$B68)","v":0},{"$f":"INDEX(tblIndicators!AG$2:AG$75,$B68)","v":0},{"$f":"INDEX(tblIndicators!AH$2:AH$75,$B68)","v":0},{"$f":"INDEX(tblIndicators!AI$2:AI$75,$B68)","v":0},{"$f":"INDEX(tblIndicators!AJ$2:AJ$75,$B68)","v":0},{"$f":"INDEX(tblIndicators!AK$2:AK$75,$B68)","v":0},{"$f":"INDEX(tblIndicators!AL$2:AL$75,$B68)","v":0}]
[]
["INDI_Y_DD",1]
["INDI_Y_ID",{"$f":"B70","v":1},{"$f":"INDEX(tblIndicators!B$77:B$80,$B71)","v":"BG_01"},{"$f":"INDEX(tblIndicators!C$77:C$80,$B71)","v":"BG"},{"$f":"INDEX(tblIndicators!D$77:D$80,$B71)","v":"-"},{"$f":"INDEX(tblIndicators!E$77:E$80,$B71)","v":7.1},{"$f":"INDEX(tblIndicators!F$77:F$80,$B71)","v":"GDP per head (PPP, $, 2014)"},{"$f":"INDEX(tblIndicators!G$77:G$80,$B71)","v":0},{"$f":"INDEX(tblIndicators!H$77:H$80,$B71)","v":"Economist Intelligence Unit"},{"$f":"INDEX(tblIndicators!I$77:I$80,$B71)","v":0},{"$f":"INDEX(tblIndicators!J$77:J$80,$B71)","v":0},{"$f":"INDEX(tblIndicators!K$77:K$80,$B71)","v":0},{"$f":"INDEX(tblIndicators!L$77:L$80,$B71)","v":0},{"$f":"INDEX(tblIndicators!M$77:M$80,$B71)","v":0},{"$f":"INDEX(tblIndicators!N$77:N$80,$B71)","v":0},{"$f":"INDEX(tblIndicators!O$77:O$80,$B71)","v":0},{"$f":"INDEX(tblIndicators!P$77:P$80,$B71)","v":0},{"$f":"INDEX(tblIndicators!Q$77:Q$80,$B71)","v":0},{"$f":"INDEX(tblIndicators!R$77:R$80,$B71)","v":0},{"$f":"INDEX(tblIndicators!S$77:S$80,$B71)","v":0},{"$f":"INDEX(tblIndicators!T$77:T$80,$B71)","v":0},{"$f":"INDEX(tblIndicators!U$77:U$80,$B71)","v":0},{"$f":"INDEX(tblIndicators!V$77:V$80,$B71)","v":0},{"$f":"INDEX(tblIndicators!W$77:W$80,$B71)","v":0},{"$f":"INDEX(tblIndicators!X$77:X$80,$B71)","v":0},{"$f":"INDEX(tblIndicators!Y$77:Y$80,$B71)","v":0},{"$f":"INDEX(tblIndicators!Z$77:Z$80,$B71)","v":0},{"$f":"INDEX(tblIndicators!AA$77:AA$80,$B71)","v":"#0"},{"$f":"INDEX(tblIndicators!AB$77:AB$80,$B71)","v":0},{"$f":"INDEX(tblIndicators!AC$77:AC$80,$B71)","v":0},{"$f":"INDEX(tblIndicators!AD$77:AD$80,$B71)","v":0},{"$f":"INDEX(tblIndicators!AE$77:AE$80,$B71)","v":"7.1) GDP per head (PPP, $, 2014)"},{"$f":"INDEX(tblIndicators!AF$77:AF$80,$B71)","v":0},{"$f":"INDEX(tblIndicators!AG$77:AG$80,$B71)","v":0},{"$f":"INDEX(tblIndicators!AH$77:AH$80,$B71)","v":0},{"$f":"INDEX(tblIndicators!AI$77:AI$80,$B71)","v":0},{"$f":"INDEX(tblIndicators!AJ$77:AJ$80,$B71)","v":0},{"$f":"INDEX(tblIndicators!AK$77:AK$80,$B71)","v":0}]
[]
["SHOW_LABELS",false]
["SHOW_OUTLIERS",false]
[]
[]
["SCATTER_X_MIN",{"$f":"IF(iWorks!Z68=0,0,W68)","v":0}]
["SCATTER_Y_MIN",{"$f":"IF(iWorks!Z71=0,0,W71)","v":0}]
["SCATTER_X_MAX",{"$f":"X68","v":100}]
["SCATTER_Y_MAX",{"$f":"X71","v":0}]
[]
["MULTI COMPARISON"]
["REGION_AVERAGE_ID",1,{"$f":"INDEX(tblCountries!$O$3:$O$30,B83)","v":"All Countries"}]
[]
["COMP_COUNTRY_ID_1",1]
["COMP_COUNTRY_ID_2",7]
["COMP_COUNTRY_ID_3",20]
["COMP_COUNTRY_ID_4",13]
["COMP_COUNTRY_ID_5",14]
["COMP_COUNTRY_ID_6",16]
[]
["_X_COMP_COUNTRY_ID_1",true,{"$f":"COUNTIF(B$85:B85,B85)-1","v":0},{"$f":"IF(AND(B92,C92=0),B85,-1)","v":1}]
["_X_COMP_COUNTRY_ID_2",true,{"$f":"COUNTIF(B$85:B86,B86)-1","v":0},7]
["_X_COMP_COUNTRY_ID_3",true,{"$f":"COUNTIF(B$85:B87,B87)-1","v":0},20]
["_X_COMP_COUNTRY_ID_4",true,{"$f":"COUNTIF(B$85:B88,B88)-1","v":0},13]
["_X_COMP_COUNTRY_ID_5",true,{"$f":"COUNTIF(B$85:B89,B89)-1","v":0},14]
["_X_COMP_COUNTRY_ID_6",true,{"$f":"COUNTIF(B$85:B90,B90)-1","v":0},16]
[]
["EFFECTIVE_COMP_COUNTRY_ID_1",{"$f":"D92","v":1}]
["EFFECTIVE_COMP_COUNTRY_ID_2",7]
["EFFECTIVE_COMP_COUNTRY_ID_3",20]
["EFFECTIVE_COMP_COUNTRY_ID_4",13]
["EFFECTIVE_COMP_COUNTRY_ID_5",14]
["EFFECTIVE_COMP_COUNTRY_ID_6",16]
[]
["COMP_SHOW_AVERAGE",true]
[]
[]
["DEPENDENT VARIABLE RANKING"]
[]
["DEP_INDI_DD",1]
["DEP_INDI_DD",{"$f":"INDEX(tblIndiSets!#REF!,B111)","v":{"$error":"#REF!"}},{"$f":"INDEX(tblIndicators!B$2:B$75,$B112)","v":{"$error":"#REF!"}},{"$f":"INDEX(tblIndicators!C$2:C$75,$B112)","v":{"$error":"#REF!"}},{"$f":"INDEX(tblIndicators!D$2:D$75,$B112)","v":{"$error":"#REF!"}},{"$f":"INDEX(tblIndicators!E$2:E$75,$B112)","v":{"$error":"#REF!"}},{"$f":"INDEX(tblIndicators!F$2:F$75,$B112)","v":{"$error":"#REF!"}},{"$f":"INDEX(tblIndicators!G$2:G$75,$B112)","v":{"$error":"#REF!"}},{"$f":"INDEX(tblIndicators!H$2:H$75,$B112)","v":{"$error":"#REF!"}},{"$f":"INDEX(tblIndicators!I$2:I$75,$B112)","v":{"$error":"#REF!"}},{"$f":"INDEX(tblIndicators!J$2:J$75,$B112)","v":{"$error":"#REF!"}},{"$f":"INDEX(tblIndicators!K$2:K$75,$B112)","v":{"$error":"#REF!"}},{"$f":"INDEX(tblIndicators!L$2:L$75,$B112)","v":{"$error":"#REF!"}},{"$f":"INDEX(tblIndicators!M$2:M$75,$B112)","v":{"$error":"#REF!"}},{"$f":"INDEX(tblIndicators!N$2:N$75,$B112)","v":{"$error":"#REF!"}},{"$f":"INDEX(tblIndicators!O$2:O$75,$B112)","v":{"$error":"#REF!"}},{"$f":"INDEX(tblIndicators!P$2:P$75,$B112)","v":{"$error":"#REF!"}},{"$f":"INDEX(tblIndicators!Q$2:Q$75,$B112)","v":{"$error":"#REF!"}},{"$f":"INDEX(tblIndicators!R$2:R$75,$B112)","v":{"$error":"#REF!"}},{"$f":"INDEX(tblIndicators!S$2:S$75,$B112)","v":{"$error":"#REF!"}},{"$f":"INDEX(tblIndicators!T$2:T$75,$B112)","v":{"$error":"#REF!"}},{"$f":"INDEX(tblIndicators!U$2:U$75,$B112)","v":{"$error":"#REF!"}},{"$f":"INDEX(tblIndicators!V$2:V$75,$B112)","v":{"$error":"#REF!"}},{"$f":"INDEX(tblIndicators!X$2:X$75,$B112)","v":{"$error":"#REF!"}},{"$f":"INDEX(tblIndicators!Y$2:Y$75,$B112)","v":{"$error":"#REF!"}},{"$f":"INDEX(tblIndicators!Z$2:Z$75,$B112)","v":{"$error":"#REF!"}},{"$f":"INDEX(tblIndicators!AA$2:AA$75,$B112)","v":{"$error":"#REF!"}},{"$f":"INDEX(tblIndicators!AB$2:AB$75,$B112)","v":{"$error":"#REF!"}},{"$f":"INDEX(tblIndicators!AC$2:AC$75,$B112)","v":{"$error":"#REF!"}},{"$f":"INDEX(tblIndicators!AD$2:AD$75,$B112)","v":{"$error":"#REF!"}},{"$f":"INDEX(tblIndicators!AE$2:AE$75,$B112)","v":{"$error":"#REF!"}},{"$f":"INDEX(tblIndicators!AF$2:AF$75,$B112)","v":{"$error":"#REF!"}},{"$f":"INDEX(tblIndicators!AG$2:AG$75,$B112)","v":{"$error":"#REF!"}}]
[]
["DEP_FORMAT",{"$f":"AA112","v":{"$error":"#REF!"}}]

{"sheet":"tblIndicators","index":2,"n_rows":80,"n_cols":37,"rows_kept":80,"cut":false,"hidden":true,"merged":[]}
["ID","CODE","PARENTCODE","DEPTH","REF","INDICATOR","UNIT","SOURCE","SCORING_NOTES","DESCRIPTION","QUESTION","HIGH IS GOOD = 0, Bad = 1",null,null,null,null,null,null,null,null,null,"NORM_ID","MIN","Max","Is Already Normalized","ISBG","FORMAT","MODE","DYNAMIC_UNIT","DYNAMIC_UNIT_2","NumberDesc",null,null,"Weight_row","Weight_nom","Weight-%"]
[1,"OVERALL",null,0,null,"OVERALL SCORE","Scored 0-100 where 100=most favorable coastal governance environment","Calculated from category scores","Weighted total of the following six categories:\\n1) Policy and Institutional Capacity \\n2) Business Environment for Coastal Activities \\n3) Water Quality \\n4) Minerals and Energy \\n5) Land \\n6) Living Resources",null,"The OVERALL SCORE is the combination of the six category scores, as determined by the weighting profile (see Scoring Notes).",null,null,null,null,null,null,null,null,null,null,1,null,100,null,0,"#0","OVERALL SCORE",{"$f":"CONCATENATE(IF($D2=3,\"Scored\",\"Scored\"),\" 0-\",$X2,\" where \",$X2,\"=most favorable conditions\")","v":"Scored 0-100 where 100=most favorable conditions"},{"$f":"CONCATENATE(IF($D2=3,\"Scored\",\"Scored\"),\" 0-\",$X2)","v":"Scored 0-100"},{"$f":"$F2","v":"OVERALL SCORE"}]
[2,"PLCAP","OVERALL",1,1,"POLICY AND INSTITUTIONAL CAPACITY","Scored 0-100 where 100=most favorable coastal governance environment","Calculated from indicator scores","Weighted total of the following seven indicators:\\n1.1) Coastal management policy and strategy \\n1.2) Presence of established institution(s) \\n1.3) National strategy to adapt to climate change \\n1.4) Maritime Spatial Planning \\n1.5) Stakeholder engagement \\n1.6) Extractive industries transparency \\n1.7) Adoption of the United Nations Convention on the Law of the Sea (UNCLOS)","This category is comprised of seven indicators and 10 sub-indicators related to the policy and institutional capacity of government with regard to coastal management. It assesses the extent to which a coastal management strategy exists, is implemented and engages stakeholders.","The POLICY AND INSTITUTIONAL CAPACITY category score is the combination of the indicator scores within this category (see Scoring Notes). ",null,null,null,null,null,null,null,null,null,null,1,null,100,null,0,"#0",{"$f":"CHOOSE($D3,\"CATEGORY\",\"INDICATOR\",\"SUB-INDICATOR\")","v":"CATEGORY"},{"$f":"CONCATENATE(IF($D3=3,\"Scored\",\"Scored\"),\" 0-\",$X3,\" where \",$X3,\"=most favorable conditions\")","v":"Scored 0-100 where 100=most favorable conditions"},{"$f":"CONCATENATE(IF($D3=3,\"Scored\",\"Scored\"),\" 0-\",$X3)","v":"Scored 0-100"},{"$f":"CONCATENATE($E3,\") \",$F3)","v":"1) POLICY AND INSTITUTIONAL CAPACITY"},null,null,{"$f":"MATCH($B3,Weights!$C$7:$C$45,0)","v":1},{"$f":"IF(ISERROR(AH3),1,INDEX(Weights!$G$7:$G$45,AH3))","v":1},{"$f":"IF(ISERROR(AI3/SUMIF($C$2:$C$75,$C3,AI$2:AI$75)),0,AI3/SUMIF($C$2:$C$75,$C3,AI$2:AI$75))","v":0.16666666666666666},{"$f":"CHOOSE(D3,\"OVERALL score\",CONCATENATE(INDEX(F$2:F$77,MATCH(C3,$B$2:$B$77,0)),\" category score\"),CONCATENATE(INDEX(F$2:F$77,MATCH(C3,$B$2:$B$77,0)),\" indicator score\"))","v":"OVERALL score"}]
[3,"PLCAP_1","PLCAP",2,1.1000000000000001,"Coastal management policy and strategy","Scored 0-100 where 100=most favorable coastal governance environment","Calculated from sub-indicators","Scored as the aggregation of normalized scores of the following two sub-indicators:\\n\\nIs there a domestic coastal management policy?\\n0=No\\n1=Yes\\n\\nIs there a strategy in place to implement the coastal management policy identified in 1.1.1 across sectors?\\n0=No or no coastal management policy was identified in 1.1.1\\n1=Yes, but strategy is not integrated across sectors\\n2=Yes, integrated strategy is in place",null,null,null,null,null,null,null,null,null,null,null,null,1,null,100,null,0,"#0",{"$f":"CHOOSE($D4,\"CATEGORY\",\"INDICATOR\",\"SUB-INDICATOR\")","v":"INDICATOR"},{"$f":"CONCATENATE(IF($D4=3,\"Scored\",\"Scored\"),\" 0-\",$X4,\" where \",$X4,\"=most favorable conditions\")","v":"Scored 0-100 where 100=most favorable conditions"},"Scored 0-100",{"$f":"CONCATENATE($E4,\") \",$F4)","v":"1.1) Coastal management policy and strategy"},null,null,{"$f":"MATCH($B4,Weights!$C$7:$C$45,0)","v":11},{"$f":"IF(ISERROR(AH4),1,INDEX(Weights!$G$7:$G$45,AH4))","v":1},0.14285714285714285,"POLICY AND INSTITUTIONAL CAPACITY category score"]
[4,"PLCAP_1_1","PLCAP_1",3,"1.1.1","Coastal management policy","Scored 0-1 ","EIU qualitative assessment","Is there a domestic coastal management policy?\\n\\n0=No\\n1=Yes",null,"Is there a domestic coastal management policy?",0,null,null,null,null,null,null,null,null,null,3,0,1,null,0,"#0","SUB-INDICATOR","Scored 0-1 where 1=most favorable conditions","Scored 0-1","1.1.1) Coastal management policy",null,null,{"$f":"MATCH($B5,Weights!$C$7:$C$45,0)","v":{"$error":"#N/A"}},{"$f":"IF(ISERROR(AH5),1,INDEX(Weights!$G$7:$G$45,AH5))","v":1},0.5,"Coastal management policy and strategy indicator score"]
[5,"PLCAP_1_2","PLCAP_1",3,"1.1.2","Coastal management strategy","Scored 0-2 ","EIU qualitative assessment","Is there a strategy in place to implement the coastal management policy identified in 1.1.1 across sectors?\\n\\n0=No or no coastal management policy was identified in 1.1.1\\n1=Yes, but strategy is not integrated across sectors\\n2=Yes, integrated strategy is in place\\n\\nA strategy refers to the plan of action to implement the coastal management policy.",null,"Is there a strategy in place to implement the coastal management policy identified in 1.1.1 across sectors?",0,null,null,null,null,null,null,null,null,null,3,0,2,null,0,"#0","SUB-INDICATOR","Scored 0-2 where 2=most favorable conditions","Scored 0-2","1.1.2) Coastal management strategy",null,null,{"$f":"MATCH($B6,Weights!$C$7:$C$45,0)","v":{"$error":"#N/A"}},{"$f":"IF(ISERROR(AH6),1,INDEX(Weights!$G$7:$G$45,AH6))","v":1},0.5,"Coastal management policy and strategy indicator score"]
[6,"PLCAP_2","PLCAP",2,1.2,"Presence of established institution(s)","Scored 0-100 where 100=most favorable coastal government governance environment","Calculated from sub-indicator","Scored as the total of the following sub-indicator:\\n\\nIs there a national authority(ies) for implementation of the coastal management strategy identified in 1.1.2?\\n\\n0= No or no coastal management strategy was identified\\n1= Yes, there are multiple entities responsible for the implementation or coordination of implementation of the coastal management strategy identified in 1.1.2 or there is an entity in charge of designing a coastal management strategy\\n2= Yes, there is one entity responsible for implementation or coordination of implementation of the coastal management strategy identified in 1.1.2",null,null,null,null,null,null,null,null,null,null,null,null,1,null,100,null,0,"#0","INDICATOR","Scored 0-100 where 100=most favorable conditions","Scored 0-100","1.2) Presence of established institution(s)",null,null,{"$f":"MATCH($B7,Weights!$C$7:$C$45,0)","v":12},{"$f":"IF(ISERROR(AH7),1,INDEX(Weights!$G$7:$G$45,AH7))","v":1},0.14285714285714285,"POLICY AND INSTITUTIONAL CAPACITY category score"]
[7,"PLCAP_2_1","PLCAP_2",3,"1.2.1","Presence of coastal management strategy authority","Scored 0-2 ","EIU qualitative assessment","Is there a national authority(ies) for implementation of the coastal management strategy identified in 1.1.2?\\n\\n0= No or no coastal management strategy was identified\\n1= Yes, there are multiple entities responsible for the implementation or coordination of implementation of the coastal management strategy identified in 1.1.2 or there is an entity in charge of designing a coastal management strategy \\n2= Yes, there is one entity responsible for implementation or coordination of implementation of the coastal management strategy identified in 1.1.2",null,"Is there a national authority(ies) for implementation of the coastal management strategy identified in 1.1.2?",0,null,null,null,null,null,null,null,null,null,3,0,2,null,0,"#0","SUB-INDICATOR","Scored 0-2 where 2=most favorable conditions","Scored 0-2","1.2.1) Presence of coastal management strategy authority",null,null,{"$f":"MATCH($B8,Weights!$C$7:$C$45,0)","v":{"$error":"#N/A"}},{"$f":"IF(ISERROR(AH8),1,INDEX(Weights!$G$7:$G$45,AH8))","v":1},1,"Presence of established institution(s) indicator score"]
[8,"PLCAP_3","PLCAP",2,1.3,"National strategy to adapt to climate change","Scored 0-100 where 100=most favorable coastal governance environment","Calculated from sub-indicator","Scored as the normalized score of the following sub-indicator:\\n\\nIs there a strategy in place to adapt coastal areas to climate change?\\n\\n0=No\\n1=Yes",null,null,null,null,null,null,null,null,null,null,null,null,1,null,100,null,0,"#0","INDICATOR","Scored 0-100 where 100=most favorable conditions","Scored 0-100","1.3) National strategy to adapt to climate change",null,null,{"$f":"MATCH($B9,Weights!$C$7:$C$45,0)","v":13},{"$f":"IF(ISERROR(AH9),1,INDEX(Weights!$G$7:$G$45,AH9))","v":1},0.14285714285714285,"POLICY AND INSTITUTIONAL CAPACITY category score"]
[9,"PLCAP_3_1","PLCAP_3",3,"1.3.1","Strategy to adapt coastal areas to climate change","Scored 0-2 ","EIU qualitative assessment","Is there a strategy in place to adapt coastal areas to climate change?\n\n0=No\n1=Yes, the strategy is partially described\n2=Yes, the strategy is fully described\n\nThis question refers to the existence of a national strategy that addresses the coastal impacts of climate change, e.g. sea level rise and/or coastal floating. Adaptation refers to any efforts to adapt coastal areas to mitigate these risks.",null,"Is there a strategy in place to adapt coastal areas to climate change?",0,null,null,null,null,null,null,null,null,null,3,0,2,null,0,"#0","SUB-INDICATOR","Scored 0-2 where 2=most favorable conditions","Scored 0-2","1.3.1) Strategy to adapt coastal areas to climate change",null,null,{"$f":"MATCH($B10,Weights!$C$7:$C$45,0)","v":{"$error":"#N/A"}},{"$f":"IF(ISERROR(AH10),1,INDEX(Weights!$G$7:$G$45,AH10))","v":1},1,"National strategy to adapt to climate change indicator score"]
[10,"PLCAP_4","PLCAP",2,1.4,"Maritime Spatial Planning","Scored 0-100 where 100=most favorable coastal governance environment","Calculated from sub-indicators","Scored as the aggregation of normalized scores of the following two sub-indicators:\n\nIs there a domestic legal or regulatory basis for maritime spatial planning (MSP)?\n\n0=No\n1=Yes, there is a legal or regulatory basis at the subnational level or MSP is at the planning stage\n2=Yes, there is a legal or regulatory basis at the national level\n\nIs there a government entity responsible for maritime spatial planning?\n\n0=No\n1=Yes, there is a government entity responsible at the subnational level\n2=Yes, there is a government entity responsible at the national level",null,null,null,null,null,null,null,null,null,null,null,null,1,null,100,null,0,"#0","INDICATOR","Scored 0-100 where 100=most favorable conditions","Scored 0-100","1.4) Maritime Spatial Planning",null,null,{"$f":"MATCH($B11,Weights!$C$7:$C$45,0)","v":14},{"$f":"IF(ISERROR(AH11),1,INDEX(Weights!$G$7:$G$45,AH11))","v":1},0.14285714285714285,"POLICY AND INSTITUTIONAL CAPACITY category score"]
[11,"PLCAP_4_1","PLCAP_4",3,"1.4.1","Legal basis for maritime spatial planning","Scored 0-2","EIU qualitative assessment","Is there a domestic legal or regulatory basis for maritime spatial planning (MSP)?\n\n0=No\n1=Yes, there is a regulatory basis at the subnational level or MSP is at the planning stage\n2=Yes, there is a regulatory basis at the national level",null,"Is there a domestic legal or regulatory basis for maritime spatial planning (MSP)?",0,null,null,null,null,null,null,null,null,null,3,0,2,null,0,"#0","SUB-INDICATOR","Scored 0-2 where 2=most favorable conditions","Scored 0-2","1.4.1) Legal basis for maritime spatial planning",null,null,{"$f":"MATCH($B12,Weights!$C$7:$C$45,0)","v":{"$error":"#N/A"}},{"$f":"IF(ISERROR(AH12),1,INDEX(Weights!$G$7:$G$45,AH12))","v":1},0.5,"Maritime Spatial Planning indicator score"]
[12,"PLCAP_4_2","PLCAP_4",3,"1.4.2","Institution for maritime spatial planning","Scored 0-2 ","EIU qualitative assessment","Is there a government entity responsible for maritime spatial planning (MSP)?\n\n0=No\n1=Yes, there is a government entity responsible for MSP at the subnational level\n2=Yes,  there is a government entity responsible for MSP at the national level",null,"Is there a government entity responsible for maritime spatial planning?",0,null,null,null,null,null,null,null,null,null,3,0,2,null,0,"#0","SUB-INDICATOR","Scored 0-2 where 2=most favorable conditions","Scored 0-2","1.4.2) Institution for maritime spatial planning",null,null,{"$f":"MATCH($B13,Weights!$C$7:$C$45,0)","v":{"$error":"#N/A"}},{"$f":"IF(ISERROR(AH13),1,INDEX(Weights!$G$7:$G$45,AH13))","v":1},0.5,"Maritime Spatial Planning indicator score"]
[13,"PLCAP_5","PLCAP",2,1.5,"Stakeholder engagement","Scored 0-100 where 100=most favorable coastal governance environment","Calculated from sub-indicators","Scored as the aggregation of normalized scores of the following two sub-indicators:\\n\\nDo institutions provide citizens with the opportunity to successfully petition government to redress grievances?\\n\\n0= No\\n1= Some opportunities\\n2= Yes\\n\\nDoes the strategy referred to in sub-indicator 1.1.2 require multi-stakeholder engagement (i.e. private sector, public sector, third-sector and private citizens)?\\n\\n0=No\\n1=Yes",null,null,null,null,null,null,null,null,null,null,null,null,1,null,100,null,0,"#0","INDICATOR","Scored 0-100 where 100=most favorable conditions","Scored 0-100","1.5) Stakeholder engagement",null,null,{"$f":"MATCH($B14,Weights!$C$7:$C$45,0)","v":15},{"$f":"IF(ISERROR(AH14),1,INDEX(Weights!$G$7:$G$45,AH14))","v":1},0.14285714285714285,"POLICY AND INSTITUTIONAL CAPACITY category score"]
[14,"PLCAP_5_1","PLCAP_5",3,"1.5.1","Grievance redress","Scored 0-2 ","EIU qualitative assessment","Do institutions provide citizens with the opportunity to successfully petition government to redress grievances?\\n\\n0= No\\n1= Some opportunities\\n2= Yes",null,"Do institutions provide citizens with the opportunity to successfully petition government to redress grievances?",0,null,null,null,null,null,null,null,null,null,3,0,2,null,0,"#0","SUB-INDICATOR","Scored 0-2 where 2=most favorable conditions","Scored 0-2","1.5.1) Grievance redress",null,null,{"$f":"MATCH($B15,Weights!$C$7:$C$45,0)","v":{"$error":"#N/A"}},{"$f":"IF(ISERROR(AH15),1,INDEX(Weights!$G$7:$G$45,AH15))","v":1},0.5,"Stakeholder engagement indicator score"]
[15,"PLCAP_5_2","PLCAP_5",3,"1.5.2","Multi-stakeholder engagement","Scored 0-1 ","EIU qualitative assessment","Does the strategy referred to in sub-indicator 1.1.2 require multi-stakeholder engagement (i.e. private sector, public sector, third-sector and private citizens)?\\n\\n0=No\\n1=Yes\\n\\nThe strategy noted in 1.1.2 must specifically address multi-stakeholder engagement.",null,"Does the strategy referred to in sub-indicator 1.1.2 require multi-stakeholder engagement (i.e. private sector, public sector, third sector and private citizens)?",0,null,null,null,null,null,null,null,null,null,3,0,1,null,0,"#0","SUB-INDICATOR","Scored 0-1 where 1=most favorable conditions","Scored 0-1","1.5.2) Multi-stakeholder engagement",null,null,{"$f":"MATCH($B16,Weights!$C$7:$C$45,0)","v":{"$error":"#N/A"}},{"$f":"IF(ISERROR(AH16),1,INDEX(Weights!$G$7:$G$45,AH16))","v":1},0.5,"Stakeholder engagement indicator score"]
[16,"PLCAP_6","PLCAP",2,1.6,"Extractive industries transparency","Scored 0-100 where 100=most favorable coastal governance environment","Calculated from sub-indicator","Scored as the normalized score total of the following sub-indicator:\\n\\n1.6.1 Has the country adopted the Extractive Industries Transparency Initiative (EITI) standards?\\n\\n0=No\\n1=Membership has been suspended\\n2=EITI candidate country\\n3=EITI compliant country or extractive industries are not a significant economic activity in the country","This indicator measures the extent to which rent distribution coming from the exploitation of natural resources is done in a transparent fashion.",null,null,null,null,null,null,null,null,null,null,null,1,null,100,null,0,"#0","INDICATOR","Scored 0-100 where 100=most favorable conditions","Scored 0-100","1.6) Extractive industries transparency",null,null,{"$f":"MATCH($B17,Weights!$C$7:$C$45,0)","v":16},{"$f":"IF(ISERROR(AH17),1,INDEX(Weights!$G$7:$G$45,AH17))","v":1},0.14285714285714285,"POLICY AND INSTITUTIONAL CAPACITY category score"]
[17,"PLCAP_6_1","PLCAP_6",3,"1.6.1","Adoption of EITI standards","Scored 0-3 ","Extractive Industries Transparency Initiative (EITI)","1.6.1 Has the country adopted the Extractive Industries Transparency Initiative (EITI) standards?\\n\\n0=No\\n1=Membership has been suspended\\n2=EITI candidate country\\n3=EITI compliant or extractive industries are not a significant economic activity in the country\\n\\nThe Extractive Industries Transparency Initiative (EITI) is a global standard led by a coalition of governments, companies, investors, civil society organisations, and partner organisations to promote openness and accountable management of natural resources. It seeks to strengthen government and company systems, inform public debate, and enhance trust.",null,"Has the country adopted the Extractive Industries Transparency Initiative (EITI) standards?",0,null,null,null,null,null,null,null,null,null,3,0,3,null,0,"#0","SUB-INDICATOR","Scored 0-3 where 3=most favorable conditions","Scored 0-3","1.6.1) Adoption of EITI standards",null,null,{"$f":"MATCH($B18,Weights!$C$7:$C$45,0)","v":{"$error":"#N/A"}},{"$f":"IF(ISERROR(AH18),1,INDEX(Weights!$G$7:$G$45,AH18))","v":1},1,"Extractive industries transparency indicator score"]
[18,"PLCAP_7","PLCAP",2,1.7,"Adoption of the United Nations Convention on the Law of the Sea (UNCLOS)","Scored 0-100 where 100=most favorable coastal governance environment","Calculated from sub-indicator","Scored as the normalized score of the  following sub-indicator:\\n\\nIs the state a party to the United Nations Convention on the Law of the Sea (UNCLOS)?\\n\\n0= Not a member\\n1= Signed\\n2 = Signed and ratified (or action having the same legal effect)",null,null,null,null,null,null,null,null,null,null,null,null,1,null,100,null,0,"#0","INDICATOR","Scored 0-100 where 100=most favorable conditions","Scored 0-100","1.7) Adoption of the United Nations Convention on the Law of the Sea (UNCLOS)",null,null,{"$f":"MATCH($B19,Weights!$C$7:$C$45,0)","v":17},{"$f":"IF(ISERROR(AH19),1,INDEX(Weights!$G$7:$G$45,AH19))","v":1},0.14285714285714285,"POLICY AND INSTITUTIONAL CAPACITY category score"]
[19,"PLCAP_7_1","PLCAP_7",3,"1.7.1","Adoption of UNCLOS","Scored 0-2 ","United Nations Treaty Collection (UNTC)","Is the state a party to the United Nations Convention on the Law of the Sea (UNCLOS)?\\n\\n0= Not a member\\n1= Signed\\n2 = Signed and ratified (or action having the same legal effect)",null,"Is the state a party to the United Nations Convention on the Law of the Sea (UNCLOS)?",0,null,null,null,null,null,null,null,null,null,3,0,2,null,0,"#0","SUB-INDICATOR","Scored 0-2 where 2=most favorable conditions","Scored 0-2","1.7.1) Adoption of UNCLOS",null,null,{"$f":"MATCH($B20,Weights!$C$7:$C$45,0)","v":{"$error":"#N/A"}},{"$f":"IF(ISERROR(AH20),1,INDEX(Weights!$G$7:$G$45,AH20))","v":1},1,"Adoption of the United Nations Convention on the Law of the Sea (UNCLOS) indicator score"]
[20,"BUSENV","OVERALL",1,2,"BUSINESS ENVIRONMENT FOR COASTAL ACTIVITIES","Scored 0-100 where 100=most favorable environment for coastal activities ","Calculated from indicator scores","Weighted total of the following four indicators:\\n2.1) Ease of doing business \\n2.2) Corruption perception \\n2.3) Effectiveness of dispute resolution mechanisms  \\n2.4) Quality of coastal infrastructure","This category is comprised of four indicators and nine sub-indicators related to the business operating environment for developing coastal economic activities. It assesses the attributes for private sector activities in coastal areas.","The BUSINESS ENVIRONMENT FOR COASTAL ACTIVITIES category score is the combination of the indicator scores within this category (see Scoring Notes).",null,null,null,null,null,null,null,null,null,null,1,null,100,null,0,"#0","CATEGORY","Scored 0-100 where 100=most favorable conditions","Scored 0-100","2) BUSINESS ENVIRONMENT FOR COASTAL ACTIVITIES",null,null,{"$f":"MATCH($B21,Weights!$C$7:$C$45,0)","v":2},{"$f":"IF(ISERROR(AH21),1,INDEX(Weights!$G$7:$G$45,AH21))","v":1},0.16666666666666666,"OVERALL score"]
[21,"BUSENV_1","BUSENV",2,2.1,"Ease of doing business","Scored 0-100 where 100=most favorable coastal governance environment","Calculated from sub-indicator","Scored as the normalized score of the following sub-indicator:\\n\\nThis indicator is informed by EIU’s Business Environment Rankings. \\n\\nCountries may score anywhere from 0 to 9 where:\\n\\n0=Worst environment\\n9=Best environment",null,null,null,null,null,null,null,null,null,null,null,null,1,null,100,null,0,"#0","INDICATOR","Scored 0-100 where 100=most favorable conditions","Scored 0-100","2.1) Ease of doing business",null,null,{"$f":"MATCH($B22,Weights!$C$7:$C$45,0)","v":19},{"$f":"IF(ISERROR(AH22),1,INDEX(Weights!$G$7:$G$45,AH22))","v":1},0.25,"BUSINESS ENVIRONMENT FOR COASTAL ACTIVITIES category score"]
[22,"BUSENV_1_1","BUSENV_1",3,"2.1.1","Business environment","Scored 0-9 ","EIU Business Environment Rankings, 2015","The EIU business environment rankings quantify the attractiveness of the business environment. The overall score is derived as an unweighted average of ten component category scores. \\n\\nCountries may score anywhere from 0 to 9 where:\\n\\n0=Worst environment\\n9=Best environment",null,"This indicator is informed by EIU’s Business Environment Rankings.",0,null,null,null,null,null,null,null,null,null,3,0,9,null,0,"0.0","SUB-INDICATOR","Scored 0-9 where 9=most favorable conditions","Scored 0-9","2.1.1) Business environment",null,null,{"$f":"MATCH($B23,Weights!$C$7:$C$45,0)","v":{"$error":"#N/A"}},{"$f":"IF(ISERROR(AH23),1,INDEX(Weights!$G$7:$G$45,AH23))","v":1},1,"Ease of doing business indicator score"]
[23,"BUSENV_2","BUSENV",2,2.2000000000000002,"Corruption perception","Scored 0-100 where 100=most favorable coastal governance environment","Calculated from sub-indicator","Scored as the normalized score  of the following sub-indicator:\\n\\nThis indicator is informed by World Bank’s Worldwide Governance Indicators, specifically Control of Corruption.\\n\\nCountries may score anywhere from 0 to 100 where:\\n\\n0=Lowest control of corruption\\n100=Highest control of corruption",null,null,null,null,null,null,null,null,null,null,null,null,1,null,100,null,0,"#0","INDICATOR","Scored 0-100 where 100=most favorable conditions","Scored 0-100","2.2) Corruption perception",null,null,{"$f":"MATCH($B24,Weights!$C$7:$C$45,0)","v":20},{"$f":"IF(ISERROR(AH24),1,INDEX(Weights!$G$7:$G$45,AH24))","v":1},0.25,"BUSINESS ENVIRONMENT FOR COASTAL ACTIVITIES category score"]
[24,"BUSENV_2_1","BUSENV_2",3,"2.2.1","Control of corruption","Scored 0-100 ","World Bank, Worldwide Governance Indicators, 2013","Captures perceptions of the extent to which public power is exercised for private gain, including both petty and grand forms of corruption, as well as \"capture\" of the state by elites and private interests. \\n\\nCountries may score anywhere from 0 to 100 where: \\n\\n0=Lowest control of corruption\\n100=Highest control of corruption",null,"This indicator is informed by World Bank’s Worldwide Governance Indicators, specifically Control of Corruption.",0,null,null,null,null,null,null,null,null,null,3,0,100,null,0,"0.0","SUB-INDICATOR","Scored 0-100 where 100=most favorable conditions","Scored 0-100","2.2.1) Control of corruption",null,null,{"$f":"MATCH($B25,Weights!$C$7:$C$45,0)","v":{"$error":"#N/A"}},{"$f":"IF(ISERROR(AH25),1,INDEX(Weights!$G$7:$G$45,AH25))","v":1},1,"Corruption perception indicator score"]
[25,"BUSENV_3","BUSENV",2,2.2999999999999998,"Effectiveness of dispute resolution mechanisms","Scored 0-100 where 100=most favorable coastal governance environment","Calculated from sub-indicators","Scored as the aggregation of normalized scores of the following two sub-indicators:\\n\\nFairness of judicial process:\\n\\n0=Very low degree – the legal process is extremely susceptible to distortion by particular interests\\n1=Low degree – the legal process is often distorted by particular interests\\n2=Moderate degree - the legal process is sometimes distorted by particular interests\\n3=High degree - the legal process is rarely distorted by particular interests\\n4=Very high degree - the legal process is entirely independent\\n\\nEnforceability of contracts:\\n\\n0=Minimal – businesses cannot rely on contractual rights being enforced at all\\n1=Small – businesses will often find that contractual rights are not enforced\\n2=Moderate – businesses will sometimes find that contractual rights are not enforced\\n3=High – businesses can usually rely on contractual rights being enforced\\n4=Very High – businesses can rely on all contractual rights being enforced by the authorities",null,null,null,null,null,null,null,null,null,null,null,null,1,null,100,null,0,"#0","INDICATOR","Scored 0-100 where 100=most favorable conditions","Scored 0-100","2.3) Effectiveness of dispute resolution mechanisms",null,null,{"$f":"MATCH($B26,Weights!$C$7:$C$45,0)","v":21},{"$f":"IF(ISERROR(AH26),1,INDEX(Weights!$G$7:$G$45,AH26))","v":1},0.25,"BUSINESS ENVIRONMENT FOR COASTAL ACTIVITIES category score"]
[26,"BUSENV_3_1","BUSENV_3",3,"2.3.1","Fairness of judicial process","Scored 0-4 ","EIU Risk Briefing, 2015","Assesses the extent to which the legal process/the courts are independent and can avoid interference or distortion by particular interests.\\n\\n0=Very low degree – the legal process is extremely susceptible to distortion by particular interests\\n1=Low degree – the legal process is often distorted by particular interests\\n2=Moderate degree - the legal process is sometimes distorted by particular interests\\n3=High degree - the legal process is rarely distorted by particular interests\\n4=Very high degree - the legal process is entirely independent",null,"Fairness of judicial process: Assesses the extent to which the legal process/the courts are independent and can avoid interference or distortion by particular interests",0,null,null,null,null,null,null,null,null,null,3,0,4,null,0,"#0","SUB-INDICATOR","Scored 0-4 where 4=most favorable conditions","Scored 0-4","2.3.1) Fairness of judicial process",null,null,{"$f":"MATCH($B27,Weights!$C$7:$C$45,0)","v":{"$error":"#N/A"}},{"$f":"IF(ISERROR(AH27),1,INDEX(Weights!$G$7:$G$45,AH27))","v":1},0.5,"Effectiveness of dispute resolution mechanisms indicator score"]
[27,"BUSENV_3_2","BUSENV_3",3,"2.3.2","Enforceability of contracts","Scored 0-4 ","EIU Risk Briefing, 2015","Assesses the likelihood that contract rights will be enforced.\\n\\n0=Minimal – businesses cannot rely on contractual rights being enforced at all\\n1=Small – businesses will often find that contractual rights are not enforced\\n2=Moderate – businesses will sometimes find that contractual rights are not enforced\\n3=High – businesses can usually rely on contractual rights being enforced\\n4=Very High – businesses can rely on all contractual rights being enforced by the authorities",null,"Enforceability of contracts: Assesses the likelihood that contract rights will be enforced",0,null,null,null,null,null,null,null,null,null,3,0,4,null,0,"#0","SUB-INDICATOR","Scored 0-4 where 4=most favorable conditions","Scored 0-4","2.3.2) Enforceability of contracts",null,null,{"$f":"MATCH($B28,Weights!$C$7:$C$45,0)","v":{"$error":"#N/A"}},{"$f":"IF(ISERROR(AH28),1,INDEX(Weights!$G$7:$G$45,AH28))","v":1},0.5,"Effectiveness of dispute resolution mechanisms indicator score"]
[28,"BUSENV_4","BUSENV",2,2.4,"Quality of coastal infrastructure","Scored 0-100 where 100=most favorable coastal governance environment","Calculated from sub-indicators","Scored as the aggregation of normalized scores of the following five sub-indicators :\\n\\nHow would you assess port facilities in your country?\\nCountries may score anywhere from 0 to 6 where:\\n\\n0=Extremely underdeveloped – among the worst in the world\\n6=Extensive and efficient – among the best in the world\\n\\nHow would you assess the reliability of electricity supply (lack of interruptions and lack of voltage fluctuations)?\\nCountries may score anywhere from 0 to 6 where:\\n\\n0=Not reliable at all\\n6=Extremely reliable\\n\\nHow would you assess roads in your country?\\nCountries may score anywhere from 0 to 6 where:\\n\\n0=Extremely underdeveloped – among the worst in the world\\n6=Extensive and efficient – among the best in the world\\n\\nHow would you assess railroads in your country?\\nCountries may score anywhere from 0 to 6 where:\\n\\n0=Extremely underdeveloped – among the worst in the world\\n6=Extensive and efficient – among the best in the world\\n\\nTo what extent is improved drinking water and sanitation infrastructure accessible in the country?\\nCountries may score anywhere from 0 to 100 where:\\n\\n0=Lowest access\\n100=Highest access",null,null,null,null,null,null,null,null,null,null,null,null,1,null,100,null,0,"#0","INDICATOR","Scored 0-100 where 100=most favorable conditions","Scored 0-100","2.4) Quality of coastal infrastructure",null,null,{"$f":"MATCH($B29,Weights!$C$7:$C$45,0)","v":22},{"$f":"IF(ISERROR(AH29),1,INDEX(Weights!$G$7:$G$45,AH29))","v":1},0.25,"BUSINESS ENVIRONMENT FOR COASTAL ACTIVITIES category score"]
[29,"BUSENV_4_1","BUSENV_4",3,"2.4.1","Quality of port facilities","Scored 0-6 ","World Economic Forum, Global Competitiveness Report, 2014-2015","How would you assess port facilities in your country?\\n\\nCountries may score anywhere from 0 to 6 where: \\n\\n0=Extremely underdeveloped – among the worst in the world\\n6=Extensive and efficient – among the best in the world",null,"How would you assess port facilities in your country?",0,null,null,null,null,null,null,null,null,null,3,0,6,null,0,"0.0","SUB-INDICATOR","Scored 0-6 where 6=most favorable conditions","Scored 0-6","2.4.1) Quality of port facilities",null,null,{"$f":"MATCH($B30,Weights!$C$7:$C$45,0)","v":{"$error":"#N/A"}},{"$f":"IF(ISERROR(AH30),1,INDEX(Weights!$G$7:$G$45,AH30))","v":1},0.2,"Quality of coastal infrastructure indicator score"]
[30,"BUSENV_4_2","BUSENV_4",3,"2.4.2","Quality of electricity supply","Scored 0-6 ","World Economic Forum, Global Competitiveness Report, 2014-2015","How would you assess the reliability of electricity supply (lack of interruptions and lack of voltage fluctuations)?\\n\\nCountries may score anywhere from 0 to 6 where:\\n\\n0=Not reliable at all\\n6=Extremely reliable",null,"How would you assess the reliability of electricity supply (lack of interruptions and lack of voltage fluctuations)?",0,null,null,null,null,null,null,null,null,null,3,0,6,null,0,"0.0","SUB-INDICATOR","Scored 0-6 where 6=most favorable conditions","Scored 0-6","2.4.2) Quality of electricity supply",null,null,{"$f":"MATCH($B31,Weights!$C$7:$C$45,0)","v":{"$error":"#N/A"}},{"$f":"IF(ISERROR(AH31),1,INDEX(Weights!$G$7:$G$45,AH31))","v":1},0.2,"Quality of coastal infrastructure indicator score"]
[31,"BUSENV_4_3","BUSENV_4",3,"2.4.3","Quality of road infrastructure","Scored 0-6 ","World Economic Forum, Global Competitiveness Report, 2014-2015","How would you assess roads in your country?\\n\\nCountries may score anywhere from 0 to 6 where:\\n\\n0=Extremely underdeveloped – among the worst in the world\\n6=Extensive and efficient – among the best in the world",null,"How would you assess roads in your country?",0,null,null,null,null,null,null,null,null,null,3,0,6,null,0,"0.0","SUB-INDICATOR","Scored 0-6 where 6=most favorable conditions","Scored 0-6","2.4.3) Quality of road infrastructure",null,null,{"$f":"MATCH($B32,Weights!$C$7:$C$45,0)","v":{"$error":"#N/A"}},{"$f":"IF(ISERROR(AH32),1,INDEX(Weights!$G$7:$G$45,AH32))","v":1},0.2,"Quality of coastal infrastructure indicator score"]
[32,"BUSENV_4_4","BUSENV_4",3,"2.4.4","Quality of railroad infrastructure","Scored 0-6 ","World Economic Forum, Global Competitiveness Report, 2014-2015","How would you assess railroads in your country?\\n\\nCountries may score anywhere from 0 to 6 where:\\n\\n0=Extremely underdeveloped – among the worst in the world\\n6=Extensive and efficient – among the best in the world",null,"How would you assess railroads in your country?",0,null,null,null,null,null,null,null,null,null,3,0,6,null,0,"0.0","SUB-INDICATOR","Scored 0-6 where 6=most favorable conditions","Scored 0-6","2.4.4) Quality of railroad infrastructure",null,null,{"$f":"MATCH($B33,Weights!$C$7:$C$45,0)","v":{"$error":"#N/A"}},{"$f":"IF(ISERROR(AH33),1,INDEX(Weights!$G$7:$G$45,AH33))","v":1},0.2,"Quality of coastal infrastructure indicator score"]
[33,"BUSENV_4_5","BUSENV_4",3,"2.4.5","Quality of water infrastructure","Scored 0-100 ","Yale University, Environmental Performance Index, 2014","To what extent is improved drinking water and sanitation infrastructure accessible in the country?\\n\\nCountries may score anywhere from 0 to 100 where:\\n\\n0=Lowest access\\n100=Highest access",null,"To what extent is improved drinking water and sanitation infrastructure accessible in the country?",0,null,null,null,null,null,null,null,null,null,3,0,100,null,0,"0.0","SUB-INDICATOR","Scored 0-100 where 100=most favorable conditions","Scored 0-100","2.4.5) Quality of water infrastructure",null,null,{"$f":"MATCH($B34,Weights!$C$7:$C$45,0)","v":{"$error":"#N/A"}},{"$f":"IF(ISERROR(AH34),1,INDEX(Weights!$G$7:$G$45,AH34))","v":1},0.2,"Quality of coastal infrastructure indicator score"]
[34,"WATQUAL","OVERALL",1,3,"WATER QUALITY","Scored 0-100 where 100=most favorable environment for water management","Calculated from indicator scores","Weighted total of the following three indicators:\\n3.1) Agency \\n3.2) Regulatory standards for water pollution \\n3.3) Monitoring and enforcement "," This category is comprised of three indicators and six sub-indicators related to the management and preservation of water quality. It assesses the coastal management of the water resource and the extent to which it ensures the quality of the asset.","The WATER QUALITY category score is the combination of the indicator scores within this category (see Scoring Notes).",null,null,null,null,null,null,null,null,null,null,1,null,100,null,0,"#0","CATEGORY","Scored 0-100 where 100=most favorable conditions","Scored 0-100","3) WATER QUALITY",null,null,{"$f":"MATCH($B35,Weights!$C$7:$C$45,0)","v":3},{"$f":"IF(ISERROR(AH35),1,INDEX(Weights!$G$7:$G$45,AH35))","v":1},{"$f":"IF(ISERROR(AI35/SUMIF($C$2:$C$75,$C35,AI$2:AI$75)),0,AI35/SUMIF($C$2:$C$75,$C35,AI$2:AI$75))","v":0.16666666666666666},{"$f":"CHOOSE(D35,\"OVERALL score\",CONCATENATE(INDEX(F$2:F$77,MATCH(C35,$B$2:$B$77,0)),\" category score\"),CONCATENATE(INDEX(F$2:F$77,MATCH(C35,$B$2:$B$77,0)),\" indicator score\"))","v":"OVERALL score"}]
[35,"WATQUAL_1","WATQUAL",2,3.1,"Agency","Scored 0-100 where 100=most favorable coastal governance environment","Calculated from sub-indicator","Scored as the normalized score of the following sub-indicator:\\n\\nIs there a national environmental agency responsible for setting freshwater pollution controls?\\n\\n0= No\\n1= No, but standards are set by regional (state, provincial) bodies/agencies\\n2 = Yes",null,null,null,null,null,null,null,null,null,null,null,null,1,null,100,null,0,"#0","INDICATOR","Scored 0-100 where 100=most favorable conditions","Scored 0-100","3.1) Agency",null,null,{"$f":"MATCH($B36,Weights!$C$7:$C$45,0)","v":24},{"$f":"IF(ISERROR(AH36),1,INDEX(Weights!$G$7:$G$45,AH36))","v":1},0.33333333333333331,"WATER QUALITY category score"]
[36,"WATQUAL_1_1","WATQUAL_1",3,"3.1.1","Agency responsible for freshwater pollution controls","Scored 0-2 ","EIU qualitative assessment","Is there a national environmental agency responsible for setting freshwater pollution controls?\\n\\n0= No\\n1= No, but standards are set by regional (state, provincial) bodies/agencies\\n2 = Yes",null,"Is there a national environmental agency responsible for setting freshwater pollution controls?",0,null,null,null,null,null,null,null,null,null,3,0,2,null,0,"#0","SUB-INDICATOR","Scored 0-2 where 2=most favorable conditions","Scored 0-2","3.1.1) Agency responsible for freshwater pollution controls",null,null,{"$f":"MATCH($B37,Weights!$C$7:$C$45,0)","v":{"$error":"#N/A"}},{"$f":"IF(ISERROR(AH37),1,INDEX(Weights!$G$7:$G$45,AH37))","v":1},1,"Agency indicator score"]
[37,"WATQUAL_2","WATQUAL",2,3.2,"Regulatory standards for water pollution","Scored 0-100 where 100=most favorable coastal governance environment","Calculated from sub-indicators","Scored as the aggregation of normalized scores of the following three sub-indicators :\\n\\nDo regulations set water quality standards for point source pollution?\\n\\n0= No\\n1= Yes\\n\\nDo regulations restrict or ban the “Dirty Dozen” Persistent Pollutants under the Stockholm Convention?\\n\\nCountries’ scores range from 0 to 25 where:\\n\\n0= Less restrictive regulation\\n25=Most restrictive regulation\\n\\nThe answer to this question is based on EPI’s indicator on pesticide regulation. This indicator assesses whether countries allow, restrict or ban the ‘Dirty Dozen’ Persistent Organic Pollutants under the Stockholm Convention. The scores range from 0 to 25 based on EPI’s methodology.\\n\\nTo what extent is wastewater treated?\\n\\nCountries’ scores range from 0 to 100 where:\\n\\n0=Lowest\\n100=Highest rate\\n\\nThis indicator is based on EPI’s water resources indicator, which tracks the extent to which wastewater from households and industrial sources is treated before releasing it back into the environment. More specifically, it is defined as wastewater treatment level weighted by connection to wastewater treatment rate.",null,null,null,null,null,null,null,null,null,null,null,null,1,null,100,null,0,"#0","INDICATOR","Scored 0-100 where 100=most favorable conditions","Scored 0-100","3.2) Regulatory standards for water pollution",null,null,{"$f":"MATCH($B38,Weights!$C$7:$C$45,0)","v":25},{"$f":"IF(ISERROR(AH38),1,INDEX(Weights!$G$7:$G$45,AH38))","v":1},0.33333333333333331,"WATER QUALITY category score"]
[38,"WATQUAL_2_1","WATQUAL_2",3,"3.2.1","Standards for point source pollution","Scored 0-1 ","EIU qualitative assessment","Do regulations set water quality standards for point source pollution?\\n\\n0= No\\n1= Yes",null,"Do regulations set water quality standards for point source pollution?",0,null,null,null,null,null,null,null,null,null,3,0,1,null,0,"#0","SUB-INDICATOR","Scored 0-1 where 1=most favorable conditions","Scored 0-1","3.2.1) Standards for point source pollution",null,null,{"$f":"MATCH($B39,Weights!$C$7:$C$45,0)","v":{"$error":"#N/A"}},{"$f":"IF(ISERROR(AH39),1,INDEX(Weights!$G$7:$G$45,AH39))","v":1},0.33333333333333331,"Regulatory standards for water pollution indicator score"]
[39,"WATQUAL_2_2","WATQUAL_2",3,"3.2.2","Restrictions on \"Dirty Dozen\" persistent pollutants","Scored 0-25 ","Yale University, Environmental Performance Index, 2014","Do regulations restrict or ban the “Dirty Dozen” Persistent Pollutants under the Stockholm Convention?\\n\\nCountries’ scores range from 0 to 25 where:\\n\\n0= Less restrictive regulation\\n25=Most restrictive regulation\\n\\nAssesses whether countries allow, restrict or ban the ‘Dirty Dozen’ Persistent Organic Pollutants under the Stockholm Convention based on EPI’s methodology. ",null,"Do regulations restrict or ban the “Dirty Dozen” Persistent Pollutants under the Stockholm Convention?",0,null,null,null,null,null,null,null,null,null,3,0,25,null,0,"#0","SUB-INDICATOR","Scored 0-25 where 25=most favorable conditions","Scored 0-25","3.2.2) Restrictions on \"Dirty Dozen\" persistent pollutants",null,null,{"$f":"MATCH($B40,Weights!$C$7:$C$45,0)","v":{"$error":"#N/A"}},{"$f":"IF(ISERROR(AH40),1,INDEX(Weights!$G$7:$G$45,AH40))","v":1},0.33333333333333331,"Regulatory standards for water pollution indicator score"]
[40,"WATQUAL_2_3","WATQUAL_2",3,"3.2.3","Wastewater treatment","Scored 0-100 ","Yale University, Environmental Performance Index, 2014","To what extent is wastewater treated?\\n\\nCountries’ scores range from 0 to 100 where:\\n\\n0=Lowest\\n100=Highest rate\\n\\nAssesses the extent to which wastewater from households and industrial sources is treated before releasing it back into the environment. It is defined as wastewater treatment level weighted by connection to wastewater treatment rate.",null,"To what extent is wastewater treated?",0,null,null,null,null,null,null,null,null,null,3,0,100,null,0,"0.0","SUB-INDICATOR","Scored 0-100 where 100=most favorable conditions","Scored 0-100","3.2.3) Wastewater treatment",null,null,{"$f":"MATCH($B41,Weights!$C$7:$C$45,0)","v":{"$error":"#N/A"}},{"$f":"IF(ISERROR(AH41),1,INDEX(Weights!$G$7:$G$45,AH41))","v":1},0.33333333333333331,"Regulatory standards for water pollution indicator score"]
[41,"WATQUAL_3","WATQUAL",2,3.3,"Monitoring and enforcement","Scored 0-100 where 100=most favorable coastal governance environment","Calculated from sub-indicators","Scored as the aggregation of normalized scores of the following two sub-indicators:\\n\\nIs data on coastal water quality collected?\\n\\n0= There is no data collection or information about data collection not publicly available\\n1= Data is collected but frequency is unclear\\n2= Data is collected once a year\\n3 = Data is collected more than once per year\\n\\nDo regulations establish penalties for violations of water quality standards noted in 3.2.1?\\n\\n0= No\\n1= Yes",null,null,null,null,null,null,null,null,null,null,null,null,1,null,100,null,0,"#0","INDICATOR","Scored 0-100 where 100=most favorable conditions","Scored 0-100","3.3) Monitoring and enforcement",null,null,{"$f":"MATCH($B42,Weights!$C$7:$C$45,0)","v":26},{"$f":"IF(ISERROR(AH42),1,INDEX(Weights!$G$7:$G$45,AH42))","v":1},0.33333333333333331,"WATER QUALITY category score"]
[42,"WATQUAL_3_1","WATQUAL_3",3,"3.3.1","Coastal water quality data","Scored 0-3 ","EIU qualitative assessment","Is data on coastal water quality collected?\\n\\n0= There is no data collection or information about data collection not publicly available\\n1= Data is collected but frequency is unclear\\n2= Data is collected once per year\\n3 = Data is collected more than once per year",null,"Is data on coastal water quality collected?",0,null,null,null,null,null,null,null,null,null,3,0,3,null,0,"#0","SUB-INDICATOR","Scored 0-3 where 3=most favorable conditions","Scored 0-3","3.3.1) Coastal water quality data",null,null,{"$f":"MATCH($B43,Weights!$C$7:$C$45,0)","v":{"$error":"#N/A"}},{"$f":"IF(ISERROR(AH43),1,INDEX(Weights!$G$7:$G$45,AH43))","v":1},0.5,"Monitoring and enforcement indicator score"]
[43,"WATQUAL_3_2","WATQUAL_3",3,"3.3.2","Penalties for water quality violations ","Scored 0-1 ","EIU qualitative assessment","Do regulations establish penalties for violations of water quality standards noted in 3.2.1?\\n\\n0= No\\n1= Yes",null,"Do regulations establish penalties for violations of water quality standards noted in 3.2.1?",0,null,null,null,null,null,null,null,null,null,3,0,1,null,0,"#0","SUB-INDICATOR","Scored 0-1 where 1=most favorable conditions","Scored 0-1","3.3.2) Penalties for water quality violations ",null,null,{"$f":"MATCH($B44,Weights!$C$7:$C$45,0)","v":{"$error":"#N/A"}},{"$f":"IF(ISERROR(AH44),1,INDEX(Weights!$G$7:$G$45,AH44))","v":1},0.5,"Monitoring and enforcement indicator score"]
[44,"MINENG","OVERALL",1,4,"MINERALS AND ENERGY","Scored 0-100 where 100=most favorable coastal governance environment for the minerals and oil and gas industries","Calculated from indicator scores"," Weighted total of the following three indicators:\\n4.1) Permitting and licensing \\n4.2) Monitoring and enforcement \\n4.3) Risk mitigation ","This category is comprised of three indicators and nine sub-indicators related to the exploitation and use of minerals and production of energy. It measures the coastal governance environment for the minerals and oil and gas industries.","The MINERALS AND ENERGY category score is the combination of the indicator scores within this category (see Scoring Notes).",null,null,null,null,null,null,null,null,null,null,1,null,100,null,0,"#0","CATEGORY","Scored 0-100 where 100=most favorable conditions","Scored 0-100","4) MINERALS AND ENERGY",null,null,{"$f":"MATCH($B45,Weights!$C$7:$C$45,0)","v":4},{"$f":"IF(ISERROR(AH45),1,INDEX(Weights!$G$7:$G$45,AH45))","v":1},0.16666666666666666,"OVERALL score"]
[45,"MINENG_1","MINENG",2,4.0999999999999996,"Permitting and licensing","Scored 0-100 where 100=most favorable coastal governance environment","Calculated from sub-indicators","Scored as the aggregation of normalized scores of the following two sub-indicators:\\n\\nAre there clear rules for obtaining and maintaining tenure for oil and gas?\\n\\n0=No or information not publicly available\\n1=The tenure process is partially described\\n2=The tenure process is fully described and publicly available or the oil and gas industry is not a significant economic activity in the country\\n\\nAre there clear rules for obtaining and maintaining tenure for mining activities?\\n\\n0=No or information not publicly available\\n1=The tenure process is partially described\\n2=The tenure process is fully described and publicly available or the mining industry is not a significant economic activity in the country",null,null,null,null,null,null,null,null,null,null,null,null,1,null,100,null,0,"#0","INDICATOR","Scored 0-100 where 100=most favorable conditions","Scored 0-100","4.1) Permitting and licensing",null,null,{"$f":"MATCH($B46,Weights!$C$7:$C$45,0)","v":28},{"$f":"IF(ISERROR(AH46),1,INDEX(Weights!$G$7:$G$45,AH46))","v":1},0.33333333333333331,"MINERALS AND ENERGY category score"]
[46,"MINENG_1_1","MINENG_1",3,"4.1.1","Oil and gas tenure","Scored 0-2 ","EIU qualitative assessment","Are there clear rules for obtaining and maintaining tenure for oil and gas?\\n\\n0=No or information not publicly available\\n1=The tenure process is partially described\\n2=The tenure process is fully described and publicly available or the oil and gas industry is not a significant economic activity in the country\\n\\nTenure is the process of leasing and administering oil/gas rights owned by the state/provincial or national government. ",null,"Are there clear rules for obtaining and maintaining tenure for oil and gas?",0,null,null,null,null,null,null,null,null,null,3,0,2,null,0,"#0","SUB-INDICATOR","Scored 0-2 where 2=most favorable conditions","Scored 0-2","4.1.1) Oil and gas tenure",null,null,{"$f":"MATCH($B47,Weights!$C$7:$C$45,0)","v":{"$error":"#N/A"}},{"$f":"IF(ISERROR(AH47),1,INDEX(Weights!$G$7:$G$45,AH47))","v":1},0.5,"Permitting and licensing indicator score"]
[47,"MINENG_1_2","MINENG_1",3,"4.1.2","Mining and minerals tenure","Scored 0-2 ","EIU qualitative assessment","Are there clear rules for obtaining and maintaining tenure for mining activities?\\n\\n0=No or information not publicly available\\n1=The tenure process is partially described\\n2=The tenure process is fully described and publicly available or the mining industry is not a significant economic activity in the country\\n\\nTenure is the process of leasing and administering mining rights owned by the state/provincial or national government. ",null,"Are there clear rules for obtaining and maintaining tenure for mining activities?",0,null,null,null,null,null,null,null,null,null,3,0,2,null,0,"#0","SUB-INDICATOR","Scored 0-2 where 2=most favorable conditions","Scored 0-2","4.1.2) Mining and minerals tenure",null,null,{"$f":"MATCH($B48,Weights!$C$7:$C$45,0)","v":{"$error":"#N/A"}},{"$f":"IF(ISERROR(AH48),1,INDEX(Weights!$G$7:$G$45,AH48))","v":1},0.5,"Permitting and licensing indicator score"]
[48,"MINENG_2","MINENG",2,4.2,"Monitoring and enforcement","Scored 0-100 where 100=most favorable coastal governance environment","Calculated from sub-indicators","Scored as the aggregation of normalized scores of the following four sub-indicators:\\n\\nDo mineral and energy projects require environmental impact assessments (EIA) for oil and gas?\\n\\n0=No\\n1=Yes or the oil and gas industry is not a significant economic activity in the country\\n\\nDo mineral and energy projects require environmental impact assessments (EIA) for mining activities?\\n\\n0=No\\n1=Yes or the mining industry is not a significant economic activity in the country\\n\\nDo regulations require on-site inspections to monitor environmental impact?\\n\\n0=No\\n1=Yes\\n\\nIs data on oil spills collected by a government entity?\n\n0=No \n1=Yes, data is collected but it is not publicy available\n2=Yes, data is collected and it is publicly available",null,null,null,null,null,null,null,null,null,null,null,null,1,null,100,null,0,"#0","INDICATOR","Scored 0-100 where 100=most favorable conditions","Scored 0-100","4.2) Monitoring and enforcement",null,null,{"$f":"MATCH($B49,Weights!$C$7:$C$45,0)","v":29},{"$f":"IF(ISERROR(AH49),1,INDEX(Weights!$G$7:$G$45,AH49))","v":1},0.33333333333333331,"MINERALS AND ENERGY category score"]
[49,"MINENG_2_1","MINENG_2",3,"4.2.1","Environmental impact assessment for oil and gas","Scored 0-1 ","EIU qualitative assessment","Do mineral and energy projects require environmental impact assessments (EIA) for oil and gas?\\n\\n0=No\\n1=Yes or the oil and gas industry is not a significant economic activity in the country",null,"Do mineral and energy projects require environmental impact assessments (EIA) for oil and gas?",0,null,null,null,null,null,null,null,null,null,3,0,1,null,0,"#0","SUB-INDICATOR","Scored 0-1 where 1=most favorable conditions","Scored 0-1","4.2.1) Environmental impact assessment for oil and gas",null,null,{"$f":"MATCH($B50,Weights!$C$7:$C$45,0)","v":{"$error":"#N/A"}},{"$f":"IF(ISERROR(AH50),1,INDEX(Weights!$G$7:$G$45,AH50))","v":1},0.25,"Monitoring and enforcement indicator score"]
[50,"MINENG_2_2","MINENG_2",3,"4.2.2","Environment impact assessment for mining and minerals","Scored 0-1 ","EIU qualitative assessment","Do mineral and energy projects require environmental impact assessments (EIA) for mining activities?\\n\\n0=No\\n1=Yes or the mining industry is not a significant economic activity in the country",null,"Do mineral and energy projects require environmental impact assessments (EIA) for mining activities?",0,null,null,null,null,null,null,null,null,null,3,0,1,null,0,"#0","SUB-INDICATOR","Scored 0-1 where 1=most favorable conditions","Scored 0-1","4.2.2) Environment impact assessment for mining and minerals",null,null,{"$f":"MATCH($B51,Weights!$C$7:$C$45,0)","v":{"$error":"#N/A"}},{"$f":"IF(ISERROR(AH51),1,INDEX(Weights!$G$7:$G$45,AH51))","v":1},0.25,"Monitoring and enforcement indicator score"]
[51,"MINENG_2_3","MINENG_2",3,"4.2.3","On-site reviews ","Scored 0-1 ","EIU qualitative assessment","Do regulations require on-site inspections to monitor environmental impact?\\n\\n0=No\\n1=Yes",null,"Do regulations require on-site inspections to monitor environmental impact?",0,null,null,null,null,null,null,null,null,null,3,0,1,null,0,"#0","SUB-INDICATOR","Scored 0-1 where 1=most favorable conditions","Scored 0-1","4.2.3) On-site reviews ",null,null,{"$f":"MATCH($B52,Weights!$C$7:$C$45,0)","v":{"$error":"#N/A"}},{"$f":"IF(ISERROR(AH52),1,INDEX(Weights!$G$7:$G$45,AH52))","v":1},0.25,"Monitoring and enforcement indicator score"]
[52,"MINENG_2_4","MINENG_2",3,"4.2.4","Collection of oil spills data","Scored 0-2 ","EIU qualitative assessment","Is data on oil spills collected by a government entity?\n\n0=No \n1=Yes, data is collected but it is not publicly available\n2=Yes, data is collected and it is publicly available",null,"Is data on oil spills collected by a government entity?",0,null,null,null,null,null,null,null,null,null,3,0,2,null,0,"#0","SUB-INDICATOR","Scored 0-2 where 2=most favorable conditions","Scored 0-2","4.2.4) Collection of oil spills data",null,null,{"$f":"MATCH($B53,Weights!$C$7:$C$45,0)","v":{"$error":"#N/A"}},{"$f":"IF(ISERROR(AH53),1,INDEX(Weights!$G$7:$G$45,AH53))","v":1},0.25,"Monitoring and enforcement indicator score"]
[53,"MINENG_3","MINENG",2,4.3,"Risk mitigation","Scored 0-100 where 100=most favorable coastal governance environment","Calculated from sub-indicators","Scored as the aggregation of normalized scores of the following three sub-indicators :\\n\\nIs the country a signatory of the Convention on Oil Pollution Preparedness, Response and Co-operation (OPRC) and the Protocol on Preparedness, Response and Co-Operation to Pollution Incidents by Hazardous and Noxious Substances (OPRC-HNS)?\\n\\n0=The country has not signed the OPRC\\n1=The country has ratified the OPRC\\n2=The country has ratified the OPRC and the OPRC-HNS\\n\\nDo licensing requirements for oil extraction require licensees to have emergency plans to deal with marine emergencies caused by oil and other harmful substances?\\n\\n0=No\\n1=Yes\\n\\nAre there off-shore areas that are off limits to mineral and/or oil and gas extraction?\\n\\n0=No\\n1=Yes",null,null,null,null,null,null,null,null,null,null,null,null,1,null,100,null,0,"#0","INDICATOR","Scored 0-100 where 100=most favorable conditions","Scored 0-100","4.3) Risk mitigation",null,null,{"$f":"MATCH($B54,Weights!$C$7:$C$45,0)","v":30},{"$f":"IF(ISERROR(AH54),1,INDEX(Weights!$G$7:$G$45,AH54))","v":1},0.33333333333333331,"MINERALS AND ENERGY category score"]
[54,"MINENG_3_1","MINENG_3",3,"4.3.1","Adoption of the OPRC ","Scored 0-2 ","EIU qualitative assessment","Is the country a signatory of the Convention on Oil Pollution Preparedness, Response and Co-operation (OPRC) and the Protocol on Preparedness, Response and Co-Operation to Pollution Incidents by Hazardous and Noxious Substances (OPRC-HNS)?\\n\\n0=The country has not signed the OPRC\\n1=The country has ratified the OPRC\\n2= The country has ratified the OPRC and the OPRC-HNS",null,"Is the country a signatory of the Convention on Oil Pollution Preparedness, Response and Co-operation (OPRC) and the Protocol on Preparedness, Response and Co-Operation to Pollution Incidents by Hazardous and Noxious Substances (OPRC-HNS)?",0,null,null,null,null,null,null,null,null,null,3,0,2,null,0,"#0","SUB-INDICATOR","Scored 0-2 where 2=most favorable conditions","Scored 0-2","4.3.1) Adoption of the OPRC ",null,null,{"$f":"MATCH($B55,Weights!$C$7:$C$45,0)","v":{"$error":"#N/A"}},{"$f":"IF(ISERROR(AH55),1,INDEX(Weights!$G$7:$G$45,AH55))","v":1},0.33333333333333331,"Risk mitigation indicator score"]
[55,"MINENG_3_2","MINENG_3",3,"4.3.2","Emergency plan ","Scored 0-1 ","EIU qualitative assessment","Do licensing requirements for oil extraction require licensees to have emergency plans to deal with marine emergencies caused by oil and other harmful substances?\\n\\n0=No\\n1=Yes",null,"Do licensing requirements for oil extraction require licensees to have emergency plans to deal with marine emergencies caused by oil and other harmful substances?",0,null,null,null,null,null,null,null,null,null,3,0,1,null,0,"#0","SUB-INDICATOR","Scored 0-1 where 1=most favorable conditions","Scored 0-1","4.3.2) Emergency plan ",null,null,{"$f":"MATCH($B56,Weights!$C$7:$C$45,0)","v":{"$error":"#N/A"}},{"$f":"IF(ISERROR(AH56),1,INDEX(Weights!$G$7:$G$45,AH56))","v":1},0.33333333333333331,"Risk mitigation indicator score"]
[56,"MINENG_3_3","MINENG_3",3,"4.3.3","Off-limit areas ","Scored 0-1 ","EIU qualitative assessment","Are there off-shore areas that are off limits to mineral and/or oil and gas extraction?\\n\\n0=No\\n1=Yes",null,"Are there off-shore areas that are off limits to mineral and/or oil and gas extraction?",0,null,null,null,null,null,null,null,null,null,3,0,1,null,0,"#0","SUB-INDICATOR","Scored 0-1 where 1=most favorable conditions","Scored 0-1","4.3.3) Off-limit areas ",null,null,{"$f":"MATCH($B57,Weights!$C$7:$C$45,0)","v":{"$error":"#N/A"}},{"$f":"IF(ISERROR(AH57),1,INDEX(Weights!$G$7:$G$45,AH57))","v":1},0.33333333333333331,"Risk mitigation indicator score"]
[57,"LAND","OVERALL",1,5,"LAND"," Scored 0-100 where 100=most favorable coastal governance environment for the real estate and tourism industries","Calculated from indicator scores","Weighted total of the following four indicators:\\n5.1) Prevalence of coastal protected areas \\n5.2) Environmental impact of coastal development \\n5.3) Government commitment to sustainability in coastal tourism development \\n5.4) Natural disaster risk mitigation ","This category is comprised of four indicators and five sub-indicators. This category measures the coastal governance environment for the tourism and real estate (residential and commercial) industries.","The LAND category score is the combination of the indicator scores within this category (see Scoring Notes).",null,null,null,null,null,null,null,null,null,null,1,null,100,null,0,"#0",{"$f":"CHOOSE($D58,\"CATEGORY\",\"INDICATOR\",\"SUB-INDICATOR\")","v":"CATEGORY"},"Scored 0-100 where 100=most favorable conditions","Scored 0-100","5) LAND",null,null,{"$f":"MATCH($B58,Weights!$C$7:$C$45,0)","v":5},{"$f":"IF(ISERROR(AH58),1,INDEX(Weights!$G$7:$G$45,AH58))","v":1},0.16666666666666666,"OVERALL score"]
[58,"LAND_1","LAND",2,5.0999999999999996,"Prevalence of coastal protected areas","Scored 0-100 where 100=most favorable coastal governance environment","Calculated from sub-indicator","Scored as the normalized scored of  the following sub-indicator:\\n\\nAre there any terrestrial protected areas?\\n\\n0=No, or the share protected is less than 10% of the total terrestrial area\\n1=Share protected is at least 10% and less than 17% of the total terrestrial area\\n2=Share protected is at least 17% of the total terrestrial area",null,null,null,null,null,null,null,null,null,null,null,null,1,null,100,null,0,"#0","INDICATOR","Scored 0-100 where 100=most favorable conditions","Scored 0-100","5.1) Prevalence of coastal protected areas",null,null,{"$f":"MATCH($B59,Weights!$C$7:$C$45,0)","v":32},{"$f":"IF(ISERROR(AH59),1,INDEX(Weights!$G$7:$G$45,AH59))","v":1},0.25,"LAND category score"]
[59,"LAND_1_1","LAND_1",3,"5.1.1","Terrestrial protected areas","Scored 0-2 ","United Nations Environment Programme and World Conservation Monitoring Centre, 2012","Are there any terrestrial protected areas?\\n\\n0=No, or the share protected is less than 10% of the total terrestrial area\\n1=Share protected is at least 10% and less than 17% of the total terrestrial area\\n2=Share protected is at least 17% of the total terrestrial area\\n\\nScoring scheme is based on the Convention on Biological Diversity’s target that at least 17% of terrestrial and inland water should be protected by 2020.",null,"Are there any terrestrial protected areas?",0,null,null,null,null,null,null,null,null,null,3,0,2,null,0,"#0","SUB-INDICATOR","Scored 0-2 where 2=most favorable conditions","Scored 0-2","5.1.1) Terrestrial protected areas",null,null,{"$f":"MATCH($B60,Weights!$C$7:$C$45,0)","v":{"$error":"#N/A"}},{"$f":"IF(ISERROR(AH60),1,INDEX(Weights!$G$7:$G$45,AH60))","v":1},1,"Prevalence of coastal protected areas indicator score"]
[60,"LAND_2","LAND",2,5.2,"Environmental impact of coastal development","Scored 0-100 where 100=most favorable coastal governance environment","Calculated from sub-indicators","Scored as the aggregation of normalized scores of the following two sub-indicators :\\n\\nDo coastal development projects require environmental impact assessments?\\n\\n0= No\\n1= Yes\\n\\nDo regulations require on-site review to monitor environmental impact?\\n\\n0= No\\n1= Yes",null,null,null,null,null,null,null,null,null,null,null,null,1,null,100,null,0,"#0","INDICATOR","Scored 0-100 where 100=most favorable conditions","Scored 0-100","5.2) Environmental impact of coastal development",null,null,{"$f":"MATCH($B61,Weights!$C$7:$C$45,0)","v":33},{"$f":"IF(ISERROR(AH61),1,INDEX(Weights!$G$7:$G$45,AH61))","v":1},0.25,"LAND category score"]
[61,"LAND_2_1","LAND_2",3,"5.2.1","Environment impact assessment for coastal development ","Scored 0-1 ","EIU qualitative assessment","Do coastal development projects require environmental impact assessments?\\n\\n0= No\\n1= Yes",null,"Do coastal development projects require environmental impact assessments?",0,null,null,null,null,null,null,null,null,null,3,0,1,null,0,"#0","SUB-INDICATOR","Scored 0-1 where 1=most favorable conditions","Scored 0-1","5.2.1) Environment impact assessment for coastal development ",null,null,{"$f":"MATCH($B62,Weights!$C$7:$C$45,0)","v":{"$error":"#N/A"}},{"$f":"IF(ISERROR(AH62),1,INDEX(Weights!$G$7:$G$45,AH62))","v":1},0.5,"Environmental impact of coastal development indicator score"]
[62,"LAND_2_2","LAND_2",3,"5.2.2","On-site reviews ","Scored 0-1 ","EIU qualitative assessment","Do regulations require on-site reviews to monitor environmental impact?\\n\\n0= No\\n1= Yes",null,"Do regulations require on-site reviews to monitor environmental impact?",0,null,null,null,null,null,null,null,null,null,3,0,1,null,0,"#0","SUB-INDICATOR","Scored 0-1 where 1=most favorable conditions","Scored 0-1","5.2.2) On-site reviews ",null,null,{"$f":"MATCH($B63,Weights!$C$7:$C$45,0)","v":{"$error":"#N/A"}},{"$f":"IF(ISERROR(AH63),1,INDEX(Weights!$G$7:$G$45,AH63))","v":1},0.5,"Environmental impact of coastal development indicator score"]
[63,"LAND_3","LAND",2,5.3,"Government commitment to sustainability in coastal tourism development","Scored 0-100 where 100=most favorable coastal governance environment","Calculated from sub-indicator","Scored as the normalized score of the following sub-indicator:\\n\\nHow would you assess the effectiveness of government efforts to ensure that tourism is being developed in a sustainable way?\\n\\nCountries may score anywhere from 0 to 6 where:\\n\\n0=Very ineffective – development of the sector does not take into account issues related to environmental protection and sustainable development\\n6=Very effective – issues related to environmental protection and sustainable development are at the core of the government’s strategy",null,null,null,null,null,null,null,null,null,null,null,null,1,null,100,null,0,"#0","INDICATOR","Scored 0-100 where 100=most favorable conditions",{"$f":"CONCATENATE(IF($D64=3,\"Scored\",\"Scored\"),\" 0-\",$X64)","v":"Scored 0-100"},"5.3) Government commitment to sustainability in coastal tourism development",null,null,{"$f":"MATCH($B64,Weights!$C$7:$C$45,0)","v":34},{"$f":"IF(ISERROR(AH64),1,INDEX(Weights!$G$7:$G$45,AH64))","v":1},0.25,"LAND category score"]
[64,"LAND_3_1","LAND_3",3,"5.3.1","Sustainability of tourism","Scored 0-6 ","World Economic Forum, Travel and Tourism Competitiveness  Report, 2013 ","How would you assess the effectiveness of government efforts to ensure that tourism is being developed in a sustainable way?\\n\\nCountries may score anywhere from 0 to 6 where:\\n\\n0=Very ineffective – development of the sector does not take into account issues related to environmental protection and sustainable development\\n6=Very effective – issues related to environmental protection and sustainable development are at the core of the government’s strategy",null,"How would you assess the effectiveness of government efforts to ensure that tourism is being developed in a sustainable way?",0,null,null,null,null,null,null,null,null,null,3,0,6,null,0,"0.0","SUB-INDICATOR",{"$f":"CONCATENATE(IF($D65=3,\"Scored\",\"Scored\"),\" 0-\",$X65,\" where \",$X65,\"=most favorable conditions\")","v":"Scored 0-6 where 6=most favorable conditions"},"Scored 0-6",{"$f":"CONCATENATE($E65,\") \",$F65)","v":"5.3.1) Sustainability of tourism"},null,null,{"$f":"MATCH($B65,Weights!$C$7:$C$45,0)","v":{"$error":"#N/A"}},{"$f":"IF(ISERROR(AH65),1,INDEX(Weights!$G$7:$G$45,AH65))","v":1},1,"Government commitment to sustainability in coastal tourism development indicator score"]
[65,"LAND_4","LAND",2,5.4,"Natural disaster risk mitigation","Scored 0-100 where 100=most favorable coastal governance environment","Calculated from sub-indicator","Scored as the normalized score of the following sub-indicator:\\n\\nDoes the country have a natural disaster risk mitigation strategy that addresses coastal zones?\\n\\n0= No\\n1= Yes",null,null,null,null,null,null,null,null,null,null,null,null,1,null,100,null,0,"#0","INDICATOR","Scored 0-100 where 100=most favorable conditions","Scored 0-100","5.4) Natural disaster risk mitigation",null,null,{"$f":"MATCH($B66,Weights!$C$7:$C$45,0)","v":35},{"$f":"IF(ISERROR(AH66),1,INDEX(Weights!$G$7:$G$45,AH66))","v":1},0.25,"LAND category score"]
[66,"LAND_4_1","LAND_4",3,"5.4.1","Strategy for risk mitigation ","Scored 0-1 ","EIU qualitative assessment","Does the country have a natural disaster risk mitigation strategy that addresses coastal zones?\\n\\n0= No\\n1= Yes",null,"Does the country have a natural disaster risk mitigation strategy that addresses coastal zones?",0,null,null,null,null,null,null,null,null,null,3,0,1,null,0,"#0","SUB-INDICATOR","Scored 0-1 where 1=most favorable conditions","Scored 0-1","5.4.1) Strategy for risk mitigation ",null,null,{"$f":"MATCH($B67,Weights!$C$7:$C$45,0)","v":{"$error":"#N/A"}},{"$f":"IF(ISERROR(AH67),1,INDEX(Weights!$G$7:$G$45,AH67))","v":1},{"$f":"IF(ISERROR(AI67/SUMIF($C$2:$C$75,$C67,AI$2:AI$75)),0,AI67/SUMIF($C$2:$C$75,$C67,AI$2:AI$75))","v":1},{"$f":"CHOOSE(D67,\"OVERALL score\",CONCATENATE(INDEX(F$2:F$77,MATCH(C67,$B$2:$B$77,0)),\" category score\"),CONCATENATE(INDEX(F$2:F$77,MATCH(C67,$B$2:$B$77,0)),\" indicator score\"))","v":"Natural disaster risk mitigation indicator score"}]
[67,"LIVRES","OVERALL",1,6,"LIVING RESOURCES","Scored 0-100 where 100=most favorable coastal governance environment for living resources"," Calculated from indicator scores","Weighted total of the following three indicators:\\n6.1) Fisheries management \\n6.2) Protections for marine/coastal species \\n6.3) Ballast water treatment ","This category comprises three indicators and four sub-indicators on coastal management of living resources, including fisheries and wildlife.","The LIVING RESOURCES category score is the combination of the indicator scores within this category (see Scoring Notes).",null,null,null,null,null,null,null,null,null,null,1,null,100,null,0,"#0","CATEGORY","Scored 0-100 where 100=most favorable conditions","Scored 0-100","6) LIVING RESOURCES",null,null,{"$f":"MATCH($B68,Weights!$C$7:$C$45,0)","v":6},{"$f":"IF(ISERROR(AH68),1,INDEX(Weights!$G$7:$G$45,AH68))","v":1},0.16666666666666666,"OVERALL score"]
[68,"LIVRES_1","LIVRES",2,6.1,"Fisheries governance and management effectiveness","Scored 0-100 where 100=most favorable coastal governance environment"," Calculated from sub-indicators ","Scored as the average of scores across four dimensions focused on:  \na) Research, monitoring and assessment of fisheries stocks\nb) Management response to stock status\nc) Enforcement of management measures\nd) Social and economic attributes (e.g. controls on access and entry into fishery, transparency and community involvement, subsidies)\n\n\n\n",null,null,null,null,null,null,null,null,null,null,null,null,1,null,100,null,0,"#0","INDICATOR","Scored 0-100 where 100=most favorable conditions","Scored 0-100","6.1) Fisheries governance and management effectiveness",null,null,{"$f":"MATCH($B69,Weights!$C$7:$C$45,0)","v":37},{"$f":"IF(ISERROR(AH69),1,INDEX(Weights!$G$7:$G$45,AH69))","v":1},0.33333333333333331,"LIVING RESOURCES category score"]
[69,"LIVRES_1_1","LIVRES_1",3,"6.1.1","Fisheries governance and management effectiveness","Scored 0-1","California Environmental Associates and Drs. Ray Hilborn and Michael Melnychuk (University of Washington)","Scored as the average of scores across four dimensions focused on:  \na) Research, monitoring and assessment of fisheries stocks\nb) Management response to stock status\nc) Enforcement of management measures\nd) Social and economic attributes (e.g. controls on access and entry into fishery, transparency and community involvement, subsidies)\n \nSurvey respondents assessed governance and effectiveness based on a list of 10 key fish species caught by country. The 10 species include:\n   • The four species with greatest landings caught by the country in FAO areas adjacent to the main EEZ\n   • The four species with greatest estimated landed value (based on FAO adjacent landings data and estimated ex-vessel prices)\n   • The remainder of the 10 species, randomly sampled in proportion to their landings and landed value\n \nAnswers were provided in a global context, recognizing that the survey was conducted across a wide range of countries differing in the development of their fisheries governance systems.",null,"This indicator measures the status of fisheries management and regulations in the top fishing nations of the world. Using data gathered through an expert survey that covers several aspects of management systems—including stock status, management approach, monitoring and enforcement, and socioeconomics—this indicator is intended to characterize the level of fisheries governance and management effectiveness by country.",0,null,null,null,null,null,null,null,null,null,3,0,1,null,0,"#0.00","SUB-INDICATOR","Scored 0-1 where 1=most favorable conditions","Scored 0-1","6.1.1) Fisheries governance and management effectiveness",null,null,{"$f":"MATCH($B70,Weights!$C$7:$C$45,0)","v":{"$error":"#N/A"}},{"$f":"IF(ISERROR(AH70),1,INDEX(Weights!$G$7:$G$45,AH70))","v":1},1,"Fisheries governance and management effectiveness indicator score"]
[70,"LIVRES_2","LIVRES",2,6.2,"Protection for marine/coastal species","Scored 0-100 where 100=most favorable coastal governance environment","Calculated from sub-indicators","Scored as the aggregation of normalized scores of the following two sub-indicators:\\n\\nDo domestic laws and/or regulations require the protection of threatened species and populations in coastal areas?\\n\\n0=No\\n1=Yes\\n\\nProtections should, at a minimum, cover sea turtles and marine mammals.\\n\\nExtent of Marine Protected Areas (MPAs):\\n\\n0=No marine protected areas, or the share protected is less than 5% of the total marine area\\n1=Share protected is 5%-10% of the total marine area\\n2=Share protected is at least 10% of the total marine area\\n\\nScoring scheme is based on the Convention on Biological Diversity’s target that at least 10% of marine areas should be protected by 2020.",null,null,null,null,null,null,null,null,null,null,null,null,1,null,100,null,0,"#0","INDICATOR","Scored 0-100 where 100=most favorable conditions","Scored 0-100","6.2) Protection for marine/coastal species",null,null,{"$f":"MATCH($B71,Weights!$C$7:$C$45,0)","v":38},{"$f":"IF(ISERROR(AH71),1,INDEX(Weights!$G$7:$G$45,AH71))","v":1},0.33333333333333331,"LIVING RESOURCES category score"]
[71,"LIVRES_2_1","LIVRES_2",3,"6.2.1","Protection of threatened species and populations ","Scored 0-1","EIU qualitative assessment","Do domestic laws and/or regulations require the protection of threatened species and populations in coastal areas?\\n\\n0=No \\n1=Yes\\n\\nProtections should, at a minimum, cover sea turtles and marine mammals.",null,"Do domestic laws and/or regulations require the protection of threatened species and populations in coastal areas?",0,null,null,null,null,null,null,null,null,null,3,0,1,null,0,"#0","SUB-INDICATOR","Scored 0-1 where 1=most favorable conditions","Scored 0-1","6.2.1) Protection of threatened species and populations ",null,null,{"$f":"MATCH($B72,Weights!$C$7:$C$45,0)","v":{"$error":"#N/A"}},{"$f":"IF(ISERROR(AH72),1,INDEX(Weights!$G$7:$G$45,AH72))","v":1},0.5,"Protection for marine/coastal species indicator score"]
[72,"LIVRES_2_2","LIVRES_2",3,"6.2.2","Prevalence of marine protected areas","Scored 0-2 ","United Nations Environment Programme and World Conservation Monitoring Centre, 2012","Extent of Marine Protected Areas:\\n\\n0=No marine protected areas, or the share protected is less than 5% of the total marine area\\n1=Share protected is 5%-10% of the total marine area\\n2=Share protected is at least 10% of the total marine area\\n\\nScoring scheme is based on the Convention on Biological Diversity’s target that at least 10% of marine areas should be protected by 2020.",null,"Extent of Marine Protected Areas (MPAs)",0,null,null,null,null,null,null,null,null,null,3,0,2,null,0,"#0","SUB-INDICATOR","Scored 0-2 where 2=most favorable conditions","Scored 0-2","6.2.2) Prevalence of marine protected areas",null,null,{"$f":"MATCH($B73,Weights!$C$7:$C$45,0)","v":{"$error":"#N/A"}},{"$f":"IF(ISERROR(AH73),1,INDEX(Weights!$G$7:$G$45,AH73))","v":1},0.5,"Protection for marine/coastal species indicator score"]
[73,"LIVRES_3","LIVRES",2,6.3,"Ballast water treatment","Scored 0-100 where 100=most favorable coastal governance environment","Calculated from sub-indicator","Scored as the normalized score of  the following sub-indicator:\\n\\nAre there mechanisms in place to control pathways of introduction of alien species in the marine and coastal environment from ballast water?\\n\\n0=No\\n1=Yes",null,null,null,null,null,null,null,null,null,null,null,null,1,null,100,null,0,"#0","INDICATOR","Scored 0-100 where 100=most favorable conditions","Scored 0-100","6.3) Ballast water treatment",null,null,{"$f":"MATCH($B74,Weights!$C$7:$C$45,0)","v":39},{"$f":"IF(ISERROR(AH74),1,INDEX(Weights!$G$7:$G$45,AH74))","v":1},0.33333333333333331,"LIVING RESOURCES category score"]
[74,"LIVRES_3_1","LIVRES_3",3,"6.3.1","Mechanisms to control pathways of introduction ","Scored 0-1 ","EIU qualitative assessment","Are there mechanisms in place to control pathways of introduction of alien species in the marine and coastal environment from ballast water?\\n\\n0=No\\n1=Yes",null,"Are there mechanisms in place to control pathways of introduction of alien species in the marine and coastal environment from ballast water?",0,null,null,null,null,null,null,null,null,null,3,0,1,null,0,"#0","SUB-INDICATOR","Scored 0-1 where 1=most favorable conditions","Scored 0-1","6.3.1) Mechanisms to control pathways of introduction ",null,null,{"$f":"MATCH($B75,Weights!$C$7:$C$45,0)","v":{"$error":"#N/A"}},{"$f":"IF(ISERROR(AH75),1,INDEX(Weights!$G$7:$G$45,AH75))","v":1},1,"Ballast water treatment indicator score"]
[75,"BG","OVERALL","-",7,"BACKGROUND INDICATORS",null,null,null,null,null,null,null,null,null,null,null,null,null,null,null,null,null,null,null,null,null,null,null,null,"7) BACKGROUND INDICATORS"]
[76,"BG_01","BG","-",7.1,"GDP per head (PPP, $, 2014)",null,"Economist Intelligence Unit",null,null,null,null,null,null,null,null,null,null,null,null,null,null,null,null,null,null,"#0",null,null,null,"7.1) GDP per head (PPP, $, 2014)"]
[77,"BG_02","BG","-",7.2,"Environmental Performance Index scores (2014)",null,"Yale University",null,null,null,null,null,null,null,null,null,null,null,null,null,null,null,null,null,null,"#0.00",null,null,null,"7.2) Environmental Performance Index scores (2014)"]
[78,"BG_03","BG","-",7.3,"Human Development Index (2013)",null,"United Nations",null,null,null,null,null,null,null,null,null,null,null,null,null,null,null,null,null,null,"#0.000",null,null,null,"7.3) Human Development Index (2013)"]
[79,"BG_04","BG","-",7.4,"Democracy Index (2014)",null,"Economist Intelligence Unit",null,null,null,null,null,null,null,null,null,null,null,null,null,null,null,null,null,null,"#0.0",null,null,null,"7.4) Democracy Index (2014)"]

{"sheet":"tblIndiSets","index":3,"n_rows":209,"n_cols":17,"rows_kept":209,"cut":false,"hidden":true,"merged":[]}
[]
["CATEGORY",null,null,"DEPTH","MAX",null,null,null,null,"SPECIAL FOR CAT SELECTOR"]
["OVERALL",{"$f":"MATCH(A3,lu_indicode,0)","v":1},{"$f":"INDEX(tblIndicators!$AE$2:$AE$75,$B3)","v":"OVERALL SCORE"},{"$f":"INDEX(tblIndicators!$D$2:$D$75,$B3)","v":0},{"$f":"INDEX(tblIndicators!$X$2:$X$75,$B3)","v":100},null,null,null,null,"ALL CATEGORIES",null,null,null,"OVERALL","OVERALL","OVERALL","OVERALL"]
["PLCAP",{"$f":"MATCH(A4,lu_indicode,0)","v":2},{"$f":"INDEX(tblIndicators!$AE$2:$AE$75,$B4)","v":"1) POLICY AND INSTITUTIONAL CAPACITY"},{"$f":"INDEX(tblIndicators!$D$2:$D$75,$B4)","v":1},{"$f":"INDEX(tblIndicators!$X$2:$X$75,$B4)","v":100},null,null,null,null,{"$f":"C4","v":"1) POLICY AND INSTITUTIONAL CAPACITY"},null,null,null,"PLCAP","PLCAP","PLCAP","PLCAP"]
["BUSENV",20,{"$f":"INDEX(tblIndicators!$AE$2:$AE$75,$B5)","v":"2) BUSINESS ENVIRONMENT FOR COASTAL ACTIVITIES"},{"$f":"INDEX(tblIndicators!$D$2:$D$75,$B5)","v":1},{"$f":"INDEX(tblIndicators!$X$2:$X$75,$B5)","v":100},null,null,null,null,{"$f":"C5","v":"2) BUSINESS ENVIRONMENT FOR COASTAL ACTIVITIES"},null,null,null,"PLCAP_1","PLCAP_1","PLCAP_1","BUSENV"]
["WATQUAL",34,{"$f":"INDEX(tblIndicators!$AE$2:$AE$75,$B6)","v":"3) WATER QUALITY"},{"$f":"INDEX(tblIndicators!$D$2:$D$75,$B6)","v":1},{"$f":"INDEX(tblIndicators!$X$2:$X$75,$B6)","v":100},null,null,null,null,{"$f":"C6","v":"3) WATER QUALITY"},null,null,null,"PLCAP_1_1","PLCAP_1_1","PLCAP_2","WATQUAL"]
["MINENG",44,{"$f":"INDEX(tblIndicators!$AE$2:$AE$75,$B7)","v":"4) MINERALS AND ENERGY"},{"$f":"INDEX(tblIndicators!$D$2:$D$75,$B7)","v":1},{"$f":"INDEX(tblIndicators!$X$2:$X$75,$B7)","v":100},null,null,null,null,{"$f":"C7","v":"4) MINERALS AND ENERGY"},null,null,null,"PLCAP_1_2","PLCAP_1_2","PLCAP_3","MINENG"]
["LAND",57,{"$f":"INDEX(tblIndicators!$AE$2:$AE$75,$B8)","v":"5) LAND"},{"$f":"INDEX(tblIndicators!$D$2:$D$75,$B8)","v":1},{"$f":"INDEX(tblIndicators!$X$2:$X$75,$B8)","v":100},null,null,null,null,{"$f":"C8","v":"5) LAND"},null,null,null,"PLCAP_2","PLCAP_2","PLCAP_4","LAND"]
["LIVRES",67,{"$f":"INDEX(tblIndicators!$AE$2:$AE$75,$B9)","v":"6) LIVING RESOURCES"},{"$f":"INDEX(tblIndicators!$D$2:$D$75,$B9)","v":1},{"$f":"INDEX(tblIndicators!$X$2:$X$75,$B9)","v":100},null,null,null,null,"6) LIVING RESOURCES",null,null,null,"PLCAP_2_1","PLCAP_2_1","PLCAP_5","LIVRES"]
[null,null,null,null,null,null,null,null,null,null,null,null,null,"PLCAP_3","PLCAP_3","PLCAP_6"]
["INDICATORS+ABOVE",null,null,null,null,null,null,null,null,null,null,null,null,"PLCAP_3_1","PLCAP_3_1","PLCAP_7"]
["OVERALL",{"$f":"MATCH(A12,lu_indicode,0)","v":1},{"$f":"INDEX(tblIndicators!$AE$2:$AE$75,$B12)","v":"OVERALL SCORE"},{"$f":"INDEX(tblIndicators!$D$2:$D$75,$B12)","v":0},{"$f":"INDEX(tblIndicators!$X$2:$X$75,$B12)","v":100},null,null,null,null,null,null,null,null,"PLCAP_4","PLCAP_4","BUSENV"]
["PLCAP",{"$f":"MATCH(A13,lu_indicode,0)","v":2},{"$f":"INDEX(tblIndicators!$AE$2:$AE$75,$B13)","v":"1) POLICY AND INSTITUTIONAL CAPACITY"},{"$f":"INDEX(tblIndicators!$D$2:$D$75,$B13)","v":1},{"$f":"INDEX(tblIndicators!$X$2:$X$75,$B13)","v":100},null,null,null,null,null,null,null,null,"PLCAP_4_1","PLCAP_4_1","BUSENV_1"]
["PLCAP_1",3,{"$f":"INDEX(tblIndicators!$AE$2:$AE$75,$B14)","v":"1.1) Coastal management policy and strategy"},{"$f":"INDEX(tblIndicators!$D$2:$D$75,$B14)","v":2},{"$f":"INDEX(tblIndicators!$X$2:$X$75,$B14)","v":100},null,null,null,null,null,null,null,null,"PLCAP_4_2","PLCAP_4_2","BUSENV_2"]
["PLCAP_2",6,{"$f":"INDEX(tblIndicators!$AE$2:$AE$75,$B15)","v":"1.2) Presence of established institution(s)"},{"$f":"INDEX(tblIndicators!$D$2:$D$75,$B15)","v":2},{"$f":"INDEX(tblIndicators!$X$2:$X$75,$B15)","v":100},null,null,null,null,null,null,null,null,"PLCAP_5","PLCAP_5","BUSENV_3"]
["PLCAP_3",8,{"$f":"INDEX(tblIndicators!$AE$2:$AE$75,$B16)","v":"1.3) National strategy to adapt to climate change"},{"$f":"INDEX(tblIndicators!$D$2:$D$75,$B16)","v":2},{"$f":"INDEX(tblIndicators!$X$2:$X$75,$B16)","v":100},null,null,null,null,null,null,null,null,"PLCAP_5_1","PLCAP_5_1","BUSENV_4"]
["PLCAP_4",10,{"$f":"INDEX(tblIndicators!$AE$2:$AE$75,$B17)","v":"1.4) Maritime Spatial Planning"},{"$f":"INDEX(tblIndicators!$D$2:$D$75,$B17)","v":2},{"$f":"INDEX(tblIndicators!$X$2:$X$75,$B17)","v":100},null,null,null,null,null,null,null,null,"PLCAP_5_2","PLCAP_5_2","WATQUAL"]
["PLCAP_5",13,{"$f":"INDEX(tblIndicators!$AE$2:$AE$75,$B18)","v":"1.5) Stakeholder engagement"},{"$f":"INDEX(tblIndicators!$D$2:$D$75,$B18)","v":2},{"$f":"INDEX(tblIndicators!$X$2:$X$75,$B18)","v":100},null,null,null,null,null,null,null,null,"PLCAP_6","PLCAP_6","WATQUAL_1"]
["PLCAP_6",16,{"$f":"INDEX(tblIndicators!$AE$2:$AE$75,$B19)","v":"1.6) Extractive industries transparency"},{"$f":"INDEX(tblIndicators!$D$2:$D$75,$B19)","v":2},{"$f":"INDEX(tblIndicators!$X$2:$X$75,$B19)","v":100},null,null,null,null,null,null,null,null,"PLCAP_6_1","PLCAP_6_1","WATQUAL_2"]
["PLCAP_7",18,{"$f":"INDEX(tblIndicators!$AE$2:$AE$75,$B20)","v":"1.7) Adoption of the United Nations Convention on the Law of the Sea (UNCLOS)"},{"$f":"INDEX(tblIndicators!$D$2:$D$75,$B20)","v":2},{"$f":"INDEX(tblIndicators!$X$2:$X$75,$B20)","v":100},null,null,null,null,null,null,null,null,"PLCAP_7","PLCAP_7","WATQUAL_3"]
["BUSENV",20,{"$f":"INDEX(tblIndicators!$AE$2:$AE$75,$B21)","v":"2) BUSINESS ENVIRONMENT FOR COASTAL ACTIVITIES"},{"$f":"INDEX(tblIndicators!$D$2:$D$75,$B21)","v":1},{"$f":"INDEX(tblIndicators!$X$2:$X$75,$B21)","v":100},null,null,null,null,null,null,null,null,"PLCAP_7_1","PLCAP_7_1","MINENG"]
["BUSENV_1",21,{"$f":"INDEX(tblIndicators!$AE$2:$AE$75,$B22)","v":"2.1) Ease of doing business"},{"$f":"INDEX(tblIndicators!$D$2:$D$75,$B22)","v":2},{"$f":"INDEX(tblIndicators!$X$2:$X$75,$B22)","v":100},null,null,null,null,null,null,null,null,"BUSENV","BUSENV","MINENG_1"]
["BUSENV_2",23,{"$f":"INDEX(tblIndicators!$AE$2:$AE$75,$B23)","v":"2.2) Corruption perception"},{"$f":"INDEX(tblIndicators!$D$2:$D$75,$B23)","v":2},{"$f":"INDEX(tblIndicators!$X$2:$X$75,$B23)","v":100},null,null,null,null,null,null,null,null,"BUSENV_1","BUSENV_1","MINENG_2"]
["BUSENV_3",25,{"$f":"INDEX(tblIndicators!$AE$2:$AE$75,$B24)","v":"2.3) Effectiveness of dispute resolution mechanisms"},{"$f":"INDEX(tblIndicators!$D$2:$D$75,$B24)","v":2},{"$f":"INDEX(tblIndicators!$X$2:$X$75,$B24)","v":100},null,null,null,null,null,null,null,null,"BUSENV_1_1","BUSENV_1_1","MINENG_3"]
["BUSENV_4",28,{"$f":"INDEX(tblIndicators!$AE$2:$AE$75,$B25)","v":"2.4) Quality of coastal infrastructure"},{"$f":"INDEX(tblIndicators!$D$2:$D$75,$B25)","v":2},{"$f":"INDEX(tblIndicators!$X$2:$X$75,$B25)","v":100},null,null,null,null,null,null,null,null,"BUSENV_2","BUSENV_2","LAND"]
["WATQUAL",34,{"$f":"INDEX(tblIndicators!$AE$2:$AE$75,$B26)","v":"3) WATER QUALITY"},{"$f":"INDEX(tblIndicators!$D$2:$D$75,$B26)","v":1},{"$f":"INDEX(tblIndicators!$X$2:$X$75,$B26)","v":100},null,null,null,null,null,null,null,null,"BUSENV_2_1","BUSENV_2_1","LAND_1"]
["WATQUAL_1",35,{"$f":"INDEX(tblIndicators!$AE$2:$AE$75,$B27)","v":"3.1) Agency"},{"$f":"INDEX(tblIndicators!$D$2:$D$75,$B27)","v":2},{"$f":"INDEX(tblIndicators!$X$2:$X$75,$B27)","v":100},null,null,null,null,null,null,null,null,"BUSENV_3","BUSENV_3","LAND_2"]
["WATQUAL_2",37,{"$f":"INDEX(tblIndicators!$AE$2:$AE$75,$B28)","v":"3.2) Regulatory standards for water pollution"},{"$f":"INDEX(tblIndicators!$D$2:$D$75,$B28)","v":2},{"$f":"INDEX(tblIndicators!$X$2:$X$75,$B28)","v":100},null,null,null,null,null,null,null,null,"BUSENV_3_1","BUSENV_3_1","LAND_3"]
["WATQUAL_3",41,{"$f":"INDEX(tblIndicators!$AE$2:$AE$75,$B29)","v":"3.3) Monitoring and enforcement"},{"$f":"INDEX(tblIndicators!$D$2:$D$75,$B29)","v":2},{"$f":"INDEX(tblIndicators!$X$2:$X$75,$B29)","v":100},null,null,null,null,null,null,null,null,"BUSENV_3_2","BUSENV_3_2","LAND_4"]
["MINENG",44,{"$f":"INDEX(tblIndicators!$AE$2:$AE$75,$B30)","v":"4) MINERALS AND ENERGY"},{"$f":"INDEX(tblIndicators!$D$2:$D$75,$B30)","v":1},{"$f":"INDEX(tblIndicators!$X$2:$X$75,$B30)","v":100},null,null,null,null,null,null,null,null,"BUSENV_4","BUSENV_4","LAND_5"]
["MINENG_1",45,{"$f":"INDEX(tblIndicators!$AE$2:$AE$75,$B31)","v":"4.1) Permitting and licensing"},{"$f":"INDEX(tblIndicators!$D$2:$D$75,$B31)","v":2},{"$f":"INDEX(tblIndicators!$X$2:$X$75,$B31)","v":100},null,null,null,null,null,null,null,null,"BUSENV_4_1","BUSENV_4_1","LIVRES"]
["MINENG_2",48,{"$f":"INDEX(tblIndicators!$AE$2:$AE$75,$B32)","v":"4.2) Monitoring and enforcement"},{"$f":"INDEX(tblIndicators!$D$2:$D$75,$B32)","v":2},{"$f":"INDEX(tblIndicators!$X$2:$X$75,$B32)","v":100},null,null,null,null,null,null,null,null,"BUSENV_4_2","BUSENV_4_2","LIVRES_1"]
["MINENG_3",53,{"$f":"INDEX(tblIndicators!$AE$2:$AE$75,$B33)","v":"4.3) Risk mitigation"},{"$f":"INDEX(tblIndicators!$D$2:$D$75,$B33)","v":2},{"$f":"INDEX(tblIndicators!$X$2:$X$75,$B33)","v":100},null,null,null,null,null,null,null,null,"BUSENV_4_3","BUSENV_4_3","LIVRES_2"]
["LAND",57,{"$f":"INDEX(tblIndicators!$AE$2:$AE$75,$B34)","v":"5) LAND"},{"$f":"INDEX(tblIndicators!$D$2:$D$75,$B34)","v":1},{"$f":"INDEX(tblIndicators!$X$2:$X$75,$B34)","v":100},null,null,null,null,null,null,null,null,"BUSENV_4_4","BUSENV_4_4","LIVRES_3"]
["LAND_1",58,{"$f":"INDEX(tblIndicators!$AE$2:$AE$75,$B35)","v":"5.1) Prevalence of coastal protected areas"},{"$f":"INDEX(tblIndicators!$D$2:$D$75,$B35)","v":2},{"$f":"INDEX(tblIndicators!$X$2:$X$75,$B35)","v":100},null,null,null,null,null,null,null,null,"BUSENV_4_5","BUSENV_4_5"]
["LAND_2",60,{"$f":"INDEX(tblIndicators!$AE$2:$AE$75,$B36)","v":"5.2) Environmental impact of coastal development"},{"$f":"INDEX(tblIndicators!$D$2:$D$75,$B36)","v":2},{"$f":"INDEX(tblIndicators!$X$2:$X$75,$B36)","v":100},null,null,null,null,null,null,null,null,"WATQUAL","WATQUAL"]
["LAND_3",63,{"$f":"INDEX(tblIndicators!$AE$2:$AE$75,$B37)","v":"5.3) Government commitment to sustainability in coastal tourism development"},{"$f":"INDEX(tblIndicators!$D$2:$D$75,$B37)","v":2},{"$f":"INDEX(tblIndicators!$X$2:$X$75,$B37)","v":100},null,null,null,null,null,null,null,null,"WATQUAL_1","WATQUAL_1"]
["LAND_4",65,{"$f":"INDEX(tblIndicators!$AE$2:$AE$75,$B38)","v":"5.4) Natural disaster risk mitigation"},{"$f":"INDEX(tblIndicators!$D$2:$D$75,$B38)","v":2},{"$f":"INDEX(tblIndicators!$X$2:$X$75,$B38)","v":100},null,null,null,null,null,null,null,null,"WATQUAL_1_1","WATQUAL_1_1"]
["LIVRES",67,{"$f":"INDEX(tblIndicators!$AE$2:$AE$75,$B39)","v":"6) LIVING RESOURCES"},{"$f":"INDEX(tblIndicators!$D$2:$D$75,$B39)","v":1},{"$f":"INDEX(tblIndicators!$X$2:$X$75,$B39)","v":100},null,null,null,null,null,null,null,null,"WATQUAL_2","WATQUAL_2"]
["LIVRES_1",68,{"$f":"INDEX(tblIndicators!$AE$2:$AE$75,$B40)","v":"6.1) Fisheries governance and management effectiveness"},{"$f":"INDEX(tblIndicators!$D$2:$D$75,$B40)","v":2},{"$f":"INDEX(tblIndicators!$X$2:$X$75,$B40)","v":100},null,null,null,null,null,null,null,null,"WATQUAL_2_1","WATQUAL_2_1"]
["LIVRES_2",70,{"$f":"INDEX(tblIndicators!$AE$2:$AE$75,$B41)","v":"6.2) Protection for marine/coastal species"},{"$f":"INDEX(tblIndicators!$D$2:$D$75,$B41)","v":2},{"$f":"INDEX(tblIndicators!$X$2:$X$75,$B41)","v":100},null,null,null,null,null,null,null,null,"WATQUAL_2_2","WATQUAL_2_2"]
["LIVRES_3",73,{"$f":"INDEX(tblIndicators!$AE$2:$AE$75,$B42)","v":"6.3) Ballast water treatment"},{"$f":"INDEX(tblIndicators!$D$2:$D$75,$B42)","v":2},{"$f":"INDEX(tblIndicators!$X$2:$X$75,$B42)","v":100},null,null,null,null,null,null,null,null,"WATQUAL_2_3","WATQUAL_2_3"]
[null,null,null,null,null,null,null,null,null,null,null,null,null,"WATQUAL_2_4","WATQUAL_2_4"]
[null,null,null,null,null,null,null,null,null,null,null,null,null,"WATQUAL_3","WATQUAL_3"]
[null,null,null,null,null,null,null,null,null,null,null,null,null,"WATQUAL_3_1","WATQUAL_3_1"]
[null,null,null,null,null,null,null,null,null,null,null,null,null,"WATQUAL_3_2","WATQUAL_3_2"]
["SUBINDICATORS+ABOVE",null,null,null,null,null,null,null,null,null,null,null,null,"MINENG","MINENG"]
["OVERALL",{"$f":"MATCH(A48,lu_indicode,0)","v":1},{"$f":"INDEX(tblIndicators!$AE$2:$AE$75,$B48)","v":"OVERALL SCORE"},{"$f":"INDEX(tblIndicators!$D$2:$D$75,$B48)","v":0},{"$f":"INDEX(tblIndicators!$X$2:$X$75,$B48)","v":100},null,null,null,null,null,null,null,null,"MINENG_1","MINENG_1"]
["PLCAP",2,{"$f":"INDEX(tblIndicators!$AE$2:$AE$75,$B49)","v":"1) POLICY AND INSTITUTIONAL CAPACITY"},{"$f":"INDEX(tblIndicators!$D$2:$D$75,$B49)","v":1},{"$f":"INDEX(tblIndicators!$X$2:$X$75,$B49)","v":100},null,null,null,null,null,null,null,null,"MINENG_1_1","MINENG_1_1"]
["PLCAP_1",3,{"$f":"INDEX(tblIndicators!$AE$2:$AE$75,$B50)","v":"1.1) Coastal management policy and strategy"},{"$f":"INDEX(tblIndicators!$D$2:$D$75,$B50)","v":2},{"$f":"INDEX(tblIndicators!$X$2:$X$75,$B50)","v":100},null,null,null,null,null,null,null,null,"MINENG_1_2","MINENG_1_2"]
["PLCAP_1_1",4,{"$f":"INDEX(tblIndicators!$AE$2:$AE$75,$B51)","v":"1.1.1) Coastal management policy"},{"$f":"INDEX(tblIndicators!$D$2:$D$75,$B51)","v":3},{"$f":"INDEX(tblIndicators!$X$2:$X$75,$B51)","v":1},null,null,null,null,null,null,null,null,"MINENG_2","MINENG_2"]
["PLCAP_1_2",5,{"$f":"INDEX(tblIndicators!$AE$2:$AE$75,$B52)","v":"1.1.2) Coastal management strategy"},{"$f":"INDEX(tblIndicators!$D$2:$D$75,$B52)","v":3},{"$f":"INDEX(tblIndicators!$X$2:$X$75,$B52)","v":2},null,null,null,null,null,null,null,null,"MINENG_2_1","MINENG_2_1"]
["PLCAP_2",6,{"$f":"INDEX(tblIndicators!$AE$2:$AE$75,$B53)","v":"1.2) Presence of established institution(s)"},{"$f":"INDEX(tblIndicators!$D$2:$D$75,$B53)","v":2},{"$f":"INDEX(tblIndicators!$X$2:$X$75,$B53)","v":100},null,null,null,null,null,null,null,null,"MINENG_2_2","MINENG_2_2"]
["PLCAP_2_1",7,{"$f":"INDEX(tblIndicators!$AE$2:$AE$75,$B54)","v":"1.2.1) Presence of coastal management strategy authority"},{"$f":"INDEX(tblIndicators!$D$2:$D$75,$B54)","v":3},{"$f":"INDEX(tblIndicators!$X$2:$X$75,$B54)","v":2},null,null,null,null,null,null,null,null,"MINENG_2_3","MINENG_2_3"]
["PLCAP_3",8,{"$f":"INDEX(tblIndicators!$AE$2:$AE$75,$B55)","v":"1.3) National strategy to adapt to climate change"},{"$f":"INDEX(tblIndicators!$D$2:$D$75,$B55)","v":2},{"$f":"INDEX(tblIndicators!$X$2:$X$75,$B55)","v":100},null,null,null,null,null,null,null,null,"MINENG_2_4","MINENG_2_4"]
["PLCAP_3_1",9,{"$f":"INDEX(tblIndicators!$AE$2:$AE$75,$B56)","v":"1.3.1) Strategy to adapt coastal areas to climate change"},{"$f":"INDEX(tblIndicators!$D$2:$D$75,$B56)","v":3},{"$f":"INDEX(tblIndicators!$X$2:$X$75,$B56)","v":2},null,null,null,null,null,null,null,null,"MINENG_3","MINENG_3"]
["PLCAP_4",10,{"$f":"INDEX(tblIndicators!$AE$2:$AE$75,$B57)","v":"1.4) Maritime Spatial Planning"},{"$f":"INDEX(tblIndicators!$D$2:$D$75,$B57)","v":2},{"$f":"INDEX(tblIndicators!$X$2:$X$75,$B57)","v":100},null,null,null,null,null,null,null,null,"MINENG_3_1","MINENG_3_1"]
["PLCAP_4_1",11,{"$f":"INDEX(tblIndicators!$AE$2:$AE$75,$B58)","v":"1.4.1) Legal basis for maritime spatial planning"},{"$f":"INDEX(tblIndicators!$D$2:$D$75,$B58)","v":3},{"$f":"INDEX(tblIndicators!$X$2:$X$75,$B58)","v":2},null,null,null,null,null,null,null,null,"MINENG_3_2","MINENG_3_2"]
["PLCAP_4_2",12,{"$f":"INDEX(tblIndicators!$AE$2:$AE$75,$B59)","v":"1.4.2) Institution for maritime spatial planning"},{"$f":"INDEX(tblIndicators!$D$2:$D$75,$B59)","v":3},{"$f":"INDEX(tblIndicators!$X$2:$X$75,$B59)","v":2},null,null,null,null,null,null,null,null,"MINENG_3_3","MINENG_3_3"]
["PLCAP_5",13,{"$f":"INDEX(tblIndicators!$AE$2:$AE$75,$B60)","v":"1.5) Stakeholder engagement"},{"$f":"INDEX(tblIndicators!$D$2:$D$75,$B60)","v":2},{"$f":"INDEX(tblIndicators!$X$2:$X$75,$B60)","v":100},null,null,null,null,null,null,null,null,"LAND","LAND"]
["PLCAP_5_1",14,{"$f":"INDEX(tblIndicators!$AE$2:$AE$75,$B61)","v":"1.5.1) Grievance redress"},{"$f":"INDEX(tblIndicators!$D$2:$D$75,$B61)","v":3},{"$f":"INDEX(tblIndicators!$X$2:$X$75,$B61)","v":2},null,null,null,null,null,null,null,null,"LAND_1","LAND_1"]
["PLCAP_5_2",15,{"$f":"INDEX(tblIndicators!$AE$2:$AE$75,$B62)","v":"1.5.2) Multi-stakeholder engagement"},{"$f":"INDEX(tblIndicators!$D$2:$D$75,$B62)","v":3},{"$f":"INDEX(tblIndicators!$X$2:$X$75,$B62)","v":1},null,null,null,null,null,null,null,null,"LAND_1_1","LAND_1_1"]
["PLCAP_6",16,{"$f":"INDEX(tblIndicators!$AE$2:$AE$75,$B63)","v":"1.6) Extractive industries transparency"},{"$f":"INDEX(tblIndicators!$D$2:$D$75,$B63)","v":2},{"$f":"INDEX(tblIndicators!$X$2:$X$75,$B63)","v":100},null,null,null,null,null,null,null,null,"LAND_2","LAND_2"]
["PLCAP_6_1",17,{"$f":"INDEX(tblIndicators!$AE$2:$AE$75,$B64)","v":"1.6.1) Adoption of EITI standards"},{"$f":"INDEX(tblIndicators!$D$2:$D$75,$B64)","v":3},{"$f":"INDEX(tblIndicators!$X$2:$X$75,$B64)","v":3},null,null,null,null,null,null,null,null,"LAND_2_1","LAND_2_1"]
["PLCAP_7",18,{"$f":"INDEX(tblIndicators!$AE$2:$AE$75,$B65)","v":"1.7) Adoption of the United Nations Convention on the Law of the Sea (UNCLOS)"},{"$f":"INDEX(tblIndicators!$D$2:$D$75,$B65)","v":2},{"$f":"INDEX(tblIndicators!$X$2:$X$75,$B65)","v":100},null,null,null,null,null,null,null,null,"LAND_3","LAND_3"]
["PLCAP_7_1",19,{"$f":"INDEX(tblIndicators!$AE$2:$AE$75,$B66)","v":"1.7.1) Adoption of UNCLOS"},{"$f":"INDEX(tblIndicators!$D$2:$D$75,$B66)","v":3},{"$f":"INDEX(tblIndicators!$X$2:$X$75,$B66)","v":2},null,null,null,null,null,null,null,null,"LAND_3_1","LAND_3_1"]
["BUSENV",20,{"$f":"INDEX(tblIndicators!$AE$2:$AE$75,$B67)","v":"2) BUSINESS ENVIRONMENT FOR COASTAL ACTIVITIES"},{"$f":"INDEX(tblIndicators!$D$2:$D$75,$B67)","v":1},{"$f":"INDEX(tblIndicators!$X$2:$X$75,$B67)","v":100},null,null,null,null,null,null,null,null,"LAND_3_2","LAND_3_2"]
["BUSENV_1",21,{"$f":"INDEX(tblIndicators!$AE$2:$AE$75,$B68)","v":"2.1) Ease of doing business"},{"$f":"INDEX(tblIndicators!$D$2:$D$75,$B68)","v":2},{"$f":"INDEX(tblIndicators!$X$2:$X$75,$B68)","v":100},null,null,null,null,null,null,null,null,"LAND_4","LAND_4"]
["BUSENV_1_1",22,{"$f":"INDEX(tblIndicators!$AE$2:$AE$75,$B69)","v":"2.1.1) Business environment"},{"$f":"INDEX(tblIndicators!$D$2:$D$75,$B69)","v":3},{"$f":"INDEX(tblIndicators!$X$2:$X$75,$B69)","v":9},null,null,null,null,null,null,null,null,"LAND_4_1","LAND_4_1"]
["BUSENV_2",23,{"$f":"INDEX(tblIndicators!$AE$2:$AE$75,$B70)","v":"2.2) Corruption perception"},{"$f":"INDEX(tblIndicators!$D$2:$D$75,$B70)","v":2},{"$f":"INDEX(tblIndicators!$X$2:$X$75,$B70)","v":100},null,null,null,null,null,null,null,null,"LAND_5","LAND_5"]
["BUSENV_2_1",24,{"$f":"INDEX(tblIndicators!$AE$2:$AE$75,$B71)","v":"2.2.1) Control of corruption"},{"$f":"INDEX(tblIndicators!$D$2:$D$75,$B71)","v":3},{"$f":"INDEX(tblIndicators!$X$2:$X$75,$B71)","v":100},null,null,null,null,null,null,null,null,"LAND_5_1","LAND_5_1"]
["BUSENV_3",25,{"$f":"INDEX(tblIndicators!$AE$2:$AE$75,$B72)","v":"2.3) Effectiveness of dispute resolution mechanisms"},{"$f":"INDEX(tblIndicators!$D$2:$D$75,$B72)","v":2},{"$f":"INDEX(tblIndicators!$X$2:$X$75,$B72)","v":100},null,null,null,null,null,null,null,null,"LIVRES","LIVRES"]
["BUSENV_3_1",26,{"$f":"INDEX(tblIndicators!$AE$2:$AE$75,$B73)","v":"2.3.1) Fairness of judicial process"},{"$f":"INDEX(tblIndicators!$D$2:$D$75,$B73)","v":3},{"$f":"INDEX(tblIndicators!$X$2:$X$75,$B73)","v":4},null,null,null,null,null,null,null,null,"LIVRES_1","LIVRES_1"]
["BUSENV_3_2",27,{"$f":"INDEX(tblIndicators!$AE$2:$AE$75,$B74)","v":"2.3.2) Enforceability of contracts"},{"$f":"INDEX(tblIndicators!$D$2:$D$75,$B74)","v":3},{"$f":"INDEX(tblIndicators!$X$2:$X$75,$B74)","v":4},null,null,null,null,null,null,null,null,"LIVRES_1_1","LIVRES_1_1"]
["BUSENV_4",28,{"$f":"INDEX(tblIndicators!$AE$2:$AE$75,$B75)","v":"2.4) Quality of coastal infrastructure"},{"$f":"INDEX(tblIndicators!$D$2:$D$75,$B75)","v":2},{"$f":"INDEX(tblIndicators!$X$2:$X$75,$B75)","v":100},null,null,null,null,null,null,null,null,"LIVRES_2","LIVRES_2"]
["BUSENV_4_1",29,{"$f":"INDEX(tblIndicators!$AE$2:$AE$75,$B76)","v":"2.4.1) Quality of port facilities"},{"$f":"INDEX(tblIndicators!$D$2:$D$75,$B76)","v":3},{"$f":"INDEX(tblIndicators!$X$2:$X$75,$B76)","v":6},null,null,null,null,null,null,null,null,"LIVRES_2_1","LIVRES_2_1"]
["BUSENV_4_2",30,{"$f":"INDEX(tblIndicators!$AE$2:$AE$75,$B77)","v":"2.4.2) Quality of electricity supply"},{"$f":"INDEX(tblIndicators!$D$2:$D$75,$B77)","v":3},{"$f":"INDEX(tblIndicators!$X$2:$X$75,$B77)","v":6},null,null,null,null,null,null,null,null,"LIVRES_2_2","LIVRES_2_2"]
["BUSENV_4_3",31,{"$f":"INDEX(tblIndicators!$AE$2:$AE$75,$B78)","v":"2.4.3) Quality of road infrastructure"},{"$f":"INDEX(tblIndicators!$D$2:$D$75,$B78)","v":3},{"$f":"INDEX(tblIndicators!$X$2:$X$75,$B78)","v":6},null,null,null,null,null,null,null,null,"LIVRES_3","LIVRES_3"]
["BUSENV_4_4",32,{"$f":"INDEX(tblIndicators!$AE$2:$AE$75,$B79)","v":"2.4.4) Quality of railroad infrastructure"},{"$f":"INDEX(tblIndicators!$D$2:$D$75,$B79)","v":3},{"$f":"INDEX(tblIndicators!$X$2:$X$75,$B79)","v":6},null,null,null,null,null,null,null,null,"LIVRES_3_1","LIVRES_3_1"]
["BUSENV_4_5",{"$f":"MATCH(A80,lu_indicode,0)","v":33},{"$f":"INDEX(tblIndicators!$AE$2:$AE$75,$B80)","v":"2.4.5) Quality of water infrastructure"},{"$f":"INDEX(tblIndicators!$D$2:$D$75,$B80)","v":3},{"$f":"INDEX(tblIndicators!$X$2:$X$75,$B80)","v":100}]
["WATQUAL",34,{"$f":"INDEX(tblIndicators!$AE$2:$AE$75,$B81)","v":"3) WATER QUALITY"},{"$f":"INDEX(tblIndicators!$D$2:$D$75,$B81)","v":1},{"$f":"INDEX(tblIndicators!$X$2:$X$75,$B81)","v":100}]
["WATQUAL_1",35,{"$f":"INDEX(tblIndicators!$AE$2:$AE$75,$B82)","v":"3.1) Agency"},{"$f":"INDEX(tblIndicators!$D$2:$D$75,$B82)","v":2},{"$f":"INDEX(tblIndicators!$X$2:$X$75,$B82)","v":100}]
["WATQUAL_1_1",36,{"$f":"INDEX(tblIndicators!$AE$2:$AE$75,$B83)","v":"3.1.1) Agency responsible for freshwater pollution controls"},{"$f":"INDEX(tblIndicators!$D$2:$D$75,$B83)","v":3},{"$f":"INDEX(tblIndicators!$X$2:$X$75,$B83)","v":2}]
["WATQUAL_2",37,{"$f":"INDEX(tblIndicators!$AE$2:$AE$75,$B84)","v":"3.2) Regulatory standards for water pollution"},{"$f":"INDEX(tblIndicators!$D$2:$D$75,$B84)","v":2},{"$f":"INDEX(tblIndicators!$X$2:$X$75,$B84)","v":100}]
["WATQUAL_2_1",38,{"$f":"INDEX(tblIndicators!$AE$2:$AE$75,$B85)","v":"3.2.1) Standards for point source pollution"},{"$f":"INDEX(tblIndicators!$D$2:$D$75,$B85)","v":3},{"$f":"INDEX(tblIndicators!$X$2:$X$75,$B85)","v":1}]
["WATQUAL_2_2",39,{"$f":"INDEX(tblIndicators!$AE$2:$AE$75,$B86)","v":"3.2.2) Restrictions on \"Dirty Dozen\" persistent pollutants"},{"$f":"INDEX(tblIndicators!$D$2:$D$75,$B86)","v":3},{"$f":"INDEX(tblIndicators!$X$2:$X$75,$B86)","v":25}]
["WATQUAL_2_3",40,{"$f":"INDEX(tblIndicators!$AE$2:$AE$75,$B87)","v":"3.2.3) Wastewater treatment"},{"$f":"INDEX(tblIndicators!$D$2:$D$75,$B87)","v":3},{"$f":"INDEX(tblIndicators!$X$2:$X$75,$B87)","v":100}]
["WATQUAL_3",41,{"$f":"INDEX(tblIndicators!$AE$2:$AE$75,$B88)","v":"3.3) Monitoring and enforcement"},{"$f":"INDEX(tblIndicators!$D$2:$D$75,$B88)","v":2},{"$f":"INDEX(tblIndicators!$X$2:$X$75,$B88)","v":100}]
["WATQUAL_3_1",42,{"$f":"INDEX(tblIndicators!$AE$2:$AE$75,$B89)","v":"3.3.1) Coastal water quality data"},{"$f":"INDEX(tblIndicators!$D$2:$D$75,$B89)","v":3},{"$f":"INDEX(tblIndicators!$X$2:$X$75,$B89)","v":3}]
["WATQUAL_3_2",43,{"$f":"INDEX(tblIndicators!$AE$2:$AE$75,$B90)","v":"3.3.2) Penalties for water quality violations "},{"$f":"INDEX(tblIndicators!$D$2:$D$75,$B90)","v":3},{"$f":"INDEX(tblIndicators!$X$2:$X$75,$B90)","v":1}]
["MINENG",44,{"$f":"INDEX(tblIndicators!$AE$2:$AE$75,$B91)","v":"4) MINERALS AND ENERGY"},{"$f":"INDEX(tblIndicators!$D$2:$D$75,$B91)","v":1},{"$f":"INDEX(tblIndicators!$X$2:$X$75,$B91)","v":100}]
["MINENG_1",45,{"$f":"INDEX(tblIndicators!$AE$2:$AE$75,$B92)","v":"4.1) Permitting and licensing"},{"$f":"INDEX(tblIndicators!$D$2:$D$75,$B92)","v":2},{"$f":"INDEX(tblIndicators!$X$2:$X$75,$B92)","v":100}]
["MINENG_1_1",46,{"$f":"INDEX(tblIndicators!$AE$2:$AE$75,$B93)","v":"4.1.1) Oil and gas tenure"},{"$f":"INDEX(tblIndicators!$D$2:$D$75,$B93)","v":3},{"$f":"INDEX(tblIndicators!$X$2:$X$75,$B93)","v":2}]
["MINENG_1_2",47,{"$f":"INDEX(tblIndicators!$AE$2:$AE$75,$B94)","v":"4.1.2) Mining and minerals tenure"},{"$f":"INDEX(tblIndicators!$D$2:$D$75,$B94)","v":3},{"$f":"INDEX(tblIndicators!$X$2:$X$75,$B94)","v":2}]
["MINENG_2",48,{"$f":"INDEX(tblIndicators!$AE$2:$AE$75,$B95)","v":"4.2) Monitoring and enforcement"},{"$f":"INDEX(tblIndicators!$D$2:$D$75,$B95)","v":2},{"$f":"INDEX(tblIndicators!$X$2:$X$75,$B95)","v":100}]
["MINENG_2_1",49,{"$f":"INDEX(tblIndicators!$AE$2:$AE$75,$B96)","v":"4.2.1) Environmental impact assessment for oil and gas"},{"$f":"INDEX(tblIndicators!$D$2:$D$75,$B96)","v":3},{"$f":"INDEX(tblIndicators!$X$2:$X$75,$B96)","v":1}]
["MINENG_2_2",50,{"$f":"INDEX(tblIndicators!$AE$2:$AE$75,$B97)","v":"4.2.2) Environment impact assessment for mining and minerals"},{"$f":"INDEX(tblIndicators!$D$2:$D$75,$B97)","v":3},{"$f":"INDEX(tblIndicators!$X$2:$X$75,$B97)","v":1}]
["MINENG_2_3",51,{"$f":"INDEX(tblIndicators!$AE$2:$AE$75,$B98)","v":"4.2.3) On-site reviews "},{"$f":"INDEX(tblIndicators!$D$2:$D$75,$B98)","v":3},{"$f":"INDEX(tblIndicators!$X$2:$X$75,$B98)","v":1}]
["MINENG_2_4",52,{"$f":"INDEX(tblIndicators!$AE$2:$AE$75,$B99)","v":"4.2.4) Collection of oil spills data"},{"$f":"INDEX(tblIndicators!$D$2:$D$75,$B99)","v":3},{"$f":"INDEX(tblIndicators!$X$2:$X$75,$B99)","v":2}]
["MINENG_3",53,{"$f":"INDEX(tblIndicators!$AE$2:$AE$75,$B100)","v":"4.3) Risk mitigation"},{"$f":"INDEX(tblIndicators!$D$2:$D$75,$B100)","v":2},{"$f":"INDEX(tblIndicators!$X$2:$X$75,$B100)","v":100}]
["MINENG_3_1",54,{"$f":"INDEX(tblIndicators!$AE$2:$AE$75,$B101)","v":"4.3.1) Adoption of the OPRC "},{"$f":"INDEX(tblIndicators!$D$2:$D$75,$B101)","v":3},{"$f":"INDEX(tblIndicators!$X$2:$X$75,$B101)","v":2}]
["MINENG_3_2",55,{"$f":"INDEX(tblIndicators!$AE$2:$AE$75,$B102)","v":"4.3.2) Emergency plan "},{"$f":"INDEX(tblIndicators!$D$2:$D$75,$B102)","v":3},{"$f":"INDEX(tblIndicators!$X$2:$X$75,$B102)","v":1}]
["MINENG_3_3",56,{"$f":"INDEX(tblIndicators!$AE$2:$AE$75,$B103)","v":"4.3.3) Off-limit areas "},{"$f":"INDEX(tblIndicators!$D$2:$D$75,$B103)","v":3},{"$f":"INDEX(tblIndicators!$X$2:$X$75,$B103)","v":1}]
["LAND",57,{"$f":"INDEX(tblIndicators!$AE$2:$AE$75,$B104)","v":"5) LAND"},{"$f":"INDEX(tblIndicators!$D$2:$D$75,$B104)","v":1},{"$f":"INDEX(tblIndicators!$X$2:$X$75,$B104)","v":100}]
["LAND_1",58,{"$f":"INDEX(tblIndicators!$AE$2:$AE$75,$B105)","v":"5.1) Prevalence of coastal protected areas"},{"$f":"INDEX(tblIndicators!$D$2:$D$75,$B105)","v":2},{"$f":"INDEX(tblIndicators!$X$2:$X$75,$B105)","v":100}]
["LAND_1_1",59,{"$f":"INDEX(tblIndicators!$AE$2:$AE$75,$B106)","v":"5.1.1) Terrestrial protected areas"},{"$f":"INDEX(tblIndicators!$D$2:$D$75,$B106)","v":3},{"$f":"INDEX(tblIndicators!$X$2:$X$75,$B106)","v":2}]
["LAND_2",60,{"$f":"INDEX(tblIndicators!$AE$2:$AE$75,$B107)","v":"5.2) Environmental impact of coastal development"},{"$f":"INDEX(tblIndicators!$D$2:$D$75,$B107)","v":2},{"$f":"INDEX(tblIndicators!$X$2:$X$75,$B107)","v":100}]
["LAND_2_1",61,{"$f":"INDEX(tblIndicators!$AE$2:$AE$75,$B108)","v":"5.2.1) Environment impact assessment for coastal development "},{"$f":"INDEX(tblIndicators!$D$2:$D$75,$B108)","v":3},{"$f":"INDEX(tblIndicators!$X$2:$X$75,$B108)","v":1}]
["LAND_2_2",62,{"$f":"INDEX(tblIndicators!$AE$2:$AE$75,$B109)","v":"5.2.2) On-site reviews "},{"$f":"INDEX(tblIndicators!$D$2:$D$75,$B109)","v":3},{"$f":"INDEX(tblIndicators!$X$2:$X$75,$B109)","v":1}]
["LAND_3",63,{"$f":"INDEX(tblIndicators!$AE$2:$AE$75,$B110)","v":"5.3) Government commitment to sustainability in coastal tourism development"},{"$f":"INDEX(tblIndicators!$D$2:$D$75,$B110)","v":2},{"$f":"INDEX(tblIndicators!$X$2:$X$75,$B110)","v":100}]
["LAND_3_1",{"$f":"MATCH(A111,lu_indicode,0)","v":64},{"$f":"INDEX(tblIndicators!$AE$2:$AE$75,$B111)","v":"5.3.1) Sustainability of tourism"},{"$f":"INDEX(tblIndicators!$D$2:$D$75,$B111)","v":3},{"$f":"INDEX(tblIndicators!$X$2:$X$75,$B111)","v":6}]
["LAND_4",65,{"$f":"INDEX(tblIndicators!$AE$2:$AE$75,$B112)","v":"5.4) Natural disaster risk mitigation"},{"$f":"INDEX(tblIndicators!$D$2:$D$75,$B112)","v":2},{"$f":"INDEX(tblIndicators!$X$2:$X$75,$B112)","v":100}]
["LAND_4_1",66,{"$f":"INDEX(tblIndicators!$AE$2:$AE$75,$B113)","v":"5.4.1) Strategy for risk mitigation "},{"$f":"INDEX(tblIndicators!$D$2:$D$75,$B113)","v":3},{"$f":"INDEX(tblIndicators!$X$2:$X$75,$B113)","v":1}]
["LIVRES",67,{"$f":"INDEX(tblIndicators!$AE$2:$AE$75,$B114)","v":"6) LIVING RESOURCES"},{"$f":"INDEX(tblIndicators!$D$2:$D$75,$B114)","v":1},{"$f":"INDEX(tblIndicators!$X$2:$X$75,$B114)","v":100}]
["LIVRES_1",68,{"$f":"INDEX(tblIndicators!$AE$2:$AE$75,$B115)","v":"6.1) Fisheries governance and management effectiveness"},{"$f":"INDEX(tblIndicators!$D$2:$D$75,$B115)","v":2},{"$f":"INDEX(tblIndicators!$X$2:$X$75,$B115)","v":100}]
["LIVRES_1_1",69,{"$f":"INDEX(tblIndicators!$AE$2:$AE$75,$B116)","v":"6.1.1) Fisheries governance and management effectiveness"},{"$f":"INDEX(tblIndicators!$D$2:$D$75,$B116)","v":3},{"$f":"INDEX(tblIndicators!$X$2:$X$75,$B116)","v":1}]
["LIVRES_2",{"$f":"MATCH(A117,lu_indicode,0)","v":70},{"$f":"INDEX(tblIndicators!$AE$2:$AE$75,$B117)","v":"6.2) Protection for marine/coastal species"},{"$f":"INDEX(tblIndicators!$D$2:$D$75,$B117)","v":2},{"$f":"INDEX(tblIndicators!$X$2:$X$75,$B117)","v":100}]
["LIVRES_2_1",71,{"$f":"INDEX(tblIndicators!$AE$2:$AE$75,$B118)","v":"6.2.1) Protection of threatened species and populations "},{"$f":"INDEX(tblIndicators!$D$2:$D$75,$B118)","v":3},{"$f":"INDEX(tblIndicators!$X$2:$X$75,$B118)","v":1}]
["LIVRES_2_2",{"$f":"MATCH(A119,lu_indicode,0)","v":72},{"$f":"INDEX(tblIndicators!$AE$2:$AE$75,$B119)","v":"6.2.2) Prevalence of marine protected areas"},{"$f":"INDEX(tblIndicators!$D$2:$D$75,$B119)","v":3},{"$f":"INDEX(tblIndicators!$X$2:$X$75,$B119)","v":2}]
["LIVRES_3",73,{"$f":"INDEX(tblIndicators!$AE$2:$AE$75,$B120)","v":"6.3) Ballast water treatment"},{"$f":"INDEX(tblIndicators!$D$2:$D$75,$B120)","v":2},{"$f":"INDEX(tblIndicators!$X$2:$X$75,$B120)","v":100}]
["LIVRES_3_1",74,{"$f":"INDEX(tblIndicators!$AE$2:$AE$75,$B121)","v":"6.3.1) Mechanisms to control pathways of introduction "},{"$f":"INDEX(tblIndicators!$D$2:$D$75,$B121)","v":3},{"$f":"INDEX(tblIndicators!$X$2:$X$75,$B121)","v":1}]
[]
[]
[]
[]
[]
["DYNAMIC (BASED ON USER CATEGORY SELECT)",null,null,null,null,null,{"$f":"COUNTA(G129:G206)","v":74},{"$f":"COUNTA(H129:H206)","v":18},{"$f":"COUNTA(I129:I206)","v":14},10,13,10,8]
["CAT_ID",{"$f":"iWorks!$B$46","v":1},null,null,null,null,"ALL"]
[{"$f":"INDEX(G129:M129,$B$128)","v":"OVERALL"},{"$f":"MATCH(A129,lu_indicode,0)","v":1},{"$f":"INDEX(tblIndicators!$AE$2:$AE$75,$B129)","v":"OVERALL SCORE"},{"$f":"INDEX(tblIndicators!$D$2:$D$75,$B129)","v":0},{"$f":"INDEX(tblIndicators!$X$2:$X$75,$B129)","v":100},null,"OVERALL","PLCAP","BUSENV","WATQUAL","MINENG","LAND","LIVRES"]
[{"$f":"INDEX(G130:M130,$B$128)","v":"PLCAP"},{"$f":"MATCH(A130,lu_indicode,0)","v":2},{"$f":"INDEX(tblIndicators!$AE$2:$AE$75,$B130)","v":"1) POLICY AND INSTITUTIONAL CAPACITY"},{"$f":"INDEX(tblIndicators!$D$2:$D$75,$B130)","v":1},{"$f":"INDEX(tblIndicators!$X$2:$X$75,$B130)","v":100},null,"PLCAP","PLCAP_1","BUSENV_1","WATQUAL_1","MINENG_1","LAND_1","LIVRES_1"]
["PLCAP_1",3,{"$f":"INDEX(tblIndicators!$AE$2:$AE$75,$B131)","v":"1.1) Coastal management policy and strategy"},{"$f":"INDEX(tblIndicators!$D$2:$D$75,$B131)","v":2},{"$f":"INDEX(tblIndicators!$X$2:$X$75,$B131)","v":100},null,"PLCAP_1","PLCAP_1_1","BUSENV_1_1","WATQUAL_1_1","MINENG_1_1","LAND_1_1","LIVRES_1_1"]
["PLCAP_1_1",4,{"$f":"INDEX(tblIndicators!$AE$2:$AE$75,$B132)","v":"1.1.1) Coastal management policy"},{"$f":"INDEX(tblIndicators!$D$2:$D$75,$B132)","v":3},{"$f":"INDEX(tblIndicators!$X$2:$X$75,$B132)","v":1},null,"PLCAP_1_1","PLCAP_1_2","BUSENV_2","WATQUAL_2","MINENG_1_2","LAND_2","LIVRES_2"]
["PLCAP_1_2",5,{"$f":"INDEX(tblIndicators!$AE$2:$AE$75,$B133)","v":"1.1.2) Coastal management strategy"},{"$f":"INDEX(tblIndicators!$D$2:$D$75,$B133)","v":3},{"$f":"INDEX(tblIndicators!$X$2:$X$75,$B133)","v":2},null,"PLCAP_1_2","PLCAP_2","BUSENV_2_1","WATQUAL_2_1","MINENG_2","LAND_2_1","LIVRES_2_1"]
["PLCAP_2",6,{"$f":"INDEX(tblIndicators!$AE$2:$AE$75,$B134)","v":"1.2) Presence of established institution(s)"},{"$f":"INDEX(tblIndicators!$D$2:$D$75,$B134)","v":2},{"$f":"INDEX(tblIndicators!$X$2:$X$75,$B134)","v":100},null,"PLCAP_2","PLCAP_2_1","BUSENV_3","WATQUAL_2_2","MINENG_2_1","LAND_2_2","LIVRES_2_2"]
["PLCAP_2_1",7,{"$f":"INDEX(tblIndicators!$AE$2:$AE$75,$B135)","v":"1.2.1) Presence of coastal management strategy authority"},{"$f":"INDEX(tblIndicators!$D$2:$D$75,$B135)","v":3},{"$f":"INDEX(tblIndicators!$X$2:$X$75,$B135)","v":2},null,"PLCAP_2_1","PLCAP_3","BUSENV_3_1","WATQUAL_2_3","MINENG_2_2","LAND_3","LIVRES_3"]
["PLCAP_3",8,{"$f":"INDEX(tblIndicators!$AE$2:$AE$75,$B136)","v":"1.3) National strategy to adapt to climate change"},{"$f":"INDEX(tblIndicators!$D$2:$D$75,$B136)","v":2},{"$f":"INDEX(tblIndicators!$X$2:$X$75,$B136)","v":100},null,"PLCAP_3","PLCAP_3_1","BUSENV_3_2","WATQUAL_3","MINENG_2_3","LAND_3_1","LIVRES_3_1"]
["PLCAP_3_1",9,{"$f":"INDEX(tblIndicators!$AE$2:$AE$75,$B137)","v":"1.3.1) Strategy to adapt coastal areas to climate change"},{"$f":"INDEX(tblIndicators!$D$2:$D$75,$B137)","v":3},{"$f":"INDEX(tblIndicators!$X$2:$X$75,$B137)","v":2},null,"PLCAP_3_1","PLCAP_4","BUSENV_4","WATQUAL_3_1","MINENG_2_4","LAND_4"]
["PLCAP_4",10,{"$f":"INDEX(tblIndicators!$AE$2:$AE$75,$B138)","v":"1.4) Maritime Spatial Planning"},{"$f":"INDEX(tblIndicators!$D$2:$D$75,$B138)","v":2},{"$f":"INDEX(tblIndicators!$X$2:$X$75,$B138)","v":100},null,"PLCAP_4","PLCAP_4_1","BUSENV_4_1","WATQUAL_3_2","MINENG_3","LAND_4_1"]
["PLCAP_4_1",11,{"$f":"INDEX(tblIndicators!$AE$2:$AE$75,$B139)","v":"1.4.1) Legal basis for maritime spatial planning"},{"$f":"INDEX(tblIndicators!$D$2:$D$75,$B139)","v":3},{"$f":"INDEX(tblIndicators!$X$2:$X$75,$B139)","v":2},null,"PLCAP_4_1","PLCAP_4_2","BUSENV_4_2",null,"MINENG_3_1"]
["PLCAP_4_2",12,{"$f":"INDEX(tblIndicators!$AE$2:$AE$75,$B140)","v":"1.4.2) Institution for maritime spatial planning"},{"$f":"INDEX(tblIndicators!$D$2:$D$75,$B140)","v":3},{"$f":"INDEX(tblIndicators!$X$2:$X$75,$B140)","v":2},null,"PLCAP_4_2","PLCAP_5","BUSENV_4_3",null,"MINENG_3_2"]
["PLCAP_5",13,{"$f":"INDEX(tblIndicators!$AE$2:$AE$75,$B141)","v":"1.5) Stakeholder engagement"},{"$f":"INDEX(tblIndicators!$D$2:$D$75,$B141)","v":2},{"$f":"INDEX(tblIndicators!$X$2:$X$75,$B141)","v":100},null,"PLCAP_5","PLCAP_5_1","BUSENV_4_4",null,"MINENG_3_3"]
["PLCAP_5_1",14,{"$f":"INDEX(tblIndicators!$AE$2:$AE$75,$B142)","v":"1.5.1) Grievance redress"},{"$f":"INDEX(tblIndicators!$D$2:$D$75,$B142)","v":3},{"$f":"INDEX(tblIndicators!$X$2:$X$75,$B142)","v":2},null,"PLCAP_5_1","PLCAP_5_2","BUSENV_4_5"]
["PLCAP_5_2",15,{"$f":"INDEX(tblIndicators!$AE$2:$AE$75,$B143)","v":"1.5.2) Multi-stakeholder engagement"},{"$f":"INDEX(tblIndicators!$D$2:$D$75,$B143)","v":3},{"$f":"INDEX(tblIndicators!$X$2:$X$75,$B143)","v":1},null,"PLCAP_5_2","PLCAP_6"]
["PLCAP_6",16,{"$f":"INDEX(tblIndicators!$AE$2:$AE$75,$B144)","v":"1.6) Extractive industries transparency"},{"$f":"INDEX(tblIndicators!$D$2:$D$75,$B144)","v":2},{"$f":"INDEX(tblIndicators!$X$2:$X$75,$B144)","v":100},null,"PLCAP_6","PLCAP_6_1"]
["PLCAP_6_1",17,{"$f":"INDEX(tblIndicators!$AE$2:$AE$75,$B145)","v":"1.6.1) Adoption of EITI standards"},{"$f":"INDEX(tblIndicators!$D$2:$D$75,$B145)","v":3},{"$f":"INDEX(tblIndicators!$X$2:$X$75,$B145)","v":3},null,"PLCAP_6_1","PLCAP_7"]
["PLCAP_7",18,{"$f":"INDEX(tblIndicators!$AE$2:$AE$75,$B146)","v":"1.7) Adoption of the United Nations Convention on the Law of the Sea (UNCLOS)"},{"$f":"INDEX(tblIndicators!$D$2:$D$75,$B146)","v":2},{"$f":"INDEX(tblIndicators!$X$2:$X$75,$B146)","v":100},null,"PLCAP_7","PLCAP_7_1"]
["PLCAP_7_1",19,{"$f":"INDEX(tblIndicators!$AE$2:$AE$75,$B147)","v":"1.7.1) Adoption of UNCLOS"},{"$f":"INDEX(tblIndicators!$D$2:$D$75,$B147)","v":3},{"$f":"INDEX(tblIndicators!$X$2:$X$75,$B147)","v":2},null,"PLCAP_7_1"]
["BUSENV",20,{"$f":"INDEX(tblIndicators!$AE$2:$AE$75,$B148)","v":"2) BUSINESS ENVIRONMENT FOR COASTAL ACTIVITIES"},{"$f":"INDEX(tblIndicators!$D$2:$D$75,$B148)","v":1},{"$f":"INDEX(tblIndicators!$X$2:$X$75,$B148)","v":100},null,"BUSENV"]
["BUSENV_1",21,{"$f":"INDEX(tblIndicators!$AE$2:$AE$75,$B149)","v":"2.1) Ease of doing business"},{"$f":"INDEX(tblIndicators!$D$2:$D$75,$B149)","v":2},{"$f":"INDEX(tblIndicators!$X$2:$X$75,$B149)","v":100},null,"BUSENV_1"]
["BUSENV_1_1",22,{"$f":"INDEX(tblIndicators!$AE$2:$AE$75,$B150)","v":"2.1.1) Business environment"},{"$f":"INDEX(tblIndicators!$D$2:$D$75,$B150)","v":3},{"$f":"INDEX(tblIndicators!$X$2:$X$75,$B150)","v":9},null,"BUSENV_1_1"]
["BUSENV_2",23,{"$f":"INDEX(tblIndicators!$AE$2:$AE$75,$B151)","v":"2.2) Corruption perception"},{"$f":"INDEX(tblIndicators!$D$2:$D$75,$B151)","v":2},{"$f":"INDEX(tblIndicators!$X$2:$X$75,$B151)","v":100},null,"BUSENV_2"]
["BUSENV_2_1",24,{"$f":"INDEX(tblIndicators!$AE$2:$AE$75,$B152)","v":"2.2.1) Control of corruption"},{"$f":"INDEX(tblIndicators!$D$2:$D$75,$B152)","v":3},{"$f":"INDEX(tblIndicators!$X$2:$X$75,$B152)","v":100},null,"BUSENV_2_1"]
["BUSENV_3",25,{"$f":"INDEX(tblIndicators!$AE$2:$AE$75,$B153)","v":"2.3) Effectiveness of dispute resolution mechanisms"},{"$f":"INDEX(tblIndicators!$D$2:$D$75,$B153)","v":2},{"$f":"INDEX(tblIndicators!$X$2:$X$75,$B153)","v":100},null,"BUSENV_3"]
["BUSENV_3_1",26,{"$f":"INDEX(tblIndicators!$AE$2:$AE$75,$B154)","v":"2.3.1) Fairness of judicial process"},{"$f":"INDEX(tblIndicators!$D$2:$D$75,$B154)","v":3},{"$f":"INDEX(tblIndicators!$X$2:$X$75,$B154)","v":4},null,"BUSENV_3_1"]
["BUSENV_3_2",27,{"$f":"INDEX(tblIndicators!$AE$2:$AE$75,$B155)","v":"2.3.2) Enforceability of contracts"},{"$f":"INDEX(tblIndicators!$D$2:$D$75,$B155)","v":3},{"$f":"INDEX(tblIndicators!$X$2:$X$75,$B155)","v":4},null,"BUSENV_3_2"]
["BUSENV_4",28,{"$f":"INDEX(tblIndicators!$AE$2:$AE$75,$B156)","v":"2.4) Quality of coastal infrastructure"},{"$f":"INDEX(tblIndicators!$D$2:$D$75,$B156)","v":2},{"$f":"INDEX(tblIndicators!$X$2:$X$75,$B156)","v":100},null,"BUSENV_4"]
["BUSENV_4_1",29,{"$f":"INDEX(tblIndicators!$AE$2:$AE$75,$B157)","v":"2.4.1) Quality of port facilities"},{"$f":"INDEX(tblIndicators!$D$2:$D$75,$B157)","v":3},{"$f":"INDEX(tblIndicators!$X$2:$X$75,$B157)","v":6},null,"BUSENV_4_1"]
["BUSENV_4_2",30,{"$f":"INDEX(tblIndicators!$AE$2:$AE$75,$B158)","v":"2.4.2) Quality of electricity supply"},{"$f":"INDEX(tblIndicators!$D$2:$D$75,$B158)","v":3},{"$f":"INDEX(tblIndicators!$X$2:$X$75,$B158)","v":6},null,"BUSENV_4_2"]
["BUSENV_4_3",31,{"$f":"INDEX(tblIndicators!$AE$2:$AE$75,$B159)","v":"2.4.3) Quality of road infrastructure"},{"$f":"INDEX(tblIndicators!$D$2:$D$75,$B159)","v":3},{"$f":"INDEX(tblIndicators!$X$2:$X$75,$B159)","v":6},null,"BUSENV_4_3"]
["BUSENV_4_4",32,{"$f":"INDEX(tblIndicators!$AE$2:$AE$75,$B160)","v":"2.4.4) Quality of railroad infrastructure"},{"$f":"INDEX(tblIndicators!$D$2:$D$75,$B160)","v":3},{"$f":"INDEX(tblIndicators!$X$2:$X$75,$B160)","v":6},null,"BUSENV_4_4"]
["BUSENV_4_5",33,{"$f":"INDEX(tblIndicators!$AE$2:$AE$75,$B161)","v":"2.4.5) Quality of water infrastructure"},{"$f":"INDEX(tblIndicators!$D$2:$D$75,$B161)","v":3},{"$f":"INDEX(tblIndicators!$X$2:$X$75,$B161)","v":100},null,"BUSENV_4_5"]
["WATQUAL",34,{"$f":"INDEX(tblIndicators!$AE$2:$AE$75,$B162)","v":"3) WATER QUALITY"},{"$f":"INDEX(tblIndicators!$D$2:$D$75,$B162)","v":1},{"$f":"INDEX(tblIndicators!$X$2:$X$75,$B162)","v":100},null,"WATQUAL"]
["WATQUAL_1",35,{"$f":"INDEX(tblIndicators!$AE$2:$AE$75,$B163)","v":"3.1) Agency"},{"$f":"INDEX(tblIndicators!$D$2:$D$75,$B163)","v":2},{"$f":"INDEX(tblIndicators!$X$2:$X$75,$B163)","v":100},null,"WATQUAL_1"]
["WATQUAL_1_1",36,{"$f":"INDEX(tblIndicators!$AE$2:$AE$75,$B164)","v":"3.1.1) Agency responsible for freshwater pollution controls"},{"$f":"INDEX(tblIndicators!$D$2:$D$75,$B164)","v":3},{"$f":"INDEX(tblIndicators!$X$2:$X$75,$B164)","v":2},null,"WATQUAL_1_1"]
["WATQUAL_2",37,{"$f":"INDEX(tblIndicators!$AE$2:$AE$75,$B165)","v":"3.2) Regulatory standards for water pollution"},{"$f":"INDEX(tblIndicators!$D$2:$D$75,$B165)","v":2},{"$f":"INDEX(tblIndicators!$X$2:$X$75,$B165)","v":100},null,"WATQUAL_2"]
["WATQUAL_2_1",38,{"$f":"INDEX(tblIndicators!$AE$2:$AE$75,$B166)","v":"3.2.1) Standards for point source pollution"},{"$f":"INDEX(tblIndicators!$D$2:$D$75,$B166)","v":3},{"$f":"INDEX(tblIndicators!$X$2:$X$75,$B166)","v":1},null,"WATQUAL_2_1"]
["WATQUAL_2_2",39,{"$f":"INDEX(tblIndicators!$AE$2:$AE$75,$B167)","v":"3.2.2) Restrictions on \"Dirty Dozen\" persistent pollutants"},{"$f":"INDEX(tblIndicators!$D$2:$D$75,$B167)","v":3},{"$f":"INDEX(tblIndicators!$X$2:$X$75,$B167)","v":25},null,"WATQUAL_2_2"]
["WATQUAL_2_3",40,{"$f":"INDEX(tblIndicators!$AE$2:$AE$75,$B168)","v":"3.2.3) Wastewater treatment"},{"$f":"INDEX(tblIndicators!$D$2:$D$75,$B168)","v":3},{"$f":"INDEX(tblIndicators!$X$2:$X$75,$B168)","v":100},null,"WATQUAL_2_3"]
["WATQUAL_3",41,{"$f":"INDEX(tblIndicators!$AE$2:$AE$75,$B169)","v":"3.3) Monitoring and enforcement"},{"$f":"INDEX(tblIndicators!$D$2:$D$75,$B169)","v":2},{"$f":"INDEX(tblIndicators!$X$2:$X$75,$B169)","v":100},null,"WATQUAL_3"]
["WATQUAL_3_1",42,{"$f":"INDEX(tblIndicators!$AE$2:$AE$75,$B170)","v":"3.3.1) Coastal water quality data"},{"$f":"INDEX(tblIndicators!$D$2:$D$75,$B170)","v":3},{"$f":"INDEX(tblIndicators!$X$2:$X$75,$B170)","v":3},null,"WATQUAL_3_1"]
["WATQUAL_3_2",43,{"$f":"INDEX(tblIndicators!$AE$2:$AE$75,$B171)","v":"3.3.2) Penalties for water quality violations "},{"$f":"INDEX(tblIndicators!$D$2:$D$75,$B171)","v":3},{"$f":"INDEX(tblIndicators!$X$2:$X$75,$B171)","v":1},null,"WATQUAL_3_2"]
["MINENG",44,{"$f":"INDEX(tblIndicators!$AE$2:$AE$75,$B172)","v":"4) MINERALS AND ENERGY"},{"$f":"INDEX(tblIndicators!$D$2:$D$75,$B172)","v":1},{"$f":"INDEX(tblIndicators!$X$2:$X$75,$B172)","v":100},null,"MINENG"]
["MINENG_1",45,{"$f":"INDEX(tblIndicators!$AE$2:$AE$75,$B173)","v":"4.1) Permitting and licensing"},{"$f":"INDEX(tblIndicators!$D$2:$D$75,$B173)","v":2},{"$f":"INDEX(tblIndicators!$X$2:$X$75,$B173)","v":100},null,"MINENG_1"]
["MINENG_1_1",46,{"$f":"INDEX(tblIndicators!$AE$2:$AE$75,$B174)","v":"4.1.1) Oil and gas tenure"},{"$f":"INDEX(tblIndicators!$D$2:$D$75,$B174)","v":3},{"$f":"INDEX(tblIndicators!$X$2:$X$75,$B174)","v":2},null,"MINENG_1_1"]
["MINENG_1_2",47,{"$f":"INDEX(tblIndicators!$AE$2:$AE$75,$B175)","v":"4.1.2) Mining and minerals tenure"},{"$f":"INDEX(tblIndicators!$D$2:$D$75,$B175)","v":3},{"$f":"INDEX(tblIndicators!$X$2:$X$75,$B175)","v":2},null,"MINENG_1_2"]
["MINENG_2",48,{"$f":"INDEX(tblIndicators!$AE$2:$AE$75,$B176)","v":"4.2) Monitoring and enforcement"},{"$f":"INDEX(tblIndicators!$D$2:$D$75,$B176)","v":2},{"$f":"INDEX(tblIndicators!$X$2:$X$75,$B176)","v":100},null,"MINENG_2"]
["MINENG_2_1",49,{"$f":"INDEX(tblIndicators!$AE$2:$AE$75,$B177)","v":"4.2.1) Environmental impact assessment for oil and gas"},{"$f":"INDEX(tblIndicators!$D$2:$D$75,$B177)","v":3},{"$f":"INDEX(tblIndicators!$X$2:$X$75,$B177)","v":1},null,"MINENG_2_1"]
["MINENG_2_2",50,{"$f":"INDEX(tblIndicators!$AE$2:$AE$75,$B178)","v":"4.2.2) Environment impact assessment for mining and minerals"},{"$f":"INDEX(tblIndicators!$D$2:$D$75,$B178)","v":3},{"$f":"INDEX(tblIndicators!$X$2:$X$75,$B178)","v":1},null,"MINENG_2_2"]
["MINENG_2_3",51,{"$f":"INDEX(tblIndicators!$AE$2:$AE$75,$B179)","v":"4.2.3) On-site reviews "},{"$f":"INDEX(tblIndicators!$D$2:$D$75,$B179)","v":3},{"$f":"INDEX(tblIndicators!$X$2:$X$75,$B179)","v":1},null,"MINENG_2_3"]
["MINENG_2_4",52,{"$f":"INDEX(tblIndicators!$AE$2:$AE$75,$B180)","v":"4.2.4) Collection of oil spills data"},{"$f":"INDEX(tblIndicators!$D$2:$D$75,$B180)","v":3},{"$f":"INDEX(tblIndicators!$X$2:$X$75,$B180)","v":2},null,"MINENG_2_4"]
["MINENG_3",53,{"$f":"INDEX(tblIndicators!$AE$2:$AE$75,$B181)","v":"4.3) Risk mitigation"},{"$f":"INDEX(tblIndicators!$D$2:$D$75,$B181)","v":2},{"$f":"INDEX(tblIndicators!$X$2:$X$75,$B181)","v":100},null,"MINENG_3"]
["MINENG_3_1",54,{"$f":"INDEX(tblIndicators!$AE$2:$AE$75,$B182)","v":"4.3.1) Adoption of the OPRC "},{"$f":"INDEX(tblIndicators!$D$2:$D$75,$B182)","v":3},{"$f":"INDEX(tblIndicators!$X$2:$X$75,$B182)","v":2},null,"MINENG_3_1"]
["MINENG_3_2",55,{"$f":"INDEX(tblIndicators!$AE$2:$AE$75,$B183)","v":"4.3.2) Emergency plan "},{"$f":"INDEX(tblIndicators!$D$2:$D$75,$B183)","v":3},{"$f":"INDEX(tblIndicators!$X$2:$X$75,$B183)","v":1},null,"MINENG_3_2"]
["MINENG_3_3",56,{"$f":"INDEX(tblIndicators!$AE$2:$AE$75,$B184)","v":"4.3.3) Off-limit areas "},{"$f":"INDEX(tblIndicators!$D$2:$D$75,$B184)","v":3},{"$f":"INDEX(tblIndicators!$X$2:$X$75,$B184)","v":1},null,"MINENG_3_3"]
["LAND",57,{"$f":"INDEX(tblIndicators!$AE$2:$AE$75,$B185)","v":"5) LAND"},{"$f":"INDEX(tblIndicators!$D$2:$D$75,$B185)","v":1},{"$f":"INDEX(tblIndicators!$X$2:$X$75,$B185)","v":100},null,"LAND"]
["LAND_1",58,{"$f":"INDEX(tblIndicators!$AE$2:$AE$75,$B186)","v":"5.1) Prevalence of coastal protected areas"},{"$f":"INDEX(tblIndicators!$D$2:$D$75,$B186)","v":2},{"$f":"INDEX(tblIndicators!$X$2:$X$75,$B186)","v":100},null,"LAND_1"]
["LAND_1_1",59,{"$f":"INDEX(tblIndicators!$AE$2:$AE$75,$B187)","v":"5.1.1) Terrestrial protected areas"},{"$f":"INDEX(tblIndicators!$D$2:$D$75,$B187)","v":3},{"$f":"INDEX(tblIndicators!$X$2:$X$75,$B187)","v":2},null,"LAND_1_1"]
["LAND_2",60,{"$f":"INDEX(tblIndicators!$AE$2:$AE$75,$B188)","v":"5.2) Environmental impact of coastal development"},{"$f":"INDEX(tblIndicators!$D$2:$D$75,$B188)","v":2},{"$f":"INDEX(tblIndicators!$X$2:$X$75,$B188)","v":100},null,"LAND_2"]
["LAND_2_1",61,{"$f":"INDEX(tblIndicators!$AE$2:$AE$75,$B189)","v":"5.2.1) Environment impact assessment for coastal development "},{"$f":"INDEX(tblIndicators!$D$2:$D$75,$B189)","v":3},{"$f":"INDEX(tblIndicators!$X$2:$X$75,$B189)","v":1},null,"LAND_2_1"]
["LAND_2_2",62,{"$f":"INDEX(tblIndicators!$AE$2:$AE$75,$B190)","v":"5.2.2) On-site reviews "},{"$f":"INDEX(tblIndicators!$D$2:$D$75,$B190)","v":3},{"$f":"INDEX(tblIndicators!$X$2:$X$75,$B190)","v":1},null,"LAND_2_2"]
["LAND_3",63,{"$f":"INDEX(tblIndicators!$AE$2:$AE$75,$B191)","v":"5.3) Government commitment to sustainability in coastal tourism development"},{"$f":"INDEX(tblIndicators!$D$2:$D$75,$B191)","v":2},{"$f":"INDEX(tblIndicators!$X$2:$X$75,$B191)","v":100},null,"LAND_3"]
["LAND_3_1",64,{"$f":"INDEX(tblIndicators!$AE$2:$AE$75,$B192)","v":"5.3.1) Sustainability of tourism"},{"$f":"INDEX(tblIndicators!$D$2:$D$75,$B192)","v":3},{"$f":"INDEX(tblIndicators!$X$2:$X$75,$B192)","v":6},null,"LAND_3_1"]
[{"$f":"INDEX(G193:M193,$B$128)","v":"LAND_4"},{"$f":"MATCH(A193,lu_indicode,0)","v":65},{"$f":"INDEX(tblIndicators!$AE$2:$AE$75,$B193)","v":"5.4) Natural disaster risk mitigation"},{"$f":"INDEX(tblIndicators!$D$2:$D$75,$B193)","v":2},{"$f":"INDEX(tblIndicators!$X$2:$X$75,$B193)","v":100},null,"LAND_4"]
["LAND_4_1",66,{"$f":"INDEX(tblIndicators!$AE$2:$AE$75,$B194)","v":"5.4.1) Strategy for risk mitigation "},{"$f":"INDEX(tblIndicators!$D$2:$D$75,$B194)","v":3},{"$f":"INDEX(tblIndicators!$X$2:$X$75,$B194)","v":1},null,"LAND_4_1"]
["LIVRES",67,{"$f":"INDEX(tblIndicators!$AE$2:$AE$75,$B195)","v":"6) LIVING RESOURCES"},{"$f":"INDEX(tblIndicators!$D$2:$D$75,$B195)","v":1},{"$f":"INDEX(tblIndicators!$X$2:$X$75,$B195)","v":100},null,"LIVRES"]
["LIVRES_1",68,{"$f":"INDEX(tblIndicators!$AE$2:$AE$75,$B196)","v":"6.1) Fisheries governance and management effectiveness"},{"$f":"INDEX(tblIndicators!$D$2:$D$75,$B196)","v":2},{"$f":"INDEX(tblIndicators!$X$2:$X$75,$B196)","v":100},null,"LIVRES_1"]
["LIVRES_1_1",69,{"$f":"INDEX(tblIndicators!$AE$2:$AE$75,$B197)","v":"6.1.1) Fisheries governance and management effectiveness"},{"$f":"INDEX(tblIndicators!$D$2:$D$75,$B197)","v":3},{"$f":"INDEX(tblIndicators!$X$2:$X$75,$B197)","v":1},null,"LIVRES_1_1"]
["LIVRES_2",70,{"$f":"INDEX(tblIndicators!$AE$2:$AE$75,$B198)","v":"6.2) Protection for marine/coastal species"},{"$f":"INDEX(tblIndicators!$D$2:$D$75,$B198)","v":2},{"$f":"INDEX(tblIndicators!$X$2:$X$75,$B198)","v":100},null,"LIVRES_2"]
["LIVRES_2_1",71,{"$f":"INDEX(tblIndicators!$AE$2:$AE$75,$B199)","v":"6.2.1) Protection of threatened species and populations "},{"$f":"INDEX(tblIndicators!$D$2:$D$75,$B199)","v":3},{"$f":"INDEX(tblIndicators!$X$2:$X$75,$B199)","v":1},null,"LIVRES_2_1"]
["LIVRES_2_2",72,{"$f":"INDEX(tblIndicators!$AE$2:$AE$75,$B200)","v":"6.2.2) Prevalence of marine protected areas"},{"$f":"INDEX(tblIndicators!$D$2:$D$75,$B200)","v":3},{"$f":"INDEX(tblIndicators!$X$2:$X$75,$B200)","v":2},null,"LIVRES_2_2"]
["LIVRES_3",73,{"$f":"INDEX(tblIndicators!$AE$2:$AE$75,$B201)","v":"6.3) Ballast water treatment"},{"$f":"INDEX(tblIndicators!$D$2:$D$75,$B201)","v":2},{"$f":"INDEX(tblIndicators!$X$2:$X$75,$B201)","v":100},null,"LIVRES_3"]
["LIVRES_3_1",{"$f":"MATCH(A202,lu_indicode,0)","v":74},{"$f":"INDEX(tblIndicators!$AE$2:$AE$75,$B202)","v":"6.3.1) Mechanisms to control pathways of introduction "},{"$f":"INDEX(tblIndicators!$D$2:$D$75,$B202)","v":3},{"$f":"INDEX(tblIndicators!$X$2:$X$75,$B202)","v":1},null,"LIVRES_3_1"]
[]
[]
["BG",{"$f":"MATCH(A205,tblIndicators!$B$76:$B$80,0)","v":1},{"$f":"INDEX(tblIndicators!$F$76:$F$80,$B205)","v":"BACKGROUND INDICATORS"}]
["BG_01",{"$f":"MATCH(A206,tblIndicators!$B$76:$B$80,0)","v":2},{"$f":"INDEX(tblIndicators!$F$76:$F$80,$B206)","v":"GDP per head (PPP, $, 2014)"}]
["BG_02",{"$f":"MATCH(A207,tblIndicators!$B$76:$B$80,0)","v":3},{"$f":"INDEX(tblIndicators!$F$76:$F$80,$B207)","v":"Environmental Performance Index scores (2014)"}]
["BG_03",{"$f":"MATCH(A208,tblIndicators!$B$76:$B$80,0)","v":4},{"$f":"INDEX(tblIndicators!$F$76:$F$80,$B208)","v":"Human Development Index (2013)"}]
["BG_04",{"$f":"MATCH(A209,tblIndicators!$B$76:$B$80,0)","v":5},{"$f":"INDEX(tblIndicators!$F$76:$F$80,$B209)","v":"Democracy Index (2014)"}]

{"sheet":"iPalette","index":4,"n_rows":20,"n_cols":13,"rows_kept":20,"cut":false,"hidden":true,"merged":[]}
["ColorIndex","R","G","B","Fill","Text","Role"]
[2,0,0,0,null,"Lorem ipsum","Normal Text"]
[1,255,255,255,null,"Lorem ipsum","Background"]
[3,0,176,80,null,"Lorem ipsum","Improved / Top Group"]
[4,255,0,0,null,"Lorem ipsum","Declined / Bottom Group"]
[5,128,128,128,null,"Lorem ipsum","Low impact text"]
[6,138,187,209,null,"Lorem ipsum","Table_Head_Background"]
[7,83,142,213,null,"Lorem ipsum","Navigation_Background",null,null,null,83,142,213]
[8,242,242,242,null,"Lorem ipsum","Option_Background",null,null,null,229,238,243]
[9,252,213,180,null,null,"Table_Data_Row_Secondary Highlight"]
[10,234,233,223,null,"Lorem ipsum","Table_Data_Row_Fill"]
[11,255,153,9,null,"Lorem ipsum","Table_Data_Row_HIGHLIGHT"]
[12,0,51,102,null,null,"OVERALL_TABLE_HEAD"]
[13,138,187,209,null,"Lorem ipsum","CATEGORY_TABLE_HEAD"]
[14,229,242,247,null,null,"GENERAL TABLE HEAD (OR TOP NAV?) - NTI COLOUR"]
[15,85,117,148,null,null,"NTI HEADING/NAV TEXT"]
[16,255,255,0,null,null,"Middle Group"]
[17,220,230,242,null,null,"Subtle shade (range on radar)"]
[18,255,153,9,null,null,"Country_Comp_Country_1"]
[19,83,142,213,null,null,"Country_Comp_Country_2"]

{"sheet":"iRankIndi","index":5,"n_rows":33,"n_cols":131,"rows_kept":33,"cut":false,"hidden":true,"merged":[]}
["INDI_ID",{"$f":"iWorks!$B$49","v":1},null,"Format",{"$f":"iWorks!AA49","v":"#0"}]
["INDI_MAX",{"$f":"iWorks!$B$50","v":100}]
["RANK_BY_ID",1,null,null,null,null,null,null,null,null,null,null,null,null,null,null,null,null,null,null,null,null,null,null,null,null,null,null,null,null,null,null,null,null,null,null,null,null,null,null,null,null,null,null,null,null,null,null,"CAT_ID",null,null,null,null,null,null,null,null,null,null,null,"CAT_ID",null,null,null,null,null,null,null,null,null,null,null,"CAT_ID",null,null,null,null,null,null,null,null,null,null,null,"CAT_ID",null,null,null,null,null,null,null,null,null,null,null,"CAT_ID",null,null,null,null,null,null,null,null,null,null,null,"CAT_ID",null,null,null,null,null,null,null,null,null,null,null,"CAT_ID"]
[{"$f":"iWorks!A29","v":"ACTIVE_COUNTRY_COUNT"},{"$f":"iWorks!$B$29","v":20},null,null,null,null,null,null,null,null,null,null,null,null,null,null,null,null,null,null,null,null,null,null,null,null,null,null,null,null,null,null,null,null,null,null,null,null,null,null,null,null,null,null,null,null,null,null,1,null,null,null,null,null,null,{"$f":"INDEX(tblIndiSets!$C$3:$C$9,AW4)","v":"OVERALL SCORE"},null,null,null,null,2,null,null,null,null,null,null,{"$f":"INDEX(tblIndiSets!$C$3:$C$9,BI4)","v":"1) POLICY AND INSTITUTIONAL CAPACITY"},null,null,null,null,3,null,null,null,null,null,null,{"$f":"INDEX(tblIndiSets!$C$3:$C$9,BU4)","v":"2) BUSINESS ENVIRONMENT FOR COASTAL ACTIVITIES"},null,null,null,null,4,null,null,null,null,null,null,{"$f":"INDEX(tblIndiSets!$C$3:$C$9,CG4)","v":"3) WATER QUALITY"},null,null,null,null,5,null,null,null,null,null,null,{"$f":"INDEX(tblIndiSets!$C$3:$C$9,CS4)","v":"4) MINERALS AND ENERGY"},null,null,null,null,6,null,null,null,null,null,null,{"$f":"INDEX(tblIndiSets!$C$3:$C$9,DE4)","v":"5) LAND"},null,null,null,null,7,null,null,null,null,null,null,{"$f":"INDEX(tblIndiSets!$C$3:$C$9,DQ4)","v":"6) LIVING RESOURCES"}]
["Depth",{"$f":"iWorks!E49","v":0},null,null,"INDI_ID",null,null,null,null,null,null,null,null,null,null,null,null,null,null,null,null,null,null,null,null,null,null,null,null,null,null,null,null,"IMPROVED / DECLINED / NO CHANGE.  LET'S DO A PIE CHART!",null,null,null,null,null,null,null,null,null,null,null,null,null,null,"INDI_ID",null,null,null,null,null,null,null,null,null,null,null,"INDI_ID",null,null,null,null,null,null,null,null,null,null,null,"INDI_ID",null,null,null,null,null,null,null,null,null,null,null,"INDI_ID",null,null,null,null,null,null,null,null,null,null,null,"INDI_ID",null,null,null,null,null,null,null,null,null,null,null,"INDI_ID",null,null,null,null,null,null,null,null,null,null,null,"INDI_ID"]
[null,null,null,null,{"$f":"B1","v":1},null,null,null,null,null,null,null,null,null,null,40,null,null,null,null,null,null,null,null,null,null,null,null,null,null,null,null,null,null,null,null,null,null,null,null,null,null,null,null,null,null,null,null,{"$f":"INDEX(tblIndiSets!$B$3:$B$9,AW4)","v":1},null,null,null,null,null,null,null,null,null,null,null,{"$f":"INDEX(tblIndiSets!$B$3:$B$9,BI4)","v":2},null,null,null,null,null,null,null,null,null,null,null,{"$f":"INDEX(tblIndiSets!$B$3:$B$9,BU4)","v":20},null,null,null,null,null,null,null,null,null,null,null,{"$f":"INDEX(tblIndiSets!$B$3:$B$9,CG4)","v":34},null,null,null,null,null,null,null,null,null,null,null,{"$f":"INDEX(tblIndiSets!$B$3:$B$9,CS4)","v":44},null,null,null,null,null,null,null,null,null,null,null,{"$f":"INDEX(tblIndiSets!$B$3:$B$9,DE4)","v":57},null,null,null,null,null,null,null,null,null,null,null,{"$f":"INDEX(tblIndiSets!$B$3:$B$9,DQ4)","v":67}]
[null,null,null,null,null,null,null,null,null,null,null,null,null,null,null,null,null,null,null,null,null,null,null,null,null,null,1,2,3]
[{"$f":"tblCountries!H90","v":"HC"},{"$f":"tblCountries!I90","v":"COUNTRY_ID"},{"$f":"tblCountries!J90","v":"STATUS"},null,"RANK_VALUE","RANK","RANK_TIE","IS_TIE","LU","COUNTRY_ID","STATUS","RANK","Rank = Tie","COUNTRY","Score","MiniBar",null,null,"RANK","RANK_TIE","IS_TIE","LU","COUNTRY_ID","Delta","GROUP",null,0,0,0,null,null,null,null,"STATUS",null,null,null,"STATUS",null,null,null,"STATUS",null,null,null,null,null,null,"RANK_VALUE","RANK","RANK_TIE","IS_TIE","LU","COUNTRY_ID","STATUS","RANK","Rank = Tie","COUNTRY","Score",null,"RANK_VALUE","RANK","RANK_TIE","IS_TIE","LU","COUNTRY_ID","STATUS","RANK","Rank = Tie","COUNTRY","Score",null,"RANK_VALUE","RANK","RANK_TIE","IS_TIE","LU","COUNTRY_ID","STATUS","RANK","Rank = Tie","COUNTRY","Score",null,"RANK_VALUE","RANK","RANK_TIE","IS_TIE","LU","COUNTRY_ID","STATUS","RANK","Rank = Tie","COUNTRY","Score",null,"RANK_VALUE","RANK","RANK_TIE","IS_TIE","LU","COUNTRY_ID","STATUS","RANK","Rank = Tie","COUNTRY","Score",null,"RANK_VALUE","RANK","RANK_TIE","IS_TIE","LU","COUNTRY_ID","STATUS","RANK","Rank = Tie","COUNTRY","Score",null,"RANK_VALUE","RANK","RANK_TIE","IS_TIE","LU","COUNTRY_ID","STATUS","RANK","Rank = Tie","COUNTRY","Score"]
[{"$f":"tblCountries!H91","v":1},{"$f":"tblCountries!I91","v":1},{"$f":"tblCountries!J91","v":1},null,{"$f":"INDEX(ROUND(aScores,2),E$6,$B9)","v":66.510000000000005},{"$f":"IF(E9=\"n/a\",$B$4-COUNTIF(E10:E$28,\"n/a\"),RANK(E9,OFFSET(E$9,0,0,$B$4,1))+COUNTIF(OFFSET(E$9,0,0,$A9,1),E9)-1)","v":11},{"$f":"IF(E9=\"n/a\",\"-\",RANK(E9,OFFSET(E$9,0,0,$B$4,1)))","v":11},{"$f":"IF(E9=\"n/a\",\"\",IF(COUNTIF(G$9:G$28,G9)>1,\"=\",\"\"))","v":""},{"$f":"MATCH($A9,F$9:F$28,0)","v":10},{"$f":"INDEX($B$9:$B$28,I9)","v":10},{"$f":"IF($A9=0,\"\",INDEX(luCountry_Status,J9))","v":1},{"$f":"IF($A9=0,\"\",INDEX(aRanks,E$6,J9))","v":"1"},{"$f":"IF(I9=\"\",\"\",IF(OR(L9=L8,L9=L10),CONCATENATE(\"=\",L9),L9))","v":"1"},{"$f":"IF($A9=0,\"\",INDEX(luCountries,J9))","v":"New Zealand"},{"$f":"IF($A9=0,\"\",IF($B$5=3,INDEX(aData,E$6,J9),INDEX(aScores,E$6,J9)))","v":86.163366424857784},{"$f":"IF(ISNUMBER(O9),REPT(\"|\",O9/$B$2*P$6),\"\")","v":"||||||||||||||||||||||||||||||||||"},null,null,{"$f":"RANK(R9,OFFSET(R$9,0,0,$B$4,1))+COUNTIF(OFFSET(R$9,0,0,$A9,1),R9)-1","v":{"$error":"#N/A"}},{"$f":"RANK(R9,OFFSET(R$9,0,0,$B$4,1))","v":{"$error":"#N/A"}},{"$f":"IF(COUNTIF(T$9:T$28,T9)>1,\"=\",\"\")","v":"="},{"$f":"MATCH($A9,S$9:S$28,0)","v":{"$error":"#N/A"}},{"$f":"INDEX($B$9:$B$28,V9)","v":{"$error":"#N/A"}},{"$f":"IF($A9=0,\"\",INDEX(aDeltas,E$6,W9))","v":{"$error":"#NAME?"}},{"$f":"IF(X9>0,1,IF(X9<0,2,IF(X9=0,3,100)))","v":{"$error":"#NAME?"}},null,{"$f":"(AA8+MATCH(AA$7,OFFSET(Y$9:Y$28,AA8,0),0))","v":{"$error":"#N/A"}},{"$f":"AB8+MATCH(AB$7,OFFSET(Y$9:Y$28,AB8,0),0)","v":{"$error":"#N/A"}},{"$f":"AC8+MATCH(AC$7,OFFSET(Y$9:Y$28,AC8,0),0)","v":{"$error":"#N/A"}},null,{"$f":"INDEX($W$9:$W$28,AA9)","v":{"$error":"#N/A"}},{"$f":"INDEX($W$9:$W$28,AB9)","v":{"$error":"#N/A"}},{"$f":"INDEX($W$9:$W$28,AC9)","v":{"$error":"#N/A"}},{"$f":"IF(ISERROR(AE9),0,INDEX(luCountry_Status,AE9))","v":0},{"$f":"IF(ISERROR(AE9),\"\",INDEX(luCountries,AE9))","v":""},{"$f":"IF(ISERROR(AE9),\"\",INDEX(aScores,$E$6,AE9))","v":""},{"$f":"IF(ISERROR(AE9),\"\",INDEX(aDeltas,$E$6,AE9))","v":""},{"$f":"IF(ISERROR(AF9),0,INDEX(luCountry_Status,AF9))","v":0},{"$f":"IF(ISERROR(AF9),\"\",INDEX(luCountries,AF9))","v":""},{"$f":"IF(ISERROR(AF9),\"\",INDEX(aScores,$E$6,AF9))","v":""},{"$f":"IF(ISERROR(AF9),\"\",INDEX(aDeltas,$E$6,AF9))","v":""},{"$f":"IF(ISERROR(AG9),0,INDEX(luCountry_Status,AG9))","v":0},{"$f":"IF(ISERROR(AG9),\"\",INDEX(luCountries,AG9))","v":""},{"$f":"IF(ISERROR(AG9),\"\",INDEX(aScores,$E$6,AG9))","v":""},{"$f":"IF(ISERROR(AG9),\"\",INDEX(aDeltas,$E$6,AG9))","v":""},null,null,null,{"$f":"INDEX(ROUND(aScores,0),AW$6,$B9)","v":67},{"$f":"RANK(AW9,OFFSET(AW$9,0,0,$B$4,1))+COUNTIF(OFFSET(AW$9,0,0,$A9,1),AW9)-1","v":10},{"$f":"RANK(AW9,OFFSET(AW$9,0,0,$B$4,1))","v":10},{"$f":"IF(COUNTIF(AY$9:AY$28,AY9)>1,\"=\",\"\")","v":"="},{"$f":"MATCH($A9,AX$9:AX$28,0)","v":10},{"$f":"INDEX($B$9:$B$28,BA9)","v":10},{"$f":"IF($A9=0,\"\",INDEX(luCountry_Status,BB9))","v":1},{"$f":"IF($A9=0,\"\",INDEX(aRanks,AW$6,BB9))","v":"1"},{"$f":"IF(BA9=\"\",\"\",IF(OR(BD9=BD8,BD9=BD10),CONCATENATE(\"=\",BD9),BD9))","v":"1"},{"$f":"IF($A9=0,\"\",INDEX(luCountries,BB9))","v":"New Zealand"},{"$f":"IF($A9=0,\"\",INDEX(aScores,AW$6,BB9))","v":86.163366424857784},null,{"$f":"INDEX(ROUND(aScores,0),BI$6,$B9)","v":64},{"$f":"RANK(BI9,OFFSET(BI$9,0,0,$B$4,1))+COUNTIF(OFFSET(BI$9,0,0,$A9,1),BI9)-1","v":14},{"$f":"RANK(BI9,OFFSET(BI$9,0,0,$B$4,1))","v":14},{"$f":"IF(COUNTIF(BK$9:BK$28,BK9)>1,\"=\",\"\")","v":""},{"$f":"MATCH($A9,BJ$9:BJ$28,0)","v":12},{"$f":"INDEX($B$9:$B$28,BM9)","v":12},{"$f":"IF($A9=0,\"\",INDEX(luCountry_Status,BN9))","v":1},{"$f":"IF($A9=0,\"\",INDEX(aRanks,BI$6,BN9))","v":"=1"},{"$f":"IF(BM9=\"\",\"\",IF(OR(BP9=BP8,BP9=BP10),CONCATENATE(\"=\",BP9),BP9))","v":"==1"},{"$f":"IF($A9=0,\"\",INDEX(luCountries,BN9))","v":"Norway"},{"$f":"IF($A9=0,\"\",INDEX(aScores,BI$6,BN9))","v":85.714285714285694},null,{"$f":"INDEX(ROUND(aScores,0),BU$6,$B9)","v":50},{"$f":"RANK(BU9,OFFSET(BU$9,0,0,$B$4,1))+COUNTIF(OFFSET(BU$9,0,0,$A9,1),BU9)-1","v":12},{"$f":"RANK(BU9,OFFSET(BU$9,0,0,$B$4,1))","v":12},{"$f":"IF(COUNTIF(BW$9:BW$28,BW9)>1,\"=\",\"\")","v":""},{"$f":"MATCH($A9,BV$9:BV$28,0)","v":2},{"$f":"INDEX($B$9:$B$28,BY9)","v":2},{"$f":"IF($A9=0,\"\",INDEX(luCountry_Status,BZ9))","v":1},{"$f":"IF($A9=0,\"\",INDEX(aRanks,BU$6,BZ9))","v":"1"},{"$f":"IF(BY9=\"\",\"\",IF(OR(CB9=CB8,CB9=CB10),CONCATENATE(\"=\",CB9),CB9))","v":"1"},{"$f":"IF($A9=0,\"\",INDEX(luCountries,BZ9))","v":"Canada"},{"$f":"IF($A9=0,\"\",INDEX(aScores,BU$6,BZ9))","v":89.016442202777782},null,{"$f":"INDEX(ROUND(aScores,0),CG$6,$B9)","v":75},{"$f":"RANK(CG9,OFFSET(CG$9,0,0,$B$4,1))+COUNTIF(OFFSET(CG$9,0,0,$A9,1),CG9)-1","v":11},{"$f":"RANK(CG9,OFFSET(CG$9,0,0,$B$4,1))","v":11},{"$f":"IF(COUNTIF(CI$9:CI$28,CI9)>1,\"=\",\"\")","v":"="},{"$f":"MATCH($A9,CH$9:CH$28,0)","v":5},{"$f":"INDEX($B$9:$B$28,CK9)","v":5},{"$f":"IF($A9=0,\"\",INDEX(luCountry_Status,CL9))","v":1},{"$f":"IF($A9=0,\"\",INDEX(aRanks,CG$6,CL9))","v":"=1"},{"$f":"IF(CK9=\"\",\"\",IF(OR(CN9=CN8,CN9=CN10),CONCATENATE(\"=\",CN9),CN9))","v":"==1"},{"$f":"IF($A9=0,\"\",INDEX(luCountries,CL9))","v":"France"},{"$f":"IF($A9=0,\"\",INDEX(aScores,CG$6,CL9))","v":83.422222222222217},null,{"$f":"INDEX(ROUND(aScores,1),CS$6,$B9)","v":81.900000000000006},{"$f":"RANK(CS9,OFFSET(CS$9,0,0,$B$4,1))+COUNTIF(OFFSET(CS$9,0,0,$A9,1),CS9)-1","v":6},{"$f":"RANK(CS9,OFFSET(CS$9,0,0,$B$4,1))","v":6},{"$f":"IF(COUNTIF(CU$9:CU$28,CU9)>1,\"=\",\"\")","v":"="},{"$f":"MATCH($A9,CT$9:CT$28,0)","v":8},{"$f":"INDEX($B$9:$B$28,CW9)","v":8},{"$f":"IF($A9=0,\"\",INDEX(luCountry_Status,CX9))","v":1},{"$f":"IF($A9=0,\"\",INDEX(aRanks,CS$6,CX9))","v":"=1"},{"$f":"IF(CW9=\"\",\"\",IF(OR(CZ9=CZ8,CZ9=CZ10),CONCATENATE(\"=\",CZ9),CZ9))","v":"==1"},{"$f":"IF($A9=0,\"\",INDEX(luCountries,CX9))","v":"Japan"},{"$f":"IF($A9=0,\"\",INDEX(aScores,CS$6,CX9))","v":91.666666666666657},null,{"$f":"INDEX(ROUND(aScores,0),DE$6,$B9)","v":50},{"$f":"RANK(DE9,OFFSET(DE$9,0,0,$B$4,1))+COUNTIF(OFFSET(DE$9,0,0,$A9,1),DE9)-1","v":19},{"$f":"RANK(DE9,OFFSET(DE$9,0,0,$B$4,1))","v":19},{"$f":"IF(COUNTIF(DG$9:DG$28,DG9)>1,\"=\",\"\")","v":""},{"$f":"MATCH($A9,DF$9:DF$28,0)","v":10},{"$f":"INDEX($B$9:$B$28,DI9)","v":10},{"$f":"IF($A9=0,\"\",INDEX(luCountry_Status,DJ9))","v":1},{"$f":"IF($A9=0,\"\",INDEX(aRanks,DE$6,DJ9))","v":"1"},{"$f":"IF(DI9=\"\",\"\",IF(OR(DL9=DL8,DL9=DL10),CONCATENATE(\"=\",DL9),DL9))","v":"1"},{"$f":"IF($A9=0,\"\",INDEX(luCountries,DJ9))","v":"New Zealand"},{"$f":"IF($A9=0,\"\",INDEX(aScores,DE$6,DJ9))","v":96.083333333333329},null,{"$f":"INDEX(ROUND(aScores,0),DQ$6,$B9)","v":78},{"$f":"RANK(DQ9,OFFSET(DQ$9,0,0,$B$4,1))+COUNTIF(OFFSET(DQ$9,0,0,$A9,1),DQ9)-1","v":6},{"$f":"RANK(DQ9,OFFSET(DQ$9,0,0,$B$4,1))","v":6},{"$f":"IF(COUNTIF(DS$9:DS$28,DS9)>1,\"=\",\"\")","v":""},{"$f":"MATCH($A9,DR$9:DR$28,0)","v":19},{"$f":"INDEX($B$9:$B$28,DU9)","v":19},{"$f":"IF($A9=0,\"\",INDEX(luCountry_Status,DV9))","v":1},{"$f":"IF($A9=0,\"\",INDEX(aRanks,DQ$6,DV9))","v":"1"},{"$f":"IF(DU9=\"\",\"\",IF(OR(DX9=DX8,DX9=DX10),CONCATENATE(\"=\",DX9),DX9))","v":"1"},{"$f":"IF($A9=0,\"\",INDEX(luCountries,DV9))","v":"United States"},{"$f":"IF($A9=0,\"\",INDEX(aScores,DQ$6,DV9))","v":96.839399573270043}]
[{"$f":"tblCountries!H92","v":2},{"$f":"tblCountries!I92","v":2},{"$f":"tblCountries!J92","v":1},null,76.2,{"$f":"IF(E10=\"n/a\",$B$4-COUNTIF(E11:E$28,\"n/a\"),RANK(E10,OFFSET(E$9,0,0,$B$4,1))+COUNTIF(OFFSET(E$9,0,0,$A10,1),E10)-1)","v":7},{"$f":"IF(E10=\"n/a\",\"-\",RANK(E10,OFFSET(E$9,0,0,$B$4,1)))","v":7},"",19,19,{"$f":"IF($A10=0,\"\",INDEX(luCountry_Status,J10))","v":1},{"$f":"IF($A10=0,\"\",INDEX(aRanks,E$6,J10))","v":"2"},{"$f":"IF(I10=\"\",\"\",IF(OR(L10=L9,L10=L11),CONCATENATE(\"=\",L10),L10))","v":"2"},{"$f":"IF($A10=0,\"\",INDEX(luCountries,J10))","v":"United States"},85.422888393957692,{"$f":"IF(ISNUMBER(O10),REPT(\"|\",O10/$B$2*P$6),\"\")","v":"||||||||||||||||||||||||||||||||||"},null,null,{"$f":"RANK(R10,OFFSET(R$9,0,0,$B$4,1))+COUNTIF(OFFSET(R$9,0,0,$A10,1),R10)-1","v":{"$error":"#N/A"}},{"$f":"RANK(R10,OFFSET(R$9,0,0,$B$4,1))","v":{"$error":"#N/A"}},"=",{"$error":"#N/A"},{"$error":"#N/A"},{"$f":"IF($A10=0,\"\",INDEX(aDeltas,E$6,W10))","v":{"$error":"#NAME?"}},{"$f":"IF(X10>0,1,IF(X10<0,2,IF(X10=0,3,100)))","v":{"$error":"#NAME?"}},null,{"$error":"#N/A"},{"$error":"#N/A"},{"$error":"#N/A"},null,{"$error":"#N/A"},{"$error":"#N/A"},{"$error":"#N/A"},0,{"$f":"IF(ISERROR(AE10),\"\",INDEX(luCountries,AE10))","v":""},{"$f":"IF(ISERROR(AE10),\"\",INDEX(aScores,$E$6,AE10))","v":""},{"$f":"IF(ISERROR(AE10),\"\",INDEX(aDeltas,$E$6,AE10))","v":""},0,{"$f":"IF(ISERROR(AF10),\"\",INDEX(luCountries,AF10))","v":""},{"$f":"IF(ISERROR(AF10),\"\",INDEX(aScores,$E$6,AF10))","v":""},{"$f":"IF(ISERROR(AF10),\"\",INDEX(aDeltas,$E$6,AF10))","v":""},{"$f":"IF(ISERROR(AG10),0,INDEX(luCountry_Status,AG10))","v":0},{"$f":"IF(ISERROR(AG10),\"\",INDEX(luCountries,AG10))","v":""},{"$f":"IF(ISERROR(AG10),\"\",INDEX(aScores,$E$6,AG10))","v":""},{"$f":"IF(ISERROR(AG10),\"\",INDEX(aDeltas,$E$6,AG10))","v":""},null,null,null,76,{"$f":"RANK(AW10,OFFSET(AW$9,0,0,$B$4,1))+COUNTIF(OFFSET(AW$9,0,0,$A10,1),AW10)-1","v":7},{"$f":"RANK(AW10,OFFSET(AW$9,0,0,$B$4,1))","v":7},"",19,19,{"$f":"IF($A10=0,\"\",INDEX(luCountry_Status,BB10))","v":1},{"$f":"IF($A10=0,\"\",INDEX(aRanks,AW$6,BB10))","v":"2"},{"$f":"IF(BA10=\"\",\"\",IF(OR(BD10=BD9,BD10=BD11),CONCATENATE(\"=\",BD10),BD10))","v":"2"},{"$f":"IF($A10=0,\"\",INDEX(luCountries,BB10))","v":"United States"},{"$f":"IF($A10=0,\"\",INDEX(aScores,AW$6,BB10))","v":85.422888393957692},null,71,{"$f":"RANK(BI10,OFFSET(BI$9,0,0,$B$4,1))+COUNTIF(OFFSET(BI$9,0,0,$A10,1),BI10)-1","v":8},{"$f":"RANK(BI10,OFFSET(BI$9,0,0,$B$4,1))","v":8},"=",18,18,{"$f":"IF($A10=0,\"\",INDEX(luCountry_Status,BN10))","v":1},{"$f":"IF($A10=0,\"\",INDEX(aRanks,BI$6,BN10))","v":"=1"},{"$f":"IF(BM10=\"\",\"\",IF(OR(BP10=BP9,BP10=BP11),CONCATENATE(\"=\",BP10),BP10))","v":"==1"},{"$f":"IF($A10=0,\"\",INDEX(luCountries,BN10))","v":"Spain"},{"$f":"IF($A10=0,\"\",INDEX(aScores,BI$6,BN10))","v":85.714285714285694},null,89,{"$f":"RANK(BU10,OFFSET(BU$9,0,0,$B$4,1))+COUNTIF(OFFSET(BU$9,0,0,$A10,1),BU10)-1","v":1},{"$f":"RANK(BU10,OFFSET(BU$9,0,0,$B$4,1))","v":1},"",12,12,{"$f":"IF($A10=0,\"\",INDEX(luCountry_Status,BZ10))","v":1},{"$f":"IF($A10=0,\"\",INDEX(aRanks,BU$6,BZ10))","v":"2"},{"$f":"IF(BY10=\"\",\"\",IF(OR(CB10=CB9,CB10=CB11),CONCATENATE(\"=\",CB10),CB10))","v":"2"},{"$f":"IF($A10=0,\"\",INDEX(luCountries,BZ10))","v":"Norway"},{"$f":"IF($A10=0,\"\",INDEX(aScores,BU$6,BZ10))","v":87.540600319444451},null,67,{"$f":"RANK(CG10,OFFSET(CG$9,0,0,$B$4,1))+COUNTIF(OFFSET(CG$9,0,0,$A10,1),CG10)-1","v":16},{"$f":"RANK(CG10,OFFSET(CG$9,0,0,$B$4,1))","v":16},"",10,10,{"$f":"IF($A10=0,\"\",INDEX(luCountry_Status,CL10))","v":1},{"$f":"IF($A10=0,\"\",INDEX(aRanks,CG$6,CL10))","v":"=1"},{"$f":"IF(CK10=\"\",\"\",IF(OR(CN10=CN9,CN10=CN11),CONCATENATE(\"=\",CN10),CN10))","v":"==1"},{"$f":"IF($A10=0,\"\",INDEX(luCountries,CL10))","v":"New Zealand"},{"$f":"IF($A10=0,\"\",INDEX(aScores,CG$6,CL10))","v":83.211111111111109},null,86.1,{"$f":"RANK(CS10,OFFSET(CS$9,0,0,$B$4,1))+COUNTIF(OFFSET(CS$9,0,0,$A10,1),CS10)-1","v":3},{"$f":"RANK(CS10,OFFSET(CS$9,0,0,$B$4,1))","v":3},"=",12,12,{"$f":"IF($A10=0,\"\",INDEX(luCountry_Status,CX10))","v":1},{"$f":"IF($A10=0,\"\",INDEX(aRanks,CS$6,CX10))","v":"=1"},{"$f":"IF(CW10=\"\",\"\",IF(OR(CZ10=CZ9,CZ10=CZ11),CONCATENATE(\"=\",CZ10),CZ10))","v":"==1"},{"$f":"IF($A10=0,\"\",INDEX(luCountries,CX10))","v":"Norway"},{"$f":"IF($A10=0,\"\",INDEX(aScores,CS$6,CX10))","v":91.666666666666657},null,67,{"$f":"RANK(DE10,OFFSET(DE$9,0,0,$B$4,1))+COUNTIF(OFFSET(DE$9,0,0,$A10,1),DE10)-1","v":10},{"$f":"RANK(DE10,OFFSET(DE$9,0,0,$B$4,1))","v":10},"=",5,5,{"$f":"IF($A10=0,\"\",INDEX(luCountry_Status,DJ10))","v":1},{"$f":"IF($A10=0,\"\",INDEX(aRanks,DE$6,DJ10))","v":"2"},{"$f":"IF(DI10=\"\",\"\",IF(OR(DL10=DL9,DL10=DL11),CONCATENATE(\"=\",DL10),DL10))","v":"2"},{"$f":"IF($A10=0,\"\",INDEX(luCountries,DJ10))","v":"France"},{"$f":"IF($A10=0,\"\",INDEX(aScores,DE$6,DJ10))","v":91.625},null,77,{"$f":"RANK(DQ10,OFFSET(DQ$9,0,0,$B$4,1))+COUNTIF(OFFSET(DQ$9,0,0,$A10,1),DQ10)-1","v":7},{"$f":"RANK(DQ10,OFFSET(DQ$9,0,0,$B$4,1))","v":7},"",10,10,{"$f":"IF($A10=0,\"\",INDEX(luCountry_Status,DV10))","v":1},{"$f":"IF($A10=0,\"\",INDEX(aRanks,DQ$6,DV10))","v":"2"},{"$f":"IF(DU10=\"\",\"\",IF(OR(DX10=DX9,DX10=DX11),CONCATENATE(\"=\",DX10),DX10))","v":"2"},{"$f":"IF($A10=0,\"\",INDEX(luCountries,DV10))","v":"New Zealand"},{"$f":"IF($A10=0,\"\",INDEX(aScores,DQ$6,DV10))","v":93.719482138035659}]
[{"$f":"tblCountries!H93","v":3},{"$f":"tblCountries!I93","v":3},{"$f":"tblCountries!J93","v":1},null,67.33,{"$f":"IF(E11=\"n/a\",$B$4-COUNTIF(E12:E$28,\"n/a\"),RANK(E11,OFFSET(E$9,0,0,$B$4,1))+COUNTIF(OFFSET(E$9,0,0,$A11,1),E11)-1)","v":10},10,"",5,5,1,"3","3","France",81.988128793868668,"||||||||||||||||||||||||||||||||",null,null,{"$error":"#N/A"},{"$error":"#N/A"},"=",{"$error":"#N/A"},{"$error":"#N/A"},{"$f":"IF($A11=0,\"\",INDEX(aDeltas,E$6,W11))","v":{"$error":"#NAME?"}},{"$error":"#NAME?"},null,{"$error":"#N/A"},{"$error":"#N/A"},{"$error":"#N/A"},null,{"$error":"#N/A"},{"$error":"#N/A"},{"$error":"#N/A"},0,"","","",0,"","","",0,"","","",null,null,null,67,11,10,"=",5,5,1,"3","3","France",81.988128793868668,null,36,18,18,"",19,19,1,"3","3","United States",84.523809523809518,null,76,8,8,"",10,10,1,"3","3","New Zealand",87.021827522222225,null,82,3,3,"=",3,3,1,"=3","==3","Chile",81.761111111111106,null,75,11,11,"",2,2,1,"=3","==3","Canada",86.1111111111111,null,64,12,12,"",18,18,1,"3","3","Spain",79.5,null,71,8,8,"",5,5,1,"3","3","France",91.316170902894555]
[{"$f":"tblCountries!H94","v":4},{"$f":"tblCountries!I94","v":4},{"$f":"tblCountries!J94","v":1},null,60.65,{"$f":"IF(E12=\"n/a\",$B$4-COUNTIF(E13:E$28,\"n/a\"),RANK(E12,OFFSET(E$9,0,0,$B$4,1))+COUNTIF(OFFSET(E$9,0,0,$A12,1),E12)-1)","v":12},12,"",18,18,1,"4","4","Spain",79.820005731403398,"|||||||||||||||||||||||||||||||",null,null,{"$error":"#N/A"},{"$error":"#N/A"},"=",{"$error":"#N/A"},{"$error":"#N/A"},{"$f":"IF($A12=0,\"\",INDEX(aDeltas,E$6,W12))","v":{"$error":"#NAME?"}},{"$error":"#NAME?"},null,{"$error":"#N/A"},{"$error":"#N/A"},{"$error":"#N/A"},null,{"$error":"#N/A"},{"$error":"#N/A"},{"$error":"#N/A"},0,"","","",0,"","","",0,"","","",null,null,null,61,12,12,"",18,18,1,"4","4","Spain",79.820005731403398,null,71,9,8,"=",5,5,1,"=4","==4","France",78.571428571428555,null,47,13,13,"",19,19,1,"4","4","United States",86.085787933333336,null,66,17,17,"",8,8,1,"=3","==3","Japan",82.028888888888872,null,76.400000000000006,10,10,"",11,11,1,"=3","==3","Nigeria",86.1111111111111,null,78,5,5,"=",19,19,1,"4","4","United States",79.125,null,25,20,20,"",18,18,1,"4","4","Spain",83.076826263023662]
[{"$f":"tblCountries!H95","v":5},{"$f":"tblCountries!I95","v":5},{"$f":"tblCountries!J95","v":1},null,81.99,{"$f":"IF(E13=\"n/a\",$B$4-COUNTIF(E14:E$28,\"n/a\"),RANK(E13,OFFSET(E$9,0,0,$B$4,1))+COUNTIF(OFFSET(E$9,0,0,$A13,1),E13)-1)","v":3},3,"",12,12,1,"5","5","Norway",79.098093232372349,"|||||||||||||||||||||||||||||||",null,null,{"$error":"#N/A"},{"$error":"#N/A"},"=",{"$error":"#N/A"},{"$error":"#N/A"},{"$f":"IF($A13=0,\"\",INDEX(aDeltas,E$6,W13))","v":{"$error":"#NAME?"}},{"$error":"#NAME?"},null,{"$error":"#N/A"},{"$error":"#N/A"},{"$error":"#N/A"},null,{"$error":"#N/A"},{"$error":"#N/A"},{"$error":"#N/A"},0,"","","",0,"","","",0,"","","",null,null,null,82,3,3,"",12,12,1,"5","5","Norway",79.098093232372349,null,79,4,4,"=",8,8,1,"=4","==4","Japan",78.571428571428555,null,83,5,5,"",5,5,1,"5","5","France",83.105062177777782,null,83,1,1,"=",19,19,1,"5","5","United States",79.85222222222221,null,63.9,18,18,"",19,19,1,"=3","==3","United States",86.1111111111111,null,92,2,2,"",4,4,1,"=5","==5","China",78,null,91,3,3,"",12,12,1,"5","5","Norway",79.425340027170691]
[{"$f":"tblCountries!H96","v":6},{"$f":"tblCountries!I96","v":6},{"$f":"tblCountries!J96","v":1},null,56.07,{"$f":"IF(E14=\"n/a\",$B$4-COUNTIF(E15:E$28,\"n/a\"),RANK(E14,OFFSET(E$9,0,0,$B$4,1))+COUNTIF(OFFSET(E$9,0,0,$A14,1),E14)-1)","v":17},17,"",8,8,1,"6","6","Japan",78.164155255545907,"|||||||||||||||||||||||||||||||",null,null,{"$error":"#N/A"},{"$error":"#N/A"},"=",{"$error":"#N/A"},{"$error":"#N/A"},{"$f":"IF($A14=0,\"\",INDEX(aDeltas,E$6,W14))","v":{"$error":"#NAME?"}},{"$error":"#NAME?"},null,{"$error":"#N/A"},{"$error":"#N/A"},{"$error":"#N/A"},null,{"$error":"#N/A"},{"$error":"#N/A"},{"$error":"#N/A"},0,"","","",0,"","","",0,"","","",null,null,null,56,17,17,"",8,8,1,"6","6","Japan",78.164155255545907,null,54,16,16,"",10,10,1,"6","6","New Zealand",74.999999999999986,null,40,17,17,"",18,18,1,"6","6","Spain",79.536700188888886,null,75,12,11,"=",18,18,1,"6","6","Spain",78.86999999999999,null,73.599999999999994,12,12,"",1,1,1,"=6","==6","Brazil",81.944444444444429,null,63,13,13,"=",13,13,1,"=5","==5","Peru",78.208333333333329,null,31,17,17,"=",1,1,1,"6","6","Brazil",78.060311236846303]
[{"$f":"tblCountries!H97","v":7},{"$f":"tblCountries!I97","v":7},{"$f":"tblCountries!J97","v":1},null,56.95,{"$f":"IF(E15=\"n/a\",$B$4-COUNTIF(E16:E$28,\"n/a\"),RANK(E15,OFFSET(E$9,0,0,$B$4,1))+COUNTIF(OFFSET(E$9,0,0,$A15,1),E15)-1)","v":15},15,"",2,2,1,"7","7","Canada",76.203113504321877,"||||||||||||||||||||||||||||||",null,null,{"$error":"#N/A"},{"$error":"#N/A"},"=",{"$error":"#N/A"},{"$error":"#N/A"},{"$f":"IF($A15=0,\"\",INDEX(aDeltas,E$6,W15))","v":{"$error":"#NAME?"}},{"$error":"#NAME?"},null,{"$error":"#N/A"},{"$error":"#N/A"},{"$error":"#N/A"},null,{"$error":"#N/A"},{"$error":"#N/A"},{"$error":"#N/A"},0,"","","",0,"","","",0,"","","",null,null,null,57,15,15,"=",2,2,1,"7","7","Canada",76.203113504321877,null,69,12,12,"",14,14,1,"7","7","Philippines",73.809523809523796,null,39,18,18,"",8,8,1,"7","7","Japan",77.911898022222218,null,73,14,14,"",17,17,1,"7","7","South Korea",77.853333333333325,null,47.2,20,20,"",10,10,1,"=6","==6","New Zealand",81.944444444444429,null,76,8,8,"=",8,8,1,"7","7","Japan",77.208333333333329,null,37,14,14,"=",2,2,1,"7","7","Canada",77.088111839026595]
[{"$f":"tblCountries!H98","v":8},{"$f":"tblCountries!I98","v":8},{"$f":"tblCountries!J98","v":1},null,78.16,{"$f":"IF(E16=\"n/a\",$B$4-COUNTIF(E17:E$28,\"n/a\"),RANK(E16,OFFSET(E$9,0,0,$B$4,1))+COUNTIF(OFFSET(E$9,0,0,$A16,1),E16)-1)","v":6},6,"",17,17,1,"8","8","South Korea",72.027699919695479,"||||||||||||||||||||||||||||",null,null,{"$error":"#N/A"},{"$error":"#N/A"},"=",{"$error":"#N/A"},{"$error":"#N/A"},{"$f":"IF($A16=0,\"\",INDEX(aDeltas,E$6,W16))","v":{"$error":"#NAME?"}},{"$error":"#NAME?"},null,{"$error":"#N/A"},{"$error":"#N/A"},{"$error":"#N/A"},null,{"$error":"#N/A"},{"$error":"#N/A"},{"$error":"#N/A"},0,"","","",0,"","","",0,"","","",null,null,null,78,6,6,"",17,17,1,"8","8","South Korea",72.027699919695479,null,79,5,4,"=",2,2,1,"=8","==8","Canada",71.428571428571416,null,78,7,7,"",3,3,1,"8","8","Chile",76.157956525000003,null,82,4,3,"=",9,9,1,"=8","==8","Mexico",76.938888888888883,null,91.7,1,1,"=",16,16,1,"=6","==6","South Africa",81.944444444444429,null,77,7,7,"",7,7,1,"=8","==8","Indonesia",76.333333333333343,null,62,10,10,"=",3,3,1,"8","8","Chile",71.15657671232141]
[{"$f":"tblCountries!H99","v":9},{"$f":"tblCountries!I99","v":9},{"$f":"tblCountries!J99","v":1},null,59.8,{"$f":"IF(E17=\"n/a\",$B$4-COUNTIF(E18:E$28,\"n/a\"),RANK(E17,OFFSET(E$9,0,0,$B$4,1))+COUNTIF(OFFSET(E$9,0,0,$A17,1),E17)-1)","v":13},13,"",16,16,1,"9","9","South Africa",67.871569791374654,"|||||||||||||||||||||||||||",null,null,{"$error":"#N/A"},{"$error":"#N/A"},"=",{"$error":"#N/A"},{"$error":"#N/A"},{"$f":"IF($A17=0,\"\",INDEX(aDeltas,E$6,W17))","v":{"$error":"#NAME?"}},{"$error":"#NAME?"},null,{"$error":"#N/A"},{"$error":"#N/A"},{"$error":"#N/A"},null,{"$error":"#N/A"},{"$error":"#N/A"},{"$error":"#N/A"},0,"","","",0,"","","",0,"","","",null,null,null,60,13,13,"",16,16,1,"9","9","South Africa",67.871569791374654,null,57,15,15,"",4,4,1,"=8","==8","China",71.428571428571416,null,54,11,11,"",17,17,1,"9","9","South Korea",73.198013091666667,null,77,8,8,"=",12,12,1,"=8","==8","Norway",77.116666666666646,null,66.7,15,15,"=",17,17,1,"9","9","South Korea",80.555555555555543,null,53,17,17,"=",14,14,1,"=8","==8","Philippines",75.541666666666657,null,51,13,13,"",17,17,1,"9","9","South Korea",69.78548801380785]
[{"$f":"tblCountries!H100","v":10},{"$f":"tblCountries!I100","v":10},{"$f":"tblCountries!J100","v":1},null,86.16,{"$f":"IF(E18=\"n/a\",$B$4-COUNTIF(E19:E$28,\"n/a\"),RANK(E18,OFFSET(E$9,0,0,$B$4,1))+COUNTIF(OFFSET(E$9,0,0,$A18,1),E18)-1)","v":1},1,"",3,3,1,"=10","==10","Chile",67.326099454897474,"||||||||||||||||||||||||||",null,null,{"$error":"#N/A"},{"$error":"#N/A"},"=",{"$error":"#N/A"},{"$error":"#N/A"},{"$f":"IF($A18=0,\"\",INDEX(aDeltas,E$6,W18))","v":{"$error":"#NAME?"}},{"$error":"#NAME?"},null,{"$error":"#N/A"},{"$error":"#N/A"},{"$error":"#N/A"},null,{"$error":"#N/A"},{"$error":"#N/A"},{"$error":"#N/A"},0,"","","",0,"","","",0,"","","",null,null,null,86,1,1,"",1,1,1,"=10","==10","Brazil",66.512663123204533,null,75,6,6,"",16,16,1,"=8","==8","South Africa",71.428571428571416,null,87,3,3,"",16,16,1,"10","10","South Africa",55.898709916666668,null,83,2,1,"=",13,13,1,"10","10","Peru",75.553333333333327,null,81.900000000000006,7,6,"=",4,4,1,"10","10","China",76.388888888888872,null,96,1,1,"",2,2,1,"=10","==10","Canada",66.75,null,94,2,2,"",8,8,1,"=10","==10","Japan",61.597716050735755]
[{"$f":"tblCountries!H101","v":11},{"$f":"tblCountries!I101","v":11},{"$f":"tblCountries!J101","v":1},null,50.08,{"$f":"IF(E19=\"n/a\",$B$4-COUNTIF(E20:E$28,\"n/a\"),RANK(E19,OFFSET(E$9,0,0,$B$4,1))+COUNTIF(OFFSET(E$9,0,0,$A19,1),E19)-1)","v":19},19,"",1,1,1,"=10","==10","Brazil",66.512663123204533,"||||||||||||||||||||||||||",null,null,{"$error":"#N/A"},{"$error":"#N/A"},"=",{"$error":"#N/A"},{"$error":"#N/A"},{"$f":"IF($A19=0,\"\",INDEX(aDeltas,E$6,W19))","v":{"$error":"#NAME?"}},{"$error":"#NAME?"},null,{"$error":"#N/A"},{"$error":"#N/A"},{"$error":"#N/A"},null,{"$error":"#N/A"},{"$error":"#N/A"},{"$error":"#N/A"},0,"","","",0,"","","",0,"","","",null,null,null,50,19,19,"",3,3,1,"=10","==10","Chile",67.326099454897474,null,43,17,17,"",20,20,1,"=8","==8","Vietnam",71.428571428571416,null,17,20,20,"",9,9,1,"11","11","Mexico",54.173821380555552,null,62,18,18,"",1,1,1,"=11","==11","Brazil",74.874444444444435,null,86.1,4,3,"=",3,3,1,"11","11","Chile",75,null,61,16,16,"",16,16,1,"=10","==10","South Africa",66.5,null,31,18,17,"=",15,15,1,"=10","==10","Russia",62.079582339267652]
[{"$f":"tblCountries!H102","v":12},{"$f":"tblCountries!I102","v":12},{"$f":"tblCountries!J102","v":1},null,79.099999999999994,{"$f":"IF(E20=\"n/a\",$B$4-COUNTIF(E21:E$28,\"n/a\"),RANK(E20,OFFSET(E$9,0,0,$B$4,1))+COUNTIF(OFFSET(E$9,0,0,$A20,1),E20)-1)","v":5},5,"",4,4,1,"12","12","China",60.654296618192063,"||||||||||||||||||||||||",null,null,{"$error":"#N/A"},{"$error":"#N/A"},"=",{"$error":"#N/A"},{"$error":"#N/A"},{"$f":"IF($A20=0,\"\",INDEX(aDeltas,E$6,W20))","v":{"$error":"#NAME?"}},{"$error":"#NAME?"},null,{"$error":"#N/A"},{"$error":"#N/A"},{"$error":"#N/A"},null,{"$error":"#N/A"},{"$error":"#N/A"},{"$error":"#N/A"},0,"","","",0,"","","",0,"","","",null,null,null,79,5,5,"",4,4,1,"12","12","China",60.654296618192063,null,86,1,1,"=",7,7,1,"12","12","Indonesia",69.047619047619037,null,88,2,2,"",1,1,1,"12","12","Brazil",50.119397661111115,null,77,9,8,"=",6,6,1,"=11","==11","India",75.276666666666657,null,91.7,2,1,"=",6,6,1,"12","12","India",73.6111111111111,null,53,18,17,"=",3,3,1,"12","12","Chile",64.166666666666671,null,79,5,5,"",16,16,1,"12","12","South Africa",60.251026291898782]
[{"$f":"tblCountries!H103","v":13},{"$f":"tblCountries!I103","v":13},{"$f":"tblCountries!J103","v":1},null,55.14,{"$f":"IF(E21=\"n/a\",$B$4-COUNTIF(E22:E$28,\"n/a\"),RANK(E21,OFFSET(E$9,0,0,$B$4,1))+COUNTIF(OFFSET(E$9,0,0,$A21,1),E21)-1)","v":18},18,"",9,9,1,"13","13","Mexico",59.80011143170686,"|||||||||||||||||||||||",null,null,{"$error":"#N/A"},{"$error":"#N/A"},"=",{"$error":"#N/A"},{"$error":"#N/A"},{"$f":"IF($A21=0,\"\",INDEX(aDeltas,E$6,W21))","v":{"$error":"#NAME?"}},{"$error":"#NAME?"},null,{"$error":"#N/A"},{"$error":"#N/A"},{"$error":"#N/A"},null,{"$error":"#N/A"},{"$error":"#N/A"},{"$error":"#N/A"},0,"","","",0,"","","",0,"","","",null,null,null,55,18,18,"",9,9,1,"13","13","Mexico",59.80011143170686,null,32,19,19,"",17,17,1,"13","13","South Korea",67.857142857142847,null,41,16,16,"",4,4,1,"13","13","China",47.059692522222221,null,76,10,10,"",20,20,1,"13","13","Vietnam",73.682222222222208,null,66.7,16,15,"=",18,18,1,"13","13","Spain",72.222222222222214,null,78,6,5,"=",6,6,1,"=13","==13","India",62.875,null,37,15,14,"=",9,9,1,"13","13","Mexico",51.253434511272914]
[{"$f":"tblCountries!H104","v":14},{"$f":"tblCountries!I104","v":14},{"$f":"tblCountries!J104","v":1},null,59.34,{"$f":"IF(E22=\"n/a\",$B$4-COUNTIF(E23:E$28,\"n/a\"),RANK(E22,OFFSET(E$9,0,0,$B$4,1))+COUNTIF(OFFSET(E$9,0,0,$A22,1),E22)-1)","v":14},14,"",14,14,1,"14","14","Philippines",59.344767032375628,"|||||||||||||||||||||||",null,null,{"$error":"#N/A"},{"$error":"#N/A"},"=",{"$error":"#N/A"},{"$error":"#N/A"},{"$f":"IF($A22=0,\"\",INDEX(aDeltas,E$6,W22))","v":{"$error":"#NAME?"}},{"$error":"#NAME?"},null,{"$error":"#N/A"},{"$error":"#N/A"},{"$error":"#N/A"},null,{"$error":"#N/A"},{"$error":"#N/A"},{"$error":"#N/A"},0,"","","",0,"","","",0,"","","",null,null,null,59,14,14,"",14,14,1,"14","14","Philippines",59.344767032375628,null,74,7,7,"",1,1,1,"14","14","Brazil",64.285714285714278,null,44,14,14,"",14,14,1,"14","14","Philippines",44.222056658333329,null,61,19,19,"",7,7,1,"14","14","Indonesia",73.22444444444443,null,70.8,14,14,"",14,14,1,"14","14","Philippines",70.833333333333314,null,76,9,8,"=",17,17,1,"=13","==13","South Korea",62.916666666666671,null,31,19,17,"=",7,7,1,"=14","==14","Indonesia",37.257654588533597]
[{"$f":"tblCountries!H105","v":15},{"$f":"tblCountries!I105","v":15},{"$f":"tblCountries!J105","v":1},null,42.27,{"$f":"IF(E23=\"n/a\",$B$4-COUNTIF(E24:E$28,\"n/a\"),RANK(E23,OFFSET(E$9,0,0,$B$4,1))+COUNTIF(OFFSET(E$9,0,0,$A23,1),E23)-1)","v":20},20,"",7,7,1,"=15","==15","Indonesia",56.953006340747656,"||||||||||||||||||||||",null,null,{"$error":"#N/A"},{"$error":"#N/A"},"=",{"$error":"#N/A"},{"$error":"#N/A"},{"$f":"IF($A23=0,\"\",INDEX(aDeltas,E$6,W23))","v":{"$error":"#NAME?"}},{"$error":"#NAME?"},null,{"$error":"#N/A"},{"$error":"#N/A"},{"$error":"#N/A"},null,{"$error":"#N/A"},{"$error":"#N/A"},{"$error":"#N/A"},0,"","","",0,"","","",0,"","","",null,null,null,42,20,20,"",7,7,1,"=15","==15","Indonesia",56.953006340747656,null,14,20,20,"",9,9,1,"15","15","Mexico",57.142857142857132,null,32,19,19,"",20,20,1,"15","15","Vietnam",42.257180255555554,null,57,20,20,"",16,16,1,"15","15","South Africa",71.206666666666663,null,66.7,17,15,"=",9,9,1,"=15","==15","Mexico",66.666666666666657,null,22,20,20,"",20,20,1,"15","15","Vietnam",61.541666666666664,null,62,11,10,"=",13,13,1,"=14","==14","Peru",37.490763697128386]
[{"$f":"tblCountries!H106","v":16},{"$f":"tblCountries!I106","v":16},{"$f":"tblCountries!J106","v":1},null,67.87,{"$f":"IF(E24=\"n/a\",$B$4-COUNTIF(E25:E$28,\"n/a\"),RANK(E24,OFFSET(E$9,0,0,$B$4,1))+COUNTIF(OFFSET(E$9,0,0,$A24,1),E24)-1)","v":9},9,"",20,20,1,"=15","==15","Vietnam",56.704826834920624,"||||||||||||||||||||||",null,null,{"$error":"#N/A"},{"$error":"#N/A"},"=",{"$error":"#N/A"},{"$error":"#N/A"},{"$f":"IF($A24=0,\"\",INDEX(aDeltas,E$6,W24))","v":{"$error":"#NAME?"}},{"$error":"#NAME?"},null,{"$error":"#N/A"},{"$error":"#N/A"},{"$error":"#N/A"},null,{"$error":"#N/A"},{"$error":"#N/A"},{"$error":"#N/A"},0,"","","",0,"","","",0,"","","",null,null,null,68,9,9,"",20,20,1,"=15","==15","Vietnam",56.704826834920624,null,71,10,8,"=",6,6,1,"16","16","India",53.571428571428562,null,56,10,10,"",13,13,1,"16","16","Peru",40.76830487777778,null,71,15,15,"",2,2,1,"16","16","Canada",66.824444444444438,null,81.900000000000006,8,6,"=",13,13,1,"=15","==15","Peru",66.666666666666657,null,67,11,10,"=",11,11,1,"16","16","Nigeria",61.041666666666664,null,60,12,12,"",20,20,1,"16","16","Vietnam",34.374875992063494]
[{"$f":"tblCountries!H107","v":17},{"$f":"tblCountries!I107","v":17},{"$f":"tblCountries!J107","v":1},null,72.03,{"$f":"IF(E25=\"n/a\",$B$4-COUNTIF(E26:E$28,\"n/a\"),RANK(E25,OFFSET(E$9,0,0,$B$4,1))+COUNTIF(OFFSET(E$9,0,0,$A25,1),E25)-1)","v":8},8,"",6,6,1,"17","17","India",56.073805389192202,"||||||||||||||||||||||",null,null,{"$error":"#N/A"},{"$error":"#N/A"},"=",{"$error":"#N/A"},{"$error":"#N/A"},{"$f":"IF($A25=0,\"\",INDEX(aDeltas,E$6,W25))","v":{"$error":"#NAME?"}},{"$error":"#NAME?"},null,{"$error":"#N/A"},{"$error":"#N/A"},{"$error":"#N/A"},null,{"$error":"#N/A"},{"$error":"#N/A"},{"$error":"#N/A"},0,"","","",0,"","","",0,"","","",null,null,null,72,8,8,"",6,6,1,"17","17","India",56.073805389192202,null,68,13,13,"",11,11,1,"17","17","Nigeria",42.857142857142854,null,73,9,9,"",6,6,1,"17","17","India",39.72636827777778,null,78,7,7,"",4,4,1,"17","17","China",66.131111111111096,null,80.599999999999994,9,9,"",15,15,1,"=15","==15","Russia",66.666666666666657,null,63,14,13,"=",9,9,1,"=17","==17","Mexico",52.625,null,70,9,9,"",6,6,1,"=17","==17","India",31.382257708169128]
[{"$f":"tblCountries!H108","v":18},{"$f":"tblCountries!I108","v":18},{"$f":"tblCountries!J108","v":1},null,79.819999999999993,{"$f":"IF(E26=\"n/a\",$B$4-COUNTIF(E27:E$28,\"n/a\"),RANK(E26,OFFSET(E$9,0,0,$B$4,1))+COUNTIF(OFFSET(E$9,0,0,$A26,1),E26)-1)","v":4},4,"",13,13,1,"18","18","Peru",55.138376508516096,"||||||||||||||||||||||",null,null,{"$error":"#N/A"},{"$error":"#N/A"},"=",{"$error":"#N/A"},{"$error":"#N/A"},{"$f":"IF($A26=0,\"\",INDEX(aDeltas,E$6,W26))","v":{"$error":"#NAME?"}},{"$error":"#NAME?"},null,{"$error":"#N/A"},{"$error":"#N/A"},{"$error":"#N/A"},null,{"$error":"#N/A"},{"$error":"#N/A"},{"$error":"#N/A"},0,"","","",0,"","","",0,"","","",null,null,null,80,4,4,"",13,13,1,"18","18","Peru",55.138376508516096,null,86,2,1,"=",3,3,1,"18","18","Chile",35.714285714285708,null,80,6,6,"",7,7,1,"18","18","Indonesia",38.632764408333337,null,79,6,6,"",11,11,1,"18","18","Nigeria",62.231111111111105,null,72.2,13,13,"",5,5,1,"18","18","France",63.888888888888872,null,80,3,3,"",12,12,1,"=17","==17","Norway",53.125,null,83,4,4,"",11,11,1,"=17","==17","Nigeria",31.421485924585198]
[{"$f":"tblCountries!H109","v":19},{"$f":"tblCountries!I109","v":19},{"$f":"tblCountries!J109","v":1},null,85.42,{"$f":"IF(E27=\"n/a\",$B$4-COUNTIF(E28:E$28,\"n/a\"),RANK(E27,OFFSET(E$9,0,0,$B$4,1))+COUNTIF(OFFSET(E$9,0,0,$A27,1),E27)-1)","v":2},2,"",11,11,1,"19","19","Nigeria",50.075062285380596,"||||||||||||||||||||",null,null,{"$error":"#N/A"},{"$error":"#N/A"},"=",{"$error":"#N/A"},{"$error":"#N/A"},{"$f":"IF($A27=0,\"\",INDEX(aDeltas,E$6,W27))","v":{"$error":"#NAME?"}},{"$error":"#NAME?"},null,{"$error":"#N/A"},{"$error":"#N/A"},{"$error":"#N/A"},null,{"$error":"#N/A"},{"$error":"#N/A"},{"$error":"#N/A"},0,"","","",0,"","","",0,"","","",null,null,null,85,2,2,"",11,11,1,"19","19","Nigeria",50.075062285380596,null,85,3,3,"",13,13,1,"19","19","Peru",32.142857142857139,null,86,4,4,"",15,15,1,"19","19","Russia",32.414799997222225,null,80,5,5,"",14,14,1,"19","19","Philippines",60.836666666666659,null,86.1,5,3,"=",20,20,1,"19","19","Vietnam",56.944444444444436,null,79,4,4,"",1,1,1,"19","19","Brazil",49.791666666666671,null,97,1,1,"",14,14,1,"=17","==17","Philippines",30.825355059730057]
[{"$f":"tblCountries!H110","v":20},{"$f":"tblCountries!I110","v":20},{"$f":"tblCountries!J110","v":1},null,56.7,{"$f":"IF(E28=\"n/a\",$B$4-COUNTIF(#REF!,\"n/a\"),RANK(E28,OFFSET(E$9,0,0,$B$4,1))+COUNTIF(OFFSET(E$9,0,0,$A28,1),E28)-1)","v":16},16,"",15,15,1,"20","20","Russia",42.268904992589576,"||||||||||||||||",null,null,{"$error":"#N/A"},{"$error":"#N/A"},"=",{"$error":"#N/A"},{"$error":"#N/A"},{"$f":"IF($A28=0,\"\",INDEX(aDeltas,E$6,W28))","v":{"$error":"#NAME?"}},{"$error":"#NAME?"},null,{"$error":"#N/A"},{"$error":"#N/A"},{"$error":"#N/A"},null,{"$error":"#N/A"},{"$error":"#N/A"},{"$error":"#N/A"},0,"","","",0,"","","",0,"","","",null,null,null,57,16,15,"=",15,15,1,"20","20","Russia",42.268904992589576,null,71,11,8,"=",15,15,1,"20","20","Russia",14.285714285714285,null,42,15,15,"",11,11,1,"20","20","Nigeria",16.787856041666668,null,74,13,13,"",15,15,1,"20","20","Russia",56.499999999999986,null,56.9,19,19,"",7,7,1,"20","20","Indonesia",47.222222222222214,null,62,15,15,"",15,15,1,"20","20","Russia",21.666666666666668,null,34,16,16,"",4,4,1,"20","20","China",24.917515758358782]
[]
[]
[null,null,null,null,null,null,null,null,null,null,null,null,null,null,null,null,null,null,null,null,null,null,null,null,null,null,null,null,null,null,null,null,"IMPROVED",{"$f":"COUNTIF(AH9:AH28,\">0\")","v":0}]
[null,null,null,null,null,null,null,null,null,null,null,null,null,null,null,null,null,null,null,null,null,null,null,null,null,null,null,null,null,null,null,null,"DECLINED",{"$f":"COUNTIF(AL9:AL28,\">0\")","v":0}]
[null,null,null,null,null,null,null,null,null,null,null,null,null,null,null,null,null,null,null,null,null,null,null,null,null,null,null,null,null,null,null,null,"NO CHANGE",{"$f":"COUNTIF(AP9:AP28,\">0\")","v":0}]

{"sheet":"tblCountries","index":6,"n_rows":121,"n_cols":59,"rows_kept":121,"cut":false,"hidden":true,"merged":[]}
["ID","ISO","EIU","Country","STATUS","InRegFilter","InRegHighlight","InRegAvg","CoreRegion",null,null,null,null,"RegionID","Region","Include in regional ranking?","All Countries","UN: Africa","UN: Central Asia","UN: Eastern Asia","UN: Southern Asia","UN: Western Asia","UN: Europe","UN: Latin America and the Caribbean","UN: Northern America","UN: Oceania","African Union","EU","FSU","G8","G20","OAS","NAM","NATO","2010 Nuclear Security Summit","GICNT","G8 Global Partnership","CPPNM","2005 CPPNM Amendment","ICSANT","Nuclear Power Programs (IAEA)","Planned/Proposed Nuc Pwr Prgms (WNA)","2012 Nuclear Security Summit","Nuclear-Armed States","Non-Nuclear-Weapon States",null,null,null,"MATERIALS_3_1","MATERIALS_3_1","MATERIALS_3_1","NORMS_2_1","NORMS_2_2","NORMS_2_3","NORMS_2_4","NORMS_1_1","NORMS_1_2","NORMS_1_3","SOCIETY_3_1"]
[0,null,null,"<none>",null,null,null,null,null,null,"HIGHLIGHT_ID",{"$f":"iWorks!$B$31","v":0},null,0,"<none>",null,{"$f":"SUM(Q3:Q22)","v":20},0,1,3,3,1,9,1,1,1,0,6,3,6,10,2,5,8,17,18,12,18,13,17,12,5,17,7,13,null,null,"ROW ->",{"$f":"MATCH(AW1,lu_indicode,0)","v":{"$error":"#N/A"}},{"$error":"#N/A"},{"$error":"#N/A"},{"$error":"#N/A"},{"$error":"#N/A"},{"$error":"#N/A"},{"$error":"#N/A"},{"$error":"#N/A"},{"$error":"#N/A"},{"$error":"#N/A"},{"$error":"#N/A"}]
[1,null,null,"Brazil",{"$f":"IF(A3=$L$2,3,IF(F3=0,0,IF(G3=1,2,1)))","v":1},{"$f":"INDEX($Q3:$AU3,$L$3)","v":1},{"$f":"IF($L$4=0,0,INDEX($Q3:$AU3,$L$4))","v":0},{"$f":"INDEX($Q3:$AU3,$L$5)","v":1},null,null,"REGION_FILTER_ID",{"$f":"iWorks!$B$28","v":1},null,1,{"$f":"INDEX(Q$1:AS$1,$N3)","v":"All Countries"},null,1,0,0,0,0,0,0,1,0,0,0,0,0,0,1,1,0,0,1,1,0,1,1,1,1,0,1,0,1,null,null,null,{"$f":"INDEX(aRawScores,AW$2,$A3)","v":{"$error":"#NAME?"}},{"$error":"#NAME?"},{"$error":"#NAME?"},{"$error":"#NAME?"},{"$error":"#NAME?"},{"$error":"#NAME?"},{"$error":"#NAME?"},{"$error":"#NAME?"},{"$error":"#NAME?"},{"$error":"#NAME?"},{"$error":"#NAME?"}]
[2,null,null,"Canada",{"$f":"IF(A4=$L$2,3,IF(F4=0,0,IF(G4=1,2,1)))","v":1},{"$f":"INDEX($Q4:$AU4,$L$3)","v":1},{"$f":"IF($L$4=0,0,INDEX($Q4:$AU4,$L$4))","v":0},{"$f":"INDEX($Q4:$AU4,$L$5)","v":1},null,null,"REGION_HIGHLIGHT_ID",{"$f":"iWorks!$B$34","v":0},null,2,{"$f":"INDEX(Q$1:AS$1,$N4)","v":"UN: Africa"},null,1,0,0,0,0,0,0,0,0,1,0,0,0,0,1,0,0,0,1,1,1,1,1,1,0,0,1,0,1,null,null,null,{"$error":"#NAME?"},{"$error":"#NAME?"},{"$error":"#NAME?"},{"$error":"#NAME?"},{"$error":"#NAME?"},{"$error":"#NAME?"},{"$error":"#NAME?"},{"$error":"#NAME?"},{"$error":"#NAME?"},{"$error":"#NAME?"},{"$error":"#NAME?"}]
[3,null,null,"Chile",1,1,0,1,null,null,"REGION_AVERAGE",{"$f":"iWorks!$B$38","v":1},null,3,"UN: Central Asia",null,1,0,0,0,0,0,1,0,0,0,0,0,1,0,0,0,1,0,0,1,0,1,0,1,0,1,0,0,1,null,null,null,{"$error":"#NAME?"},{"$error":"#NAME?"},{"$error":"#NAME?"},{"$error":"#NAME?"},{"$error":"#NAME?"},{"$error":"#NAME?"},{"$error":"#NAME?"},{"$error":"#NAME?"},{"$error":"#NAME?"},{"$error":"#NAME?"},{"$error":"#NAME?"}]
[4,null,null,"China",1,1,0,1,null,null,null,null,null,4,"UN: Eastern Asia",null,1,0,0,0,0,0,1,0,0,0,0,1,0,0,0,0,0,1,1,1,1,1,1,1,1,0,1,0,1,null,null,null,{"$error":"#NAME?"},{"$error":"#NAME?"},{"$error":"#NAME?"},{"$error":"#NAME?"},{"$error":"#NAME?"},{"$error":"#NAME?"},{"$error":"#NAME?"},{"$error":"#NAME?"},{"$error":"#NAME?"},{"$error":"#NAME?"},{"$error":"#NAME?"}]
[5,null,null,"France",1,1,0,1,null,null,"ACTIVE_COUNTRY_COUNT",{"$f":"SUM($F$3:$F$23)","v":20},null,5,"UN: Southern Asia",null,1,0,0,0,0,0,0,0,1,0,0,0,0,1,1,1,0,1,1,1,1,1,0,1,1,0,1,0,1,null,null,null,{"$error":"#NAME?"},{"$error":"#NAME?"},{"$error":"#NAME?"},{"$error":"#NAME?"},{"$error":"#NAME?"},{"$error":"#NAME?"},{"$error":"#NAME?"},{"$error":"#NAME?"},{"$error":"#NAME?"},{"$error":"#NAME?"},{"$error":"#NAME?"}]
[6,null,null,"India",1,1,0,1,null,null,null,null,null,6,"UN: Western Asia",null,1,0,0,1,0,0,0,0,0,0,0,0,0,0,1,0,0,0,1,1,0,1,1,1,1,0,1,1,0,null,null,null,{"$error":"#NAME?"},{"$error":"#NAME?"},{"$error":"#NAME?"},{"$error":"#NAME?"},{"$error":"#NAME?"},{"$error":"#NAME?"},{"$error":"#NAME?"},{"$error":"#NAME?"},{"$error":"#NAME?"},{"$error":"#NAME?"},{"$error":"#NAME?"}]
[7,null,null,"Indonesia",1,1,0,1,null,null,null,null,null,7,"UN: Europe",null,1,0,0,0,0,0,1,0,0,0,0,1,0,1,1,0,0,1,1,1,1,1,1,1,1,0,1,1,0,null,null,null,{"$error":"#NAME?"},{"$error":"#NAME?"},{"$error":"#NAME?"},{"$error":"#NAME?"},{"$error":"#NAME?"},{"$error":"#NAME?"},{"$error":"#NAME?"},{"$error":"#NAME?"},{"$error":"#NAME?"},{"$error":"#NAME?"},{"$error":"#NAME?"}]
[8,null,null,"Japan",1,1,0,1,null,null,null,null,null,8,"UN: Latin America and the Caribbean",null,1,0,0,0,0,0,1,0,0,0,0,1,0,1,1,0,0,1,1,1,1,1,1,1,1,0,1,0,1,null,null,null,{"$error":"#NAME?"},{"$error":"#NAME?"},{"$error":"#NAME?"},{"$error":"#NAME?"},{"$error":"#NAME?"},{"$error":"#NAME?"},{"$error":"#NAME?"},{"$error":"#NAME?"},{"$error":"#NAME?"},{"$error":"#NAME?"},{"$error":"#NAME?"}]
[9,null,null,"Mexico",1,1,0,1,null,null,null,null,null,9,"UN: Northern America",null,1,0,0,0,1,0,0,0,0,0,0,0,0,0,1,0,1,0,1,1,0,1,1,1,1,0,1,1,0,null,null,null,{"$error":"#NAME?"},{"$error":"#NAME?"},{"$error":"#NAME?"},{"$error":"#NAME?"},{"$error":"#NAME?"},{"$error":"#NAME?"},{"$error":"#NAME?"},{"$error":"#NAME?"},{"$error":"#NAME?"},{"$error":"#NAME?"},{"$error":"#NAME?"}]
[10,null,null,"New Zealand",1,1,0,1,null,null,null,null,null,10,"UN: Oceania",null,1,0,0,0,1,0,0,0,0,0,0,0,0,0,0,0,1,0,0,0,0,0,0,0,1,0,0,0,1,null,null,null,{"$f":"INDEX(aRawScores,AW$2,$A12)","v":{"$error":"#NAME?"}},{"$error":"#NAME?"},{"$error":"#NAME?"},{"$error":"#NAME?"},{"$error":"#NAME?"},{"$error":"#NAME?"},{"$error":"#NAME?"},{"$error":"#NAME?"},{"$error":"#NAME?"},{"$error":"#NAME?"},{"$error":"#NAME?"}]
[11,null,null,"Nigeria",1,1,0,1,null,null,null,null,null,11,"African Union",null,1,0,0,0,0,1,0,0,0,0,0,0,0,0,0,0,0,0,1,1,0,1,1,1,0,1,1,1,0,null,null,null,{"$error":"#NAME?"},{"$error":"#NAME?"},{"$error":"#NAME?"},{"$error":"#NAME?"},{"$error":"#NAME?"},{"$error":"#NAME?"},{"$error":"#NAME?"},{"$error":"#NAME?"},{"$error":"#NAME?"},{"$error":"#NAME?"},{"$error":"#NAME?"}]
[12,null,null,"Norway",1,1,0,1,null,null,null,null,null,12,"EU",null,1,0,0,0,0,0,1,0,0,0,0,1,0,1,1,0,0,1,1,1,1,1,0,1,0,1,1,0,1,null,null,null,{"$error":"#NAME?"},{"$error":"#NAME?"},{"$error":"#NAME?"},{"$error":"#NAME?"},{"$error":"#NAME?"},{"$error":"#NAME?"},{"$error":"#NAME?"},{"$error":"#NAME?"},{"$error":"#NAME?"},{"$error":"#NAME?"},{"$error":"#NAME?"}]
[13,null,null,"Peru",1,1,0,1,null,null,null,null,null,13,"FSU",null,1,0,0,1,0,0,0,0,0,0,0,0,0,1,1,0,0,0,1,1,1,1,0,1,1,0,1,0,1,null,null,null,{"$error":"#NAME?"},{"$error":"#NAME?"},{"$error":"#NAME?"},{"$error":"#NAME?"},{"$error":"#NAME?"},{"$error":"#NAME?"},{"$error":"#NAME?"},{"$error":"#NAME?"},{"$error":"#NAME?"},{"$error":"#NAME?"},{"$error":"#NAME?"}]
[14,null,null,"Philippines",1,1,0,1,null,null,null,null,null,14,"G8",null,1,0,1,0,0,0,0,0,0,0,0,0,1,0,0,0,0,0,1,1,1,1,1,1,0,1,1,0,1,null,null,null,{"$error":"#NAME?"},{"$error":"#NAME?"},{"$error":"#NAME?"},{"$error":"#NAME?"},{"$error":"#NAME?"},{"$error":"#NAME?"},{"$error":"#NAME?"},{"$error":"#NAME?"},{"$error":"#NAME?"},{"$error":"#NAME?"},{"$error":"#NAME?"}]
[15,null,null,"Russia",1,1,0,1,null,null,null,null,null,15,"G20",null,1,0,0,0,0,0,1,0,0,0,0,1,0,0,0,0,0,1,1,1,1,1,1,1,1,0,1,0,1,null,null,null,{"$error":"#NAME?"},{"$error":"#NAME?"},{"$error":"#NAME?"},{"$error":"#NAME?"},{"$error":"#NAME?"},{"$error":"#NAME?"},{"$error":"#NAME?"},{"$error":"#NAME?"},{"$error":"#NAME?"},{"$error":"#NAME?"},{"$error":"#NAME?"}]
[16,null,null,"South Africa",1,1,0,1,null,null,null,null,null,16,"OAS",null,1,0,0,1,0,0,0,0,0,0,0,0,0,0,0,0,1,0,0,0,0,0,0,0,0,1,0,1,0,null,null,null,{"$error":"#NAME?"},{"$error":"#NAME?"},{"$error":"#NAME?"},{"$error":"#NAME?"},{"$error":"#NAME?"},{"$error":"#NAME?"},{"$error":"#NAME?"},{"$error":"#NAME?"},{"$error":"#NAME?"},{"$error":"#NAME?"},{"$error":"#NAME?"}]
[17,null,null,"South Korea",1,1,0,1,null,null,null,null,null,17,"NAM",null,1,0,0,0,0,0,1,0,0,0,0,0,0,0,0,0,0,1,1,1,1,1,1,1,0,0,1,0,1,null,null,null,{"$error":"#NAME?"},{"$error":"#NAME?"},{"$error":"#NAME?"},{"$error":"#NAME?"},{"$error":"#NAME?"},{"$error":"#NAME?"},{"$error":"#NAME?"},{"$error":"#NAME?"},{"$error":"#NAME?"},{"$error":"#NAME?"},{"$error":"#NAME?"}]
[18,null,null,"Spain",1,1,0,1,null,null,null,null,null,18,"NATO",null,1,0,0,0,1,0,0,0,0,0,0,0,0,0,0,0,1,0,1,1,0,1,0,0,1,0,1,1,0,null,null,null,{"$error":"#NAME?"},{"$error":"#NAME?"},{"$error":"#NAME?"},{"$error":"#NAME?"},{"$error":"#NAME?"},{"$error":"#NAME?"},{"$error":"#NAME?"},{"$error":"#NAME?"},{"$error":"#NAME?"},{"$error":"#NAME?"},{"$error":"#NAME?"}]
[19,null,null,"United States",1,1,0,1,null,null,null,null,null,19,"2010 Nuclear Security Summit",null,1,0,0,0,0,0,1,0,0,0,0,1,0,0,0,0,0,1,1,1,1,1,1,1,0,0,1,0,1,null,null,null,{"$f":"INDEX(aRawScores,AW$2,$A21)","v":{"$error":"#NAME?"}},{"$error":"#NAME?"},{"$error":"#NAME?"},{"$error":"#NAME?"},{"$error":"#NAME?"},{"$error":"#NAME?"},{"$error":"#NAME?"},{"$error":"#NAME?"},{"$error":"#NAME?"},{"$error":"#NAME?"},{"$error":"#NAME?"}]
[20,null,null,"Vietnam",1,1,0,1,null,null,null,null,null,20,"GICNT",null,1,0,0,0,0,0,1,0,0,0,0,0,1,1,1,0,0,0,1,1,1,1,1,1,1,0,1,1,0,null,null,null,{"$error":"#NAME?"},{"$error":"#NAME?"},{"$error":"#NAME?"},{"$error":"#NAME?"},{"$error":"#NAME?"},{"$error":"#NAME?"},{"$error":"#NAME?"},{"$error":"#NAME?"},{"$error":"#NAME?"},{"$error":"#NAME?"},{"$error":"#NAME?"}]
[null,null,null,null,null,null,null,null,null,null,null,null,null,26,"Planned/Proposed Nuc Pwr Prgms (WNA)",null,null,null,null,null,null,null,null,null,null,null,null,null,null,null,null,null,null,null,null,null,null,null,null,null,null,null,null,null,null,null,null,null,{"$error":"#NAME?"},{"$error":"#NAME?"},{"$error":"#NAME?"},{"$error":"#NAME?"},{"$error":"#NAME?"},{"$error":"#NAME?"},{"$error":"#NAME?"},{"$error":"#NAME?"},{"$error":"#NAME?"},{"$error":"#NAME?"},{"$error":"#NAME?"}]
[null,null,null,null,null,null,null,null,null,null,null,null,null,27,"2012 Nuclear Security Summit",null,null,null,null,null,null,null,null,null,null,null,null,null,null,null,null,null,null,null,null,null,null,null,null,null,null,null,null,null,null,null,null,null,{"$f":"INDEX(aRawScores,AW$2,$A24)","v":{"$error":"#NAME?"}},{"$error":"#NAME?"},{"$error":"#NAME?"},{"$error":"#NAME?"},{"$error":"#NAME?"},{"$error":"#NAME?"},{"$error":"#NAME?"},{"$error":"#NAME?"},{"$error":"#NAME?"},{"$error":"#NAME?"},{"$error":"#NAME?"}]
[null,null,null,null,null,null,null,null,null,null,null,null,null,28,"Nuclear-Armed States"]
[null,null,null,null,null,null,null,null,null,null,null,null,null,29,{"$f":"INDEX(Q$1:AS$1,$N26)","v":"Non-Nuclear-Weapon States"}]
[]
[]
[]
[]
[]
[]
[]
[]
[]
[]
[]
[]
[]
[]
[]
[]
[]
[]
[]
[]
[]
[]
[]
[]
[]
[]
[]
[]
[]
[]
[]
[]
[]
[]
[]
[]
[]
[]
[]
[]
[]
[]
[]
[]
[]
[]
[]
[]
[]
[]
[]
[]
[]
[]
[]
[]
[]
[]
[]
[]
[]
[]
[]
["FILTERED COUNTRIES",null,null,null,0,null,null,"HC","COUNTRY_ID","STATUS"]
[1,null,null,null,{"$f":"E90+MATCH(1,OFFSET($F$3:$F$23,E90,0),0)","v":1},null,null,{"$f":"IF(ISNUMBER(E91),A91,0)","v":1},{"$f":"IF(ISNUMBER(E91),E91,0)","v":1},{"$f":"IF(ISNUMBER(E91),INDEX($E$3:$E$23,E91),0)","v":1}]
[2,null,null,null,2,null,null,{"$f":"IF(ISNUMBER(E92),A92,0)","v":2},{"$f":"IF(ISNUMBER(E92),E92,0)","v":2},1]
[3,null,null,null,3,null,null,3,3,1]
[4,null,null,null,4,null,null,4,4,1]
[5,null,null,null,5,null,null,5,5,1]
[6,null,null,null,6,null,null,6,6,1]
[7,null,null,null,7,null,null,7,7,1]
[8,null,null,null,8,null,null,8,8,1]
[9,null,null,null,9,null,null,9,9,1]
[10,null,null,null,10,null,null,10,10,1]
[11,null,null,null,11,null,null,11,11,1]
[12,null,null,null,12,null,null,12,12,1]
[13,null,null,null,13,null,null,13,13,1]
[14,null,null,null,14,null,null,14,14,1]
[15,null,null,null,15,null,null,15,15,1]
[16,null,null,null,16,null,null,16,16,1]
[17,null,null,null,17,null,null,17,17,1]
[18,null,null,null,18,null,null,18,18,1]
[19,null,null,null,19,null,null,19,19,1]
[20,null,null,null,20,null,null,20,20,1]
[21,null,null,null,{"$error":"#N/A"},null,null,0,0,0]
[22,null,null,null,{"$error":"#N/A"},null,null,0,0,0]
[23,null,null,null,{"$error":"#N/A"},null,null,0,0,0]
[24,null,null,null,{"$error":"#N/A"},null,null,0,0,0]
[25,null,null,null,{"$error":"#N/A"},null,null,0,0,0]
[26,null,null,null,{"$error":"#N/A"},null,null,0,0,0]
[27,null,null,null,{"$error":"#N/A"},null,null,0,0,0]
[28,null,null,null,{"$error":"#N/A"},null,null,0,0,0]
[29,null,null,null,{"$error":"#N/A"},null,null,0,0,0]
[30,null,null,null,{"$error":"#N/A"},null,null,0,0,0]
[31,null,null,null,{"$error":"#N/A"},null,null,0,0,0]

{"sheet":"Data_raw","index":7,"n_rows":48,"n_cols":21,"rows_kept":48,"cut":false,"hidden":true,"merged":[]}
[null,"Brazil","Canada","Chile","China","France","India","Indonesia","Japan","Mexico","New Zealand","Nigeria","Norway","Peru","Philippines","Russia","South Africa","South Korea","Spain","United States","Vietnam"]
["1.1.1",1,1,1,1,1,1,1,1,1,1,0,1,0,1,0,1,1,1,1,1]
["1.1.2",2,2,0,2,0,1,2,2,1,1,0,2,0,2,0,1,2,2,2,2]
["1.2.1",2,1,0,2,2,1,1,2,1,1,0,2,1,1,0,2,1,2,2,2]
["1.3.1",1,2,1,2,2,1,2,1,1,2,2,1,1,1,0,2,2,2,2,1]
["1.4.1",0,1,0,2,1,0,0,0,2,1,0,2,0,1,0,1,0,2,1,2]
["1.4.2",0,1,0,2,1,0,1,0,2,1,0,2,0,1,0,0,0,2,2,2]
["1.5.1",2,2,2,0,2,2,1,2,1,2,0,2,1,2,0,2,1,2,2,0]
["1.5.2",1,1,0,0,0,1,1,1,0,0,0,0,0,1,0,1,0,1,1,1]
["1.6.1",0,0,0,0,3,0,1,3,0,3,3,3,3,2,0,0,3,0,2,0]
["1.7.1",2,2,2,2,2,2,2,2,2,2,2,2,0,2,2,2,2,2,1,2]
["2.1.1",5.5,7.3,6.9,5.3,6.4,4.9000000000000004,4.8,6.2,5.9,7.1,3.6,7,5.2,5.0999999999999996,4.7,5.0999999999999996,6.3,6.2,7.2,4.7]
["2.2.1",55.023919999999997,95.215310000000002,90.430620000000005,46.889949999999999,88.03828,35.885170000000002,31.578949999999999,92.822969999999998,39.234450000000002,99.521529999999998,9.0909099999999992,98.564589999999995,42.105260000000001,43.540669999999999,16.746410000000001,54.545459999999999,70.33493,75.119609999999994,85.167469999999994,36.842109999999998]
["2.3.1",2,4,3,1,3,1,1,3,2,4,0,4,1,2,0,3,3,3,4,1]
["2.3.2",2,4,3,1,4,1,1,2,3,4,0,4,1,1,1,2,3,4,4,2]
["2.4.1",1.6762119499999999,4.4678625399999996,4.03192284,3.5625437099999999,4.1955244699999996,3.0175461299999999,2.97480981,4.3432485200000004,3.2756729299999998,4.7580509900000001,2.1611189,4.6856993200000003,2.7468544600000002,2.4561310000000001,2.9383197999999999,3.8633349300000002,4.3294011599999997,4.8231648600000003,4.68996938,2.74171729]
["2.4.2",3.1116162200000002,5.5150132599999999,4.3598233200000003,4.2239253799999998,5.4729046600000002,2.4336571299999998,3.3401524999999999,5.2746666400000004,3.5761838500000001,5.1997973100000001,0.57573403999999995,5.7219587699999996,3.8535751199999999,3.2019706800000001,3.8006194999999998,2.5784275000000001,4.5379454900000002,5.3212902700000004,5.2862660899999998,3.1894999400000001]
["2.4.3",1.75318855,4.3425858599999998,4.12132962,3.6141850799999999,5.1700424700000003,2.79489901,2.9262708700000002,4.9152011199999999,3.4227574299999999,3.9470711600000001,1.6771201200000001,2.8607439299999999,2.2331615,2.5695530299999998,1.71716756,3.9347543900000002,4.6001207400000004,4.90954874,4.6936391899999999,2.2039151499999998]
["2.4.4",0.73535114000000001,3.84234265,1.46288605,3.8483251900000002,4.8927856800000002,3.2498553299999999,2.6869991099999999,5.6976036800000003,1.7749697799999999,2.7213479,0.51398118999999998,2.8776080300000002,0.87926344000000001,1.2856122800000001,3.2908634700000001,2.4234970800000002,4.6144693200000004,4.9776866899999996,3.8940298599999998,2.0151842599999998]
["2.4.5",50.44,95.9,79.739999999999995,33.15,100,26.28,24.29,100,46.2,71.28,8.17,100,29.07,37.35,45.17,36.08,85.92,99.33,86.48,43.15]
["3.1.1",2,1,2,2,2,2,2,2,2,2,2,2,2,2,2,2,2,2,2,2]
["3.2.1",1,1,1,1,1,1,1,1,1,1,1,1,1,1,1,1,1,1,1,1]
["3.2.2",22,24,23,13,23,23,21,23,20,24,21,23,21,18,3,22,23,23,20,22]
["3.2.3",10.87,80.42,68.849999999999994,18.18,83.8,10.49,0.02,71.260000000000005,37.450000000000003,77.900000000000006,1.08,77.05,20.98,0.53,21.5,27.86,83.68,92.83,63.67,0.14000000000000001]
["3.3.1",3,3,3,2,3,3,3,3,3,3,1,2,3,1,1,2,2,2,3,3]
["3.3.2",1,1,1,1,1,1,1,1,1,1,1,1,1,1,1,1,1,1,1,1]
["4.1.1",2,2,1,2,2,1,1,2,1,2,2,2,2,2,2,2,2,2,2,1]
["4.1.2",2,2,1,2,2,2,0,2,2,2,2,2,2,2,2,2,2,2,2,2]
["4.2.1",1,1,1,1,1,1,1,1,1,1,1,1,1,1,1,1,1,1,1,1]
["4.2.2",1,1,1,1,1,1,1,1,1,1,1,1,1,1,1,1,1,1,1,1]
["4.2.3",1,1,1,1,0,1,1,1,1,1,1,1,1,1,1,1,1,0,1,1]
["4.2.4",1,2,2,1,0,1,0,2,2,1,2,2,0,1,0,1,2,2,2,1]
["4.3.1",1,1,2,2,2,1,0,2,1,1,1,2,1,1,1,1,2,2,1,0]
["4.3.2",1,1,1,1,1,1,1,1,1,1,1,1,1,0,1,1,1,1,1,1]
["4.3.3",1,1,1,0,0,1,1,1,0,1,1,1,0,1,0,1,0,0,1,0]
["5.1.1",2,0,2,1,2,0,1,1,1,2,1,1,2,1,1,0,0,2,1,0]
["5.2.1",1,1,1,1,1,1,1,1,1,1,1,1,0,1,0,1,1,1,1,1]
["5.2.2",0,1,1,1,1,1,1,1,1,1,0,1,1,1,0,1,1,0,1,1]
["5.3.1",2.95,4.0199999999999996,3.4,3.72,3.99,3.09,3.32,3.53,3.63,5.0599999999999996,2.65,3.75,3.77,3.13,2.2000000000000002,3.96,3.1,4.08,3.99,2.77]
["5.4.1",0,1,0,1,1,1,1,1,0,1,1,0,1,1,0,1,1,1,1,1]
["6.1.1",0.34180933710538969,0.81264335517079789,0.63469730136964253,0.24752547275076348,0.739485127086837,0.44146773124507388,0.36772963765600791,0.59793148152207298,0.53760303533818754,0.81158446414107033,0.44264457773755606,0.88276020081512097,0.62472291091385157,0.42476065179190181,0.86238747017802986,0.8075307887569636,0.59356464041423551,0.7423047878907103,0.9051819871981015,0.53124627976190486]
["6.2.1",1,1,1,1,1,1,1,0,1,1,1,1,1,1,1,1,1,1,1,1]
["6.2.2",2,0,0,0,2,0,1,1,2,2,0,0,0,0,2,2,0,1,2,0]
["6.3.1",1,1,1,0,1,0,0,1,0,1,0,1,0,0,0,0,1,1,1,0]
[7.1,16050,44295.9,22450,13390,39000,5850,10540,36820,16773.099999999999,35360,5880,68070,10840,6910,24590,13404.6,35140,33710,54633.9,5520]
[7.2,52.97,73.14,69.63,43,71.05,31.23,44.36,72.349999999999994,55.03,76.41,39.200000000000003,78.040000000000006,45.05,44.02,53.45,53.51,63.79,79.790000000000006,67.52,38.17]
[7.3,0.74399999999999999,0.90200000000000002,0.82199999999999995,0.71899999999999997,0.88400000000000001,0.58599999999999997,0.68400000000000005,0.89,0.75600000000000001,0.91,0.504,0.94399999999999995,0.73699999999999999,0.66,0.77800000000000002,0.65800000000000003,0.89100000000000001,0.86899999999999999,0.91400000000000003,0.63800000000000001]
[7.4,7.3790849673202619,9.0793650793650791,7.7963352007469648,3.0004668534080299,8.0404995331465923,7.9220354808590105,6.9491596638655464,8.0807656395891687,6.6848739495798313,9.2599206349206362,3.7611344537815121,9.928571428571427,6.5392156862745097,6.7699579831932768,3.3939775910364149,7.8209617180205413,8.0550887021475255,8.0470354808590105,8.1086601307189543,3.4090802987861806]

{"sheet":"Cover","index":8,"n_rows":32,"n_cols":2,"rows_kept":32,"cut":false,"hidden":false,"merged":[[31,1,31,4]]}
[]
[]
[]
[]
[]
[]
[]
[]
[]
[]
[]
[]
[]
[]
[]
[]
[]
[]
[]
[]
[]
[]
[]
[]
[]
[]
[]
[]
[]
[null,"Publication date: 26 May 2015"]
[null,"EIU Research Director: Hilary Steiner [HilarySteiner@economist.com]"]
[null,"All rights reserved.\n"]

{"sheet":"Contents","index":9,"n_rows":22,"n_cols":2,"rows_kept":22,"cut":false,"hidden":false,"merged":[[19,1,19,2],[11,1,11,2],[21,1,21,2],[5,1,5,2],[7,1,7,2],[9,1,9,2],[13,1,13,2],[17,1,17,2],[15,1,15,2]]}
["CONTENTS"]
[]
[null,"        Click the circle icon in any worksheet to return to this page"]
[]
[null,"SUMMARY"]
[null,"Provides the overall and category rankings and scores."]
[null,"INDICATOR RANKINGS"]
[null,"Displays the scores and ranks by indicator and sub-indicator. "]
[null,"COUNTRY SUMMARY"]
[null,"Provides the scores and ranks by country based on performance against the average. "]
[null,"COUNTRY SCORES"]
[null,"Provides a list of the scores and ranks for all categories and indicators by country."]
[null,"SIX COUNTRY COMPARISON"]
[null,"Compares the scores of up to six countries and “all country average”. "]
[null,"SCATTER PLOT"]
[null,"Shows correlation of index scores against select background indicators. "]
[null,"WEIGHTS"]
[null,"Displays the weights applied to each category and indicator. Allows the user to customize weights.  "]
[null,"DATA"]
[null,"Provides the raw data for all sub-indicators across the 20 countries. "]
[null,"SCORES"]
[null,"Displays the normalized scores at the sub-indicator, indicator and category level across 20 countries."]

{"sheet":"Summary","index":10,"n_rows":29,"n_cols":36,"rows_kept":29,"cut":false,"hidden":false,"merged":[[7,33,7,35],[7,8,7,10],[7,23,7,25],[7,13,7,15],[7,18,7,20],[7,28,7,30]]}
["SUMMARY",null,null,null,null,null,null,null,null,"WEIGHT PROFILE"]
[null,null,null,null,null,null,null,null,null,"COUNTRY HIGHLIGHT"]
[]
[null,null,null,"Overall and category scores and ranks for 2015. Scored 0-100 where 100=most favorable."]
[null,null,null,{"$f":"iWorks!$B$10","v":"= denotes tie in rank"}]
[]
[]
[null,null,null,{"$f":"iRankIndi!BD4","v":"OVERALL SCORE"},null,null,null,null,{"$f":"iRankIndi!BP4","v":"1) POLICY AND INSTITUTIONAL CAPACITY"},null,null,null,null,{"$f":"iRankIndi!CB4","v":"2) BUSINESS ENVIRONMENT FOR COASTAL ACTIVITIES"},null,null,null,null,{"$f":"iRankIndi!CN4","v":"3) WATER QUALITY"},null,null,null,null,{"$f":"iRankIndi!CZ4","v":"4) MINERALS AND ENERGY"},null,null,null,null,{"$f":"iRankIndi!DL4","v":"5) LAND"},null,null,null,null,{"$f":"iRankIndi!DX4","v":"6) LIVING RESOURCES"}]
[null,null,null,{"$f":"iWorks!$C$9","v":"Rank / 20"},null,"Score / 100",null,null,{"$f":"iWorks!$C$9","v":"Rank / 20"},null,"Score / 100",null,null,{"$f":"iWorks!$C$9","v":"Rank / 20"},null,"Score / 100",null,null,{"$f":"iWorks!$C$9","v":"Rank / 20"},null,"Score / 100",null,null,{"$f":"iWorks!$C$9","v":"Rank / 20"},null,"Score / 100",null,null,{"$f":"iWorks!$C$9","v":"Rank / 20"},null,"Score / 100",null,null,{"$f":"iWorks!$C$9","v":"Rank / 20"},null,"Score / 100"]
[null,null,{"$f":"iRankIndi!BC9","v":1},{"$f":"iRankIndi!BD9","v":"1"},{"$f":"iRankIndi!BF9","v":"New Zealand"},{"$f":"iRankIndi!BG9","v":86.163366424857784},null,{"$f":"iRankIndi!BO9","v":1},{"$f":"iRankIndi!BP9","v":"=1"},{"$f":"iRankIndi!BR9","v":"Norway"},{"$f":"iRankIndi!BS9","v":85.714285714285694},null,{"$f":"iRankIndi!CA9","v":1},{"$f":"iRankIndi!CB9","v":"1"},{"$f":"iRankIndi!CD9","v":"Canada"},{"$f":"iRankIndi!CE9","v":89.016442202777782},null,{"$f":"iRankIndi!CM9","v":1},{"$f":"iRankIndi!CN9","v":"=1"},{"$f":"iRankIndi!CP9","v":"France"},{"$f":"iRankIndi!CQ9","v":83.422222222222217},null,{"$f":"iRankIndi!CY9","v":1},{"$f":"iRankIndi!CZ9","v":"=1"},{"$f":"iRankIndi!DB9","v":"Japan"},{"$f":"iRankIndi!DC9","v":91.666666666666657},null,{"$f":"iRankIndi!DK9","v":1},{"$f":"iRankIndi!DL9","v":"1"},{"$f":"iRankIndi!DN9","v":"New Zealand"},{"$f":"iRankIndi!DO9","v":96.083333333333329},null,{"$f":"iRankIndi!DW9","v":1},{"$f":"iRankIndi!DX9","v":"1"},{"$f":"iRankIndi!DZ9","v":"United States"},{"$f":"iRankIndi!EA9","v":96.839399573270043}]
[null,null,{"$f":"iRankIndi!BC10","v":1},{"$f":"iRankIndi!BD10","v":"2"},{"$f":"iRankIndi!BF10","v":"United States"},{"$f":"iRankIndi!BG10","v":85.422888393957692},null,{"$f":"iRankIndi!BO10","v":1},{"$f":"iRankIndi!BP10","v":"=1"},{"$f":"iRankIndi!BR10","v":"Spain"},{"$f":"iRankIndi!BS10","v":85.714285714285694},null,{"$f":"iRankIndi!CA10","v":1},{"$f":"iRankIndi!CB10","v":"2"},{"$f":"iRankIndi!CD10","v":"Norway"},{"$f":"iRankIndi!CE10","v":87.540600319444451},null,{"$f":"iRankIndi!CM10","v":1},{"$f":"iRankIndi!CN10","v":"=1"},{"$f":"iRankIndi!CP10","v":"New Zealand"},{"$f":"iRankIndi!CQ10","v":83.211111111111109},null,{"$f":"iRankIndi!CY10","v":1},{"$f":"iRankIndi!CZ10","v":"=1"},{"$f":"iRankIndi!DB10","v":"Norway"},{"$f":"iRankIndi!DC10","v":91.666666666666657},null,{"$f":"iRankIndi!DK10","v":1},{"$f":"iRankIndi!DL10","v":"2"},{"$f":"iRankIndi!DN10","v":"France"},{"$f":"iRankIndi!DO10","v":91.625},null,{"$f":"iRankIndi!DW10","v":1},{"$f":"iRankIndi!DX10","v":"2"},{"$f":"iRankIndi!DZ10","v":"New Zealand"},{"$f":"iRankIndi!EA10","v":93.719482138035659}]
[null,null,{"$f":"iRankIndi!BC11","v":1},{"$f":"iRankIndi!BD11","v":"3"},{"$f":"iRankIndi!BF11","v":"France"},{"$f":"iRankIndi!BG11","v":81.988128793868668},null,{"$f":"iRankIndi!BO11","v":1},{"$f":"iRankIndi!BP11","v":"3"},{"$f":"iRankIndi!BR11","v":"United States"},{"$f":"iRankIndi!BS11","v":84.523809523809518},null,{"$f":"iRankIndi!CA11","v":1},{"$f":"iRankIndi!CB11","v":"3"},{"$f":"iRankIndi!CD11","v":"New Zealand"},{"$f":"iRankIndi!CE11","v":87.021827522222225},null,{"$f":"iRankIndi!CM11","v":1},{"$f":"iRankIndi!CN11","v":"=3"},{"$f":"iRankIndi!CP11","v":"Chile"},{"$f":"iRankIndi!CQ11","v":81.761111111111106},null,{"$f":"iRankIndi!CY11","v":1},{"$f":"iRankIndi!CZ11","v":"=3"},{"$f":"iRankIndi!DB11","v":"Canada"},{"$f":"iRankIndi!DC11","v":86.1111111111111},null,{"$f":"iRankIndi!DK11","v":1},{"$f":"iRankIndi!DL11","v":"3"},{"$f":"iRankIndi!DN11","v":"Spain"},{"$f":"iRankIndi!DO11","v":79.5},null,{"$f":"iRankIndi!DW11","v":1},{"$f":"iRankIndi!DX11","v":"3"},{"$f":"iRankIndi!DZ11","v":"France"},{"$f":"iRankIndi!EA11","v":91.316170902894555}]
[null,null,{"$f":"iRankIndi!BC12","v":1},{"$f":"iRankIndi!BD12","v":"4"},{"$f":"iRankIndi!BF12","v":"Spain"},{"$f":"iRankIndi!BG12","v":79.820005731403398},null,{"$f":"iRankIndi!BO12","v":1},{"$f":"iRankIndi!BP12","v":"=4"},{"$f":"iRankIndi!BR12","v":"France"},{"$f":"iRankIndi!BS12","v":78.571428571428555},null,{"$f":"iRankIndi!CA12","v":1},{"$f":"iRankIndi!CB12","v":"4"},{"$f":"iRankIndi!CD12","v":"United States"},{"$f":"iRankIndi!CE12","v":86.085787933333336},null,{"$f":"iRankIndi!CM12","v":1},{"$f":"iRankIndi!CN12","v":"=3"},{"$f":"iRankIndi!CP12","v":"Japan"},{"$f":"iRankIndi!CQ12","v":82.028888888888872},null,{"$f":"iRankIndi!CY12","v":1},{"$f":"iRankIndi!CZ12","v":"=3"},{"$f":"iRankIndi!DB12","v":"Nigeria"},{"$f":"iRankIndi!DC12","v":86.1111111111111},null,{"$f":"iRankIndi!DK12","v":1},{"$f":"iRankIndi!DL12","v":"4"},{"$f":"iRankIndi!DN12","v":"United States"},{"$f":"iRankIndi!DO12","v":79.125},null,{"$f":"iRankIndi!DW12","v":1},{"$f":"iRankIndi!DX12","v":"4"},{"$f":"iRankIndi!DZ12","v":"Spain"},{"$f":"iRankIndi!EA12","v":83.076826263023662}]
[null,null,{"$f":"iRankIndi!BC13","v":1},{"$f":"iRankIndi!BD13","v":"5"},{"$f":"iRankIndi!BF13","v":"Norway"},{"$f":"iRankIndi!BG13","v":79.098093232372349},null,{"$f":"iRankIndi!BO13","v":1},{"$f":"iRankIndi!BP13","v":"=4"},{"$f":"iRankIndi!BR13","v":"Japan"},{"$f":"iRankIndi!BS13","v":78.571428571428555},null,{"$f":"iRankIndi!CA13","v":1},{"$f":"iRankIndi!CB13","v":"5"},{"$f":"iRankIndi!CD13","v":"France"},{"$f":"iRankIndi!CE13","v":83.105062177777782},null,{"$f":"iRankIndi!CM13","v":1},{"$f":"iRankIndi!CN13","v":"5"},{"$f":"iRankIndi!CP13","v":"United States"},{"$f":"iRankIndi!CQ13","v":79.85222222222221},null,{"$f":"iRankIndi!CY13","v":1},{"$f":"iRankIndi!CZ13","v":"=3"},{"$f":"iRankIndi!DB13","v":"United States"},{"$f":"iRankIndi!DC13","v":86.1111111111111},null,{"$f":"iRankIndi!DK13","v":1},{"$f":"iRankIndi!DL13","v":"=5"},{"$f":"iRankIndi!DN13","v":"China"},{"$f":"iRankIndi!DO13","v":78},null,{"$f":"iRankIndi!DW13","v":1},{"$f":"iRankIndi!DX13","v":"5"},{"$f":"iRankIndi!DZ13","v":"Norway"},{"$f":"iRankIndi!EA13","v":79.425340027170691}]
[null,null,{"$f":"iRankIndi!BC14","v":1},{"$f":"iRankIndi!BD14","v":"6"},{"$f":"iRankIndi!BF14","v":"Japan"},{"$f":"iRankIndi!BG14","v":78.164155255545907},null,{"$f":"iRankIndi!BO14","v":1},{"$f":"iRankIndi!BP14","v":"6"},{"$f":"iRankIndi!BR14","v":"New Zealand"},{"$f":"iRankIndi!BS14","v":74.999999999999986},null,{"$f":"iRankIndi!CA14","v":1},{"$f":"iRankIndi!CB14","v":"6"},{"$f":"iRankIndi!CD14","v":"Spain"},{"$f":"iRankIndi!CE14","v":79.536700188888886},null,{"$f":"iRankIndi!CM14","v":1},{"$f":"iRankIndi!CN14","v":"6"},{"$f":"iRankIndi!CP14","v":"Spain"},{"$f":"iRankIndi!CQ14","v":78.86999999999999},null,{"$f":"iRankIndi!CY14","v":1},{"$f":"iRankIndi!CZ14","v":"=6"},{"$f":"iRankIndi!DB14","v":"Brazil"},{"$f":"iRankIndi!DC14","v":81.944444444444429},null,{"$f":"iRankIndi!DK14","v":1},{"$f":"iRankIndi!DL14","v":"=5"},{"$f":"iRankIndi!DN14","v":"Peru"},{"$f":"iRankIndi!DO14","v":78.208333333333329},null,{"$f":"iRankIndi!DW14","v":1},{"$f":"iRankIndi!DX14","v":"6"},{"$f":"iRankIndi!DZ14","v":"Brazil"},{"$f":"iRankIndi!EA14","v":78.060311236846303}]
[null,null,{"$f":"iRankIndi!BC15","v":1},{"$f":"iRankIndi!BD15","v":"7"},{"$f":"iRankIndi!BF15","v":"Canada"},{"$f":"iRankIndi!BG15","v":76.203113504321877},null,{"$f":"iRankIndi!BO15","v":1},{"$f":"iRankIndi!BP15","v":"7"},{"$f":"iRankIndi!BR15","v":"Philippines"},{"$f":"iRankIndi!BS15","v":73.809523809523796},null,{"$f":"iRankIndi!CA15","v":1},{"$f":"iRankIndi!CB15","v":"7"},{"$f":"iRankIndi!CD15","v":"Japan"},{"$f":"iRankIndi!CE15","v":77.911898022222218},null,{"$f":"iRankIndi!CM15","v":1},{"$f":"iRankIndi!CN15","v":"7"},{"$f":"iRankIndi!CP15","v":"South Korea"},{"$f":"iRankIndi!CQ15","v":77.853333333333325},null,{"$f":"iRankIndi!CY15","v":1},{"$f":"iRankIndi!CZ15","v":"=6"},{"$f":"iRankIndi!DB15","v":"New Zealand"},{"$f":"iRankIndi!DC15","v":81.944444444444429},null,{"$f":"iRankIndi!DK15","v":1},{"$f":"iRankIndi!DL15","v":"7"},{"$f":"iRankIndi!DN15","v":"Japan"},{"$f":"iRankIndi!DO15","v":77.208333333333329},null,{"$f":"iRankIndi!DW15","v":1},{"$f":"iRankIndi!DX15","v":"7"},{"$f":"iRankIndi!DZ15","v":"Canada"},{"$f":"iRankIndi!EA15","v":77.088111839026595}]
[null,null,{"$f":"iRankIndi!BC16","v":1},{"$f":"iRankIndi!BD16","v":"8"},{"$f":"iRankIndi!BF16","v":"South Korea"},{"$f":"iRankIndi!BG16","v":72.027699919695479},null,{"$f":"iRankIndi!BO16","v":1},{"$f":"iRankIndi!BP16","v":"=8"},{"$f":"iRankIndi!BR16","v":"Canada"},{"$f":"iRankIndi!BS16","v":71.428571428571416},null,{"$f":"iRankIndi!CA16","v":1},{"$f":"iRankIndi!CB16","v":"8"},{"$f":"iRankIndi!CD16","v":"Chile"},{"$f":"iRankIndi!CE16","v":76.157956525000003},null,{"$f":"iRankIndi!CM16","v":1},{"$f":"iRankIndi!CN16","v":"=8"},{"$f":"iRankIndi!CP16","v":"Mexico"},{"$f":"iRankIndi!CQ16","v":76.938888888888883},null,{"$f":"iRankIndi!CY16","v":1},{"$f":"iRankIndi!CZ16","v":"=6"},{"$f":"iRankIndi!DB16","v":"South Africa"},{"$f":"iRankIndi!DC16","v":81.944444444444429},null,{"$f":"iRankIndi!DK16","v":1},{"$f":"iRankIndi!DL16","v":"=8"},{"$f":"iRankIndi!DN16","v":"Indonesia"},{"$f":"iRankIndi!DO16","v":76.333333333333343},null,{"$f":"iRankIndi!DW16","v":1},{"$f":"iRankIndi!DX16","v":"8"},{"$f":"iRankIndi!DZ16","v":"Chile"},{"$f":"iRankIndi!EA16","v":71.15657671232141}]
[null,null,{"$f":"iRankIndi!BC17","v":1},{"$f":"iRankIndi!BD17","v":"9"},{"$f":"iRankIndi!BF17","v":"South Africa"},{"$f":"iRankIndi!BG17","v":67.871569791374654},null,{"$f":"iRankIndi!BO17","v":1},{"$f":"iRankIndi!BP17","v":"=8"},{"$f":"iRankIndi!BR17","v":"China"},{"$f":"iRankIndi!BS17","v":71.428571428571416},null,{"$f":"iRankIndi!CA17","v":1},{"$f":"iRankIndi!CB17","v":"9"},{"$f":"iRankIndi!CD17","v":"South Korea"},{"$f":"iRankIndi!CE17","v":73.198013091666667},null,{"$f":"iRankIndi!CM17","v":1},{"$f":"iRankIndi!CN17","v":"=8"},{"$f":"iRankIndi!CP17","v":"Norway"},{"$f":"iRankIndi!CQ17","v":77.116666666666646},null,{"$f":"iRankIndi!CY17","v":1},{"$f":"iRankIndi!CZ17","v":"9"},{"$f":"iRankIndi!DB17","v":"South Korea"},{"$f":"iRankIndi!DC17","v":80.555555555555543},null,{"$f":"iRankIndi!DK17","v":1},{"$f":"iRankIndi!DL17","v":"=8"},{"$f":"iRankIndi!DN17","v":"Philippines"},{"$f":"iRankIndi!DO17","v":75.541666666666657},null,{"$f":"iRankIndi!DW17","v":1},{"$f":"iRankIndi!DX17","v":"9"},{"$f":"iRankIndi!DZ17","v":"South Korea"},{"$f":"iRankIndi!EA17","v":69.78548801380785}]
[null,null,{"$f":"iRankIndi!BC18","v":1},{"$f":"iRankIndi!BD18","v":"=10"},{"$f":"iRankIndi!BF18","v":"Brazil"},{"$f":"iRankIndi!BG18","v":66.512663123204533},null,{"$f":"iRankIndi!BO18","v":1},{"$f":"iRankIndi!BP18","v":"=8"},{"$f":"iRankIndi!BR18","v":"South Africa"},{"$f":"iRankIndi!BS18","v":71.428571428571416},null,{"$f":"iRankIndi!CA18","v":1},{"$f":"iRankIndi!CB18","v":"10"},{"$f":"iRankIndi!CD18","v":"South Africa"},{"$f":"iRankIndi!CE18","v":55.898709916666668},null,{"$f":"iRankIndi!CM18","v":1},{"$f":"iRankIndi!CN18","v":"10"},{"$f":"iRankIndi!CP18","v":"Peru"},{"$f":"iRankIndi!CQ18","v":75.553333333333327},null,{"$f":"iRankIndi!CY18","v":1},{"$f":"iRankIndi!CZ18","v":"10"},{"$f":"iRankIndi!DB18","v":"China"},{"$f":"iRankIndi!DC18","v":76.388888888888872},null,{"$f":"iRankIndi!DK18","v":1},{"$f":"iRankIndi!DL18","v":"=10"},{"$f":"iRankIndi!DN18","v":"Canada"},{"$f":"iRankIndi!DO18","v":66.75},null,{"$f":"iRankIndi!DW18","v":1},{"$f":"iRankIndi!DX18","v":"=10"},{"$f":"iRankIndi!DZ18","v":"Japan"},{"$f":"iRankIndi!EA18","v":61.597716050735755}]
[null,null,{"$f":"iRankIndi!BC19","v":1},{"$f":"iRankIndi!BD19","v":"=10"},{"$f":"iRankIndi!BF19","v":"Chile"},{"$f":"iRankIndi!BG19","v":67.326099454897474},null,{"$f":"iRankIndi!BO19","v":1},{"$f":"iRankIndi!BP19","v":"=8"},{"$f":"iRankIndi!BR19","v":"Vietnam"},{"$f":"iRankIndi!BS19","v":71.428571428571416},null,{"$f":"iRankIndi!CA19","v":1},{"$f":"iRankIndi!CB19","v":"11"},{"$f":"iRankIndi!CD19","v":"Mexico"},{"$f":"iRankIndi!CE19","v":54.173821380555552},null,{"$f":"iRankIndi!CM19","v":1},{"$f":"iRankIndi!CN19","v":"=11"},{"$f":"iRankIndi!CP19","v":"Brazil"},{"$f":"iRankIndi!CQ19","v":74.874444444444435},null,{"$f":"iRankIndi!CY19","v":1},{"$f":"iRankIndi!CZ19","v":"11"},{"$f":"iRankIndi!DB19","v":"Chile"},{"$f":"iRankIndi!DC19","v":75},null,{"$f":"iRankIndi!DK19","v":1},{"$f":"iRankIndi!DL19","v":"=10"},{"$f":"iRankIndi!DN19","v":"South Africa"},{"$f":"iRankIndi!DO19","v":66.5},null,{"$f":"iRankIndi!DW19","v":1},{"$f":"iRankIndi!DX19","v":"=10"},{"$f":"iRankIndi!DZ19","v":"Russia"},{"$f":"iRankIndi!EA19","v":62.079582339267652}]
[null,null,{"$f":"iRankIndi!BC20","v":1},{"$f":"iRankIndi!BD20","v":"12"},{"$f":"iRankIndi!BF20","v":"China"},{"$f":"iRankIndi!BG20","v":60.654296618192063},null,{"$f":"iRankIndi!BO20","v":1},{"$f":"iRankIndi!BP20","v":"12"},{"$f":"iRankIndi!BR20","v":"Indonesia"},{"$f":"iRankIndi!BS20","v":69.047619047619037},null,{"$f":"iRankIndi!CA20","v":1},{"$f":"iRankIndi!CB20","v":"12"},{"$f":"iRankIndi!CD20","v":"Brazil"},{"$f":"iRankIndi!CE20","v":50.119397661111115},null,{"$f":"iRankIndi!CM20","v":1},{"$f":"iRankIndi!CN20","v":"=11"},{"$f":"iRankIndi!CP20","v":"India"},{"$f":"iRankIndi!CQ20","v":75.276666666666657},null,{"$f":"iRankIndi!CY20","v":1},{"$f":"iRankIndi!CZ20","v":"12"},{"$f":"iRankIndi!DB20","v":"India"},{"$f":"iRankIndi!DC20","v":73.6111111111111},null,{"$f":"iRankIndi!DK20","v":1},{"$f":"iRankIndi!DL20","v":"12"},{"$f":"iRankIndi!DN20","v":"Chile"},{"$f":"iRankIndi!DO20","v":64.166666666666671},null,{"$f":"iRankIndi!DW20","v":1},{"$f":"iRankIndi!DX20","v":"12"},{"$f":"iRankIndi!DZ20","v":"South Africa"},{"$f":"iRankIndi!EA20","v":60.251026291898782}]
[null,null,{"$f":"iRankIndi!BC21","v":1},{"$f":"iRankIndi!BD21","v":"13"},{"$f":"iRankIndi!BF21","v":"Mexico"},{"$f":"iRankIndi!BG21","v":59.80011143170686},null,{"$f":"iRankIndi!BO21","v":1},{"$f":"iRankIndi!BP21","v":"13"},{"$f":"iRankIndi!BR21","v":"South Korea"},{"$f":"iRankIndi!BS21","v":67.857142857142847},null,{"$f":"iRankIndi!CA21","v":1},{"$f":"iRankIndi!CB21","v":"13"},{"$f":"iRankIndi!CD21","v":"China"},{"$f":"iRankIndi!CE21","v":47.059692522222221},null,{"$f":"iRankIndi!CM21","v":1},{"$f":"iRankIndi!CN21","v":"13"},{"$f":"iRankIndi!CP21","v":"Vietnam"},{"$f":"iRankIndi!CQ21","v":73.682222222222208},null,{"$f":"iRankIndi!CY21","v":1},{"$f":"iRankIndi!CZ21","v":"13"},{"$f":"iRankIndi!DB21","v":"Spain"},{"$f":"iRankIndi!DC21","v":72.222222222222214},null,{"$f":"iRankIndi!DK21","v":1},{"$f":"iRankIndi!DL21","v":"=13"},{"$f":"iRankIndi!DN21","v":"India"},{"$f":"iRankIndi!DO21","v":62.875},null,{"$f":"iRankIndi!DW21","v":1},{"$f":"iRankIndi!DX21","v":"13"},{"$f":"iRankIndi!DZ21","v":"Mexico"},{"$f":"iRankIndi!EA21","v":51.253434511272914}]
[null,null,{"$f":"iRankIndi!BC22","v":1},{"$f":"iRankIndi!BD22","v":"14"},{"$f":"iRankIndi!BF22","v":"Philippines"},{"$f":"iRankIndi!BG22","v":59.344767032375628},null,{"$f":"iRankIndi!BO22","v":1},{"$f":"iRankIndi!BP22","v":"14"},{"$f":"iRankIndi!BR22","v":"Brazil"},{"$f":"iRankIndi!BS22","v":64.285714285714278},null,{"$f":"iRankIndi!CA22","v":1},{"$f":"iRankIndi!CB22","v":"14"},{"$f":"iRankIndi!CD22","v":"Philippines"},{"$f":"iRankIndi!CE22","v":44.222056658333329},null,{"$f":"iRankIndi!CM22","v":1},{"$f":"iRankIndi!CN22","v":"14"},{"$f":"iRankIndi!CP22","v":"Indonesia"},{"$f":"iRankIndi!CQ22","v":73.22444444444443},null,{"$f":"iRankIndi!CY22","v":1},{"$f":"iRankIndi!CZ22","v":"14"},{"$f":"iRankIndi!DB22","v":"Philippines"},{"$f":"iRankIndi!DC22","v":70.833333333333314},null,{"$f":"iRankIndi!DK22","v":1},{"$f":"iRankIndi!DL22","v":"=13"},{"$f":"iRankIndi!DN22","v":"South Korea"},{"$f":"iRankIndi!DO22","v":62.916666666666671},null,{"$f":"iRankIndi!DW22","v":1},{"$f":"iRankIndi!DX22","v":"=14"},{"$f":"iRankIndi!DZ22","v":"Indonesia"},{"$f":"iRankIndi!EA22","v":37.257654588533597}]
[null,null,{"$f":"iRankIndi!BC23","v":1},{"$f":"iRankIndi!BD23","v":"=15"},{"$f":"iRankIndi!BF23","v":"Indonesia"},{"$f":"iRankIndi!BG23","v":56.953006340747656},null,{"$f":"iRankIndi!BO23","v":1},{"$f":"iRankIndi!BP23","v":"15"},{"$f":"iRankIndi!BR23","v":"Mexico"},{"$f":"iRankIndi!BS23","v":57.142857142857132},null,{"$f":"iRankIndi!CA23","v":1},{"$f":"iRankIndi!CB23","v":"15"},{"$f":"iRankIndi!CD23","v":"Vietnam"},{"$f":"iRankIndi!CE23","v":42.257180255555554},null,{"$f":"iRankIndi!CM23","v":1},{"$f":"iRankIndi!CN23","v":"15"},{"$f":"iRankIndi!CP23","v":"South Africa"},{"$f":"iRankIndi!CQ23","v":71.206666666666663},null,{"$f":"iRankIndi!CY23","v":1},{"$f":"iRankIndi!CZ23","v":"=15"},{"$f":"iRankIndi!DB23","v":"Mexico"},{"$f":"iRankIndi!DC23","v":66.666666666666657},null,{"$f":"iRankIndi!DK23","v":1},{"$f":"iRankIndi!DL23","v":"15"},{"$f":"iRankIndi!DN23","v":"Vietnam"},{"$f":"iRankIndi!DO23","v":61.541666666666664},null,{"$f":"iRankIndi!DW23","v":1},{"$f":"iRankIndi!DX23","v":"=14"},{"$f":"iRankIndi!DZ23","v":"Peru"},{"$f":"iRankIndi!EA23","v":37.490763697128386}]
[null,null,{"$f":"iRankIndi!BC24","v":1},{"$f":"iRankIndi!BD24","v":"=15"},{"$f":"iRankIndi!BF24","v":"Vietnam"},{"$f":"iRankIndi!BG24","v":56.704826834920624},null,{"$f":"iRankIndi!BO24","v":1},{"$f":"iRankIndi!BP24","v":"16"},{"$f":"iRankIndi!BR24","v":"India"},{"$f":"iRankIndi!BS24","v":53.571428571428562},null,{"$f":"iRankIndi!CA24","v":1},{"$f":"iRankIndi!CB24","v":"16"},{"$f":"iRankIndi!CD24","v":"Peru"},{"$f":"iRankIndi!CE24","v":40.76830487777778},null,{"$f":"iRankIndi!CM24","v":1},{"$f":"iRankIndi!CN24","v":"16"},{"$f":"iRankIndi!CP24","v":"Canada"},{"$f":"iRankIndi!CQ24","v":66.824444444444438},null,{"$f":"iRankIndi!CY24","v":1},{"$f":"iRankIndi!CZ24","v":"=15"},{"$f":"iRankIndi!DB24","v":"Peru"},{"$f":"iRankIndi!DC24","v":66.666666666666657},null,{"$f":"iRankIndi!DK24","v":1},{"$f":"iRankIndi!DL24","v":"16"},{"$f":"iRankIndi!DN24","v":"Nigeria"},{"$f":"iRankIndi!DO24","v":61.041666666666664},null,{"$f":"iRankIndi!DW24","v":1},{"$f":"iRankIndi!DX24","v":"16"},{"$f":"iRankIndi!DZ24","v":"Vietnam"},{"$f":"iRankIndi!EA24","v":34.374875992063494}]
[null,null,{"$f":"iRankIndi!BC25","v":1},{"$f":"iRankIndi!BD25","v":"17"},{"$f":"iRankIndi!BF25","v":"India"},{"$f":"iRankIndi!BG25","v":56.073805389192202},null,{"$f":"iRankIndi!BO25","v":1},{"$f":"iRankIndi!BP25","v":"17"},{"$f":"iRankIndi!BR25","v":"Nigeria"},{"$f":"iRankIndi!BS25","v":42.857142857142854},null,{"$f":"iRankIndi!CA25","v":1},{"$f":"iRankIndi!CB25","v":"17"},{"$f":"iRankIndi!CD25","v":"India"},{"$f":"iRankIndi!CE25","v":39.72636827777778},null,{"$f":"iRankIndi!CM25","v":1},{"$f":"iRankIndi!CN25","v":"17"},{"$f":"iRankIndi!CP25","v":"China"},{"$f":"iRankIndi!CQ25","v":66.131111111111096},null,{"$f":"iRankIndi!CY25","v":1},{"$f":"iRankIndi!CZ25","v":"=15"},{"$f":"iRankIndi!DB25","v":"Russia"},{"$f":"iRankIndi!DC25","v":66.666666666666657},null,{"$f":"iRankIndi!DK25","v":1},{"$f":"iRankIndi!DL25","v":"=17"},{"$f":"iRankIndi!DN25","v":"Mexico"},{"$f":"iRankIndi!DO25","v":52.625},null,{"$f":"iRankIndi!DW25","v":1},{"$f":"iRankIndi!DX25","v":"=17"},{"$f":"iRankIndi!DZ25","v":"India"},{"$f":"iRankIndi!EA25","v":31.382257708169128}]
[null,null,{"$f":"iRankIndi!BC26","v":1},{"$f":"iRankIndi!BD26","v":"18"},{"$f":"iRankIndi!BF26","v":"Peru"},{"$f":"iRankIndi!BG26","v":55.138376508516096},null,{"$f":"iRankIndi!BO26","v":1},{"$f":"iRankIndi!BP26","v":"18"},{"$f":"iRankIndi!BR26","v":"Chile"},{"$f":"iRankIndi!BS26","v":35.714285714285708},null,{"$f":"iRankIndi!CA26","v":1},{"$f":"iRankIndi!CB26","v":"18"},{"$f":"iRankIndi!CD26","v":"Indonesia"},{"$f":"iRankIndi!CE26","v":38.632764408333337},null,{"$f":"iRankIndi!CM26","v":1},{"$f":"iRankIndi!CN26","v":"18"},{"$f":"iRankIndi!CP26","v":"Nigeria"},{"$f":"iRankIndi!CQ26","v":62.231111111111105},null,{"$f":"iRankIndi!CY26","v":1},{"$f":"iRankIndi!CZ26","v":"18"},{"$f":"iRankIndi!DB26","v":"France"},{"$f":"iRankIndi!DC26","v":63.888888888888872},null,{"$f":"iRankIndi!DK26","v":1},{"$f":"iRankIndi!DL26","v":"=17"},{"$f":"iRankIndi!DN26","v":"Norway"},{"$f":"iRankIndi!DO26","v":53.125},null,{"$f":"iRankIndi!DW26","v":1},{"$f":"iRankIndi!DX26","v":"=17"},{"$f":"iRankIndi!DZ26","v":"Nigeria"},{"$f":"iRankIndi!EA26","v":31.421485924585198}]
[null,null,{"$f":"iRankIndi!BC27","v":1},{"$f":"iRankIndi!BD27","v":"19"},{"$f":"iRankIndi!BF27","v":"Nigeria"},{"$f":"iRankIndi!BG27","v":50.075062285380596},null,{"$f":"iRankIndi!BO27","v":1},{"$f":"iRankIndi!BP27","v":"19"},{"$f":"iRankIndi!BR27","v":"Peru"},{"$f":"iRankIndi!BS27","v":32.142857142857139},null,{"$f":"iRankIndi!CA27","v":1},{"$f":"iRankIndi!CB27","v":"19"},{"$f":"iRankIndi!CD27","v":"Russia"},{"$f":"iRankIndi!CE27","v":32.414799997222225},null,{"$f":"iRankIndi!CM27","v":1},{"$f":"iRankIndi!CN27","v":"19"},{"$f":"iRankIndi!CP27","v":"Philippines"},{"$f":"iRankIndi!CQ27","v":60.836666666666659},null,{"$f":"iRankIndi!CY27","v":1},{"$f":"iRankIndi!CZ27","v":"19"},{"$f":"iRankIndi!DB27","v":"Vietnam"},{"$f":"iRankIndi!DC27","v":56.944444444444436},null,{"$f":"iRankIndi!DK27","v":1},{"$f":"iRankIndi!DL27","v":"19"},{"$f":"iRankIndi!DN27","v":"Brazil"},{"$f":"iRankIndi!DO27","v":49.791666666666671},null,{"$f":"iRankIndi!DW27","v":1},{"$f":"iRankIndi!DX27","v":"=17"},{"$f":"iRankIndi!DZ27","v":"Philippines"},{"$f":"iRankIndi!EA27","v":30.825355059730057}]
[null,null,{"$f":"iRankIndi!BC28","v":1},{"$f":"iRankIndi!BD28","v":"20"},{"$f":"iRankIndi!BF28","v":"Russia"},{"$f":"iRankIndi!BG28","v":42.268904992589576},null,{"$f":"iRankIndi!BO28","v":1},{"$f":"iRankIndi!BP28","v":"20"},{"$f":"iRankIndi!BR28","v":"Russia"},{"$f":"iRankIndi!BS28","v":14.285714285714285},null,{"$f":"iRankIndi!CA28","v":1},{"$f":"iRankIndi!CB28","v":"20"},{"$f":"iRankIndi!CD28","v":"Nigeria"},{"$f":"iRankIndi!CE28","v":16.787856041666668},null,{"$f":"iRankIndi!CM28","v":1},{"$f":"iRankIndi!CN28","v":"20"},{"$f":"iRankIndi!CP28","v":"Russia"},{"$f":"iRankIndi!CQ28","v":56.499999999999986},null,{"$f":"iRankIndi!CY28","v":1},{"$f":"iRankIndi!CZ28","v":"20"},{"$f":"iRankIndi!DB28","v":"Indonesia"},{"$f":"iRankIndi!DC28","v":47.222222222222214},null,{"$f":"iRankIndi!DK28","v":1},{"$f":"iRankIndi!DL28","v":"20"},{"$f":"iRankIndi!DN28","v":"Russia"},{"$f":"iRankIndi!DO28","v":21.666666666666668},null,{"$f":"iRankIndi!DW28","v":1},{"$f":"iRankIndi!DX28","v":"20"},{"$f":"iRankIndi!DZ28","v":"China"},{"$f":"iRankIndi!EA28","v":24.917515758358782}]

{"sheet":"Indicator_Rankings","index":11,"n_rows":29,"n_cols":10,"rows_kept":29,"cut":false,"hidden":false,"merged":[[5,5,5,9],[11,9,12,9],[3,5,3,9],[14,9,54,9],[30,5,32,8]]}
["SCORES AND INDICATOR RANKINGS",null,null,null,null,"WEIGHT PROFILE"]
[null,"SELECT CATEGORY",null,null,null,{"$f":"iWorks!$B$52","v":""}]
[null,null,null,null,null,{"$f":"iWorks!$AE$49","v":"OVERALL SCORE"}]
[null,"SELECT INDICATOR",null,null,null,{"$f":"iWorks!$B$60","v":"Scored 0-100 where 100=most favorable conditions\n\nThe OVERALL SCORE is the combination of the six category scores, as determined by the weighting profile (see Scoring Notes)."}]
[]
[null,null,null,null,null,{"$f":"iWorks!$K$49","v":""}]
[]
[null,null,null,null,null,{"$f":"iWorks!$B$10","v":"= denotes tie in rank"}]
[null,null,null,null,null,{"$f":"iWorks!$C$9","v":"Rank / 20"},null,{"$f":"iWorks!$B$61","v":"Score / 100"},null,"WEIGHT"]
[null,null,null,null,{"$f":"iRankIndi!K9","v":1},{"$f":"iRankIndi!L9","v":"1"},{"$f":"iRankIndi!N9","v":"New Zealand"},{"$f":"TEXT(iRankIndi!O9,iRankIndi!$E$1)","v":"86"},null,{"$f":"iWorks!$B$63","v":""}]
[null,null,null,null,{"$f":"iRankIndi!K10","v":1},{"$f":"iRankIndi!L10","v":"2"},{"$f":"iRankIndi!N10","v":"United States"},{"$f":"TEXT(iRankIndi!O10,iRankIndi!$E$1)","v":"85"},null,"SOURCE"]
[null,null,null,null,{"$f":"iRankIndi!K11","v":1},{"$f":"iRankIndi!L11","v":"3"},{"$f":"iRankIndi!N11","v":"France"},{"$f":"TEXT(iRankIndi!O11,iRankIndi!$E$1)","v":"82"},null,{"$f":"iWorks!$I$49","v":"Calculated from category scores"}]
[null,null,null,null,{"$f":"iRankIndi!K12","v":1},{"$f":"iRankIndi!L12","v":"4"},{"$f":"iRankIndi!N12","v":"Spain"},{"$f":"TEXT(iRankIndi!O12,iRankIndi!$E$1)","v":"80"}]
[null,null,null,null,{"$f":"iRankIndi!K13","v":1},{"$f":"iRankIndi!L13","v":"5"},{"$f":"iRankIndi!N13","v":"Norway"},{"$f":"TEXT(iRankIndi!O13,iRankIndi!$E$1)","v":"79"},null,"SCORING NOTES"]
[null,null,null,null,{"$f":"iRankIndi!K14","v":1},{"$f":"iRankIndi!L14","v":"6"},{"$f":"iRankIndi!N14","v":"Japan"},{"$f":"TEXT(iRankIndi!O14,iRankIndi!$E$1)","v":"78"},null,{"$f":"SUBSTITUTE(SUBSTITUTE(iWorks!$J$49,\"\\n\",CHAR(10)),\"\\z\",CHAR(10))","v":"Weighted total of the following six categories:\n1) Policy and Institutional Capacity \n2) Business Environment for Coastal Activities \n3) Water Quality \n4) Minerals and Energy \n5) Land \n6) Living Resources"}]
[null,null,null,null,{"$f":"iRankIndi!K15","v":1},{"$f":"iRankIndi!L15","v":"7"},{"$f":"iRankIndi!N15","v":"Canada"},{"$f":"TEXT(iRankIndi!O15,iRankIndi!$E$1)","v":"76"}]
[null,null,null,null,{"$f":"iRankIndi!K16","v":1},{"$f":"iRankIndi!L16","v":"8"},{"$f":"iRankIndi!N16","v":"South Korea"},{"$f":"TEXT(iRankIndi!O16,iRankIndi!$E$1)","v":"72"}]
[null,null,null,null,{"$f":"iRankIndi!K17","v":1},{"$f":"iRankIndi!L17","v":"9"},{"$f":"iRankIndi!N17","v":"South Africa"},{"$f":"TEXT(iRankIndi!O17,iRankIndi!$E$1)","v":"68"}]
[null,null,null,null,{"$f":"iRankIndi!K18","v":1},{"$f":"iRankIndi!L18","v":"=10"},{"$f":"iRankIndi!N18","v":"Chile"},{"$f":"TEXT(iRankIndi!O18,iRankIndi!$E$1)","v":"67"}]
[null,null,null,null,{"$f":"iRankIndi!K19","v":1},{"$f":"iRankIndi!L19","v":"=10"},{"$f":"iRankIndi!N19","v":"Brazil"},{"$f":"TEXT(iRankIndi!O19,iRankIndi!$E$1)","v":"67"}]
[null,"COUNTRY HIGHLIGHT",null,null,{"$f":"iRankIndi!K20","v":1},{"$f":"iRankIndi!L20","v":"12"},{"$f":"iRankIndi!N20","v":"China"},{"$f":"TEXT(iRankIndi!O20,iRankIndi!$E$1)","v":"61"}]
[null,null,null,null,{"$f":"iRankIndi!K21","v":1},{"$f":"iRankIndi!L21","v":"13"},{"$f":"iRankIndi!N21","v":"Mexico"},{"$f":"TEXT(iRankIndi!O21,iRankIndi!$E$1)","v":"60"}]
[null,null,null,null,{"$f":"iRankIndi!K22","v":1},{"$f":"iRankIndi!L22","v":"14"},{"$f":"iRankIndi!N22","v":"Philippines"},{"$f":"TEXT(iRankIndi!O22,iRankIndi!$E$1)","v":"59"}]
[null,null,null,null,{"$f":"iRankIndi!K23","v":1},{"$f":"iRankIndi!L23","v":"=15"},{"$f":"iRankIndi!N23","v":"Indonesia"},{"$f":"TEXT(iRankIndi!O23,iRankIndi!$E$1)","v":"57"}]
[null,null,null,null,{"$f":"iRankIndi!K24","v":1},{"$f":"iRankIndi!L24","v":"=15"},{"$f":"iRankIndi!N24","v":"Vietnam"},{"$f":"TEXT(iRankIndi!O24,iRankIndi!$E$1)","v":"57"}]
[null,null,null,null,{"$f":"iRankIndi!K25","v":1},{"$f":"iRankIndi!L25","v":"17"},{"$f":"iRankIndi!N25","v":"India"},{"$f":"TEXT(iRankIndi!O25,iRankIndi!$E$1)","v":"56"}]
[null,null,null,null,{"$f":"iRankIndi!K26","v":1},{"$f":"iRankIndi!L26","v":"18"},{"$f":"iRankIndi!N26","v":"Peru"},{"$f":"TEXT(iRankIndi!O26,iRankIndi!$E$1)","v":"55"}]
[null,null,null,null,{"$f":"iRankIndi!K27","v":1},{"$f":"iRankIndi!L27","v":"19"},{"$f":"iRankIndi!N27","v":"Nigeria"},{"$f":"TEXT(iRankIndi!O27,iRankIndi!$E$1)","v":"50"}]
[null,null,null,null,{"$f":"iRankIndi!K28","v":1},{"$f":"iRankIndi!L28","v":"20"},{"$f":"iRankIndi!N28","v":"Russia"},{"$f":"TEXT(iRankIndi!O28,iRankIndi!$E$1)","v":"42"}]

{"sheet":"iRank","index":12,"n_rows":158,"n_cols":23,"rows_kept":158,"cut":false,"hidden":true,"merged":[]}
["DATA TABLE, 2014"]
[]
[]
[]
[]
[null,null,null,1,2,3,4,5,6,7,8,9,10,11,12,13,14,15,16,17,18,19,20]
[null,{"$f":"tblIndicators!F1","v":"INDICATOR"},{"$f":"tblIndicators!G1","v":"UNIT"},{"$f":"INDEX(luCountries,D6)","v":"Brazil"},"Canada","Chile","China","France","India","Indonesia","Japan","Mexico","New Zealand","Nigeria","Norway","Peru","Philippines","Russia","South Africa","South Korea","Spain","United States","Vietnam"]
[null,{"$f":"tblIndicators!AE2","v":"OVERALL SCORE"},null,{"$f":"RANK(Scores!P8,Scores!$P8:$AI8,0)","v":11},{"$f":"RANK(Scores!Q8,Scores!$P8:$AI8,0)","v":7},{"$f":"RANK(Scores!R8,Scores!$P8:$AI8,0)","v":10},{"$f":"RANK(Scores!S8,Scores!$P8:$AI8,0)","v":12},{"$f":"RANK(Scores!T8,Scores!$P8:$AI8,0)","v":3},{"$f":"RANK(Scores!U8,Scores!$P8:$AI8,0)","v":17},{"$f":"RANK(Scores!V8,Scores!$P8:$AI8,0)","v":15},{"$f":"RANK(Scores!W8,Scores!$P8:$AI8,0)","v":6},{"$f":"RANK(Scores!X8,Scores!$P8:$AI8,0)","v":13},{"$f":"RANK(Scores!Y8,Scores!$P8:$AI8,0)","v":1},{"$f":"RANK(Scores!Z8,Scores!$P8:$AI8,0)","v":19},{"$f":"RANK(Scores!AA8,Scores!$P8:$AI8,0)","v":5},{"$f":"RANK(Scores!AB8,Scores!$P8:$AI8,0)","v":18},{"$f":"RANK(Scores!AC8,Scores!$P8:$AI8,0)","v":14},{"$f":"RANK(Scores!AD8,Scores!$P8:$AI8,0)","v":20},{"$f":"RANK(Scores!AE8,Scores!$P8:$AI8,0)","v":9},{"$f":"RANK(Scores!AF8,Scores!$P8:$AI8,0)","v":8},{"$f":"RANK(Scores!AG8,Scores!$P8:$AI8,0)","v":4},{"$f":"RANK(Scores!AH8,Scores!$P8:$AI8,0)","v":2},{"$f":"RANK(Scores!AI8,Scores!$P8:$AI8,0)","v":16}]
[null,{"$f":"tblIndicators!AE3","v":"1) POLICY AND INSTITUTIONAL CAPACITY"},null,{"$f":"RANK(Scores!P9,Scores!$P9:$AI9,0)","v":14},{"$f":"RANK(Scores!Q9,Scores!$P9:$AI9,0)","v":8},{"$f":"RANK(Scores!R9,Scores!$P9:$AI9,0)","v":18},{"$f":"RANK(Scores!S9,Scores!$P9:$AI9,0)","v":8},{"$f":"RANK(Scores!T9,Scores!$P9:$AI9,0)","v":4},{"$f":"RANK(Scores!U9,Scores!$P9:$AI9,0)","v":16},{"$f":"RANK(Scores!V9,Scores!$P9:$AI9,0)","v":12},{"$f":"RANK(Scores!W9,Scores!$P9:$AI9,0)","v":4},{"$f":"RANK(Scores!X9,Scores!$P9:$AI9,0)","v":15},{"$f":"RANK(Scores!Y9,Scores!$P9:$AI9,0)","v":6},{"$f":"RANK(Scores!Z9,Scores!$P9:$AI9,0)","v":17},{"$f":"RANK(Scores!AA9,Scores!$P9:$AI9,0)","v":1},{"$f":"RANK(Scores!AB9,Scores!$P9:$AI9,0)","v":19},{"$f":"RANK(Scores!AC9,Scores!$P9:$AI9,0)","v":7},{"$f":"RANK(Scores!AD9,Scores!$P9:$AI9,0)","v":20},{"$f":"RANK(Scores!AE9,Scores!$P9:$AI9,0)","v":8},{"$f":"RANK(Scores!AF9,Scores!$P9:$AI9,0)","v":13},{"$f":"RANK(Scores!AG9,Scores!$P9:$AI9,0)","v":1},{"$f":"RANK(Scores!AH9,Scores!$P9:$AI9,0)","v":3},{"$f":"RANK(Scores!AI9,Scores!$P9:$AI9,0)","v":8}]
[null,{"$f":"tblIndicators!AE4","v":"1.1) Coastal management policy and strategy"},null,{"$f":"RANK(Scores!P10,Scores!$P10:$AI10,0)","v":1},{"$f":"RANK(Scores!Q10,Scores!$P10:$AI10,0)","v":1},{"$f":"RANK(Scores!R10,Scores!$P10:$AI10,0)","v":16},{"$f":"RANK(Scores!S10,Scores!$P10:$AI10,0)","v":1},{"$f":"RANK(Scores!T10,Scores!$P10:$AI10,0)","v":16},{"$f":"RANK(Scores!U10,Scores!$P10:$AI10,0)","v":12},{"$f":"RANK(Scores!V10,Scores!$P10:$AI10,0)","v":1},{"$f":"RANK(Scores!W10,Scores!$P10:$AI10,0)","v":1},{"$f":"RANK(Scores!X10,Scores!$P10:$AI10,0)","v":12},{"$f":"RANK(Scores!Y10,Scores!$P10:$AI10,0)","v":12},{"$f":"RANK(Scores!Z10,Scores!$P10:$AI10,0)","v":18},{"$f":"RANK(Scores!AA10,Scores!$P10:$AI10,0)","v":1},{"$f":"RANK(Scores!AB10,Scores!$P10:$AI10,0)","v":18},{"$f":"RANK(Scores!AC10,Scores!$P10:$AI10,0)","v":1},{"$f":"RANK(Scores!AD10,Scores!$P10:$AI10,0)","v":18},{"$f":"RANK(Scores!AE10,Scores!$P10:$AI10,0)","v":12},{"$f":"RANK(Scores!AF10,Scores!$P10:$AI10,0)","v":1},{"$f":"RANK(Scores!AG10,Scores!$P10:$AI10,0)","v":1},{"$f":"RANK(Scores!AH10,Scores!$P10:$AI10,0)","v":1},{"$f":"RANK(Scores!AI10,Scores!$P10:$AI10,0)","v":1}]
[null,{"$f":"tblIndicators!AE5","v":"1.1.1) Coastal management policy"},null,{"$f":"RANK(Scores!P11,Scores!$P11:$AI11,0)","v":1},{"$f":"RANK(Scores!Q11,Scores!$P11:$AI11,0)","v":1},{"$f":"RANK(Scores!R11,Scores!$P11:$AI11,0)","v":1},{"$f":"RANK(Scores!S11,Scores!$P11:$AI11,0)","v":1},{"$f":"RANK(Scores!T11,Scores!$P11:$AI11,0)","v":1},{"$f":"RANK(Scores!U11,Scores!$P11:$AI11,0)","v":1},{"$f":"RANK(Scores!V11,Scores!$P11:$AI11,0)","v":1},{"$f":"RANK(Scores!W11,Scores!$P11:$AI11,0)","v":1},{"$f":"RANK(Scores!X11,Scores!$P11:$AI11,0)","v":1},{"$f":"RANK(Scores!Y11,Scores!$P11:$AI11,0)","v":1},{"$f":"RANK(Scores!Z11,Scores!$P11:$AI11,0)","v":18},{"$f":"RANK(Scores!AA11,Scores!$P11:$AI11,0)","v":1},{"$f":"RANK(Scores!AB11,Scores!$P11:$AI11,0)","v":18},{"$f":"RANK(Scores!AC11,Scores!$P11:$AI11,0)","v":1},{"$f":"RANK(Scores!AD11,Scores!$P11:$AI11,0)","v":18},{"$f":"RANK(Scores!AE11,Scores!$P11:$AI11,0)","v":1},{"$f":"RANK(Scores!AF11,Scores!$P11:$AI11,0)","v":1},{"$f":"RANK(Scores!AG11,Scores!$P11:$AI11,0)","v":1},{"$f":"RANK(Scores!AH11,Scores!$P11:$AI11,0)","v":1},{"$f":"RANK(Scores!AI11,Scores!$P11:$AI11,0)","v":1}]
[null,{"$f":"tblIndicators!AE6","v":"1.1.2) Coastal management strategy"},null,{"$f":"RANK(Scores!P12,Scores!$P12:$AI12,0)","v":1},{"$f":"RANK(Scores!Q12,Scores!$P12:$AI12,0)","v":1},{"$f":"RANK(Scores!R12,Scores!$P12:$AI12,0)","v":16},{"$f":"RANK(Scores!S12,Scores!$P12:$AI12,0)","v":1},{"$f":"RANK(Scores!T12,Scores!$P12:$AI12,0)","v":16},{"$f":"RANK(Scores!U12,Scores!$P12:$AI12,0)","v":12},{"$f":"RANK(Scores!V12,Scores!$P12:$AI12,0)","v":1},{"$f":"RANK(Scores!W12,Scores!$P12:$AI12,0)","v":1},{"$f":"RANK(Scores!X12,Scores!$P12:$AI12,0)","v":12},{"$f":"RANK(Scores!Y12,Scores!$P12:$AI12,0)","v":12},{"$f":"RANK(Scores!Z12,Scores!$P12:$AI12,0)","v":16},{"$f":"RANK(Scores!AA12,Scores!$P12:$AI12,0)","v":1},{"$f":"RANK(Scores!AB12,Scores!$P12:$AI12,0)","v":16},{"$f":"RANK(Scores!AC12,Scores!$P12:$AI12,0)","v":1},{"$f":"RANK(Scores!AD12,Scores!$P12:$AI12,0)","v":16},{"$f":"RANK(Scores!AE12,Scores!$P12:$AI12,0)","v":12},{"$f":"RANK(Scores!AF12,Scores!$P12:$AI12,0)","v":1},{"$f":"RANK(Scores!AG12,Scores!$P12:$AI12,0)","v":1},{"$f":"RANK(Scores!AH12,Scores!$P12:$AI12,0)","v":1},{"$f":"RANK(Scores!AI12,Scores!$P12:$AI12,0)","v":1}]
[null,{"$f":"tblIndicators!AE7","v":"1.2) Presence of established institution(s)"},null,{"$f":"RANK(Scores!P13,Scores!$P13:$AI13,0)","v":1},{"$f":"RANK(Scores!Q13,Scores!$P13:$AI13,0)","v":10},{"$f":"RANK(Scores!R13,Scores!$P13:$AI13,0)","v":18},{"$f":"RANK(Scores!S13,Scores!$P13:$AI13,0)","v":1},{"$f":"RANK(Scores!T13,Scores!$P13:$AI13,0)","v":1},{"$f":"RANK(Scores!U13,Scores!$P13:$AI13,0)","v":10},{"$f":"RANK(Scores!V13,Scores!$P13:$AI13,0)","v":10},{"$f":"RANK(Scores!W13,Scores!$P13:$AI13,0)","v":1},{"$f":"RANK(Scores!X13,Scores!$P13:$AI13,0)","v":10},{"$f":"RANK(Scores!Y13,Scores!$P13:$AI13,0)","v":10},{"$f":"RANK(Scores!Z13,Scores!$P13:$AI13,0)","v":18},{"$f":"RANK(Scores!AA13,Scores!$P13:$AI13,0)","v":1},{"$f":"RANK(Scores!AB13,Scores!$P13:$AI13,0)","v":10},{"$f":"RANK(Scores!AC13,Scores!$P13:$AI13,0)","v":10},{"$f":"RANK(Scores!AD13,Scores!$P13:$AI13,0)","v":18},{"$f":"RANK(Scores!AE13,Scores!$P13:$AI13,0)","v":1},{"$f":"RANK(Scores!AF13,Scores!$P13:$AI13,0)","v":10},{"$f":"RANK(Scores!AG13,Scores!$P13:$AI13,0)","v":1},{"$f":"RANK(Scores!AH13,Scores!$P13:$AI13,0)","v":1},{"$f":"RANK(Scores!AI13,Scores!$P13:$AI13,0)","v":1}]
[null,{"$f":"tblIndicators!AE8","v":"1.2.1) Presence of coastal management strategy authority"},null,{"$f":"RANK(Scores!P14,Scores!$P14:$AI14,0)","v":1},{"$f":"RANK(Scores!Q14,Scores!$P14:$AI14,0)","v":10},{"$f":"RANK(Scores!R14,Scores!$P14:$AI14,0)","v":18},{"$f":"RANK(Scores!S14,Scores!$P14:$AI14,0)","v":1},{"$f":"RANK(Scores!T14,Scores!$P14:$AI14,0)","v":1},{"$f":"RANK(Scores!U14,Scores!$P14:$AI14,0)","v":10},{"$f":"RANK(Scores!V14,Scores!$P14:$AI14,0)","v":10},{"$f":"RANK(Scores!W14,Scores!$P14:$AI14,0)","v":1},{"$f":"RANK(Scores!X14,Scores!$P14:$AI14,0)","v":10},{"$f":"RANK(Scores!Y14,Scores!$P14:$AI14,0)","v":10},{"$f":"RANK(Scores!Z14,Scores!$P14:$AI14,0)","v":18},{"$f":"RANK(Scores!AA14,Scores!$P14:$AI14,0)","v":1},{"$f":"RANK(Scores!AB14,Scores!$P14:$AI14,0)","v":10},{"$f":"RANK(Scores!AC14,Scores!$P14:$AI14,0)","v":10},{"$f":"RANK(Scores!AD14,Scores!$P14:$AI14,0)","v":18},{"$f":"RANK(Scores!AE14,Scores!$P14:$AI14,0)","v":1},{"$f":"RANK(Scores!AF14,Scores!$P14:$AI14,0)","v":10},{"$f":"RANK(Scores!AG14,Scores!$P14:$AI14,0)","v":1},{"$f":"RANK(Scores!AH14,Scores!$P14:$AI14,0)","v":1},{"$f":"RANK(Scores!AI14,Scores!$P14:$AI14,0)","v":1}]
[null,{"$f":"tblIndicators!AE9","v":"1.3) National strategy to adapt to climate change"},null,{"$f":"RANK(Scores!P15,Scores!$P15:$AI15,0)","v":11},{"$f":"RANK(Scores!Q15,Scores!$P15:$AI15,0)","v":1},{"$f":"RANK(Scores!R15,Scores!$P15:$AI15,0)","v":11},{"$f":"RANK(Scores!S15,Scores!$P15:$AI15,0)","v":1},{"$f":"RANK(Scores!T15,Scores!$P15:$AI15,0)","v":1},{"$f":"RANK(Scores!U15,Scores!$P15:$AI15,0)","v":11},{"$f":"RANK(Scores!V15,Scores!$P15:$AI15,0)","v":1},{"$f":"RANK(Scores!W15,Scores!$P15:$AI15,0)","v":11},{"$f":"RANK(Scores!X15,Scores!$P15:$AI15,0)","v":11},{"$f":"RANK(Scores!Y15,Scores!$P15:$AI15,0)","v":1},{"$f":"RANK(Scores!Z15,Scores!$P15:$AI15,0)","v":1},{"$f":"RANK(Scores!AA15,Scores!$P15:$AI15,0)","v":11},{"$f":"RANK(Scores!AB15,Scores!$P15:$AI15,0)","v":11},{"$f":"RANK(Scores!AC15,Scores!$P15:$AI15,0)","v":11},{"$f":"RANK(Scores!AD15,Scores!$P15:$AI15,0)","v":20},{"$f":"RANK(Scores!AE15,Scores!$P15:$AI15,0)","v":1},{"$f":"RANK(Scores!AF15,Scores!$P15:$AI15,0)","v":1},{"$f":"RANK(Scores!AG15,Scores!$P15:$AI15,0)","v":1},{"$f":"RANK(Scores!AH15,Scores!$P15:$AI15,0)","v":1},{"$f":"RANK(Scores!AI15,Scores!$P15:$AI15,0)","v":11}]
[null,{"$f":"tblIndicators!AE10","v":"1.3.1) Strategy to adapt coastal areas to climate change"},null,{"$f":"RANK(Scores!P16,Scores!$P16:$AI16,0)","v":11},{"$f":"RANK(Scores!Q16,Scores!$P16:$AI16,0)","v":1},{"$f":"RANK(Scores!R16,Scores!$P16:$AI16,0)","v":11},{"$f":"RANK(Scores!S16,Scores!$P16:$AI16,0)","v":1},{"$f":"RANK(Scores!T16,Scores!$P16:$AI16,0)","v":1},{"$f":"RANK(Scores!U16,Scores!$P16:$AI16,0)","v":11},{"$f":"RANK(Scores!V16,Scores!$P16:$AI16,0)","v":1},{"$f":"RANK(Scores!W16,Scores!$P16:$AI16,0)","v":11},{"$f":"RANK(Scores!X16,Scores!$P16:$AI16,0)","v":11},{"$f":"RANK(Scores!Y16,Scores!$P16:$AI16,0)","v":1},{"$f":"RANK(Scores!Z16,Scores!$P16:$AI16,0)","v":1},{"$f":"RANK(Scores!AA16,Scores!$P16:$AI16,0)","v":11},{"$f":"RANK(Scores!AB16,Scores!$P16:$AI16,0)","v":11},{"$f":"RANK(Scores!AC16,Scores!$P16:$AI16,0)","v":11},{"$f":"RANK(Scores!AD16,Scores!$P16:$AI16,0)","v":20},{"$f":"RANK(Scores!AE16,Scores!$P16:$AI16,0)","v":1},{"$f":"RANK(Scores!AF16,Scores!$P16:$AI16,0)","v":1},{"$f":"RANK(Scores!AG16,Scores!$P16:$AI16,0)","v":1},{"$f":"RANK(Scores!AH16,Scores!$P16:$AI16,0)","v":1},{"$f":"RANK(Scores!AI16,Scores!$P16:$AI16,0)","v":11}]
[null,{"$f":"tblIndicators!AE11","v":"1.4) Maritime Spatial Planning"},null,{"$f":"RANK(Scores!P17,Scores!$P17:$AI17,0)","v":13},{"$f":"RANK(Scores!Q17,Scores!$P17:$AI17,0)","v":7},{"$f":"RANK(Scores!R17,Scores!$P17:$AI17,0)","v":13},{"$f":"RANK(Scores!S17,Scores!$P17:$AI17,0)","v":1},{"$f":"RANK(Scores!T17,Scores!$P17:$AI17,0)","v":7},{"$f":"RANK(Scores!U17,Scores!$P17:$AI17,0)","v":13},{"$f":"RANK(Scores!V17,Scores!$P17:$AI17,0)","v":11},{"$f":"RANK(Scores!W17,Scores!$P17:$AI17,0)","v":13},{"$f":"RANK(Scores!X17,Scores!$P17:$AI17,0)","v":1},{"$f":"RANK(Scores!Y17,Scores!$P17:$AI17,0)","v":7},{"$f":"RANK(Scores!Z17,Scores!$P17:$AI17,0)","v":13},{"$f":"RANK(Scores!AA17,Scores!$P17:$AI17,0)","v":1},{"$f":"RANK(Scores!AB17,Scores!$P17:$AI17,0)","v":13},{"$f":"RANK(Scores!AC17,Scores!$P17:$AI17,0)","v":7},{"$f":"RANK(Scores!AD17,Scores!$P17:$AI17,0)","v":13},{"$f":"RANK(Scores!AE17,Scores!$P17:$AI17,0)","v":11},{"$f":"RANK(Scores!AF17,Scores!$P17:$AI17,0)","v":13},{"$f":"RANK(Scores!AG17,Scores!$P17:$AI17,0)","v":1},{"$f":"RANK(Scores!AH17,Scores!$P17:$AI17,0)","v":6},{"$f":"RANK(Scores!AI17,Scores!$P17:$AI17,0)","v":1}]
[null,{"$f":"tblIndicators!AE12","v":"1.4.1) Legal basis for maritime spatial planning"},null,{"$f":"RANK(Scores!P18,Scores!$P18:$AI18,0)","v":12},{"$f":"RANK(Scores!Q18,Scores!$P18:$AI18,0)","v":6},{"$f":"RANK(Scores!R18,Scores!$P18:$AI18,0)","v":12},{"$f":"RANK(Scores!S18,Scores!$P18:$AI18,0)","v":1},{"$f":"RANK(Scores!T18,Scores!$P18:$AI18,0)","v":6},{"$f":"RANK(Scores!U18,Scores!$P18:$AI18,0)","v":12},{"$f":"RANK(Scores!V18,Scores!$P18:$AI18,0)","v":12},{"$f":"RANK(Scores!W18,Scores!$P18:$AI18,0)","v":12},{"$f":"RANK(Scores!X18,Scores!$P18:$AI18,0)","v":1},{"$f":"RANK(Scores!Y18,Scores!$P18:$AI18,0)","v":6},{"$f":"RANK(Scores!Z18,Scores!$P18:$AI18,0)","v":12},{"$f":"RANK(Scores!AA18,Scores!$P18:$AI18,0)","v":1},{"$f":"RANK(Scores!AB18,Scores!$P18:$AI18,0)","v":12},{"$f":"RANK(Scores!AC18,Scores!$P18:$AI18,0)","v":6},{"$f":"RANK(Scores!AD18,Scores!$P18:$AI18,0)","v":12},{"$f":"RANK(Scores!AE18,Scores!$P18:$AI18,0)","v":6},{"$f":"RANK(Scores!AF18,Scores!$P18:$AI18,0)","v":12},{"$f":"RANK(Scores!AG18,Scores!$P18:$AI18,0)","v":1},{"$f":"RANK(Scores!AH18,Scores!$P18:$AI18,0)","v":6},{"$f":"RANK(Scores!AI18,Scores!$P18:$AI18,0)","v":1}]
[null,{"$f":"tblIndicators!AE13","v":"1.4.2) Institution for maritime spatial planning"},null,{"$f":"RANK(Scores!P19,Scores!$P19:$AI19,0)","v":12},{"$f":"RANK(Scores!Q19,Scores!$P19:$AI19,0)","v":7},{"$f":"RANK(Scores!R19,Scores!$P19:$AI19,0)","v":12},{"$f":"RANK(Scores!S19,Scores!$P19:$AI19,0)","v":1},{"$f":"RANK(Scores!T19,Scores!$P19:$AI19,0)","v":7},{"$f":"RANK(Scores!U19,Scores!$P19:$AI19,0)","v":12},{"$f":"RANK(Scores!V19,Scores!$P19:$AI19,0)","v":7},{"$f":"RANK(Scores!W19,Scores!$P19:$AI19,0)","v":12},{"$f":"RANK(Scores!X19,Scores!$P19:$AI19,0)","v":1},{"$f":"RANK(Scores!Y19,Scores!$P19:$AI19,0)","v":7},{"$f":"RANK(Scores!Z19,Scores!$P19:$AI19,0)","v":12},{"$f":"RANK(Scores!AA19,Scores!$P19:$AI19,0)","v":1},{"$f":"RANK(Scores!AB19,Scores!$P19:$AI19,0)","v":12},{"$f":"RANK(Scores!AC19,Scores!$P19:$AI19,0)","v":7},{"$f":"RANK(Scores!AD19,Scores!$P19:$AI19,0)","v":12},{"$f":"RANK(Scores!AE19,Scores!$P19:$AI19,0)","v":12},{"$f":"RANK(Scores!AF19,Scores!$P19:$AI19,0)","v":12},{"$f":"RANK(Scores!AG19,Scores!$P19:$AI19,0)","v":1},{"$f":"RANK(Scores!AH19,Scores!$P19:$AI19,0)","v":1},{"$f":"RANK(Scores!AI19,Scores!$P19:$AI19,0)","v":1}]
[null,{"$f":"tblIndicators!AE14","v":"1.5) Stakeholder engagement"},null,{"$f":"RANK(Scores!P20,Scores!$P20:$AI20,0)","v":1},{"$f":"RANK(Scores!Q20,Scores!$P20:$AI20,0)","v":1},{"$f":"RANK(Scores!R20,Scores!$P20:$AI20,0)","v":10},{"$f":"RANK(Scores!S20,Scores!$P20:$AI20,0)","v":18},{"$f":"RANK(Scores!T20,Scores!$P20:$AI20,0)","v":10},{"$f":"RANK(Scores!U20,Scores!$P20:$AI20,0)","v":1},{"$f":"RANK(Scores!V20,Scores!$P20:$AI20,0)","v":9},{"$f":"RANK(Scores!W20,Scores!$P20:$AI20,0)","v":1},{"$f":"RANK(Scores!X20,Scores!$P20:$AI20,0)","v":15},{"$f":"RANK(Scores!Y20,Scores!$P20:$AI20,0)","v":10},{"$f":"RANK(Scores!Z20,Scores!$P20:$AI20,0)","v":18},{"$f":"RANK(Scores!AA20,Scores!$P20:$AI20,0)","v":10},{"$f":"RANK(Scores!AB20,Scores!$P20:$AI20,0)","v":15},{"$f":"RANK(Scores!AC20,Scores!$P20:$AI20,0)","v":1},{"$f":"RANK(Scores!AD20,Scores!$P20:$AI20,0)","v":18},{"$f":"RANK(Scores!AE20,Scores!$P20:$AI20,0)","v":1},{"$f":"RANK(Scores!AF20,Scores!$P20:$AI20,0)","v":15},{"$f":"RANK(Scores!AG20,Scores!$P20:$AI20,0)","v":1},{"$f":"RANK(Scores!AH20,Scores!$P20:$AI20,0)","v":1},{"$f":"RANK(Scores!AI20,Scores!$P20:$AI20,0)","v":10}]
[null,{"$f":"tblIndicators!AE15","v":"1.5.1) Grievance redress"},null,{"$f":"RANK(Scores!P21,Scores!$P21:$AI21,0)","v":1},{"$f":"RANK(Scores!Q21,Scores!$P21:$AI21,0)","v":1},{"$f":"RANK(Scores!R21,Scores!$P21:$AI21,0)","v":1},{"$f":"RANK(Scores!S21,Scores!$P21:$AI21,0)","v":17},{"$f":"RANK(Scores!T21,Scores!$P21:$AI21,0)","v":1},{"$f":"RANK(Scores!U21,Scores!$P21:$AI21,0)","v":1},{"$f":"RANK(Scores!V21,Scores!$P21:$AI21,0)","v":13},{"$f":"RANK(Scores!W21,Scores!$P21:$AI21,0)","v":1},{"$f":"RANK(Scores!X21,Scores!$P21:$AI21,0)","v":13},{"$f":"RANK(Scores!Y21,Scores!$P21:$AI21,0)","v":1},{"$f":"RANK(Scores!Z21,Scores!$P21:$AI21,0)","v":17},{"$f":"RANK(Scores!AA21,Scores!$P21:$AI21,0)","v":1},{"$f":"RANK(Scores!AB21,Scores!$P21:$AI21,0)","v":13},{"$f":"RANK(Scores!AC21,Scores!$P21:$AI21,0)","v":1},{"$f":"RANK(Scores!AD21,Scores!$P21:$AI21,0)","v":17},{"$f":"RANK(Scores!AE21,Scores!$P21:$AI21,0)","v":1},{"$f":"RANK(Scores!AF21,Scores!$P21:$AI21,0)","v":13},{"$f":"RANK(Scores!AG21,Scores!$P21:$AI21,0)","v":1},{"$f":"RANK(Scores!AH21,Scores!$P21:$AI21,0)","v":1},{"$f":"RANK(Scores!AI21,Scores!$P21:$AI21,0)","v":17}]
[null,{"$f":"tblIndicators!AE16","v":"1.5.2) Multi-stakeholder engagement"},null,{"$f":"RANK(Scores!P22,Scores!$P22:$AI22,0)","v":1},{"$f":"RANK(Scores!Q22,Scores!$P22:$AI22,0)","v":1},{"$f":"RANK(Scores!R22,Scores!$P22:$AI22,0)","v":11},{"$f":"RANK(Scores!S22,Scores!$P22:$AI22,0)","v":11},{"$f":"RANK(Scores!T22,Scores!$P22:$AI22,0)","v":11},{"$f":"RANK(Scores!U22,Scores!$P22:$AI22,0)","v":1},{"$f":"RANK(Scores!V22,Scores!$P22:$AI22,0)","v":1},{"$f":"RANK(Scores!W22,Scores!$P22:$AI22,0)","v":1},{"$f":"RANK(Scores!X22,Scores!$P22:$AI22,0)","v":11},{"$f":"RANK(Scores!Y22,Scores!$P22:$AI22,0)","v":11},{"$f":"RANK(Scores!Z22,Scores!$P22:$AI22,0)","v":11},{"$f":"RANK(Scores!AA22,Scores!$P22:$AI22,0)","v":11},{"$f":"RANK(Scores!AB22,Scores!$P22:$AI22,0)","v":11},{"$f":"RANK(Scores!AC22,Scores!$P22:$AI22,0)","v":1},{"$f":"RANK(Scores!AD22,Scores!$P22:$AI22,0)","v":11},{"$f":"RANK(Scores!AE22,Scores!$P22:$AI22,0)","v":1},{"$f":"RANK(Scores!AF22,Scores!$P22:$AI22,0)","v":11},{"$f":"RANK(Scores!AG22,Scores!$P22:$AI22,0)","v":1},{"$f":"RANK(Scores!AH22,Scores!$P22:$AI22,0)","v":1},{"$f":"RANK(Scores!AI22,Scores!$P22:$AI22,0)","v":1}]
[null,{"$f":"tblIndicators!AE17","v":"1.6) Extractive industries transparency"},null,{"$f":"RANK(Scores!P23,Scores!$P23:$AI23,0)","v":11},{"$f":"RANK(Scores!Q23,Scores!$P23:$AI23,0)","v":11},{"$f":"RANK(Scores!R23,Scores!$P23:$AI23,0)","v":11},{"$f":"RANK(Scores!S23,Scores!$P23:$AI23,0)","v":11},{"$f":"RANK(Scores!T23,Scores!$P23:$AI23,0)","v":1},{"$f":"RANK(Scores!U23,Scores!$P23:$AI23,0)","v":11},{"$f":"RANK(Scores!V23,Scores!$P23:$AI23,0)","v":10},{"$f":"RANK(Scores!W23,Scores!$P23:$AI23,0)","v":1},{"$f":"RANK(Scores!X23,Scores!$P23:$AI23,0)","v":11},{"$f":"RANK(Scores!Y23,Scores!$P23:$AI23,0)","v":1},{"$f":"RANK(Scores!Z23,Scores!$P23:$AI23,0)","v":1},{"$f":"RANK(Scores!AA23,Scores!$P23:$AI23,0)","v":1},{"$f":"RANK(Scores!AB23,Scores!$P23:$AI23,0)","v":1},{"$f":"RANK(Scores!AC23,Scores!$P23:$AI23,0)","v":8},{"$f":"RANK(Scores!AD23,Scores!$P23:$AI23,0)","v":11},{"$f":"RANK(Scores!AE23,Scores!$P23:$AI23,0)","v":11},{"$f":"RANK(Scores!AF23,Scores!$P23:$AI23,0)","v":1},{"$f":"RANK(Scores!AG23,Scores!$P23:$AI23,0)","v":11},{"$f":"RANK(Scores!AH23,Scores!$P23:$AI23,0)","v":8},{"$f":"RANK(Scores!AI23,Scores!$P23:$AI23,0)","v":11}]
[null,{"$f":"tblIndicators!AE18","v":"1.6.1) Adoption of EITI standards"},null,{"$f":"RANK(Scores!P24,Scores!$P24:$AI24,0)","v":11},{"$f":"RANK(Scores!Q24,Scores!$P24:$AI24,0)","v":11},{"$f":"RANK(Scores!R24,Scores!$P24:$AI24,0)","v":11},{"$f":"RANK(Scores!S24,Scores!$P24:$AI24,0)","v":11},{"$f":"RANK(Scores!T24,Scores!$P24:$AI24,0)","v":1},{"$f":"RANK(Scores!U24,Scores!$P24:$AI24,0)","v":11},{"$f":"RANK(Scores!V24,Scores!$P24:$AI24,0)","v":10},{"$f":"RANK(Scores!W24,Scores!$P24:$AI24,0)","v":1},{"$f":"RANK(Scores!X24,Scores!$P24:$AI24,0)","v":11},{"$f":"RANK(Scores!Y24,Scores!$P24:$AI24,0)","v":1},{"$f":"RANK(Scores!Z24,Scores!$P24:$AI24,0)","v":1},{"$f":"RANK(Scores!AA24,Scores!$P24:$AI24,0)","v":1},{"$f":"RANK(Scores!AB24,Scores!$P24:$AI24,0)","v":1},{"$f":"RANK(Scores!AC24,Scores!$P24:$AI24,0)","v":8},{"$f":"RANK(Scores!AD24,Scores!$P24:$AI24,0)","v":11},{"$f":"RANK(Scores!AE24,Scores!$P24:$AI24,0)","v":11},{"$f":"RANK(Scores!AF24,Scores!$P24:$AI24,0)","v":1},{"$f":"RANK(Scores!AG24,Scores!$P24:$AI24,0)","v":11},{"$f":"RANK(Scores!AH24,Scores!$P24:$AI24,0)","v":8},{"$f":"RANK(Scores!AI24,Scores!$P24:$AI24,0)","v":11}]
[null,{"$f":"tblIndicators!AE19","v":"1.7) Adoption of the United Nations Convention on the Law of the Sea (UNCLOS)"},null,{"$f":"RANK(Scores!P25,Scores!$P25:$AI25,0)","v":1},{"$f":"RANK(Scores!Q25,Scores!$P25:$AI25,0)","v":1},{"$f":"RANK(Scores!R25,Scores!$P25:$AI25,0)","v":1},{"$f":"RANK(Scores!S25,Scores!$P25:$AI25,0)","v":1},{"$f":"RANK(Scores!T25,Scores!$P25:$AI25,0)","v":1},{"$f":"RANK(Scores!U25,Scores!$P25:$AI25,0)","v":1},{"$f":"RANK(Scores!V25,Scores!$P25:$AI25,0)","v":1},{"$f":"RANK(Scores!W25,Scores!$P25:$AI25,0)","v":1},{"$f":"RANK(Scores!X25,Scores!$P25:$AI25,0)","v":1},{"$f":"RANK(Scores!Y25,Scores!$P25:$AI25,0)","v":1},{"$f":"RANK(Scores!Z25,Scores!$P25:$AI25,0)","v":1},{"$f":"RANK(Scores!AA25,Scores!$P25:$AI25,0)","v":1},{"$f":"RANK(Scores!AB25,Scores!$P25:$AI25,0)","v":20},{"$f":"RANK(Scores!AC25,Scores!$P25:$AI25,0)","v":1},{"$f":"RANK(Scores!AD25,Scores!$P25:$AI25,0)","v":1},{"$f":"RANK(Scores!AE25,Scores!$P25:$AI25,0)","v":1},{"$f":"RANK(Scores!AF25,Scores!$P25:$AI25,0)","v":1},{"$f":"RANK(Scores!AG25,Scores!$P25:$AI25,0)","v":1},{"$f":"RANK(Scores!AH25,Scores!$P25:$AI25,0)","v":19},{"$f":"RANK(Scores!AI25,Scores!$P25:$AI25,0)","v":1}]
[null,{"$f":"tblIndicators!AE20","v":"1.7.1) Adoption of UNCLOS"},null,{"$f":"RANK(Scores!P26,Scores!$P26:$AI26,0)","v":1},{"$f":"RANK(Scores!Q26,Scores!$P26:$AI26,0)","v":1},{"$f":"RANK(Scores!R26,Scores!$P26:$AI26,0)","v":1},{"$f":"RANK(Scores!S26,Scores!$P26:$AI26,0)","v":1},{"$f":"RANK(Scores!T26,Scores!$P26:$AI26,0)","v":1},{"$f":"RANK(Scores!U26,Scores!$P26:$AI26,0)","v":1},{"$f":"RANK(Scores!V26,Scores!$P26:$AI26,0)","v":1},{"$f":"RANK(Scores!W26,Scores!$P26:$AI26,0)","v":1},{"$f":"RANK(Scores!X26,Scores!$P26:$AI26,0)","v":1},{"$f":"RANK(Scores!Y26,Scores!$P26:$AI26,0)","v":1},{"$f":"RANK(Scores!Z26,Scores!$P26:$AI26,0)","v":1},{"$f":"RANK(Scores!AA26,Scores!$P26:$AI26,0)","v":1},{"$f":"RANK(Scores!AB26,Scores!$P26:$AI26,0)","v":20},{"$f":"RANK(Scores!AC26,Scores!$P26:$AI26,0)","v":1},{"$f":"RANK(Scores!AD26,Scores!$P26:$AI26,0)","v":1},{"$f":"RANK(Scores!AE26,Scores!$P26:$AI26,0)","v":1},{"$f":"RANK(Scores!AF26,Scores!$P26:$AI26,0)","v":1},{"$f":"RANK(Scores!AG26,Scores!$P26:$AI26,0)","v":1},{"$f":"RANK(Scores!AH26,Scores!$P26:$AI26,0)","v":19},{"$f":"RANK(Scores!AI26,Scores!$P26:$AI26,0)","v":1}]
[null,{"$f":"tblIndicators!AE21","v":"2) BUSINESS ENVIRONMENT FOR COASTAL ACTIVITIES"},null,{"$f":"RANK(Scores!P27,Scores!$P27:$AI27,0)","v":12},{"$f":"RANK(Scores!Q27,Scores!$P27:$AI27,0)","v":1},{"$f":"RANK(Scores!R27,Scores!$P27:$AI27,0)","v":8},{"$f":"RANK(Scores!S27,Scores!$P27:$AI27,0)","v":13},{"$f":"RANK(Scores!T27,Scores!$P27:$AI27,0)","v":5},{"$f":"RANK(Scores!U27,Scores!$P27:$AI27,0)","v":17},{"$f":"RANK(Scores!V27,Scores!$P27:$AI27,0)","v":18},{"$f":"RANK(Scores!W27,Scores!$P27:$AI27,0)","v":7},{"$f":"RANK(Scores!X27,Scores!$P27:$AI27,0)","v":11},{"$f":"RANK(Scores!Y27,Scores!$P27:$AI27,0)","v":3},{"$f":"RANK(Scores!Z27,Scores!$P27:$AI27,0)","v":20},{"$f":"RANK(Scores!AA27,Scores!$P27:$AI27,0)","v":2},{"$f":"RANK(Scores!AB27,Scores!$P27:$AI27,0)","v":16},{"$f":"RANK(Scores!AC27,Scores!$P27:$AI27,0)","v":14},{"$f":"RANK(Scores!AD27,Scores!$P27:$AI27,0)","v":19},{"$f":"RANK(Scores!AE27,Scores!$P27:$AI27,0)","v":10},{"$f":"RANK(Scores!AF27,Scores!$P27:$AI27,0)","v":9},{"$f":"RANK(Scores!AG27,Scores!$P27:$AI27,0)","v":6},{"$f":"RANK(Scores!AH27,Scores!$P27:$AI27,0)","v":4},{"$f":"RANK(Scores!AI27,Scores!$P27:$AI27,0)","v":15}]
[null,{"$f":"tblIndicators!AE22","v":"2.1) Ease of doing business"},null,{"$f":"RANK(Scores!P28,Scores!$P28:$AI28,0)","v":11},{"$f":"RANK(Scores!Q28,Scores!$P28:$AI28,0)","v":1},{"$f":"RANK(Scores!R28,Scores!$P28:$AI28,0)","v":5},{"$f":"RANK(Scores!S28,Scores!$P28:$AI28,0)","v":12},{"$f":"RANK(Scores!T28,Scores!$P28:$AI28,0)","v":6},{"$f":"RANK(Scores!U28,Scores!$P28:$AI28,0)","v":16},{"$f":"RANK(Scores!V28,Scores!$P28:$AI28,0)","v":17},{"$f":"RANK(Scores!W28,Scores!$P28:$AI28,0)","v":8},{"$f":"RANK(Scores!X28,Scores!$P28:$AI28,0)","v":10},{"$f":"RANK(Scores!Y28,Scores!$P28:$AI28,0)","v":3},{"$f":"RANK(Scores!Z28,Scores!$P28:$AI28,0)","v":20},{"$f":"RANK(Scores!AA28,Scores!$P28:$AI28,0)","v":4},{"$f":"RANK(Scores!AB28,Scores!$P28:$AI28,0)","v":13},{"$f":"RANK(Scores!AC28,Scores!$P28:$AI28,0)","v":14},{"$f":"RANK(Scores!AD28,Scores!$P28:$AI28,0)","v":18},{"$f":"RANK(Scores!AE28,Scores!$P28:$AI28,0)","v":14},{"$f":"RANK(Scores!AF28,Scores!$P28:$AI28,0)","v":7},{"$f":"RANK(Scores!AG28,Scores!$P28:$AI28,0)","v":8},{"$f":"RANK(Scores!AH28,Scores!$P28:$AI28,0)","v":2},{"$f":"RANK(Scores!AI28,Scores!$P28:$AI28,0)","v":18}]
[null,{"$f":"tblIndicators!AE23","v":"2.1.1) Business environment"},null,{"$f":"RANK(Scores!P29,Scores!$P29:$AI29,0)","v":11},{"$f":"RANK(Scores!Q29,Scores!$P29:$AI29,0)","v":1},{"$f":"RANK(Scores!R29,Scores!$P29:$AI29,0)","v":5},{"$f":"RANK(Scores!S29,Scores!$P29:$AI29,0)","v":12},{"$f":"RANK(Scores!T29,Scores!$P29:$AI29,0)","v":6},{"$f":"RANK(Scores!U29,Scores!$P29:$AI29,0)","v":16},{"$f":"RANK(Scores!V29,Scores!$P29:$AI29,0)","v":17},{"$f":"RANK(Scores!W29,Scores!$P29:$AI29,0)","v":8},{"$f":"RANK(Scores!X29,Scores!$P29:$AI29,0)","v":10},{"$f":"RANK(Scores!Y29,Scores!$P29:$AI29,0)","v":3},{"$f":"RANK(Scores!Z29,Scores!$P29:$AI29,0)","v":20},{"$f":"RANK(Scores!AA29,Scores!$P29:$AI29,0)","v":4},{"$f":"RANK(Scores!AB29,Scores!$P29:$AI29,0)","v":13},{"$f":"RANK(Scores!AC29,Scores!$P29:$AI29,0)","v":14},{"$f":"RANK(Scores!AD29,Scores!$P29:$AI29,0)","v":18},{"$f":"RANK(Scores!AE29,Scores!$P29:$AI29,0)","v":14},{"$f":"RANK(Scores!AF29,Scores!$P29:$AI29,0)","v":7},{"$f":"RANK(Scores!AG29,Scores!$P29:$AI29,0)","v":8},{"$f":"RANK(Scores!AH29,Scores!$P29:$AI29,0)","v":2},{"$f":"RANK(Scores!AI29,Scores!$P29:$AI29,0)","v":18}]
[null,{"$f":"tblIndicators!AE24","v":"2.2) Corruption perception"},null,{"$f":"RANK(Scores!P30,Scores!$P30:$AI30,0)","v":10},{"$f":"RANK(Scores!Q30,Scores!$P30:$AI30,0)","v":3},{"$f":"RANK(Scores!R30,Scores!$P30:$AI30,0)","v":5},{"$f":"RANK(Scores!S30,Scores!$P30:$AI30,0)","v":12},{"$f":"RANK(Scores!T30,Scores!$P30:$AI30,0)","v":6},{"$f":"RANK(Scores!U30,Scores!$P30:$AI30,0)","v":17},{"$f":"RANK(Scores!V30,Scores!$P30:$AI30,0)","v":18},{"$f":"RANK(Scores!W30,Scores!$P30:$AI30,0)","v":4},{"$f":"RANK(Scores!X30,Scores!$P30:$AI30,0)","v":15},{"$f":"RANK(Scores!Y30,Scores!$P30:$AI30,0)","v":1},{"$f":"RANK(Scores!Z30,Scores!$P30:$AI30,0)","v":20},{"$f":"RANK(Scores!AA30,Scores!$P30:$AI30,0)","v":2},{"$f":"RANK(Scores!AB30,Scores!$P30:$AI30,0)","v":14},{"$f":"RANK(Scores!AC30,Scores!$P30:$AI30,0)","v":13},{"$f":"RANK(Scores!AD30,Scores!$P30:$AI30,0)","v":19},{"$f":"RANK(Scores!AE30,Scores!$P30:$AI30,0)","v":11},{"$f":"RANK(Scores!AF30,Scores!$P30:$AI30,0)","v":9},{"$f":"RANK(Scores!AG30,Scores!$P30:$AI30,0)","v":8},{"$f":"RANK(Scores!AH30,Scores!$P30:$AI30,0)","v":7},{"$f":"RANK(Scores!AI30,Scores!$P30:$AI30,0)","v":16}]
[null,{"$f":"tblIndicators!AE25","v":"2.2.1) Control of corruption"},null,{"$f":"RANK(Scores!P31,Scores!$P31:$AI31,0)","v":10},{"$f":"RANK(Scores!Q31,Scores!$P31:$AI31,0)","v":3},{"$f":"RANK(Scores!R31,Scores!$P31:$AI31,0)","v":5},{"$f":"RANK(Scores!S31,Scores!$P31:$AI31,0)","v":12},{"$f":"RANK(Scores!T31,Scores!$P31:$AI31,0)","v":6},{"$f":"RANK(Scores!U31,Scores!$P31:$AI31,0)","v":17},{"$f":"RANK(Scores!V31,Scores!$P31:$AI31,0)","v":18},{"$f":"RANK(Scores!W31,Scores!$P31:$AI31,0)","v":4},{"$f":"RANK(Scores!X31,Scores!$P31:$AI31,0)","v":15},{"$f":"RANK(Scores!Y31,Scores!$P31:$AI31,0)","v":1},{"$f":"RANK(Scores!Z31,Scores!$P31:$AI31,0)","v":20},{"$f":"RANK(Scores!AA31,Scores!$P31:$AI31,0)","v":2},{"$f":"RANK(Scores!AB31,Scores!$P31:$AI31,0)","v":14},{"$f":"RANK(Scores!AC31,Scores!$P31:$AI31,0)","v":13},{"$f":"RANK(Scores!AD31,Scores!$P31:$AI31,0)","v":19},{"$f":"RANK(Scores!AE31,Scores!$P31:$AI31,0)","v":11},{"$f":"RANK(Scores!AF31,Scores!$P31:$AI31,0)","v":9},{"$f":"RANK(Scores!AG31,Scores!$P31:$AI31,0)","v":8},{"$f":"RANK(Scores!AH31,Scores!$P31:$AI31,0)","v":7},{"$f":"RANK(Scores!AI31,Scores!$P31:$AI31,0)","v":16}]
[null,{"$f":"tblIndicators!AE26","v":"2.3) Effectiveness of dispute resolution mechanisms"},null,{"$f":"RANK(Scores!P32,Scores!$P32:$AI32,0)","v":12},{"$f":"RANK(Scores!Q32,Scores!$P32:$AI32,0)","v":1},{"$f":"RANK(Scores!R32,Scores!$P32:$AI32,0)","v":7},{"$f":"RANK(Scores!S32,Scores!$P32:$AI32,0)","v":15},{"$f":"RANK(Scores!T32,Scores!$P32:$AI32,0)","v":5},{"$f":"RANK(Scores!U32,Scores!$P32:$AI32,0)","v":15},{"$f":"RANK(Scores!V32,Scores!$P32:$AI32,0)","v":15},{"$f":"RANK(Scores!W32,Scores!$P32:$AI32,0)","v":9},{"$f":"RANK(Scores!X32,Scores!$P32:$AI32,0)","v":9},{"$f":"RANK(Scores!Y32,Scores!$P32:$AI32,0)","v":1},{"$f":"RANK(Scores!Z32,Scores!$P32:$AI32,0)","v":20},{"$f":"RANK(Scores!AA32,Scores!$P32:$AI32,0)","v":1},{"$f":"RANK(Scores!AB32,Scores!$P32:$AI32,0)","v":15},{"$f":"RANK(Scores!AC32,Scores!$P32:$AI32,0)","v":13},{"$f":"RANK(Scores!AD32,Scores!$P32:$AI32,0)","v":19},{"$f":"RANK(Scores!AE32,Scores!$P32:$AI32,0)","v":9},{"$f":"RANK(Scores!AF32,Scores!$P32:$AI32,0)","v":7},{"$f":"RANK(Scores!AG32,Scores!$P32:$AI32,0)","v":5},{"$f":"RANK(Scores!AH32,Scores!$P32:$AI32,0)","v":1},{"$f":"RANK(Scores!AI32,Scores!$P32:$AI32,0)","v":13}]
[null,{"$f":"tblIndicators!AE27","v":"2.3.1) Fairness of judicial process"},null,{"$f":"RANK(Scores!P33,Scores!$P33:$AI33,0)","v":11},{"$f":"RANK(Scores!Q33,Scores!$P33:$AI33,0)","v":1},{"$f":"RANK(Scores!R33,Scores!$P33:$AI33,0)","v":5},{"$f":"RANK(Scores!S33,Scores!$P33:$AI33,0)","v":14},{"$f":"RANK(Scores!T33,Scores!$P33:$AI33,0)","v":5},{"$f":"RANK(Scores!U33,Scores!$P33:$AI33,0)","v":14},{"$f":"RANK(Scores!V33,Scores!$P33:$AI33,0)","v":14},{"$f":"RANK(Scores!W33,Scores!$P33:$AI33,0)","v":5},{"$f":"RANK(Scores!X33,Scores!$P33:$AI33,0)","v":11},{"$f":"RANK(Scores!Y33,Scores!$P33:$AI33,0)","v":1},{"$f":"RANK(Scores!Z33,Scores!$P33:$AI33,0)","v":19},{"$f":"RANK(Scores!AA33,Scores!$P33:$AI33,0)","v":1},{"$f":"RANK(Scores!AB33,Scores!$P33:$AI33,0)","v":14},{"$f":"RANK(Scores!AC33,Scores!$P33:$AI33,0)","v":11},{"$f":"RANK(Scores!AD33,Scores!$P33:$AI33,0)","v":19},{"$f":"RANK(Scores!AE33,Scores!$P33:$AI33,0)","v":5},{"$f":"RANK(Scores!AF33,Scores!$P33:$AI33,0)","v":5},{"$f":"RANK(Scores!AG33,Scores!$P33:$AI33,0)","v":5},{"$f":"RANK(Scores!AH33,Scores!$P33:$AI33,0)","v":1},{"$f":"RANK(Scores!AI33,Scores!$P33:$AI33,0)","v":14}]
[null,{"$f":"tblIndicators!AE28","v":"2.3.2) Enforceability of contracts"},null,{"$f":"RANK(Scores!P34,Scores!$P34:$AI34,0)","v":10},{"$f":"RANK(Scores!Q34,Scores!$P34:$AI34,0)","v":1},{"$f":"RANK(Scores!R34,Scores!$P34:$AI34,0)","v":7},{"$f":"RANK(Scores!S34,Scores!$P34:$AI34,0)","v":14},{"$f":"RANK(Scores!T34,Scores!$P34:$AI34,0)","v":1},{"$f":"RANK(Scores!U34,Scores!$P34:$AI34,0)","v":14},{"$f":"RANK(Scores!V34,Scores!$P34:$AI34,0)","v":14},{"$f":"RANK(Scores!W34,Scores!$P34:$AI34,0)","v":10},{"$f":"RANK(Scores!X34,Scores!$P34:$AI34,0)","v":7},{"$f":"RANK(Scores!Y34,Scores!$P34:$AI34,0)","v":1},{"$f":"RANK(Scores!Z34,Scores!$P34:$AI34,0)","v":20},{"$f":"RANK(Scores!AA34,Scores!$P34:$AI34,0)","v":1},{"$f":"RANK(Scores!AB34,Scores!$P34:$AI34,0)","v":14},{"$f":"RANK(Scores!AC34,Scores!$P34:$AI34,0)","v":14},{"$f":"RANK(Scores!AD34,Scores!$P34:$AI34,0)","v":14},{"$f":"RANK(Scores!AE34,Scores!$P34:$AI34,0)","v":10},{"$f":"RANK(Scores!AF34,Scores!$P34:$AI34,0)","v":7},{"$f":"RANK(Scores!AG34,Scores!$P34:$AI34,0)","v":1},{"$f":"RANK(Scores!AH34,Scores!$P34:$AI34,0)","v":1},{"$f":"RANK(Scores!AI34,Scores!$P34:$AI34,0)","v":10}]
[null,{"$f":"tblIndicators!AE29","v":"2.4) Quality of coastal infrastructure"},null,{"$f":"RANK(Scores!P35,Scores!$P35:$AI35,0)","v":19},{"$f":"RANK(Scores!Q35,Scores!$P35:$AI35,0)","v":4},{"$f":"RANK(Scores!R35,Scores!$P35:$AI35,0)","v":9},{"$f":"RANK(Scores!S35,Scores!$P35:$AI35,0)","v":10},{"$f":"RANK(Scores!T35,Scores!$P35:$AI35,0)","v":3},{"$f":"RANK(Scores!U35,Scores!$P35:$AI35,0)","v":15},{"$f":"RANK(Scores!V35,Scores!$P35:$AI35,0)","v":14},{"$f":"RANK(Scores!W35,Scores!$P35:$AI35,0)","v":1},{"$f":"RANK(Scores!X35,Scores!$P35:$AI35,0)","v":12},{"$f":"RANK(Scores!Y35,Scores!$P35:$AI35,0)","v":8},{"$f":"RANK(Scores!Z35,Scores!$P35:$AI35,0)","v":20},{"$f":"RANK(Scores!AA35,Scores!$P35:$AI35,0)","v":7},{"$f":"RANK(Scores!AB35,Scores!$P35:$AI35,0)","v":18},{"$f":"RANK(Scores!AC35,Scores!$P35:$AI35,0)","v":17},{"$f":"RANK(Scores!AD35,Scores!$P35:$AI35,0)","v":13},{"$f":"RANK(Scores!AE35,Scores!$P35:$AI35,0)","v":11},{"$f":"RANK(Scores!AF35,Scores!$P35:$AI35,0)","v":6},{"$f":"RANK(Scores!AG35,Scores!$P35:$AI35,0)","v":2},{"$f":"RANK(Scores!AH35,Scores!$P35:$AI35,0)","v":5},{"$f":"RANK(Scores!AI35,Scores!$P35:$AI35,0)","v":16}]
[null,{"$f":"tblIndicators!AE30","v":"2.4.1) Quality of port facilities"},null,{"$f":"RANK(Scores!P36,Scores!$P36:$AI36,0)","v":20},{"$f":"RANK(Scores!Q36,Scores!$P36:$AI36,0)","v":5},{"$f":"RANK(Scores!R36,Scores!$P36:$AI36,0)","v":9},{"$f":"RANK(Scores!S36,Scores!$P36:$AI36,0)","v":11},{"$f":"RANK(Scores!T36,Scores!$P36:$AI36,0)","v":8},{"$f":"RANK(Scores!U36,Scores!$P36:$AI36,0)","v":13},{"$f":"RANK(Scores!V36,Scores!$P36:$AI36,0)","v":14},{"$f":"RANK(Scores!W36,Scores!$P36:$AI36,0)","v":6},{"$f":"RANK(Scores!X36,Scores!$P36:$AI36,0)","v":12},{"$f":"RANK(Scores!Y36,Scores!$P36:$AI36,0)","v":2},{"$f":"RANK(Scores!Z36,Scores!$P36:$AI36,0)","v":19},{"$f":"RANK(Scores!AA36,Scores!$P36:$AI36,0)","v":4},{"$f":"RANK(Scores!AB36,Scores!$P36:$AI36,0)","v":16},{"$f":"RANK(Scores!AC36,Scores!$P36:$AI36,0)","v":18},{"$f":"RANK(Scores!AD36,Scores!$P36:$AI36,0)","v":15},{"$f":"RANK(Scores!AE36,Scores!$P36:$AI36,0)","v":10},{"$f":"RANK(Scores!AF36,Scores!$P36:$AI36,0)","v":7},{"$f":"RANK(Scores!AG36,Scores!$P36:$AI36,0)","v":1},{"$f":"RANK(Scores!AH36,Scores!$P36:$AI36,0)","v":3},{"$f":"RANK(Scores!AI36,Scores!$P36:$AI36,0)","v":17}]
[null,{"$f":"tblIndicators!AE31","v":"2.4.2) Quality of electricity supply"},null,{"$f":"RANK(Scores!P37,Scores!$P37:$AI37,0)","v":17},{"$f":"RANK(Scores!Q37,Scores!$P37:$AI37,0)","v":2},{"$f":"RANK(Scores!R37,Scores!$P37:$AI37,0)","v":9},{"$f":"RANK(Scores!S37,Scores!$P37:$AI37,0)","v":10},{"$f":"RANK(Scores!T37,Scores!$P37:$AI37,0)","v":3},{"$f":"RANK(Scores!U37,Scores!$P37:$AI37,0)","v":19},{"$f":"RANK(Scores!V37,Scores!$P37:$AI37,0)","v":14},{"$f":"RANK(Scores!W37,Scores!$P37:$AI37,0)","v":6},{"$f":"RANK(Scores!X37,Scores!$P37:$AI37,0)","v":13},{"$f":"RANK(Scores!Y37,Scores!$P37:$AI37,0)","v":7},{"$f":"RANK(Scores!Z37,Scores!$P37:$AI37,0)","v":20},{"$f":"RANK(Scores!AA37,Scores!$P37:$AI37,0)","v":1},{"$f":"RANK(Scores!AB37,Scores!$P37:$AI37,0)","v":11},{"$f":"RANK(Scores!AC37,Scores!$P37:$AI37,0)","v":15},{"$f":"RANK(Scores!AD37,Scores!$P37:$AI37,0)","v":12},{"$f":"RANK(Scores!AE37,Scores!$P37:$AI37,0)","v":18},{"$f":"RANK(Scores!AF37,Scores!$P37:$AI37,0)","v":8},{"$f":"RANK(Scores!AG37,Scores!$P37:$AI37,0)","v":4},{"$f":"RANK(Scores!AH37,Scores!$P37:$AI37,0)","v":5},{"$f":"RANK(Scores!AI37,Scores!$P37:$AI37,0)","v":16}]
[null,{"$f":"tblIndicators!AE32","v":"2.4.3) Quality of road infrastructure"},null,{"$f":"RANK(Scores!P38,Scores!$P38:$AI38,0)","v":18},{"$f":"RANK(Scores!Q38,Scores!$P38:$AI38,0)","v":6},{"$f":"RANK(Scores!R38,Scores!$P38:$AI38,0)","v":7},{"$f":"RANK(Scores!S38,Scores!$P38:$AI38,0)","v":10},{"$f":"RANK(Scores!T38,Scores!$P38:$AI38,0)","v":1},{"$f":"RANK(Scores!U38,Scores!$P38:$AI38,0)","v":14},{"$f":"RANK(Scores!V38,Scores!$P38:$AI38,0)","v":12},{"$f":"RANK(Scores!W38,Scores!$P38:$AI38,0)","v":2},{"$f":"RANK(Scores!X38,Scores!$P38:$AI38,0)","v":11},{"$f":"RANK(Scores!Y38,Scores!$P38:$AI38,0)","v":8},{"$f":"RANK(Scores!Z38,Scores!$P38:$AI38,0)","v":20},{"$f":"RANK(Scores!AA38,Scores!$P38:$AI38,0)","v":13},{"$f":"RANK(Scores!AB38,Scores!$P38:$AI38,0)","v":16},{"$f":"RANK(Scores!AC38,Scores!$P38:$AI38,0)","v":15},{"$f":"RANK(Scores!AD38,Scores!$P38:$AI38,0)","v":19},{"$f":"RANK(Scores!AE38,Scores!$P38:$AI38,0)","v":9},{"$f":"RANK(Scores!AF38,Scores!$P38:$AI38,0)","v":5},{"$f":"RANK(Scores!AG38,Scores!$P38:$AI38,0)","v":3},{"$f":"RANK(Scores!AH38,Scores!$P38:$AI38,0)","v":4},{"$f":"RANK(Scores!AI38,Scores!$P38:$AI38,0)","v":17}]
[null,{"$f":"tblIndicators!AE33","v":"2.4.4) Quality of railroad infrastructure"},null,{"$f":"RANK(Scores!P39,Scores!$P39:$AI39,0)","v":19},{"$f":"RANK(Scores!Q39,Scores!$P39:$AI39,0)","v":7},{"$f":"RANK(Scores!R39,Scores!$P39:$AI39,0)","v":16},{"$f":"RANK(Scores!S39,Scores!$P39:$AI39,0)","v":6},{"$f":"RANK(Scores!T39,Scores!$P39:$AI39,0)","v":3},{"$f":"RANK(Scores!U39,Scores!$P39:$AI39,0)","v":9},{"$f":"RANK(Scores!V39,Scores!$P39:$AI39,0)","v":12},{"$f":"RANK(Scores!W39,Scores!$P39:$AI39,0)","v":1},{"$f":"RANK(Scores!X39,Scores!$P39:$AI39,0)","v":15},{"$f":"RANK(Scores!Y39,Scores!$P39:$AI39,0)","v":11},{"$f":"RANK(Scores!Z39,Scores!$P39:$AI39,0)","v":20},{"$f":"RANK(Scores!AA39,Scores!$P39:$AI39,0)","v":10},{"$f":"RANK(Scores!AB39,Scores!$P39:$AI39,0)","v":18},{"$f":"RANK(Scores!AC39,Scores!$P39:$AI39,0)","v":17},{"$f":"RANK(Scores!AD39,Scores!$P39:$AI39,0)","v":8},{"$f":"RANK(Scores!AE39,Scores!$P39:$AI39,0)","v":13},{"$f":"RANK(Scores!AF39,Scores!$P39:$AI39,0)","v":4},{"$f":"RANK(Scores!AG39,Scores!$P39:$AI39,0)","v":2},{"$f":"RANK(Scores!AH39,Scores!$P39:$AI39,0)","v":5},{"$f":"RANK(Scores!AI39,Scores!$P39:$AI39,0)","v":14}]
[null,{"$f":"tblIndicators!AE34","v":"2.4.5) Quality of water infrastructure"},null,{"$f":"RANK(Scores!P40,Scores!$P40:$AI40,0)","v":10},{"$f":"RANK(Scores!Q40,Scores!$P40:$AI40,0)","v":5},{"$f":"RANK(Scores!R40,Scores!$P40:$AI40,0)","v":8},{"$f":"RANK(Scores!S40,Scores!$P40:$AI40,0)","v":16},{"$f":"RANK(Scores!T40,Scores!$P40:$AI40,0)","v":1},{"$f":"RANK(Scores!U40,Scores!$P40:$AI40,0)","v":18},{"$f":"RANK(Scores!V40,Scores!$P40:$AI40,0)","v":19},{"$f":"RANK(Scores!W40,Scores!$P40:$AI40,0)","v":1},{"$f":"RANK(Scores!X40,Scores!$P40:$AI40,0)","v":11},{"$f":"RANK(Scores!Y40,Scores!$P40:$AI40,0)","v":9},{"$f":"RANK(Scores!Z40,Scores!$P40:$AI40,0)","v":20},{"$f":"RANK(Scores!AA40,Scores!$P40:$AI40,0)","v":1},{"$f":"RANK(Scores!AB40,Scores!$P40:$AI40,0)","v":17},{"$f":"RANK(Scores!AC40,Scores!$P40:$AI40,0)","v":14},{"$f":"RANK(Scores!AD40,Scores!$P40:$AI40,0)","v":12},{"$f":"RANK(Scores!AE40,Scores!$P40:$AI40,0)","v":15},{"$f":"RANK(Scores!AF40,Scores!$P40:$AI40,0)","v":7},{"$f":"RANK(Scores!AG40,Scores!$P40:$AI40,0)","v":4},{"$f":"RANK(Scores!AH40,Scores!$P40:$AI40,0)","v":6},{"$f":"RANK(Scores!AI40,Scores!$P40:$AI40,0)","v":13}]
[null,{"$f":"tblIndicators!AE35","v":"3) WATER QUALITY"},null,{"$f":"RANK(Scores!P41,Scores!$P41:$AI41,0)","v":12},{"$f":"RANK(Scores!Q41,Scores!$P41:$AI41,0)","v":16},{"$f":"RANK(Scores!R41,Scores!$P41:$AI41,0)","v":4},{"$f":"RANK(Scores!S41,Scores!$P41:$AI41,0)","v":17},{"$f":"RANK(Scores!T41,Scores!$P41:$AI41,0)","v":1},{"$f":"RANK(Scores!U41,Scores!$P41:$AI41,0)","v":11},{"$f":"RANK(Scores!V41,Scores!$P41:$AI41,0)","v":14},{"$f":"RANK(Scores!W41,Scores!$P41:$AI41,0)","v":3},{"$f":"RANK(Scores!X41,Scores!$P41:$AI41,0)","v":9},{"$f":"RANK(Scores!Y41,Scores!$P41:$AI41,0)","v":2},{"$f":"RANK(Scores!Z41,Scores!$P41:$AI41,0)","v":18},{"$f":"RANK(Scores!AA41,Scores!$P41:$AI41,0)","v":8},{"$f":"RANK(Scores!AB41,Scores!$P41:$AI41,0)","v":10},{"$f":"RANK(Scores!AC41,Scores!$P41:$AI41,0)","v":19},{"$f":"RANK(Scores!AD41,Scores!$P41:$AI41,0)","v":20},{"$f":"RANK(Scores!AE41,Scores!$P41:$AI41,0)","v":15},{"$f":"RANK(Scores!AF41,Scores!$P41:$AI41,0)","v":7},{"$f":"RANK(Scores!AG41,Scores!$P41:$AI41,0)","v":6},{"$f":"RANK(Scores!AH41,Scores!$P41:$AI41,0)","v":5},{"$f":"RANK(Scores!AI41,Scores!$P41:$AI41,0)","v":13}]
[null,{"$f":"tblIndicators!AE36","v":"3.1) Agency"},null,{"$f":"RANK(Scores!P42,Scores!$P42:$AI42,0)","v":1},{"$f":"RANK(Scores!Q42,Scores!$P42:$AI42,0)","v":20},{"$f":"RANK(Scores!R42,Scores!$P42:$AI42,0)","v":1},{"$f":"RANK(Scores!S42,Scores!$P42:$AI42,0)","v":1},{"$f":"RANK(Scores!T42,Scores!$P42:$AI42,0)","v":1},{"$f":"RANK(Scores!U42,Scores!$P42:$AI42,0)","v":1},{"$f":"RANK(Scores!V42,Scores!$P42:$AI42,0)","v":1},{"$f":"RANK(Scores!W42,Scores!$P42:$AI42,0)","v":1},{"$f":"RANK(Scores!X42,Scores!$P42:$AI42,0)","v":1},{"$f":"RANK(Scores!Y42,Scores!$P42:$AI42,0)","v":1},{"$f":"RANK(Scores!Z42,Scores!$P42:$AI42,0)","v":1},{"$f":"RANK(Scores!AA42,Scores!$P42:$AI42,0)","v":1},{"$f":"RANK(Scores!AB42,Scores!$P42:$AI42,0)","v":1},{"$f":"RANK(Scores!AC42,Scores!$P42:$AI42,0)","v":1},{"$f":"RANK(Scores!AD42,Scores!$P42:$AI42,0)","v":1},{"$f":"RANK(Scores!AE42,Scores!$P42:$AI42,0)","v":1},{"$f":"RANK(Scores!AF42,Scores!$P42:$AI42,0)","v":1},{"$f":"RANK(Scores!AG42,Scores!$P42:$AI42,0)","v":1},{"$f":"RANK(Scores!AH42,Scores!$P42:$AI42,0)","v":1},{"$f":"RANK(Scores!AI42,Scores!$P42:$AI42,0)","v":1}]
[null,{"$f":"tblIndicators!AE37","v":"3.1.1) Agency responsible for freshwater pollution controls"},null,{"$f":"RANK(Scores!P43,Scores!$P43:$AI43,0)","v":1},{"$f":"RANK(Scores!Q43,Scores!$P43:$AI43,0)","v":20},{"$f":"RANK(Scores!R43,Scores!$P43:$AI43,0)","v":1},{"$f":"RANK(Scores!S43,Scores!$P43:$AI43,0)","v":1},{"$f":"RANK(Scores!T43,Scores!$P43:$AI43,0)","v":1},{"$f":"RANK(Scores!U43,Scores!$P43:$AI43,0)","v":1},{"$f":"RANK(Scores!V43,Scores!$P43:$AI43,0)","v":1},{"$f":"RANK(Scores!W43,Scores!$P43:$AI43,0)","v":1},{"$f":"RANK(Scores!X43,Scores!$P43:$AI43,0)","v":1},{"$f":"RANK(Scores!Y43,Scores!$P43:$AI43,0)","v":1},{"$f":"RANK(Scores!Z43,Scores!$P43:$AI43,0)","v":1},{"$f":"RANK(Scores!AA43,Scores!$P43:$AI43,0)","v":1},{"$f":"RANK(Scores!AB43,Scores!$P43:$AI43,0)","v":1},{"$f":"RANK(Scores!AC43,Scores!$P43:$AI43,0)","v":1},{"$f":"RANK(Scores!AD43,Scores!$P43:$AI43,0)","v":1},{"$f":"RANK(Scores!AE43,Scores!$P43:$AI43,0)","v":1},{"$f":"RANK(Scores!AF43,Scores!$P43:$AI43,0)","v":1},{"$f":"RANK(Scores!AG43,Scores!$P43:$AI43,0)","v":1},{"$f":"RANK(Scores!AH43,Scores!$P43:$AI43,0)","v":1},{"$f":"RANK(Scores!AI43,Scores!$P43:$AI43,0)","v":1}]
[null,{"$f":"tblIndicators!AE38","v":"3.2) Regulatory standards for water pollution"},null,{"$f":"RANK(Scores!P44,Scores!$P44:$AI44,0)","v":14},{"$f":"RANK(Scores!Q44,Scores!$P44:$AI44,0)","v":2},{"$f":"RANK(Scores!R44,Scores!$P44:$AI44,0)","v":8},{"$f":"RANK(Scores!S44,Scores!$P44:$AI44,0)","v":19},{"$f":"RANK(Scores!T44,Scores!$P44:$AI44,0)","v":3},{"$f":"RANK(Scores!U44,Scores!$P44:$AI44,0)","v":13},{"$f":"RANK(Scores!V44,Scores!$P44:$AI44,0)","v":17},{"$f":"RANK(Scores!W44,Scores!$P44:$AI44,0)","v":7},{"$f":"RANK(Scores!X44,Scores!$P44:$AI44,0)","v":10},{"$f":"RANK(Scores!Y44,Scores!$P44:$AI44,0)","v":5},{"$f":"RANK(Scores!Z44,Scores!$P44:$AI44,0)","v":16},{"$f":"RANK(Scores!AA44,Scores!$P44:$AI44,0)","v":6},{"$f":"RANK(Scores!AB44,Scores!$P44:$AI44,0)","v":12},{"$f":"RANK(Scores!AC44,Scores!$P44:$AI44,0)","v":18},{"$f":"RANK(Scores!AD44,Scores!$P44:$AI44,0)","v":20},{"$f":"RANK(Scores!AE44,Scores!$P44:$AI44,0)","v":11},{"$f":"RANK(Scores!AF44,Scores!$P44:$AI44,0)","v":4},{"$f":"RANK(Scores!AG44,Scores!$P44:$AI44,0)","v":1},{"$f":"RANK(Scores!AH44,Scores!$P44:$AI44,0)","v":9},{"$f":"RANK(Scores!AI44,Scores!$P44:$AI44,0)","v":15}]
[null,{"$f":"tblIndicators!AE39","v":"3.2.1) Standards for point source pollution"},null,{"$f":"RANK(Scores!P45,Scores!$P45:$AI45,0)","v":1},{"$f":"RANK(Scores!Q45,Scores!$P45:$AI45,0)","v":1},{"$f":"RANK(Scores!R45,Scores!$P45:$AI45,0)","v":1},{"$f":"RANK(Scores!S45,Scores!$P45:$AI45,0)","v":1},{"$f":"RANK(Scores!T45,Scores!$P45:$AI45,0)","v":1},{"$f":"RANK(Scores!U45,Scores!$P45:$AI45,0)","v":1},{"$f":"RANK(Scores!V45,Scores!$P45:$AI45,0)","v":1},{"$f":"RANK(Scores!W45,Scores!$P45:$AI45,0)","v":1},{"$f":"RANK(Scores!X45,Scores!$P45:$AI45,0)","v":1},{"$f":"RANK(Scores!Y45,Scores!$P45:$AI45,0)","v":1},{"$f":"RANK(Scores!Z45,Scores!$P45:$AI45,0)","v":1},{"$f":"RANK(Scores!AA45,Scores!$P45:$AI45,0)","v":1},{"$f":"RANK(Scores!AB45,Scores!$P45:$AI45,0)","v":1},{"$f":"RANK(Scores!AC45,Scores!$P45:$AI45,0)","v":1},{"$f":"RANK(Scores!AD45,Scores!$P45:$AI45,0)","v":1},{"$f":"RANK(Scores!AE45,Scores!$P45:$AI45,0)","v":1},{"$f":"RANK(Scores!AF45,Scores!$P45:$AI45,0)","v":1},{"$f":"RANK(Scores!AG45,Scores!$P45:$AI45,0)","v":1},{"$f":"RANK(Scores!AH45,Scores!$P45:$AI45,0)","v":1},{"$f":"RANK(Scores!AI45,Scores!$P45:$AI45,0)","v":1}]
[null,{"$f":"tblIndicators!AE40","v":"3.2.2) Restrictions on \"Dirty Dozen\" persistent pollutants"},null,{"$f":"RANK(Scores!P46,Scores!$P46:$AI46,0)","v":10},{"$f":"RANK(Scores!Q46,Scores!$P46:$AI46,0)","v":1},{"$f":"RANK(Scores!R46,Scores!$P46:$AI46,0)","v":3},{"$f":"RANK(Scores!S46,Scores!$P46:$AI46,0)","v":19},{"$f":"RANK(Scores!T46,Scores!$P46:$AI46,0)","v":3},{"$f":"RANK(Scores!U46,Scores!$P46:$AI46,0)","v":3},{"$f":"RANK(Scores!V46,Scores!$P46:$AI46,0)","v":13},{"$f":"RANK(Scores!W46,Scores!$P46:$AI46,0)","v":3},{"$f":"RANK(Scores!X46,Scores!$P46:$AI46,0)","v":16},{"$f":"RANK(Scores!Y46,Scores!$P46:$AI46,0)","v":1},{"$f":"RANK(Scores!Z46,Scores!$P46:$AI46,0)","v":13},{"$f":"RANK(Scores!AA46,Scores!$P46:$AI46,0)","v":3},{"$f":"RANK(Scores!AB46,Scores!$P46:$AI46,0)","v":13},{"$f":"RANK(Scores!AC46,Scores!$P46:$AI46,0)","v":18},{"$f":"RANK(Scores!AD46,Scores!$P46:$AI46,0)","v":20},{"$f":"RANK(Scores!AE46,Scores!$P46:$AI46,0)","v":10},{"$f":"RANK(Scores!AF46,Scores!$P46:$AI46,0)","v":3},{"$f":"RANK(Scores!AG46,Scores!$P46:$AI46,0)","v":3},{"$f":"RANK(Scores!AH46,Scores!$P46:$AI46,0)","v":16},{"$f":"RANK(Scores!AI46,Scores!$P46:$AI46,0)","v":10}]
[null,{"$f":"tblIndicators!AE41","v":"3.2.3) Wastewater treatment"},null,{"$f":"RANK(Scores!P47,Scores!$P47:$AI47,0)","v":15},{"$f":"RANK(Scores!Q47,Scores!$P47:$AI47,0)","v":4},{"$f":"RANK(Scores!R47,Scores!$P47:$AI47,0)","v":8},{"$f":"RANK(Scores!S47,Scores!$P47:$AI47,0)","v":14},{"$f":"RANK(Scores!T47,Scores!$P47:$AI47,0)","v":2},{"$f":"RANK(Scores!U47,Scores!$P47:$AI47,0)","v":16},{"$f":"RANK(Scores!V47,Scores!$P47:$AI47,0)","v":20},{"$f":"RANK(Scores!W47,Scores!$P47:$AI47,0)","v":7},{"$f":"RANK(Scores!X47,Scores!$P47:$AI47,0)","v":10},{"$f":"RANK(Scores!Y47,Scores!$P47:$AI47,0)","v":5},{"$f":"RANK(Scores!Z47,Scores!$P47:$AI47,0)","v":17},{"$f":"RANK(Scores!AA47,Scores!$P47:$AI47,0)","v":6},{"$f":"RANK(Scores!AB47,Scores!$P47:$AI47,0)","v":13},{"$f":"RANK(Scores!AC47,Scores!$P47:$AI47,0)","v":18},{"$f":"RANK(Scores!AD47,Scores!$P47:$AI47,0)","v":12},{"$f":"RANK(Scores!AE47,Scores!$P47:$AI47,0)","v":11},{"$f":"RANK(Scores!AF47,Scores!$P47:$AI47,0)","v":3},{"$f":"RANK(Scores!AG47,Scores!$P47:$AI47,0)","v":1},{"$f":"RANK(Scores!AH47,Scores!$P47:$AI47,0)","v":9},{"$f":"RANK(Scores!AI47,Scores!$P47:$AI47,0)","v":19}]
[null,{"$f":"tblIndicators!AE42","v":"3.3) Monitoring and enforcement"},null,{"$f":"RANK(Scores!P48,Scores!$P48:$AI48,0)","v":1},{"$f":"RANK(Scores!Q48,Scores!$P48:$AI48,0)","v":1},{"$f":"RANK(Scores!R48,Scores!$P48:$AI48,0)","v":1},{"$f":"RANK(Scores!S48,Scores!$P48:$AI48,0)","v":13},{"$f":"RANK(Scores!T48,Scores!$P48:$AI48,0)","v":1},{"$f":"RANK(Scores!U48,Scores!$P48:$AI48,0)","v":1},{"$f":"RANK(Scores!V48,Scores!$P48:$AI48,0)","v":1},{"$f":"RANK(Scores!W48,Scores!$P48:$AI48,0)","v":1},{"$f":"RANK(Scores!X48,Scores!$P48:$AI48,0)","v":1},{"$f":"RANK(Scores!Y48,Scores!$P48:$AI48,0)","v":1},{"$f":"RANK(Scores!Z48,Scores!$P48:$AI48,0)","v":18},{"$f":"RANK(Scores!AA48,Scores!$P48:$AI48,0)","v":13},{"$f":"RANK(Scores!AB48,Scores!$P48:$AI48,0)","v":1},{"$f":"RANK(Scores!AC48,Scores!$P48:$AI48,0)","v":18},{"$f":"RANK(Scores!AD48,Scores!$P48:$AI48,0)","v":18},{"$f":"RANK(Scores!AE48,Scores!$P48:$AI48,0)","v":13},{"$f":"RANK(Scores!AF48,Scores!$P48:$AI48,0)","v":13},{"$f":"RANK(Scores!AG48,Scores!$P48:$AI48,0)","v":13},{"$f":"RANK(Scores!AH48,Scores!$P48:$AI48,0)","v":1},{"$f":"RANK(Scores!AI48,Scores!$P48:$AI48,0)","v":1}]
[null,{"$f":"tblIndicators!AE43","v":"3.3.1) Coastal water quality data"},null,{"$f":"RANK(Scores!P49,Scores!$P49:$AI49,0)","v":1},{"$f":"RANK(Scores!Q49,Scores!$P49:$AI49,0)","v":1},{"$f":"RANK(Scores!R49,Scores!$P49:$AI49,0)","v":1},{"$f":"RANK(Scores!S49,Scores!$P49:$AI49,0)","v":13},{"$f":"RANK(Scores!T49,Scores!$P49:$AI49,0)","v":1},{"$f":"RANK(Scores!U49,Scores!$P49:$AI49,0)","v":1},{"$f":"RANK(Scores!V49,Scores!$P49:$AI49,0)","v":1},{"$f":"RANK(Scores!W49,Scores!$P49:$AI49,0)","v":1},{"$f":"RANK(Scores!X49,Scores!$P49:$AI49,0)","v":1},{"$f":"RANK(Scores!Y49,Scores!$P49:$AI49,0)","v":1},{"$f":"RANK(Scores!Z49,Scores!$P49:$AI49,0)","v":18},{"$f":"RANK(Scores!AA49,Scores!$P49:$AI49,0)","v":13},{"$f":"RANK(Scores!AB49,Scores!$P49:$AI49,0)","v":1},{"$f":"RANK(Scores!AC49,Scores!$P49:$AI49,0)","v":18},{"$f":"RANK(Scores!AD49,Scores!$P49:$AI49,0)","v":18},{"$f":"RANK(Scores!AE49,Scores!$P49:$AI49,0)","v":13},{"$f":"RANK(Scores!AF49,Scores!$P49:$AI49,0)","v":13},{"$f":"RANK(Scores!AG49,Scores!$P49:$AI49,0)","v":13},{"$f":"RANK(Scores!AH49,Scores!$P49:$AI49,0)","v":1},{"$f":"RANK(Scores!AI49,Scores!$P49:$AI49,0)","v":1}]
[null,{"$f":"tblIndicators!AE44","v":"3.3.2) Penalties for water quality violations "},null,{"$f":"RANK(Scores!P50,Scores!$P50:$AI50,0)","v":1},{"$f":"RANK(Scores!Q50,Scores!$P50:$AI50,0)","v":1},{"$f":"RANK(Scores!R50,Scores!$P50:$AI50,0)","v":1},{"$f":"RANK(Scores!S50,Scores!$P50:$AI50,0)","v":1},{"$f":"RANK(Scores!T50,Scores!$P50:$AI50,0)","v":1},{"$f":"RANK(Scores!U50,Scores!$P50:$AI50,0)","v":1},{"$f":"RANK(Scores!V50,Scores!$P50:$AI50,0)","v":1},{"$f":"RANK(Scores!W50,Scores!$P50:$AI50,0)","v":1},{"$f":"RANK(Scores!X50,Scores!$P50:$AI50,0)","v":1},{"$f":"RANK(Scores!Y50,Scores!$P50:$AI50,0)","v":1},{"$f":"RANK(Scores!Z50,Scores!$P50:$AI50,0)","v":1},{"$f":"RANK(Scores!AA50,Scores!$P50:$AI50,0)","v":1},{"$f":"RANK(Scores!AB50,Scores!$P50:$AI50,0)","v":1},{"$f":"RANK(Scores!AC50,Scores!$P50:$AI50,0)","v":1},{"$f":"RANK(Scores!AD50,Scores!$P50:$AI50,0)","v":1},{"$f":"RANK(Scores!AE50,Scores!$P50:$AI50,0)","v":1},{"$f":"RANK(Scores!AF50,Scores!$P50:$AI50,0)","v":1},{"$f":"RANK(Scores!AG50,Scores!$P50:$AI50,0)","v":1},{"$f":"RANK(Scores!AH50,Scores!$P50:$AI50,0)","v":1},{"$f":"RANK(Scores!AI50,Scores!$P50:$AI50,0)","v":1}]
[null,{"$f":"tblIndicators!AE45","v":"4) MINERALS AND ENERGY"},null,{"$f":"RANK(Scores!P51,Scores!$P51:$AI51,0)","v":6},{"$f":"RANK(Scores!Q51,Scores!$P51:$AI51,0)","v":3},{"$f":"RANK(Scores!R51,Scores!$P51:$AI51,0)","v":11},{"$f":"RANK(Scores!S51,Scores!$P51:$AI51,0)","v":10},{"$f":"RANK(Scores!T51,Scores!$P51:$AI51,0)","v":18},{"$f":"RANK(Scores!U51,Scores!$P51:$AI51,0)","v":12},{"$f":"RANK(Scores!V51,Scores!$P51:$AI51,0)","v":20},{"$f":"RANK(Scores!W51,Scores!$P51:$AI51,0)","v":1},{"$f":"RANK(Scores!X51,Scores!$P51:$AI51,0)","v":15},{"$f":"RANK(Scores!Y51,Scores!$P51:$AI51,0)","v":6},{"$f":"RANK(Scores!Z51,Scores!$P51:$AI51,0)","v":3},{"$f":"RANK(Scores!AA51,Scores!$P51:$AI51,0)","v":1},{"$f":"RANK(Scores!AB51,Scores!$P51:$AI51,0)","v":15},{"$f":"RANK(Scores!AC51,Scores!$P51:$AI51,0)","v":14},{"$f":"RANK(Scores!AD51,Scores!$P51:$AI51,0)","v":15},{"$f":"RANK(Scores!AE51,Scores!$P51:$AI51,0)","v":6},{"$f":"RANK(Scores!AF51,Scores!$P51:$AI51,0)","v":9},{"$f":"RANK(Scores!AG51,Scores!$P51:$AI51,0)","v":13},{"$f":"RANK(Scores!AH51,Scores!$P51:$AI51,0)","v":3},{"$f":"RANK(Scores!AI51,Scores!$P51:$AI51,0)","v":19}]
[null,{"$f":"tblIndicators!AE46","v":"4.1) Permitting and licensing"},null,{"$f":"RANK(Scores!P52,Scores!$P52:$AI52,0)","v":1},{"$f":"RANK(Scores!Q52,Scores!$P52:$AI52,0)","v":1},{"$f":"RANK(Scores!R52,Scores!$P52:$AI52,0)","v":19},{"$f":"RANK(Scores!S52,Scores!$P52:$AI52,0)","v":1},{"$f":"RANK(Scores!T52,Scores!$P52:$AI52,0)","v":1},{"$f":"RANK(Scores!U52,Scores!$P52:$AI52,0)","v":16},{"$f":"RANK(Scores!V52,Scores!$P52:$AI52,0)","v":20},{"$f":"RANK(Scores!W52,Scores!$P52:$AI52,0)","v":1},{"$f":"RANK(Scores!X52,Scores!$P52:$AI52,0)","v":16},{"$f":"RANK(Scores!Y52,Scores!$P52:$AI52,0)","v":1},{"$f":"RANK(Scores!Z52,Scores!$P52:$AI52,0)","v":1},{"$f":"RANK(Scores!AA52,Scores!$P52:$AI52,0)","v":1},{"$f":"RANK(Scores!AB52,Scores!$P52:$AI52,0)","v":1},{"$f":"RANK(Scores!AC52,Scores!$P52:$AI52,0)","v":1},{"$f":"RANK(Scores!AD52,Scores!$P52:$AI52,0)","v":1},{"$f":"RANK(Scores!AE52,Scores!$P52:$AI52,0)","v":1},{"$f":"RANK(Scores!AF52,Scores!$P52:$AI52,0)","v":1},{"$f":"RANK(Scores!AG52,Scores!$P52:$AI52,0)","v":1},{"$f":"RANK(Scores!AH52,Scores!$P52:$AI52,0)","v":1},{"$f":"RANK(Scores!AI52,Scores!$P52:$AI52,0)","v":16}]
[null,{"$f":"tblIndicators!AE47","v":"4.1.1) Oil and gas tenure"},null,{"$f":"RANK(Scores!P53,Scores!$P53:$AI53,0)","v":1},{"$f":"RANK(Scores!Q53,Scores!$P53:$AI53,0)","v":1},{"$f":"RANK(Scores!R53,Scores!$P53:$AI53,0)","v":16},{"$f":"RANK(Scores!S53,Scores!$P53:$AI53,0)","v":1},{"$f":"RANK(Scores!T53,Scores!$P53:$AI53,0)","v":1},{"$f":"RANK(Scores!U53,Scores!$P53:$AI53,0)","v":16},{"$f":"RANK(Scores!V53,Scores!$P53:$AI53,0)","v":16},{"$f":"RANK(Scores!W53,Scores!$P53:$AI53,0)","v":1},{"$f":"RANK(Scores!X53,Scores!$P53:$AI53,0)","v":16},{"$f":"RANK(Scores!Y53,Scores!$P53:$AI53,0)","v":1},{"$f":"RANK(Scores!Z53,Scores!$P53:$AI53,0)","v":1},{"$f":"RANK(Scores!AA53,Scores!$P53:$AI53,0)","v":1},{"$f":"RANK(Scores!AB53,Scores!$P53:$AI53,0)","v":1},{"$f":"RANK(Scores!AC53,Scores!$P53:$AI53,0)","v":1},{"$f":"RANK(Scores!AD53,Scores!$P53:$AI53,0)","v":1},{"$f":"RANK(Scores!AE53,Scores!$P53:$AI53,0)","v":1},{"$f":"RANK(Scores!AF53,Scores!$P53:$AI53,0)","v":1},{"$f":"RANK(Scores!AG53,Scores!$P53:$AI53,0)","v":1},{"$f":"RANK(Scores!AH53,Scores!$P53:$AI53,0)","v":1},{"$f":"RANK(Scores!AI53,Scores!$P53:$AI53,0)","v":16}]
[null,{"$f":"tblIndicators!AE48","v":"4.1.2) Mining and minerals tenure"},null,{"$f":"RANK(Scores!P54,Scores!$P54:$AI54,0)","v":1},{"$f":"RANK(Scores!Q54,Scores!$P54:$AI54,0)","v":1},{"$f":"RANK(Scores!R54,Scores!$P54:$AI54,0)","v":19},{"$f":"RANK(Scores!S54,Scores!$P54:$AI54,0)","v":1},{"$f":"RANK(Scores!T54,Scores!$P54:$AI54,0)","v":1},{"$f":"RANK(Scores!U54,Scores!$P54:$AI54,0)","v":1},{"$f":"RANK(Scores!V54,Scores!$P54:$AI54,0)","v":20},{"$f":"RANK(Scores!W54,Scores!$P54:$AI54,0)","v":1},{"$f":"RANK(Scores!X54,Scores!$P54:$AI54,0)","v":1},{"$f":"RANK(Scores!Y54,Scores!$P54:$AI54,0)","v":1},{"$f":"RANK(Scores!Z54,Scores!$P54:$AI54,0)","v":1},{"$f":"RANK(Scores!AA54,Scores!$P54:$AI54,0)","v":1},{"$f":"RANK(Scores!AB54,Scores!$P54:$AI54,0)","v":1},{"$f":"RANK(Scores!AC54,Scores!$P54:$AI54,0)","v":1},{"$f":"RANK(Scores!AD54,Scores!$P54:$AI54,0)","v":1},{"$f":"RANK(Scores!AE54,Scores!$P54:$AI54,0)","v":1},{"$f":"RANK(Scores!AF54,Scores!$P54:$AI54,0)","v":1},{"$f":"RANK(Scores!AG54,Scores!$P54:$AI54,0)","v":1},{"$f":"RANK(Scores!AH54,Scores!$P54:$AI54,0)","v":1},{"$f":"RANK(Scores!AI54,Scores!$P54:$AI54,0)","v":1}]
[null,{"$f":"tblIndicators!AE49","v":"4.2) Monitoring and enforcement"},null,{"$f":"RANK(Scores!P55,Scores!$P55:$AI55,0)","v":9},{"$f":"RANK(Scores!Q55,Scores!$P55:$AI55,0)","v":1},{"$f":"RANK(Scores!R55,Scores!$P55:$AI55,0)","v":1},{"$f":"RANK(Scores!S55,Scores!$P55:$AI55,0)","v":9},{"$f":"RANK(Scores!T55,Scores!$P55:$AI55,0)","v":20},{"$f":"RANK(Scores!U55,Scores!$P55:$AI55,0)","v":9},{"$f":"RANK(Scores!V55,Scores!$P55:$AI55,0)","v":16},{"$f":"RANK(Scores!W55,Scores!$P55:$AI55,0)","v":1},{"$f":"RANK(Scores!X55,Scores!$P55:$AI55,0)","v":1},{"$f":"RANK(Scores!Y55,Scores!$P55:$AI55,0)","v":9},{"$f":"RANK(Scores!Z55,Scores!$P55:$AI55,0)","v":1},{"$f":"RANK(Scores!AA55,Scores!$P55:$AI55,0)","v":1},{"$f":"RANK(Scores!AB55,Scores!$P55:$AI55,0)","v":16},{"$f":"RANK(Scores!AC55,Scores!$P55:$AI55,0)","v":9},{"$f":"RANK(Scores!AD55,Scores!$P55:$AI55,0)","v":16},{"$f":"RANK(Scores!AE55,Scores!$P55:$AI55,0)","v":9},{"$f":"RANK(Scores!AF55,Scores!$P55:$AI55,0)","v":1},{"$f":"RANK(Scores!AG55,Scores!$P55:$AI55,0)","v":16},{"$f":"RANK(Scores!AH55,Scores!$P55:$AI55,0)","v":1},{"$f":"RANK(Scores!AI55,Scores!$P55:$AI55,0)","v":9}]
[null,{"$f":"tblIndicators!AE50","v":"4.2.1) Environmental impact assessment for oil and gas"},null,{"$f":"RANK(Scores!P56,Scores!$P56:$AI56,0)","v":1},{"$f":"RANK(Scores!Q56,Scores!$P56:$AI56,0)","v":1},{"$f":"RANK(Scores!R56,Scores!$P56:$AI56,0)","v":1},{"$f":"RANK(Scores!S56,Scores!$P56:$AI56,0)","v":1},{"$f":"RANK(Scores!T56,Scores!$P56:$AI56,0)","v":1},{"$f":"RANK(Scores!U56,Scores!$P56:$AI56,0)","v":1},{"$f":"RANK(Scores!V56,Scores!$P56:$AI56,0)","v":1},{"$f":"RANK(Scores!W56,Scores!$P56:$AI56,0)","v":1},{"$f":"RANK(Scores!X56,Scores!$P56:$AI56,0)","v":1},{"$f":"RANK(Scores!Y56,Scores!$P56:$AI56,0)","v":1},{"$f":"RANK(Scores!Z56,Scores!$P56:$AI56,0)","v":1},{"$f":"RANK(Scores!AA56,Scores!$P56:$AI56,0)","v":1},{"$f":"RANK(Scores!AB56,Scores!$P56:$AI56,0)","v":1},{"$f":"RANK(Scores!AC56,Scores!$P56:$AI56,0)","v":1},{"$f":"RANK(Scores!AD56,Scores!$P56:$AI56,0)","v":1},{"$f":"RANK(Scores!AE56,Scores!$P56:$AI56,0)","v":1},{"$f":"RANK(Scores!AF56,Scores!$P56:$AI56,0)","v":1},{"$f":"RANK(Scores!AG56,Scores!$P56:$AI56,0)","v":1},{"$f":"RANK(Scores!AH56,Scores!$P56:$AI56,0)","v":1},{"$f":"RANK(Scores!AI56,Scores!$P56:$AI56,0)","v":1}]
[null,{"$f":"tblIndicators!AE51","v":"4.2.2) Environment impact assessment for mining and minerals"},null,{"$f":"RANK(Scores!P57,Scores!$P57:$AI57,0)","v":1},{"$f":"RANK(Scores!Q57,Scores!$P57:$AI57,0)","v":1},{"$f":"RANK(Scores!R57,Scores!$P57:$AI57,0)","v":1},{"$f":"RANK(Scores!S57,Scores!$P57:$AI57,0)","v":1},{"$f":"RANK(Scores!T57,Scores!$P57:$AI57,0)","v":1},{"$f":"RANK(Scores!U57,Scores!$P57:$AI57,0)","v":1},{"$f":"RANK(Scores!V57,Scores!$P57:$AI57,0)","v":1},{"$f":"RANK(Scores!W57,Scores!$P57:$AI57,0)","v":1},{"$f":"RANK(Scores!X57,Scores!$P57:$AI57,0)","v":1},{"$f":"RANK(Scores!Y57,Scores!$P57:$AI57,0)","v":1},{"$f":"RANK(Scores!Z57,Scores!$P57:$AI57,0)","v":1},{"$f":"RANK(Scores!AA57,Scores!$P57:$AI57,0)","v":1},{"$f":"RANK(Scores!AB57,Scores!$P57:$AI57,0)","v":1},{"$f":"RANK(Scores!AC57,Scores!$P57:$AI57,0)","v":1},{"$f":"RANK(Scores!AD57,Scores!$P57:$AI57,0)","v":1},{"$f":"RANK(Scores!AE57,Scores!$P57:$AI57,0)","v":1},{"$f":"RANK(Scores!AF57,Scores!$P57:$AI57,0)","v":1},{"$f":"RANK(Scores!AG57,Scores!$P57:$AI57,0)","v":1},{"$f":"RANK(Scores!AH57,Scores!$P57:$AI57,0)","v":1},{"$f":"RANK(Scores!AI57,Scores!$P57:$AI57,0)","v":1}]
[null,{"$f":"tblIndicators!AE52","v":"4.2.3) On-site reviews "},null,{"$f":"RANK(Scores!P58,Scores!$P58:$AI58,0)","v":1},{"$f":"RANK(Scores!Q58,Scores!$P58:$AI58,0)","v":1},{"$f":"RANK(Scores!R58,Scores!$P58:$AI58,0)","v":1},{"$f":"RANK(Scores!S58,Scores!$P58:$AI58,0)","v":1},{"$f":"RANK(Scores!T58,Scores!$P58:$AI58,0)","v":19},{"$f":"RANK(Scores!U58,Scores!$P58:$AI58,0)","v":1},{"$f":"RANK(Scores!V58,Scores!$P58:$AI58,0)","v":1},{"$f":"RANK(Scores!W58,Scores!$P58:$AI58,0)","v":1},{"$f":"RANK(Scores!X58,Scores!$P58:$AI58,0)","v":1},{"$f":"RANK(Scores!Y58,Scores!$P58:$AI58,0)","v":1},{"$f":"RANK(Scores!Z58,Scores!$P58:$AI58,0)","v":1},{"$f":"RANK(Scores!AA58,Scores!$P58:$AI58,0)","v":1},{"$f":"RANK(Scores!AB58,Scores!$P58:$AI58,0)","v":1},{"$f":"RANK(Scores!AC58,Scores!$P58:$AI58,0)","v":1},{"$f":"RANK(Scores!AD58,Scores!$P58:$AI58,0)","v":1},{"$f":"RANK(Scores!AE58,Scores!$P58:$AI58,0)","v":1},{"$f":"RANK(Scores!AF58,Scores!$P58:$AI58,0)","v":1},{"$f":"RANK(Scores!AG58,Scores!$P58:$AI58,0)","v":19},{"$f":"RANK(Scores!AH58,Scores!$P58:$AI58,0)","v":1},{"$f":"RANK(Scores!AI58,Scores!$P58:$AI58,0)","v":1}]
[null,{"$f":"tblIndicators!AE53","v":"4.2.4) Collection of oil spills data"},null,{"$f":"RANK(Scores!P59,Scores!$P59:$AI59,0)","v":10},{"$f":"RANK(Scores!Q59,Scores!$P59:$AI59,0)","v":1},{"$f":"RANK(Scores!R59,Scores!$P59:$AI59,0)","v":1},{"$f":"RANK(Scores!S59,Scores!$P59:$AI59,0)","v":10},{"$f":"RANK(Scores!T59,Scores!$P59:$AI59,0)","v":17},{"$f":"RANK(Scores!U59,Scores!$P59:$AI59,0)","v":10},{"$f":"RANK(Scores!V59,Scores!$P59:$AI59,0)","v":17},{"$f":"RANK(Scores!W59,Scores!$P59:$AI59,0)","v":1},{"$f":"RANK(Scores!X59,Scores!$P59:$AI59,0)","v":1},{"$f":"RANK(Scores!Y59,Scores!$P59:$AI59,0)","v":10},{"$f":"RANK(Scores!Z59,Scores!$P59:$AI59,0)","v":1},{"$f":"RANK(Scores!AA59,Scores!$P59:$AI59,0)","v":1},{"$f":"RANK(Scores!AB59,Scores!$P59:$AI59,0)","v":17},{"$f":"RANK(Scores!AC59,Scores!$P59:$AI59,0)","v":10},{"$f":"RANK(Scores!AD59,Scores!$P59:$AI59,0)","v":17},{"$f":"RANK(Scores!AE59,Scores!$P59:$AI59,0)","v":10},{"$f":"RANK(Scores!AF59,Scores!$P59:$AI59,0)","v":1},{"$f":"RANK(Scores!AG59,Scores!$P59:$AI59,0)","v":1},{"$f":"RANK(Scores!AH59,Scores!$P59:$AI59,0)","v":1},{"$f":"RANK(Scores!AI59,Scores!$P59:$AI59,0)","v":10}]
[null,{"$f":"tblIndicators!AE54","v":"4.3) Risk mitigation"},null,{"$f":"RANK(Scores!P60,Scores!$P60:$AI60,0)","v":4},{"$f":"RANK(Scores!Q60,Scores!$P60:$AI60,0)","v":4},{"$f":"RANK(Scores!R60,Scores!$P60:$AI60,0)","v":1},{"$f":"RANK(Scores!S60,Scores!$P60:$AI60,0)","v":11},{"$f":"RANK(Scores!T60,Scores!$P60:$AI60,0)","v":11},{"$f":"RANK(Scores!U60,Scores!$P60:$AI60,0)","v":4},{"$f":"RANK(Scores!V60,Scores!$P60:$AI60,0)","v":11},{"$f":"RANK(Scores!W60,Scores!$P60:$AI60,0)","v":1},{"$f":"RANK(Scores!X60,Scores!$P60:$AI60,0)","v":16},{"$f":"RANK(Scores!Y60,Scores!$P60:$AI60,0)","v":4},{"$f":"RANK(Scores!Z60,Scores!$P60:$AI60,0)","v":4},{"$f":"RANK(Scores!AA60,Scores!$P60:$AI60,0)","v":1},{"$f":"RANK(Scores!AB60,Scores!$P60:$AI60,0)","v":16},{"$f":"RANK(Scores!AC60,Scores!$P60:$AI60,0)","v":16},{"$f":"RANK(Scores!AD60,Scores!$P60:$AI60,0)","v":16},{"$f":"RANK(Scores!AE60,Scores!$P60:$AI60,0)","v":4},{"$f":"RANK(Scores!AF60,Scores!$P60:$AI60,0)","v":11},{"$f":"RANK(Scores!AG60,Scores!$P60:$AI60,0)","v":11},{"$f":"RANK(Scores!AH60,Scores!$P60:$AI60,0)","v":4},{"$f":"RANK(Scores!AI60,Scores!$P60:$AI60,0)","v":20}]
[null,{"$f":"tblIndicators!AE55","v":"4.3.1) Adoption of the OPRC "},null,{"$f":"RANK(Scores!P61,Scores!$P61:$AI61,0)","v":8},{"$f":"RANK(Scores!Q61,Scores!$P61:$AI61,0)","v":8},{"$f":"RANK(Scores!R61,Scores!$P61:$AI61,0)","v":1},{"$f":"RANK(Scores!S61,Scores!$P61:$AI61,0)","v":1},{"$f":"RANK(Scores!T61,Scores!$P61:$AI61,0)","v":1},{"$f":"RANK(Scores!U61,Scores!$P61:$AI61,0)","v":8},{"$f":"RANK(Scores!V61,Scores!$P61:$AI61,0)","v":19},{"$f":"RANK(Scores!W61,Scores!$P61:$AI61,0)","v":1},{"$f":"RANK(Scores!X61,Scores!$P61:$AI61,0)","v":8},{"$f":"RANK(Scores!Y61,Scores!$P61:$AI61,0)","v":8},{"$f":"RANK(Scores!Z61,Scores!$P61:$AI61,0)","v":8},{"$f":"RANK(Scores!AA61,Scores!$P61:$AI61,0)","v":1},{"$f":"RANK(Scores!AB61,Scores!$P61:$AI61,0)","v":8},{"$f":"RANK(Scores!AC61,Scores!$P61:$AI61,0)","v":8},{"$f":"RANK(Scores!AD61,Scores!$P61:$AI61,0)","v":8},{"$f":"RANK(Scores!AE61,Scores!$P61:$AI61,0)","v":8},{"$f":"RANK(Scores!AF61,Scores!$P61:$AI61,0)","v":1},{"$f":"RANK(Scores!AG61,Scores!$P61:$AI61,0)","v":1},{"$f":"RANK(Scores!AH61,Scores!$P61:$AI61,0)","v":8},{"$f":"RANK(Scores!AI61,Scores!$P61:$AI61,0)","v":19}]
[null,{"$f":"tblIndicators!AE56","v":"4.3.2) Emergency plan "},null,{"$f":"RANK(Scores!P62,Scores!$P62:$AI62,0)","v":1},{"$f":"RANK(Scores!Q62,Scores!$P62:$AI62,0)","v":1},{"$f":"RANK(Scores!R62,Scores!$P62:$AI62,0)","v":1},{"$f":"RANK(Scores!S62,Scores!$P62:$AI62,0)","v":1},{"$f":"RANK(Scores!T62,Scores!$P62:$AI62,0)","v":1},{"$f":"RANK(Scores!U62,Scores!$P62:$AI62,0)","v":1},{"$f":"RANK(Scores!V62,Scores!$P62:$AI62,0)","v":1},{"$f":"RANK(Scores!W62,Scores!$P62:$AI62,0)","v":1},{"$f":"RANK(Scores!X62,Scores!$P62:$AI62,0)","v":1},{"$f":"RANK(Scores!Y62,Scores!$P62:$AI62,0)","v":1},{"$f":"RANK(Scores!Z62,Scores!$P62:$AI62,0)","v":1},{"$f":"RANK(Scores!AA62,Scores!$P62:$AI62,0)","v":1},{"$f":"RANK(Scores!AB62,Scores!$P62:$AI62,0)","v":1},{"$f":"RANK(Scores!AC62,Scores!$P62:$AI62,0)","v":20},{"$f":"RANK(Scores!AD62,Scores!$P62:$AI62,0)","v":1},{"$f":"RANK(Scores!AE62,Scores!$P62:$AI62,0)","v":1},{"$f":"RANK(Scores!AF62,Scores!$P62:$AI62,0)","v":1},{"$f":"RANK(Scores!AG62,Scores!$P62:$AI62,0)","v":1},{"$f":"RANK(Scores!AH62,Scores!$P62:$AI62,0)","v":1},{"$f":"RANK(Scores!AI62,Scores!$P62:$AI62,0)","v":1}]
[null,{"$f":"tblIndicators!AE57","v":"4.3.3) Off-limit areas "},null,{"$f":"RANK(Scores!P63,Scores!$P63:$AI63,0)","v":1},{"$f":"RANK(Scores!Q63,Scores!$P63:$AI63,0)","v":1},{"$f":"RANK(Scores!R63,Scores!$P63:$AI63,0)","v":1},{"$f":"RANK(Scores!S63,Scores!$P63:$AI63,0)","v":13},{"$f":"RANK(Scores!T63,Scores!$P63:$AI63,0)","v":13},{"$f":"RANK(Scores!U63,Scores!$P63:$AI63,0)","v":1},{"$f":"RANK(Scores!V63,Scores!$P63:$AI63,0)","v":1},{"$f":"RANK(Scores!W63,Scores!$P63:$AI63,0)","v":1},{"$f":"RANK(Scores!X63,Scores!$P63:$AI63,0)","v":13},{"$f":"RANK(Scores!Y63,Scores!$P63:$AI63,0)","v":1},{"$f":"RANK(Scores!Z63,Scores!$P63:$AI63,0)","v":1},{"$f":"RANK(Scores!AA63,Scores!$P63:$AI63,0)","v":1},{"$f":"RANK(Scores!AB63,Scores!$P63:$AI63,0)","v":13},{"$f":"RANK(Scores!AC63,Scores!$P63:$AI63,0)","v":1},{"$f":"RANK(Scores!AD63,Scores!$P63:$AI63,0)","v":13},{"$f":"RANK(Scores!AE63,Scores!$P63:$AI63,0)","v":1},{"$f":"RANK(Scores!AF63,Scores!$P63:$AI63,0)","v":13},{"$f":"RANK(Scores!AG63,Scores!$P63:$AI63,0)","v":13},{"$f":"RANK(Scores!AH63,Scores!$P63:$AI63,0)","v":1},{"$f":"RANK(Scores!AI63,Scores!$P63:$AI63,0)","v":13}]
[null,{"$f":"tblIndicators!AE58","v":"5) LAND"},null,{"$f":"RANK(Scores!P64,Scores!$P64:$AI64,0)","v":19},{"$f":"RANK(Scores!Q64,Scores!$P64:$AI64,0)","v":10},{"$f":"RANK(Scores!R64,Scores!$P64:$AI64,0)","v":12},{"$f":"RANK(Scores!S64,Scores!$P64:$AI64,0)","v":6},{"$f":"RANK(Scores!T64,Scores!$P64:$AI64,0)","v":2},{"$f":"RANK(Scores!U64,Scores!$P64:$AI64,0)","v":14},{"$f":"RANK(Scores!V64,Scores!$P64:$AI64,0)","v":8},{"$f":"RANK(Scores!W64,Scores!$P64:$AI64,0)","v":7},{"$f":"RANK(Scores!X64,Scores!$P64:$AI64,0)","v":18},{"$f":"RANK(Scores!Y64,Scores!$P64:$AI64,0)","v":1},{"$f":"RANK(Scores!Z64,Scores!$P64:$AI64,0)","v":16},{"$f":"RANK(Scores!AA64,Scores!$P64:$AI64,0)","v":17},{"$f":"RANK(Scores!AB64,Scores!$P64:$AI64,0)","v":5},{"$f":"RANK(Scores!AC64,Scores!$P64:$AI64,0)","v":9},{"$f":"RANK(Scores!AD64,Scores!$P64:$AI64,0)","v":20},{"$f":"RANK(Scores!AE64,Scores!$P64:$AI64,0)","v":11},{"$f":"RANK(Scores!AF64,Scores!$P64:$AI64,0)","v":13},{"$f":"RANK(Scores!AG64,Scores!$P64:$AI64,0)","v":3},{"$f":"RANK(Scores!AH64,Scores!$P64:$AI64,0)","v":4},{"$f":"RANK(Scores!AI64,Scores!$P64:$AI64,0)","v":15}]
[null,{"$f":"tblIndicators!AE59","v":"5.1) Prevalence of coastal protected areas"},null,{"$f":"RANK(Scores!P65,Scores!$P65:$AI65,0)","v":1},{"$f":"RANK(Scores!Q65,Scores!$P65:$AI65,0)","v":16},{"$f":"RANK(Scores!R65,Scores!$P65:$AI65,0)","v":1},{"$f":"RANK(Scores!S65,Scores!$P65:$AI65,0)","v":7},{"$f":"RANK(Scores!T65,Scores!$P65:$AI65,0)","v":1},{"$f":"RANK(Scores!U65,Scores!$P65:$AI65,0)","v":16},{"$f":"RANK(Scores!V65,Scores!$P65:$AI65,0)","v":7},{"$f":"RANK(Scores!W65,Scores!$P65:$AI65,0)","v":7},{"$f":"RANK(Scores!X65,Scores!$P65:$AI65,0)","v":7},{"$f":"RANK(Scores!Y65,Scores!$P65:$AI65,0)","v":1},{"$f":"RANK(Scores!Z65,Scores!$P65:$AI65,0)","v":7},{"$f":"RANK(Scores!AA65,Scores!$P65:$AI65,0)","v":7},{"$f":"RANK(Scores!AB65,Scores!$P65:$AI65,0)","v":1},{"$f":"RANK(Scores!AC65,Scores!$P65:$AI65,0)","v":7},{"$f":"RANK(Scores!AD65,Scores!$P65:$AI65,0)","v":7},{"$f":"RANK(Scores!AE65,Scores!$P65:$AI65,0)","v":16},{"$f":"RANK(Scores!AF65,Scores!$P65:$AI65,0)","v":16},{"$f":"RANK(Scores!AG65,Scores!$P65:$AI65,0)","v":1},{"$f":"RANK(Scores!AH65,Scores!$P65:$AI65,0)","v":7},{"$f":"RANK(Scores!AI65,Scores!$P65:$AI65,0)","v":16}]
[null,{"$f":"tblIndicators!AE60","v":"5.1.1) Terrestrial protected areas"},null,{"$f":"RANK(Scores!P66,Scores!$P66:$AI66,0)","v":1},{"$f":"RANK(Scores!Q66,Scores!$P66:$AI66,0)","v":16},{"$f":"RANK(Scores!R66,Scores!$P66:$AI66,0)","v":1},{"$f":"RANK(Scores!S66,Scores!$P66:$AI66,0)","v":7},{"$f":"RANK(Scores!T66,Scores!$P66:$AI66,0)","v":1},{"$f":"RANK(Scores!U66,Scores!$P66:$AI66,0)","v":16},{"$f":"RANK(Scores!V66,Scores!$P66:$AI66,0)","v":7},{"$f":"RANK(Scores!W66,Scores!$P66:$AI66,0)","v":7},{"$f":"RANK(Scores!X66,Scores!$P66:$AI66,0)","v":7},{"$f":"RANK(Scores!Y66,Scores!$P66:$AI66,0)","v":1},{"$f":"RANK(Scores!Z66,Scores!$P66:$AI66,0)","v":7},{"$f":"RANK(Scores!AA66,Scores!$P66:$AI66,0)","v":7},{"$f":"RANK(Scores!AB66,Scores!$P66:$AI66,0)","v":1},{"$f":"RANK(Scores!AC66,Scores!$P66:$AI66,0)","v":7},{"$f":"RANK(Scores!AD66,Scores!$P66:$AI66,0)","v":7},{"$f":"RANK(Scores!AE66,Scores!$P66:$AI66,0)","v":16},{"$f":"RANK(Scores!AF66,Scores!$P66:$AI66,0)","v":16},{"$f":"RANK(Scores!AG66,Scores!$P66:$AI66,0)","v":1},{"$f":"RANK(Scores!AH66,Scores!$P66:$AI66,0)","v":7},{"$f":"RANK(Scores!AI66,Scores!$P66:$AI66,0)","v":16}]
[null,{"$f":"tblIndicators!AE61","v":"5.2) Environmental impact of coastal development"},null,{"$f":"RANK(Scores!P67,Scores!$P67:$AI67,0)","v":16},{"$f":"RANK(Scores!Q67,Scores!$P67:$AI67,0)","v":1},{"$f":"RANK(Scores!R67,Scores!$P67:$AI67,0)","v":1},{"$f":"RANK(Scores!S67,Scores!$P67:$AI67,0)","v":1},{"$f":"RANK(Scores!T67,Scores!$P67:$AI67,0)","v":1},{"$f":"RANK(Scores!U67,Scores!$P67:$AI67,0)","v":1},{"$f":"RANK(Scores!V67,Scores!$P67:$AI67,0)","v":1},{"$f":"RANK(Scores!W67,Scores!$P67:$AI67,0)","v":1},{"$f":"RANK(Scores!X67,Scores!$P67:$AI67,0)","v":1},{"$f":"RANK(Scores!Y67,Scores!$P67:$AI67,0)","v":1},{"$f":"RANK(Scores!Z67,Scores!$P67:$AI67,0)","v":16},{"$f":"RANK(Scores!AA67,Scores!$P67:$AI67,0)","v":1},{"$f":"RANK(Scores!AB67,Scores!$P67:$AI67,0)","v":16},{"$f":"RANK(Scores!AC67,Scores!$P67:$AI67,0)","v":1},{"$f":"RANK(Scores!AD67,Scores!$P67:$AI67,0)","v":20},{"$f":"RANK(Scores!AE67,Scores!$P67:$AI67,0)","v":1},{"$f":"RANK(Scores!AF67,Scores!$P67:$AI67,0)","v":1},{"$f":"RANK(Scores!AG67,Scores!$P67:$AI67,0)","v":16},{"$f":"RANK(Scores!AH67,Scores!$P67:$AI67,0)","v":1},{"$f":"RANK(Scores!AI67,Scores!$P67:$AI67,0)","v":1}]
[null,{"$f":"tblIndicators!AE62","v":"5.2.1) Environment impact assessment for coastal development "},null,{"$f":"RANK(Scores!P68,Scores!$P68:$AI68,0)","v":1},{"$f":"RANK(Scores!Q68,Scores!$P68:$AI68,0)","v":1},{"$f":"RANK(Scores!R68,Scores!$P68:$AI68,0)","v":1},{"$f":"RANK(Scores!S68,Scores!$P68:$AI68,0)","v":1},{"$f":"RANK(Scores!T68,Scores!$P68:$AI68,0)","v":1},{"$f":"RANK(Scores!U68,Scores!$P68:$AI68,0)","v":1},{"$f":"RANK(Scores!V68,Scores!$P68:$AI68,0)","v":1},{"$f":"RANK(Scores!W68,Scores!$P68:$AI68,0)","v":1},{"$f":"RANK(Scores!X68,Scores!$P68:$AI68,0)","v":1},{"$f":"RANK(Scores!Y68,Scores!$P68:$AI68,0)","v":1},{"$f":"RANK(Scores!Z68,Scores!$P68:$AI68,0)","v":1},{"$f":"RANK(Scores!AA68,Scores!$P68:$AI68,0)","v":1},{"$f":"RANK(Scores!AB68,Scores!$P68:$AI68,0)","v":19},{"$f":"RANK(Scores!AC68,Scores!$P68:$AI68,0)","v":1},{"$f":"RANK(Scores!AD68,Scores!$P68:$AI68,0)","v":19},{"$f":"RANK(Scores!AE68,Scores!$P68:$AI68,0)","v":1},{"$f":"RANK(Scores!AF68,Scores!$P68:$AI68,0)","v":1},{"$f":"RANK(Scores!AG68,Scores!$P68:$AI68,0)","v":1},{"$f":"RANK(Scores!AH68,Scores!$P68:$AI68,0)","v":1},{"$f":"RANK(Scores!AI68,Scores!$P68:$AI68,0)","v":1}]
[null,{"$f":"tblIndicators!AE63","v":"5.2.2) On-site reviews "},null,{"$f":"RANK(Scores!P69,Scores!$P69:$AI69,0)","v":17},{"$f":"RANK(Scores!Q69,Scores!$P69:$AI69,0)","v":1},{"$f":"RANK(Scores!R69,Scores!$P69:$AI69,0)","v":1},{"$f":"RANK(Scores!S69,Scores!$P69:$AI69,0)","v":1},{"$f":"RANK(Scores!T69,Scores!$P69:$AI69,0)","v":1},{"$f":"RANK(Scores!U69,Scores!$P69:$AI69,0)","v":1},{"$f":"RANK(Scores!V69,Scores!$P69:$AI69,0)","v":1},{"$f":"RANK(Scores!W69,Scores!$P69:$AI69,0)","v":1},{"$f":"RANK(Scores!X69,Scores!$P69:$AI69,0)","v":1},{"$f":"RANK(Scores!Y69,Scores!$P69:$AI69,0)","v":1},{"$f":"RANK(Scores!Z69,Scores!$P69:$AI69,0)","v":17},{"$f":"RANK(Scores!AA69,Scores!$P69:$AI69,0)","v":1},{"$f":"RANK(Scores!AB69,Scores!$P69:$AI69,0)","v":1},{"$f":"RANK(Scores!AC69,Scores!$P69:$AI69,0)","v":1},{"$f":"RANK(Scores!AD69,Scores!$P69:$AI69,0)","v":17},{"$f":"RANK(Scores!AE69,Scores!$P69:$AI69,0)","v":1},{"$f":"RANK(Scores!AF69,Scores!$P69:$AI69,0)","v":1},{"$f":"RANK(Scores!AG69,Scores!$P69:$AI69,0)","v":17},{"$f":"RANK(Scores!AH69,Scores!$P69:$AI69,0)","v":1},{"$f":"RANK(Scores!AI69,Scores!$P69:$AI69,0)","v":1}]
[null,{"$f":"tblIndicators!AE64","v":"5.3) Government commitment to sustainability in coastal tourism development"},null,{"$f":"RANK(Scores!P70,Scores!$P70:$AI70,0)","v":17},{"$f":"RANK(Scores!Q70,Scores!$P70:$AI70,0)","v":3},{"$f":"RANK(Scores!R70,Scores!$P70:$AI70,0)","v":12},{"$f":"RANK(Scores!S70,Scores!$P70:$AI70,0)","v":9},{"$f":"RANK(Scores!T70,Scores!$P70:$AI70,0)","v":4},{"$f":"RANK(Scores!U70,Scores!$P70:$AI70,0)","v":16},{"$f":"RANK(Scores!V70,Scores!$P70:$AI70,0)","v":13},{"$f":"RANK(Scores!W70,Scores!$P70:$AI70,0)","v":11},{"$f":"RANK(Scores!X70,Scores!$P70:$AI70,0)","v":10},{"$f":"RANK(Scores!Y70,Scores!$P70:$AI70,0)","v":1},{"$f":"RANK(Scores!Z70,Scores!$P70:$AI70,0)","v":19},{"$f":"RANK(Scores!AA70,Scores!$P70:$AI70,0)","v":8},{"$f":"RANK(Scores!AB70,Scores!$P70:$AI70,0)","v":7},{"$f":"RANK(Scores!AC70,Scores!$P70:$AI70,0)","v":14},{"$f":"RANK(Scores!AD70,Scores!$P70:$AI70,0)","v":20},{"$f":"RANK(Scores!AE70,Scores!$P70:$AI70,0)","v":6},{"$f":"RANK(Scores!AF70,Scores!$P70:$AI70,0)","v":15},{"$f":"RANK(Scores!AG70,Scores!$P70:$AI70,0)","v":2},{"$f":"RANK(Scores!AH70,Scores!$P70:$AI70,0)","v":4},{"$f":"RANK(Scores!AI70,Scores!$P70:$AI70,0)","v":18}]
[null,{"$f":"tblIndicators!AE65","v":"5.3.1) Sustainability of tourism"},null,{"$f":"RANK(Scores!P71,Scores!$P71:$AI71,0)","v":17},{"$f":"RANK(Scores!Q71,Scores!$P71:$AI71,0)","v":3},{"$f":"RANK(Scores!R71,Scores!$P71:$AI71,0)","v":12},{"$f":"RANK(Scores!S71,Scores!$P71:$AI71,0)","v":9},{"$f":"RANK(Scores!T71,Scores!$P71:$AI71,0)","v":4},{"$f":"RANK(Scores!U71,Scores!$P71:$AI71,0)","v":16},{"$f":"RANK(Scores!V71,Scores!$P71:$AI71,0)","v":13},{"$f":"RANK(Scores!W71,Scores!$P71:$AI71,0)","v":11},{"$f":"RANK(Scores!X71,Scores!$P71:$AI71,0)","v":10},{"$f":"RANK(Scores!Y71,Scores!$P71:$AI71,0)","v":1},{"$f":"RANK(Scores!Z71,Scores!$P71:$AI71,0)","v":19},{"$f":"RANK(Scores!AA71,Scores!$P71:$AI71,0)","v":8},{"$f":"RANK(Scores!AB71,Scores!$P71:$AI71,0)","v":7},{"$f":"RANK(Scores!AC71,Scores!$P71:$AI71,0)","v":14},{"$f":"RANK(Scores!AD71,Scores!$P71:$AI71,0)","v":20},{"$f":"RANK(Scores!AE71,Scores!$P71:$AI71,0)","v":6},{"$f":"RANK(Scores!AF71,Scores!$P71:$AI71,0)","v":15},{"$f":"RANK(Scores!AG71,Scores!$P71:$AI71,0)","v":2},{"$f":"RANK(Scores!AH71,Scores!$P71:$AI71,0)","v":4},{"$f":"RANK(Scores!AI71,Scores!$P71:$AI71,0)","v":18}]
[null,{"$f":"tblIndicators!AE66","v":"5.4) Natural disaster risk mitigation"},null,{"$f":"RANK(Scores!P72,Scores!$P72:$AI72,0)","v":16},{"$f":"RANK(Scores!Q72,Scores!$P72:$AI72,0)","v":1},{"$f":"RANK(Scores!R72,Scores!$P72:$AI72,0)","v":16},{"$f":"RANK(Scores!S72,Scores!$P72:$AI72,0)","v":1},{"$f":"RANK(Scores!T72,Scores!$P72:$AI72,0)","v":1},{"$f":"RANK(Scores!U72,Scores!$P72:$AI72,0)","v":1},{"$f":"RANK(Scores!V72,Scores!$P72:$AI72,0)","v":1},{"$f":"RANK(Scores!W72,Scores!$P72:$AI72,0)","v":1},{"$f":"RANK(Scores!X72,Scores!$P72:$AI72,0)","v":16},{"$f":"RANK(Scores!Y72,Scores!$P72:$AI72,0)","v":1},{"$f":"RANK(Scores!Z72,Scores!$P72:$AI72,0)","v":1},{"$f":"RANK(Scores!AA72,Scores!$P72:$AI72,0)","v":16},{"$f":"RANK(Scores!AB72,Scores!$P72:$AI72,0)","v":1},{"$f":"RANK(Scores!AC72,Scores!$P72:$AI72,0)","v":1},{"$f":"RANK(Scores!AD72,Scores!$P72:$AI72,0)","v":16},{"$f":"RANK(Scores!AE72,Scores!$P72:$AI72,0)","v":1},{"$f":"RANK(Scores!AF72,Scores!$P72:$AI72,0)","v":1},{"$f":"RANK(Scores!AG72,Scores!$P72:$AI72,0)","v":1},{"$f":"RANK(Scores!AH72,Scores!$P72:$AI72,0)","v":1},{"$f":"RANK(Scores!AI72,Scores!$P72:$AI72,0)","v":1}]
[null,{"$f":"tblIndicators!AE67","v":"5.4.1) Strategy for risk mitigation "},null,{"$f":"RANK(Scores!P73,Scores!$P73:$AI73,0)","v":16},{"$f":"RANK(Scores!Q73,Scores!$P73:$AI73,0)","v":1},{"$f":"RANK(Scores!R73,Scores!$P73:$AI73,0)","v":16},{"$f":"RANK(Scores!S73,Scores!$P73:$AI73,0)","v":1},{"$f":"RANK(Scores!T73,Scores!$P73:$AI73,0)","v":1},{"$f":"RANK(Scores!U73,Scores!$P73:$AI73,0)","v":1},{"$f":"RANK(Scores!V73,Scores!$P73:$AI73,0)","v":1},{"$f":"RANK(Scores!W73,Scores!$P73:$AI73,0)","v":1},{"$f":"RANK(Scores!X73,Scores!$P73:$AI73,0)","v":16},{"$f":"RANK(Scores!Y73,Scores!$P73:$AI73,0)","v":1},{"$f":"RANK(Scores!Z73,Scores!$P73:$AI73,0)","v":1},{"$f":"RANK(Scores!AA73,Scores!$P73:$AI73,0)","v":16},{"$f":"RANK(Scores!AB73,Scores!$P73:$AI73,0)","v":1},{"$f":"RANK(Scores!AC73,Scores!$P73:$AI73,0)","v":1},{"$f":"RANK(Scores!AD73,Scores!$P73:$AI73,0)","v":16},{"$f":"RANK(Scores!AE73,Scores!$P73:$AI73,0)","v":1},{"$f":"RANK(Scores!AF73,Scores!$P73:$AI73,0)","v":1},{"$f":"RANK(Scores!AG73,Scores!$P73:$AI73,0)","v":1},{"$f":"RANK(Scores!AH73,Scores!$P73:$AI73,0)","v":1},{"$f":"RANK(Scores!AI73,Scores!$P73:$AI73,0)","v":1}]
[null,{"$f":"tblIndicators!AE68","v":"6) LIVING RESOURCES"},null,{"$f":"RANK(Scores!P74,Scores!$P74:$AI74,0)","v":6},{"$f":"RANK(Scores!Q74,Scores!$P74:$AI74,0)","v":7},{"$f":"RANK(Scores!R74,Scores!$P74:$AI74,0)","v":8},{"$f":"RANK(Scores!S74,Scores!$P74:$AI74,0)","v":20},{"$f":"RANK(Scores!T74,Scores!$P74:$AI74,0)","v":3},{"$f":"RANK(Scores!U74,Scores!$P74:$AI74,0)","v":18},{"$f":"RANK(Scores!V74,Scores!$P74:$AI74,0)","v":15},{"$f":"RANK(Scores!W74,Scores!$P74:$AI74,0)","v":11},{"$f":"RANK(Scores!X74,Scores!$P74:$AI74,0)","v":13},{"$f":"RANK(Scores!Y74,Scores!$P74:$AI74,0)","v":2},{"$f":"RANK(Scores!Z74,Scores!$P74:$AI74,0)","v":17},{"$f":"RANK(Scores!AA74,Scores!$P74:$AI74,0)","v":5},{"$f":"RANK(Scores!AB74,Scores!$P74:$AI74,0)","v":14},{"$f":"RANK(Scores!AC74,Scores!$P74:$AI74,0)","v":19},{"$f":"RANK(Scores!AD74,Scores!$P74:$AI74,0)","v":10},{"$f":"RANK(Scores!AE74,Scores!$P74:$AI74,0)","v":12},{"$f":"RANK(Scores!AF74,Scores!$P74:$AI74,0)","v":9},{"$f":"RANK(Scores!AG74,Scores!$P74:$AI74,0)","v":4},{"$f":"RANK(Scores!AH74,Scores!$P74:$AI74,0)","v":1},{"$f":"RANK(Scores!AI74,Scores!$P74:$AI74,0)","v":16}]
[null,{"$f":"tblIndicators!AE69","v":"6.1) Fisheries governance and management effectiveness"},null,{"$f":"RANK(Scores!P75,Scores!$P75:$AI75,0)","v":19},{"$f":"RANK(Scores!Q75,Scores!$P75:$AI75,0)","v":4},{"$f":"RANK(Scores!R75,Scores!$P75:$AI75,0)","v":9},{"$f":"RANK(Scores!S75,Scores!$P75:$AI75,0)","v":20},{"$f":"RANK(Scores!T75,Scores!$P75:$AI75,0)","v":8},{"$f":"RANK(Scores!U75,Scores!$P75:$AI75,0)","v":16},{"$f":"RANK(Scores!V75,Scores!$P75:$AI75,0)","v":18},{"$f":"RANK(Scores!W75,Scores!$P75:$AI75,0)","v":11},{"$f":"RANK(Scores!X75,Scores!$P75:$AI75,0)","v":13},{"$f":"RANK(Scores!Y75,Scores!$P75:$AI75,0)","v":5},{"$f":"RANK(Scores!Z75,Scores!$P75:$AI75,0)","v":15},{"$f":"RANK(Scores!AA75,Scores!$P75:$AI75,0)","v":2},{"$f":"RANK(Scores!AB75,Scores!$P75:$AI75,0)","v":10},{"$f":"RANK(Scores!AC75,Scores!$P75:$AI75,0)","v":17},{"$f":"RANK(Scores!AD75,Scores!$P75:$AI75,0)","v":3},{"$f":"RANK(Scores!AE75,Scores!$P75:$AI75,0)","v":6},{"$f":"RANK(Scores!AF75,Scores!$P75:$AI75,0)","v":12},{"$f":"RANK(Scores!AG75,Scores!$P75:$AI75,0)","v":7},{"$f":"RANK(Scores!AH75,Scores!$P75:$AI75,0)","v":1},{"$f":"RANK(Scores!AI75,Scores!$P75:$AI75,0)","v":14}]
[null,{"$f":"tblIndicators!AE70","v":"6.1.1) Fisheries governance and management effectiveness"},null,{"$f":"RANK(Scores!P76,Scores!$P76:$AI76,0)","v":19},{"$f":"RANK(Scores!Q76,Scores!$P76:$AI76,0)","v":4},{"$f":"RANK(Scores!R76,Scores!$P76:$AI76,0)","v":9},{"$f":"RANK(Scores!S76,Scores!$P76:$AI76,0)","v":20},{"$f":"RANK(Scores!T76,Scores!$P76:$AI76,0)","v":8},{"$f":"RANK(Scores!U76,Scores!$P76:$AI76,0)","v":16},{"$f":"RANK(Scores!V76,Scores!$P76:$AI76,0)","v":18},{"$f":"RANK(Scores!W76,Scores!$P76:$AI76,0)","v":11},{"$f":"RANK(Scores!X76,Scores!$P76:$AI76,0)","v":13},{"$f":"RANK(Scores!Y76,Scores!$P76:$AI76,0)","v":5},{"$f":"RANK(Scores!Z76,Scores!$P76:$AI76,0)","v":15},{"$f":"RANK(Scores!AA76,Scores!$P76:$AI76,0)","v":2},{"$f":"RANK(Scores!AB76,Scores!$P76:$AI76,0)","v":10},{"$f":"RANK(Scores!AC76,Scores!$P76:$AI76,0)","v":17},{"$f":"RANK(Scores!AD76,Scores!$P76:$AI76,0)","v":3},{"$f":"RANK(Scores!AE76,Scores!$P76:$AI76,0)","v":6},{"$f":"RANK(Scores!AF76,Scores!$P76:$AI76,0)","v":12},{"$f":"RANK(Scores!AG76,Scores!$P76:$AI76,0)","v":7},{"$f":"RANK(Scores!AH76,Scores!$P76:$AI76,0)","v":1},{"$f":"RANK(Scores!AI76,Scores!$P76:$AI76,0)","v":14}]
[null,{"$f":"tblIndicators!AE71","v":"6.2) Protection for marine/coastal species"},null,{"$f":"RANK(Scores!P77,Scores!$P77:$AI77,0)","v":1},{"$f":"RANK(Scores!Q77,Scores!$P77:$AI77,0)","v":10},{"$f":"RANK(Scores!R77,Scores!$P77:$AI77,0)","v":10},{"$f":"RANK(Scores!S77,Scores!$P77:$AI77,0)","v":10},{"$f":"RANK(Scores!T77,Scores!$P77:$AI77,0)","v":1},{"$f":"RANK(Scores!U77,Scores!$P77:$AI77,0)","v":10},{"$f":"RANK(Scores!V77,Scores!$P77:$AI77,0)","v":8},{"$f":"RANK(Scores!W77,Scores!$P77:$AI77,0)","v":20},{"$f":"RANK(Scores!X77,Scores!$P77:$AI77,0)","v":1},{"$f":"RANK(Scores!Y77,Scores!$P77:$AI77,0)","v":1},{"$f":"RANK(Scores!Z77,Scores!$P77:$AI77,0)","v":10},{"$f":"RANK(Scores!AA77,Scores!$P77:$AI77,0)","v":10},{"$f":"RANK(Scores!AB77,Scores!$P77:$AI77,0)","v":10},{"$f":"RANK(Scores!AC77,Scores!$P77:$AI77,0)","v":10},{"$f":"RANK(Scores!AD77,Scores!$P77:$AI77,0)","v":1},{"$f":"RANK(Scores!AE77,Scores!$P77:$AI77,0)","v":1},{"$f":"RANK(Scores!AF77,Scores!$P77:$AI77,0)","v":10},{"$f":"RANK(Scores!AG77,Scores!$P77:$AI77,0)","v":8},{"$f":"RANK(Scores!AH77,Scores!$P77:$AI77,0)","v":1},{"$f":"RANK(Scores!AI77,Scores!$P77:$AI77,0)","v":10}]
[null,{"$f":"tblIndicators!AE72","v":"6.2.1) Protection of threatened species and populations "},null,{"$f":"RANK(Scores!P78,Scores!$P78:$AI78,0)","v":1},{"$f":"RANK(Scores!Q78,Scores!$P78:$AI78,0)","v":1},{"$f":"RANK(Scores!R78,Scores!$P78:$AI78,0)","v":1},{"$f":"RANK(Scores!S78,Scores!$P78:$AI78,0)","v":1},{"$f":"RANK(Scores!T78,Scores!$P78:$AI78,0)","v":1},{"$f":"RANK(Scores!U78,Scores!$P78:$AI78,0)","v":1},{"$f":"RANK(Scores!V78,Scores!$P78:$AI78,0)","v":1},{"$f":"RANK(Scores!W78,Scores!$P78:$AI78,0)","v":20},{"$f":"RANK(Scores!X78,Scores!$P78:$AI78,0)","v":1},{"$f":"RANK(Scores!Y78,Scores!$P78:$AI78,0)","v":1},{"$f":"RANK(Scores!Z78,Scores!$P78:$AI78,0)","v":1},{"$f":"RANK(Scores!AA78,Scores!$P78:$AI78,0)","v":1},{"$f":"RANK(Scores!AB78,Scores!$P78:$AI78,0)","v":1},{"$f":"RANK(Scores!AC78,Scores!$P78:$AI78,0)","v":1},{"$f":"RANK(Scores!AD78,Scores!$P78:$AI78,0)","v":1},{"$f":"RANK(Scores!AE78,Scores!$P78:$AI78,0)","v":1},{"$f":"RANK(Scores!AF78,Scores!$P78:$AI78,0)","v":1},{"$f":"RANK(Scores!AG78,Scores!$P78:$AI78,0)","v":1},{"$f":"RANK(Scores!AH78,Scores!$P78:$AI78,0)","v":1},{"$f":"RANK(Scores!AI78,Scores!$P78:$AI78,0)","v":1}]
[null,{"$f":"tblIndicators!AE73","v":"6.2.2) Prevalence of marine protected areas"},null,{"$f":"RANK(Scores!P79,Scores!$P79:$AI79,0)","v":1},{"$f":"RANK(Scores!Q79,Scores!$P79:$AI79,0)","v":11},{"$f":"RANK(Scores!R79,Scores!$P79:$AI79,0)","v":11},{"$f":"RANK(Scores!S79,Scores!$P79:$AI79,0)","v":11},{"$f":"RANK(Scores!T79,Scores!$P79:$AI79,0)","v":1},{"$f":"RANK(Scores!U79,Scores!$P79:$AI79,0)","v":11},{"$f":"RANK(Scores!V79,Scores!$P79:$AI79,0)","v":8},{"$f":"RANK(Scores!W79,Scores!$P79:$AI79,0)","v":8},{"$f":"RANK(Scores!X79,Scores!$P79:$AI79,0)","v":1},{"$f":"RANK(Scores!Y79,Scores!$P79:$AI79,0)","v":1},{"$f":"RANK(Scores!Z79,Scores!$P79:$AI79,0)","v":11},{"$f":"RANK(Scores!AA79,Scores!$P79:$AI79,0)","v":11},{"$f":"RANK(Scores!AB79,Scores!$P79:$AI79,0)","v":11},{"$f":"RANK(Scores!AC79,Scores!$P79:$AI79,0)","v":11},{"$f":"RANK(Scores!AD79,Scores!$P79:$AI79,0)","v":1},{"$f":"RANK(Scores!AE79,Scores!$P79:$AI79,0)","v":1},{"$f":"RANK(Scores!AF79,Scores!$P79:$AI79,0)","v":11},{"$f":"RANK(Scores!AG79,Scores!$P79:$AI79,0)","v":8},{"$f":"RANK(Scores!AH79,Scores!$P79:$AI79,0)","v":1},{"$f":"RANK(Scores!AI79,Scores!$P79:$AI79,0)","v":11}]
[null,{"$f":"tblIndicators!AE74","v":"6.3) Ballast water treatment"},null,{"$f":"RANK(Scores!P80,Scores!$P80:$AI80,0)","v":1},{"$f":"RANK(Scores!Q80,Scores!$P80:$AI80,0)","v":1},{"$f":"RANK(Scores!R80,Scores!$P80:$AI80,0)","v":1},{"$f":"RANK(Scores!S80,Scores!$P80:$AI80,0)","v":11},{"$f":"RANK(Scores!T80,Scores!$P80:$AI80,0)","v":1},{"$f":"RANK(Scores!U80,Scores!$P80:$AI80,0)","v":11},{"$f":"RANK(Scores!V80,Scores!$P80:$AI80,0)","v":11},{"$f":"RANK(Scores!W80,Scores!$P80:$AI80,0)","v":1},{"$f":"RANK(Scores!X80,Scores!$P80:$AI80,0)","v":11},{"$f":"RANK(Scores!Y80,Scores!$P80:$AI80,0)","v":1},{"$f":"RANK(Scores!Z80,Scores!$P80:$AI80,0)","v":11},{"$f":"RANK(Scores!AA80,Scores!$P80:$AI80,0)","v":1},{"$f":"RANK(Scores!AB80,Scores!$P80:$AI80,0)","v":11},{"$f":"RANK(Scores!AC80,Scores!$P80:$AI80,0)","v":11},{"$f":"RANK(Scores!AD80,Scores!$P80:$AI80,0)","v":11},{"$f":"RANK(Scores!AE80,Scores!$P80:$AI80,0)","v":11},{"$f":"RANK(Scores!AF80,Scores!$P80:$AI80,0)","v":1},{"$f":"RANK(Scores!AG80,Scores!$P80:$AI80,0)","v":1},{"$f":"RANK(Scores!AH80,Scores!$P80:$AI80,0)","v":1},{"$f":"RANK(Scores!AI80,Scores!$P80:$AI80,0)","v":11}]
[null,{"$f":"tblIndicators!AE75","v":"6.3.1) Mechanisms to control pathways of introduction "},null,{"$f":"RANK(Scores!P81,Scores!$P81:$AI81,0)","v":1},{"$f":"RANK(Scores!Q81,Scores!$P81:$AI81,0)","v":1},{"$f":"RANK(Scores!R81,Scores!$P81:$AI81,0)","v":1},{"$f":"RANK(Scores!S81,Scores!$P81:$AI81,0)","v":11},{"$f":"RANK(Scores!T81,Scores!$P81:$AI81,0)","v":1},{"$f":"RANK(Scores!U81,Scores!$P81:$AI81,0)","v":11},{"$f":"RANK(Scores!V81,Scores!$P81:$AI81,0)","v":11},{"$f":"RANK(Scores!W81,Scores!$P81:$AI81,0)","v":1},{"$f":"RANK(Scores!X81,Scores!$P81:$AI81,0)","v":11},{"$f":"RANK(Scores!Y81,Scores!$P81:$AI81,0)","v":1},{"$f":"RANK(Scores!Z81,Scores!$P81:$AI81,0)","v":11},{"$f":"RANK(Scores!AA81,Scores!$P81:$AI81,0)","v":1},{"$f":"RANK(Scores!AB81,Scores!$P81:$AI81,0)","v":11},{"$f":"RANK(Scores!AC81,Scores!$P81:$AI81,0)","v":11},{"$f":"RANK(Scores!AD81,Scores!$P81:$AI81,0)","v":11},{"$f":"RANK(Scores!AE81,Scores!$P81:$AI81,0)","v":11},{"$f":"RANK(Scores!AF81,Scores!$P81:$AI81,0)","v":1},{"$f":"RANK(Scores!AG81,Scores!$P81:$AI81,0)","v":1},{"$f":"RANK(Scores!AH81,Scores!$P81:$AI81,0)","v":1},{"$f":"RANK(Scores!AI81,Scores!$P81:$AI81,0)","v":11}]
[]
[]
[]
[null,{"$f":"B8","v":"OVERALL SCORE"},null,{"$f":"IF(ISNUMBER(aRoundedScores!P8),CONCATENATE(IF(COUNTIF(aRoundedScores!$P8:$AI8,aRoundedScores!P8)>1,\"=\",\"\"),RANK(aRoundedScores!P8,aRoundedScores!$P8:$AI8)),\"n/a\")","v":"=10"},{"$f":"IF(ISNUMBER(aRoundedScores!Q8),CONCATENATE(IF(COUNTIF(aRoundedScores!$P8:$AI8,aRoundedScores!Q8)>1,\"=\",\"\"),RANK(aRoundedScores!Q8,aRoundedScores!$P8:$AI8)),\"n/a\")","v":"7"},{"$f":"IF(ISNUMBER(aRoundedScores!R8),CONCATENATE(IF(COUNTIF(aRoundedScores!$P8:$AI8,aRoundedScores!R8)>1,\"=\",\"\"),RANK(aRoundedScores!R8,aRoundedScores!$P8:$AI8)),\"n/a\")","v":"=10"},{"$f":"IF(ISNUMBER(aRoundedScores!S8),CONCATENATE(IF(COUNTIF(aRoundedScores!$P8:$AI8,aRoundedScores!S8)>1,\"=\",\"\"),RANK(aRoundedScores!S8,aRoundedScores!$P8:$AI8)),\"n/a\")","v":"12"},{"$f":"IF(ISNUMBER(aRoundedScores!T8),CONCATENATE(IF(COUNTIF(aRoundedScores!$P8:$AI8,aRoundedScores!T8)>1,\"=\",\"\"),RANK(aRoundedScores!T8,aRoundedScores!$P8:$AI8)),\"n/a\")","v":"3"},{"$f":"IF(ISNUMBER(aRoundedScores!U8),CONCATENATE(IF(COUNTIF(aRoundedScores!$P8:$AI8,aRoundedScores!U8)>1,\"=\",\"\"),RANK(aRoundedScores!U8,aRoundedScores!$P8:$AI8)),\"n/a\")","v":"17"},{"$f":"IF(ISNUMBER(aRoundedScores!V8),CONCATENATE(IF(COUNTIF(aRoundedScores!$P8:$AI8,aRoundedScores!V8)>1,\"=\",\"\"),RANK(aRoundedScores!V8,aRoundedScores!$P8:$AI8)),\"n/a\")","v":"=15"},{"$f":"IF(ISNUMBER(aRoundedScores!W8),CONCATENATE(IF(COUNTIF(aRoundedScores!$P8:$AI8,aRoundedScores!W8)>1,\"=\",\"\"),RANK(aRoundedScores!W8,aRoundedScores!$P8:$AI8)),\"n/a\")","v":"6"},{"$f":"IF(ISNUMBER(aRoundedScores!X8),CONCATENATE(IF(COUNTIF(aRoundedScores!$P8:$AI8,aRoundedScores!X8)>1,\"=\",\"\"),RANK(aRoundedScores!X8,aRoundedScores!$P8:$AI8)),\"n/a\")","v":"13"},{"$f":"IF(ISNUMBER(aRoundedScores!Y8),CONCATENATE(IF(COUNTIF(aRoundedScores!$P8:$AI8,aRoundedScores!Y8)>1,\"=\",\"\"),RANK(aRoundedScores!Y8,aRoundedScores!$P8:$AI8)),\"n/a\")","v":"1"},{"$f":"IF(ISNUMBER(aRoundedScores!Z8),CONCATENATE(IF(COUNTIF(aRoundedScores!$P8:$AI8,aRoundedScores!Z8)>1,\"=\",\"\"),RANK(aRoundedScores!Z8,aRoundedScores!$P8:$AI8)),\"n/a\")","v":"19"},{"$f":"IF(ISNUMBER(aRoundedScores!AA8),CONCATENATE(IF(COUNTIF(aRoundedScores!$P8:$AI8,aRoundedScores!AA8)>1,\"=\",\"\"),RANK(aRoundedScores!AA8,aRoundedScores!$P8:$AI8)),\"n/a\")","v":"5"},{"$f":"IF(ISNUMBER(aRoundedScores!AB8),CONCATENATE(IF(COUNTIF(aRoundedScores!$P8:$AI8,aRoundedScores!AB8)>1,\"=\",\"\"),RANK(aRoundedScores!AB8,aRoundedScores!$P8:$AI8)),\"n/a\")","v":"18"},{"$f":"IF(ISNUMBER(aRoundedScores!AC8),CONCATENATE(IF(COUNTIF(aRoundedScores!$P8:$AI8,aRoundedScores!AC8)>1,\"=\",\"\"),RANK(aRoundedScores!AC8,aRoundedScores!$P8:$AI8)),\"n/a\")","v":"14"},{"$f":"IF(ISNUMBER(aRoundedScores!AD8),CONCATENATE(IF(COUNTIF(aRoundedScores!$P8:$AI8,aRoundedScores!AD8)>1,\"=\",\"\"),RANK(aRoundedScores!AD8,aRoundedScores!$P8:$AI8)),\"n/a\")","v":"20"},{"$f":"IF(ISNUMBER(aRoundedScores!AE8),CONCATENATE(IF(COUNTIF(aRoundedScores!$P8:$AI8,aRoundedScores!AE8)>1,\"=\",\"\"),RANK(aRoundedScores!AE8,aRoundedScores!$P8:$AI8)),\"n/a\")","v":"9"},{"$f":"IF(ISNUMBER(aRoundedScores!AF8),CONCATENATE(IF(COUNTIF(aRoundedScores!$P8:$AI8,aRoundedScores!AF8)>1,\"=\",\"\"),RANK(aRoundedScores!AF8,aRoundedScores!$P8:$AI8)),\"n/a\")","v":"8"},{"$f":"IF(ISNUMBER(aRoundedScores!AG8),CONCATENATE(IF(COUNTIF(aRoundedScores!$P8:$AI8,aRoundedScores!AG8)>1,\"=\",\"\"),RANK(aRoundedScores!AG8,aRoundedScores!$P8:$AI8)),\"n/a\")","v":"4"},{"$f":"IF(ISNUMBER(aRoundedScores!AH8),CONCATENATE(IF(COUNTIF(aRoundedScores!$P8:$AI8,aRoundedScores!AH8)>1,\"=\",\"\"),RANK(aRoundedScores!AH8,aRoundedScores!$P8:$AI8)),\"n/a\")","v":"2"},{"$f":"IF(ISNUMBER(aRoundedScores!AI8),CONCATENATE(IF(COUNTIF(aRoundedScores!$P8:$AI8,aRoundedScores!AI8)>1,\"=\",\"\"),RANK(aRoundedScores!AI8,aRoundedScores!$P8:$AI8)),\"n/a\")","v":"=15"}]
[null,{"$f":"B9","v":"1) POLICY AND INSTITUTIONAL CAPACITY"},null,{"$f":"IF(ISNUMBER(aRoundedScores!P9),CONCATENATE(IF(COUNTIF(aRoundedScores!$P9:$AI9,aRoundedScores!P9)>1,\"=\",\"\"),RANK(aRoundedScores!P9,aRoundedScores!$P9:$AI9)),\"n/a\")","v":"14"},{"$f":"IF(ISNUMBER(aRoundedScores!Q9),CONCATENATE(IF(COUNTIF(aRoundedScores!$P9:$AI9,aRoundedScores!Q9)>1,\"=\",\"\"),RANK(aRoundedScores!Q9,aRoundedScores!$P9:$AI9)),\"n/a\")","v":"=8"},{"$f":"IF(ISNUMBER(aRoundedScores!R9),CONCATENATE(IF(COUNTIF(aRoundedScores!$P9:$AI9,aRoundedScores!R9)>1,\"=\",\"\"),RANK(aRoundedScores!R9,aRoundedScores!$P9:$AI9)),\"n/a\")","v":"18"},{"$f":"IF(ISNUMBER(aRoundedScores!S9),CONCATENATE(IF(COUNTIF(aRoundedScores!$P9:$AI9,aRoundedScores!S9)>1,\"=\",\"\"),RANK(aRoundedScores!S9,aRoundedScores!$P9:$AI9)),\"n/a\")","v":"=8"},{"$f":"IF(ISNUMBER(aRoundedScores!T9),CONCATENATE(IF(COUNTIF(aRoundedScores!$P9:$AI9,aRoundedScores!T9)>1,\"=\",\"\"),RANK(aRoundedScores!T9,aRoundedScores!$P9:$AI9)),\"n/a\")","v":"=4"},{"$f":"IF(ISNUMBER(aRoundedScores!U9),CONCATENATE(IF(COUNTIF(aRoundedScores!$P9:$AI9,aRoundedScores!U9)>1,\"=\",\"\"),RANK(aRoundedScores!U9,aRoundedScores!$P9:$AI9)),\"n/a\")","v":"16"},{"$f":"IF(ISNUMBER(aRoundedScores!V9),CONCATENATE(IF(COUNTIF(aRoundedScores!$P9:$AI9,aRoundedScores!V9)>1,\"=\",\"\"),RANK(aRoundedScores!V9,aRoundedScores!$P9:$AI9)),\"n/a\")","v":"12"},{"$f":"IF(ISNUMBER(aRoundedScores!W9),CONCATENATE(IF(COUNTIF(aRoundedScores!$P9:$AI9,aRoundedScores!W9)>1,\"=\",\"\"),RANK(aRoundedScores!W9,aRoundedScores!$P9:$AI9)),\"n/a\")","v":"=4"},{"$f":"IF(ISNUMBER(aRoundedScores!X9),CONCATENATE(IF(COUNTIF(aRoundedScores!$P9:$AI9,aRoundedScores!X9)>1,\"=\",\"\"),RANK(aRoundedScores!X9,aRoundedScores!$P9:$AI9)),\"n/a\")","v":"15"},{"$f":"IF(ISNUMBER(aRoundedScores!Y9),CONCATENATE(IF(COUNTIF(aRoundedScores!$P9:$AI9,aRoundedScores!Y9)>1,\"=\",\"\"),RANK(aRoundedScores!Y9,aRoundedScores!$P9:$AI9)),\"n/a\")","v":"6"},{"$f":"IF(ISNUMBER(aRoundedScores!Z9),CONCATENATE(IF(COUNTIF(aRoundedScores!$P9:$AI9,aRoundedScores!Z9)>1,\"=\",\"\"),RANK(aRoundedScores!Z9,aRoundedScores!$P9:$AI9)),\"n/a\")","v":"17"},{"$f":"IF(ISNUMBER(aRoundedScores!AA9),CONCATENATE(IF(COUNTIF(aRoundedScores!$P9:$AI9,aRoundedScores!AA9)>1,\"=\",\"\"),RANK(aRoundedScores!AA9,aRoundedScores!$P9:$AI9)),\"n/a\")","v":"=1"},{"$f":"IF(ISNUMBER(aRoundedScores!AB9),CONCATENATE(IF(COUNTIF(aRoundedScores!$P9:$AI9,aRoundedScores!AB9)>1,\"=\",\"\"),RANK(aRoundedScores!AB9,aRoundedScores!$P9:$AI9)),\"n/a\")","v":"19"},{"$f":"IF(ISNUMBER(aRoundedScores!AC9),CONCATENATE(IF(COUNTIF(aRoundedScores!$P9:$AI9,aRoundedScores!AC9)>1,\"=\",\"\"),RANK(aRoundedScores!AC9,aRoundedScores!$P9:$AI9)),\"n/a\")","v":"7"},{"$f":"IF(ISNUMBER(aRoundedScores!AD9),CONCATENATE(IF(COUNTIF(aRoundedScores!$P9:$AI9,aRoundedScores!AD9)>1,\"=\",\"\"),RANK(aRoundedScores!AD9,aRoundedScores!$P9:$AI9)),\"n/a\")","v":"20"},{"$f":"IF(ISNUMBER(aRoundedScores!AE9),CONCATENATE(IF(COUNTIF(aRoundedScores!$P9:$AI9,aRoundedScores!AE9)>1,\"=\",\"\"),RANK(aRoundedScores!AE9,aRoundedScores!$P9:$AI9)),\"n/a\")","v":"=8"},{"$f":"IF(ISNUMBER(aRoundedScores!AF9),CONCATENATE(IF(COUNTIF(aRoundedScores!$P9:$AI9,aRoundedScores!AF9)>1,\"=\",\"\"),RANK(aRoundedScores!AF9,aRoundedScores!$P9:$AI9)),\"n/a\")","v":"13"},{"$f":"IF(ISNUMBER(aRoundedScores!AG9),CONCATENATE(IF(COUNTIF(aRoundedScores!$P9:$AI9,aRoundedScores!AG9)>1,\"=\",\"\"),RANK(aRoundedScores!AG9,aRoundedScores!$P9:$AI9)),\"n/a\")","v":"=1"},{"$f":"IF(ISNUMBER(aRoundedScores!AH9),CONCATENATE(IF(COUNTIF(aRoundedScores!$P9:$AI9,aRoundedScores!AH9)>1,\"=\",\"\"),RANK(aRoundedScores!AH9,aRoundedScores!$P9:$AI9)),\"n/a\")","v":"3"},{"$f":"IF(ISNUMBER(aRoundedScores!AI9),CONCATENATE(IF(COUNTIF(aRoundedScores!$P9:$AI9,aRoundedScores!AI9)>1,\"=\",\"\"),RANK(aRoundedScores!AI9,aRoundedScores!$P9:$AI9)),\"n/a\")","v":"=8"}]
[null,"1.1) Coastal management policy and strategy",null,{"$f":"IF(ISNUMBER(aRoundedScores!P10),CONCATENATE(IF(COUNTIF(aRoundedScores!$P10:$AI10,aRoundedScores!P10)>1,\"=\",\"\"),RANK(aRoundedScores!P10,aRoundedScores!$P10:$AI10)),\"n/a\")","v":"=1"},{"$f":"IF(ISNUMBER(aRoundedScores!Q10),CONCATENATE(IF(COUNTIF(aRoundedScores!$P10:$AI10,aRoundedScores!Q10)>1,\"=\",\"\"),RANK(aRoundedScores!Q10,aRoundedScores!$P10:$AI10)),\"n/a\")","v":"=1"},{"$f":"IF(ISNUMBER(aRoundedScores!R10),CONCATENATE(IF(COUNTIF(aRoundedScores!$P10:$AI10,aRoundedScores!R10)>1,\"=\",\"\"),RANK(aRoundedScores!R10,aRoundedScores!$P10:$AI10)),\"n/a\")","v":"=16"},{"$f":"IF(ISNUMBER(aRoundedScores!S10),CONCATENATE(IF(COUNTIF(aRoundedScores!$P10:$AI10,aRoundedScores!S10)>1,\"=\",\"\"),RANK(aRoundedScores!S10,aRoundedScores!$P10:$AI10)),\"n/a\")","v":"=1"},{"$f":"IF(ISNUMBER(aRoundedScores!T10),CONCATENATE(IF(COUNTIF(aRoundedScores!$P10:$AI10,aRoundedScores!T10)>1,\"=\",\"\"),RANK(aRoundedScores!T10,aRoundedScores!$P10:$AI10)),\"n/a\")","v":"=16"},{"$f":"IF(ISNUMBER(aRoundedScores!U10),CONCATENATE(IF(COUNTIF(aRoundedScores!$P10:$AI10,aRoundedScores!U10)>1,\"=\",\"\"),RANK(aRoundedScores!U10,aRoundedScores!$P10:$AI10)),\"n/a\")","v":"=12"},{"$f":"IF(ISNUMBER(aRoundedScores!V10),CONCATENATE(IF(COUNTIF(aRoundedScores!$P10:$AI10,aRoundedScores!V10)>1,\"=\",\"\"),RANK(aRoundedScores!V10,aRoundedScores!$P10:$AI10)),\"n/a\")","v":"=1"},{"$f":"IF(ISNUMBER(aRoundedScores!W10),CONCATENATE(IF(COUNTIF(aRoundedScores!$P10:$AI10,aRoundedScores!W10)>1,\"=\",\"\"),RANK(aRoundedScores!W10,aRoundedScores!$P10:$AI10)),\"n/a\")","v":"=1"},{"$f":"IF(ISNUMBER(aRoundedScores!X10),CONCATENATE(IF(COUNTIF(aRoundedScores!$P10:$AI10,aRoundedScores!X10)>1,\"=\",\"\"),RANK(aRoundedScores!X10,aRoundedScores!$P10:$AI10)),\"n/a\")","v":"=12"},{"$f":"IF(ISNUMBER(aRoundedScores!Y10),CONCATENATE(IF(COUNTIF(aRoundedScores!$P10:$AI10,aRoundedScores!Y10)>1,\"=\",\"\"),RANK(aRoundedScores!Y10,aRoundedScores!$P10:$AI10)),\"n/a\")","v":"=12"},{"$f":"IF(ISNUMBER(aRoundedScores!Z10),CONCATENATE(IF(COUNTIF(aRoundedScores!$P10:$AI10,aRoundedScores!Z10)>1,\"=\",\"\"),RANK(aRoundedScores!Z10,aRoundedScores!$P10:$AI10)),\"n/a\")","v":"=18"},{"$f":"IF(ISNUMBER(aRoundedScores!AA10),CONCATENATE(IF(COUNTIF(aRoundedScores!$P10:$AI10,aRoundedScores!AA10)>1,\"=\",\"\"),RANK(aRoundedScores!AA10,aRoundedScores!$P10:$AI10)),\"n/a\")","v":"=1"},{"$f":"IF(ISNUMBER(aRoundedScores!AB10),CONCATENATE(IF(COUNTIF(aRoundedScores!$P10:$AI10,aRoundedScores!AB10)>1,\"=\",\"\"),RANK(aRoundedScores!AB10,aRoundedScores!$P10:$AI10)),\"n/a\")","v":"=18"},{"$f":"IF(ISNUMBER(aRoundedScores!AC10),CONCATENATE(IF(COUNTIF(aRoundedScores!$P10:$AI10,aRoundedScores!AC10)>1,\"=\",\"\"),RANK(aRoundedScores!AC10,aRoundedScores!$P10:$AI10)),\"n/a\")","v":"=1"},{"$f":"IF(ISNUMBER(aRoundedScores!AD10),CONCATENATE(IF(COUNTIF(aRoundedScores!$P10:$AI10,aRoundedScores!AD10)>1,\"=\",\"\"),RANK(aRoundedScores!AD10,aRoundedScores!$P10:$AI10)),\"n/a\")","v":"=18"},{"$f":"IF(ISNUMBER(aRoundedScores!AE10),CONCATENATE(IF(COUNTIF(aRoundedScores!$P10:$AI10,aRoundedScores!AE10)>1,\"=\",\"\"),RANK(aRoundedScores!AE10,aRoundedScores!$P10:$AI10)),\"n/a\")","v":"=12"},{"$f":"IF(ISNUMBER(aRoundedScores!AF10),CONCATENATE(IF(COUNTIF(aRoundedScores!$P10:$AI10,aRoundedScores!AF10)>1,\"=\",\"\"),RANK(aRoundedScores!AF10,aRoundedScores!$P10:$AI10)),\"n/a\")","v":"=1"},{"$f":"IF(ISNUMBER(aRoundedScores!AG10),CONCATENATE(IF(COUNTIF(aRoundedScores!$P10:$AI10,aRoundedScores!AG10)>1,\"=\",\"\"),RANK(aRoundedScores!AG10,aRoundedScores!$P10:$AI10)),\"n/a\")","v":"=1"},{"$f":"IF(ISNUMBER(aRoundedScores!AH10),CONCATENATE(IF(COUNTIF(aRoundedScores!$P10:$AI10,aRoundedScores!AH10)>1,\"=\",\"\"),RANK(aRoundedScores!AH10,aRoundedScores!$P10:$AI10)),\"n/a\")","v":"=1"},{"$f":"IF(ISNUMBER(aRoundedScores!AI10),CONCATENATE(IF(COUNTIF(aRoundedScores!$P10:$AI10,aRoundedScores!AI10)>1,\"=\",\"\"),RANK(aRoundedScores!AI10,aRoundedScores!$P10:$AI10)),\"n/a\")","v":"=1"}]
[null,"1.1.1) Coastal management policy",null,{"$f":"IF(ISNUMBER(aRoundedScores!P11),CONCATENATE(IF(COUNTIF(aRoundedScores!$P11:$AI11,aRoundedScores!P11)>1,\"=\",\"\"),RANK(aRoundedScores!P11,aRoundedScores!$P11:$AI11)),\"n/a\")","v":"=1"},{"$f":"IF(ISNUMBER(aRoundedScores!Q11),CONCATENATE(IF(COUNTIF(aRoundedScores!$P11:$AI11,aRoundedScores!Q11)>1,\"=\",\"\"),RANK(aRoundedScores!Q11,aRoundedScores!$P11:$AI11)),\"n/a\")","v":"=1"},{"$f":"IF(ISNUMBER(aRoundedScores!R11),CONCATENATE(IF(COUNTIF(aRoundedScores!$P11:$AI11,aRoundedScores!R11)>1,\"=\",\"\"),RANK(aRoundedScores!R11,aRoundedScores!$P11:$AI11)),\"n/a\")","v":"=1"},{"$f":"IF(ISNUMBER(aRoundedScores!S11),CONCATENATE(IF(COUNTIF(aRoundedScores!$P11:$AI11,aRoundedScores!S11)>1,\"=\",\"\"),RANK(aRoundedScores!S11,aRoundedScores!$P11:$AI11)),\"n/a\")","v":"=1"},{"$f":"IF(ISNUMBER(aRoundedScores!T11),CONCATENATE(IF(COUNTIF(aRoundedScores!$P11:$AI11,aRoundedScores!T11)>1,\"=\",\"\"),RANK(aRoundedScores!T11,aRoundedScores!$P11:$AI11)),\"n/a\")","v":"=1"},{"$f":"IF(ISNUMBER(aRoundedScores!U11),CONCATENATE(IF(COUNTIF(aRoundedScores!$P11:$AI11,aRoundedScores!U11)>1,\"=\",\"\"),RANK(aRoundedScores!U11,aRoundedScores!$P11:$AI11)),\"n/a\")","v":"=1"},{"$f":"IF(ISNUMBER(aRoundedScores!V11),CONCATENATE(IF(COUNTIF(aRoundedScores!$P11:$AI11,aRoundedScores!V11)>1,\"=\",\"\"),RANK(aRoundedScores!V11,aRoundedScores!$P11:$AI11)),\"n/a\")","v":"=1"},{"$f":"IF(ISNUMBER(aRoundedScores!W11),CONCATENATE(IF(COUNTIF(aRoundedScores!$P11:$AI11,aRoundedScores!W11)>1,\"=\",\"\"),RANK(aRoundedScores!W11,aRoundedScores!$P11:$AI11)),\"n/a\")","v":"=1"},{"$f":"IF(ISNUMBER(aRoundedScores!X11),CONCATENATE(IF(COUNTIF(aRoundedScores!$P11:$AI11,aRoundedScores!X11)>1,\"=\",\"\"),RANK(aRoundedScores!X11,aRoundedScores!$P11:$AI11)),\"n/a\")","v":"=1"},{"$f":"IF(ISNUMBER(aRoundedScores!Y11),CONCATENATE(IF(COUNTIF(aRoundedScores!$P11:$AI11,aRoundedScores!Y11)>1,\"=\",\"\"),RANK(aRoundedScores!Y11,aRoundedScores!$P11:$AI11)),\"n/a\")","v":"=1"},{"$f":"IF(ISNUMBER(aRoundedScores!Z11),CONCATENATE(IF(COUNTIF(aRoundedScores!$P11:$AI11,aRoundedScores!Z11)>1,\"=\",\"\"),RANK(aRoundedScores!Z11,aRoundedScores!$P11:$AI11)),\"n/a\")","v":"=18"},{"$f":"IF(ISNUMBER(aRoundedScores!AA11),CONCATENATE(IF(COUNTIF(aRoundedScores!$P11:$AI11,aRoundedScores!AA11)>1,\"=\",\"\"),RANK(aRoundedScores!AA11,aRoundedScores!$P11:$AI11)),\"n/a\")","v":"=1"},{"$f":"IF(ISNUMBER(aRoundedScores!AB11),CONCATENATE(IF(COUNTIF(aRoundedScores!$P11:$AI11,aRoundedScores!AB11)>1,\"=\",\"\"),RANK(aRoundedScores!AB11,aRoundedScores!$P11:$AI11)),\"n/a\")","v":"=18"},{"$f":"IF(ISNUMBER(aRoundedScores!AC11),CONCATENATE(IF(COUNTIF(aRoundedScores!$P11:$AI11,aRoundedScores!AC11)>1,\"=\",\"\"),RANK(aRoundedScores!AC11,aRoundedScores!$P11:$AI11)),\"n/a\")","v":"=1"},{"$f":"IF(ISNUMBER(aRoundedScores!AD11),CONCATENATE(IF(COUNTIF(aRoundedScores!$P11:$AI11,aRoundedScores!AD11)>1,\"=\",\"\"),RANK(aRoundedScores!AD11,aRoundedScores!$P11:$AI11)),\"n/a\")","v":"=18"},{"$f":"IF(ISNUMBER(aRoundedScores!AE11),CONCATENATE(IF(COUNTIF(aRoundedScores!$P11:$AI11,aRoundedScores!AE11)>1,\"=\",\"\"),RANK(aRoundedScores!AE11,aRoundedScores!$P11:$AI11)),\"n/a\")","v":"=1"},{"$f":"IF(ISNUMBER(aRoundedScores!AF11),CONCATENATE(IF(COUNTIF(aRoundedScores!$P11:$AI11,aRoundedScores!AF11)>1,\"=\",\"\"),RANK(aRoundedScores!AF11,aRoundedScores!$P11:$AI11)),\"n/a\")","v":"=1"},{"$f":"IF(ISNUMBER(aRoundedScores!AG11),CONCATENATE(IF(COUNTIF(aRoundedScores!$P11:$AI11,aRoundedScores!AG11)>1,\"=\",\"\"),RANK(aRoundedScores!AG11,aRoundedScores!$P11:$AI11)),\"n/a\")","v":"=1"},{"$f":"IF(ISNUMBER(aRoundedScores!AH11),CONCATENATE(IF(COUNTIF(aRoundedScores!$P11:$AI11,aRoundedScores!AH11)>1,\"=\",\"\"),RANK(aRoundedScores!AH11,aRoundedScores!$P11:$AI11)),\"n/a\")","v":"=1"},{"$f":"IF(ISNUMBER(aRoundedScores!AI11),CONCATENATE(IF(COUNTIF(aRoundedScores!$P11:$AI11,aRoundedScores!AI11)>1,\"=\",\"\"),RANK(aRoundedScores!AI11,aRoundedScores!$P11:$AI11)),\"n/a\")","v":"=1"}]
[null,"1.1.2) Coastal management strategy",null,{"$f":"IF(ISNUMBER(aRoundedScores!P12),CONCATENATE(IF(COUNTIF(aRoundedScores!$P12:$AI12,aRoundedScores!P12)>1,\"=\",\"\"),RANK(aRoundedScores!P12,aRoundedScores!$P12:$AI12)),\"n/a\")","v":"=1"},{"$f":"IF(ISNUMBER(aRoundedScores!Q12),CONCATENATE(IF(COUNTIF(aRoundedScores!$P12:$AI12,aRoundedScores!Q12)>1,\"=\",\"\"),RANK(aRoundedScores!Q12,aRoundedScores!$P12:$AI12)),\"n/a\")","v":"=1"},{"$f":"IF(ISNUMBER(aRoundedScores!R12),CONCATENATE(IF(COUNTIF(aRoundedScores!$P12:$AI12,aRoundedScores!R12)>1,\"=\",\"\"),RANK(aRoundedScores!R12,aRoundedScores!$P12:$AI12)),\"n/a\")","v":"=16"},{"$f":"IF(ISNUMBER(aRoundedScores!S12),CONCATENATE(IF(COUNTIF(aRoundedScores!$P12:$AI12,aRoundedScores!S12)>1,\"=\",\"\"),RANK(aRoundedScores!S12,aRoundedScores!$P12:$AI12)),\"n/a\")","v":"=1"},{"$f":"IF(ISNUMBER(aRoundedScores!T12),CONCATENATE(IF(COUNTIF(aRoundedScores!$P12:$AI12,aRoundedScores!T12)>1,\"=\",\"\"),RANK(aRoundedScores!T12,aRoundedScores!$P12:$AI12)),\"n/a\")","v":"=16"},{"$f":"IF(ISNUMBER(aRoundedScores!U12),CONCATENATE(IF(COUNTIF(aRoundedScores!$P12:$AI12,aRoundedScores!U12)>1,\"=\",\"\"),RANK(aRoundedScores!U12,aRoundedScores!$P12:$AI12)),\"n/a\")","v":"=12"},{"$f":"IF(ISNUMBER(aRoundedScores!V12),CONCATENATE(IF(COUNTIF(aRoundedScores!$P12:$AI12,aRoundedScores!V12)>1,\"=\",\"\"),RANK(aRoundedScores!V12,aRoundedScores!$P12:$AI12)),\"n/a\")","v":"=1"},{"$f":"IF(ISNUMBER(aRoundedScores!W12),CONCATENATE(IF(COUNTIF(aRoundedScores!$P12:$AI12,aRoundedScores!W12)>1,\"=\",\"\"),RANK(aRoundedScores!W12,aRoundedScores!$P12:$AI12)),\"n/a\")","v":"=1"},{"$f":"IF(ISNUMBER(aRoundedScores!X12),CONCATENATE(IF(COUNTIF(aRoundedScores!$P12:$AI12,aRoundedScores!X12)>1,\"=\",\"\"),RANK(aRoundedScores!X12,aRoundedScores!$P12:$AI12)),\"n/a\")","v":"=12"},{"$f":"IF(ISNUMBER(aRoundedScores!Y12),CONCATENATE(IF(COUNTIF(aRoundedScores!$P12:$AI12,aRoundedScores!Y12)>1,\"=\",\"\"),RANK(aRoundedScores!Y12,aRoundedScores!$P12:$AI12)),\"n/a\")","v":"=12"},{"$f":"IF(ISNUMBER(aRoundedScores!Z12),CONCATENATE(IF(COUNTIF(aRoundedScores!$P12:$AI12,aRoundedScores!Z12)>1,\"=\",\"\"),RANK(aRoundedScores!Z12,aRoundedScores!$P12:$AI12)),\"n/a\")","v":"=16"},{"$f":"IF(ISNUMBER(aRoundedScores!AA12),CONCATENATE(IF(COUNTIF(aRoundedScores!$P12:$AI12,aRoundedScores!AA12)>1,\"=\",\"\"),RANK(aRoundedScores!AA12,aRoundedScores!$P12:$AI12)),\"n/a\")","v":"=1"},{"$f":"IF(ISNUMBER(aRoundedScores!AB12),CONCATENATE(IF(COUNTIF(aRoundedScores!$P12:$AI12,aRoundedScores!AB12)>1,\"=\",\"\"),RANK(aRoundedScores!AB12,aRoundedScores!$P12:$AI12)),\"n/a\")","v":"=16"},{"$f":"IF(ISNUMBER(aRoundedScores!AC12),CONCATENATE(IF(COUNTIF(aRoundedScores!$P12:$AI12,aRoundedScores!AC12)>1,\"=\",\"\"),RANK(aRoundedScores!AC12,aRoundedScores!$P12:$AI12)),\"n/a\")","v":"=1"},{"$f":"IF(ISNUMBER(aRoundedScores!AD12),CONCATENATE(IF(COUNTIF(aRoundedScores!$P12:$AI12,aRoundedScores!AD12)>1,\"=\",\"\"),RANK(aRoundedScores!AD12,aRoundedScores!$P12:$AI12)),\"n/a\")","v":"=16"},{"$f":"IF(ISNUMBER(aRoundedScores!AE12),CONCATENATE(IF(COUNTIF(aRoundedScores!$P12:$AI12,aRoundedScores!AE12)>1,\"=\",\"\"),RANK(aRoundedScores!AE12,aRoundedScores!$P12:$AI12)),\"n/a\")","v":"=12"},{"$f":"IF(ISNUMBER(aRoundedScores!AF12),CONCATENATE(IF(COUNTIF(aRoundedScores!$P12:$AI12,aRoundedScores!AF12)>1,\"=\",\"\"),RANK(aRoundedScores!AF12,aRoundedScores!$P12:$AI12)),\"n/a\")","v":"=1"},{"$f":"IF(ISNUMBER(aRoundedScores!AG12),CONCATENATE(IF(COUNTIF(aRoundedScores!$P12:$AI12,aRoundedScores!AG12)>1,\"=\",\"\"),RANK(aRoundedScores!AG12,aRoundedScores!$P12:$AI12)),\"n/a\")","v":"=1"},{"$f":"IF(ISNUMBER(aRoundedScores!AH12),CONCATENATE(IF(COUNTIF(aRoundedScores!$P12:$AI12,aRoundedScores!AH12)>1,\"=\",\"\"),RANK(aRoundedScores!AH12,aRoundedScores!$P12:$AI12)),\"n/a\")","v":"=1"},{"$f":"IF(ISNUMBER(aRoundedScores!AI12),CONCATENATE(IF(COUNTIF(aRoundedScores!$P12:$AI12,aRoundedScores!AI12)>1,\"=\",\"\"),RANK(aRoundedScores!AI12,aRoundedScores!$P12:$AI12)),\"n/a\")","v":"=1"}]
[null,"1.2) Presence of established institution(s)",null,{"$f":"IF(ISNUMBER(aRoundedScores!P13),CONCATENATE(IF(COUNTIF(aRoundedScores!$P13:$AI13,aRoundedScores!P13)>1,\"=\",\"\"),RANK(aRoundedScores!P13,aRoundedScores!$P13:$AI13)),\"n/a\")","v":"=1"},{"$f":"IF(ISNUMBER(aRoundedScores!Q13),CONCATENATE(IF(COUNTIF(aRoundedScores!$P13:$AI13,aRoundedScores!Q13)>1,\"=\",\"\"),RANK(aRoundedScores!Q13,aRoundedScores!$P13:$AI13)),\"n/a\")","v":"=10"},{"$f":"IF(ISNUMBER(aRoundedScores!R13),CONCATENATE(IF(COUNTIF(aRoundedScores!$P13:$AI13,aRoundedScores!R13)>1,\"=\",\"\"),RANK(aRoundedScores!R13,aRoundedScores!$P13:$AI13)),\"n/a\")","v":"=18"},{"$f":"IF(ISNUMBER(aRoundedScores!S13),CONCATENATE(IF(COUNTIF(aRoundedScores!$P13:$AI13,aRoundedScores!S13)>1,\"=\",\"\"),RANK(aRoundedScores!S13,aRoundedScores!$P13:$AI13)),\"n/a\")","v":"=1"},{"$f":"IF(ISNUMBER(aRoundedScores!T13),CONCATENATE(IF(COUNTIF(aRoundedScores!$P13:$AI13,aRoundedScores!T13)>1,\"=\",\"\"),RANK(aRoundedScores!T13,aRoundedScores!$P13:$AI13)),\"n/a\")","v":"=1"},{"$f":"IF(ISNUMBER(aRoundedScores!U13),CONCATENATE(IF(COUNTIF(aRoundedScores!$P13:$AI13,aRoundedScores!U13)>1,\"=\",\"\"),RANK(aRoundedScores!U13,aRoundedScores!$P13:$AI13)),\"n/a\")","v":"=10"},{"$f":"IF(ISNUMBER(aRoundedScores!V13),CONCATENATE(IF(COUNTIF(aRoundedScores!$P13:$AI13,aRoundedScores!V13)>1,\"=\",\"\"),RANK(aRoundedScores!V13,aRoundedScores!$P13:$AI13)),\"n/a\")","v":"=10"},{"$f":"IF(ISNUMBER(aRoundedScores!W13),CONCATENATE(IF(COUNTIF(aRoundedScores!$P13:$AI13,aRoundedScores!W13)>1,\"=\",\"\"),RANK(aRoundedScores!W13,aRoundedScores!$P13:$AI13)),\"n/a\")","v":"=1"},{"$f":"IF(ISNUMBER(aRoundedScores!X13),CONCATENATE(IF(COUNTIF(aRoundedScores!$P13:$AI13,aRoundedScores!X13)>1,\"=\",\"\"),RANK(aRoundedScores!X13,aRoundedScores!$P13:$AI13)),\"n/a\")","v":"=10"},{"$f":"IF(ISNUMBER(aRoundedScores!Y13),CONCATENATE(IF(COUNTIF(aRoundedScores!$P13:$AI13,aRoundedScores!Y13)>1,\"=\",\"\"),RANK(aRoundedScores!Y13,aRoundedScores!$P13:$AI13)),\"n/a\")","v":"=10"},{"$f":"IF(ISNUMBER(aRoundedScores!Z13),CONCATENATE(IF(COUNTIF(aRoundedScores!$P13:$AI13,aRoundedScores!Z13)>1,\"=\",\"\"),RANK(aRoundedScores!Z13,aRoundedScores!$P13:$AI13)),\"n/a\")","v":"=18"},{"$f":"IF(ISNUMBER(aRoundedScores!AA13),CONCATENATE(IF(COUNTIF(aRoundedScores!$P13:$AI13,aRoundedScores!AA13)>1,\"=\",\"\"),RANK(aRoundedScores!AA13,aRoundedScores!$P13:$AI13)),\"n/a\")","v":"=1"},{"$f":"IF(ISNUMBER(aRoundedScores!AB13),CONCATENATE(IF(COUNTIF(aRoundedScores!$P13:$AI13,aRoundedScores!AB13)>1,\"=\",\"\"),RANK(aRoundedScores!AB13,aRoundedScores!$P13:$AI13)),\"n/a\")","v":"=10"},{"$f":"IF(ISNUMBER(aRoundedScores!AC13),CONCATENATE(IF(COUNTIF(aRoundedScores!$P13:$AI13,aRoundedScores!AC13)>1,\"=\",\"\"),RANK(aRoundedScores!AC13,aRoundedScores!$P13:$AI13)),\"n/a\")","v":"=10"},{"$f":"IF(ISNUMBER(aRoundedScores!AD13),CONCATENATE(IF(COUNTIF(aRoundedScores!$P13:$AI13,aRoundedScores!AD13)>1,\"=\",\"\"),RANK(aRoundedScores!AD13,aRoundedScores!$P13:$AI13)),\"n/a\")","v":"=18"},{"$f":"IF(ISNUMBER(aRoundedScores!AE13),CONCATENATE(IF(COUNTIF(aRoundedScores!$P13:$AI13,aRoundedScores!AE13)>1,\"=\",\"\"),RANK(aRoundedScores!AE13,aRoundedScores!$P13:$AI13)),\"n/a\")","v":"=1"},{"$f":"IF(ISNUMBER(aRoundedScores!AF13),CONCATENATE(IF(COUNTIF(aRoundedScores!$P13:$AI13,aRoundedScores!AF13)>1,\"=\",\"\"),RANK(aRoundedScores!AF13,aRoundedScores!$P13:$AI13)),\"n/a\")","v":"=10"},{"$f":"IF(ISNUMBER(aRoundedScores!AG13),CONCATENATE(IF(COUNTIF(aRoundedScores!$P13:$AI13,aRoundedScores!AG13)>1,\"=\",\"\"),RANK(aRoundedScores!AG13,aRoundedScores!$P13:$AI13)),\"n/a\")","v":"=1"},{"$f":"IF(ISNUMBER(aRoundedScores!AH13),CONCATENATE(IF(COUNTIF(aRoundedScores!$P13:$AI13,aRoundedScores!AH13)>1,\"=\",\"\"),RANK(aRoundedScores!AH13,aRoundedScores!$P13:$AI13)),\"n/a\")","v":"=1"},{"$f":"IF(ISNUMBER(aRoundedScores!AI13),CONCATENATE(IF(COUNTIF(aRoundedScores!$P13:$AI13,aRoundedScores!AI13)>1,\"=\",\"\"),RANK(aRoundedScores!AI13,aRoundedScores!$P13:$AI13)),\"n/a\")","v":"=1"}]
[null,"1.2.1) Presence of coastal management strategy authority",null,{"$f":"IF(ISNUMBER(aRoundedScores!P14),CONCATENATE(IF(COUNTIF(aRoundedScores!$P14:$AI14,aRoundedScores!P14)>1,\"=\",\"\"),RANK(aRoundedScores!P14,aRoundedScores!$P14:$AI14)),\"n/a\")","v":"=1"},{"$f":"IF(ISNUMBER(aRoundedScores!Q14),CONCATENATE(IF(COUNTIF(aRoundedScores!$P14:$AI14,aRoundedScores!Q14)>1,\"=\",\"\"),RANK(aRoundedScores!Q14,aRoundedScores!$P14:$AI14)),\"n/a\")","v":"=10"},{"$f":"IF(ISNUMBER(aRoundedScores!R14),CONCATENATE(IF(COUNTIF(aRoundedScores!$P14:$AI14,aRoundedScores!R14)>1,\"=\",\"\"),RANK(aRoundedScores!R14,aRoundedScores!$P14:$AI14)),\"n/a\")","v":"=18"},{"$f":"IF(ISNUMBER(aRoundedScores!S14),CONCATENATE(IF(COUNTIF(aRoundedScores!$P14:$AI14,aRoundedScores!S14)>1,\"=\",\"\"),RANK(aRoundedScores!S14,aRoundedScores!$P14:$AI14)),\"n/a\")","v":"=1"},{"$f":"IF(ISNUMBER(aRoundedScores!T14),CONCATENATE(IF(COUNTIF(aRoundedScores!$P14:$AI14,aRoundedScores!T14)>1,\"=\",\"\"),RANK(aRoundedScores!T14,aRoundedScores!$P14:$AI14)),\"n/a\")","v":"=1"},{"$f":"IF(ISNUMBER(aRoundedScores!U14),CONCATENATE(IF(COUNTIF(aRoundedScores!$P14:$AI14,aRoundedScores!U14)>1,\"=\",\"\"),RANK(aRoundedScores!U14,aRoundedScores!$P14:$AI14)),\"n/a\")","v":"=10"},{"$f":"IF(ISNUMBER(aRoundedScores!V14),CONCATENATE(IF(COUNTIF(aRoundedScores!$P14:$AI14,aRoundedScores!V14)>1,\"=\",\"\"),RANK(aRoundedScores!V14,aRoundedScores!$P14:$AI14)),\"n/a\")","v":"=10"},{"$f":"IF(ISNUMBER(aRoundedScores!W14),CONCATENATE(IF(COUNTIF(aRoundedScores!$P14:$AI14,aRoundedScores!W14)>1,\"=\",\"\"),RANK(aRoundedScores!W14,aRoundedScores!$P14:$AI14)),\"n/a\")","v":"=1"},{"$f":"IF(ISNUMBER(aRoundedScores!X14),CONCATENATE(IF(COUNTIF(aRoundedScores!$P14:$AI14,aRoundedScores!X14)>1,\"=\",\"\"),RANK(aRoundedScores!X14,aRoundedScores!$P14:$AI14)),\"n/a\")","v":"=10"},{"$f":"IF(ISNUMBER(aRoundedScores!Y14),CONCATENATE(IF(COUNTIF(aRoundedScores!$P14:$AI14,aRoundedScores!Y14)>1,\"=\",\"\"),RANK(aRoundedScores!Y14,aRoundedScores!$P14:$AI14)),\"n/a\")","v":"=10"},{"$f":"IF(ISNUMBER(aRoundedScores!Z14),CONCATENATE(IF(COUNTIF(aRoundedScores!$P14:$AI14,aRoundedScores!Z14)>1,\"=\",\"\"),RANK(aRoundedScores!Z14,aRoundedScores!$P14:$AI14)),\"n/a\")","v":"=18"},{"$f":"IF(ISNUMBER(aRoundedScores!AA14),CONCATENATE(IF(COUNTIF(aRoundedScores!$P14:$AI14,aRoundedScores!AA14)>1,\"=\",\"\"),RANK(aRoundedScores!AA14,aRoundedScores!$P14:$AI14)),\"n/a\")","v":"=1"},{"$f":"IF(ISNUMBER(aRoundedScores!AB14),CONCATENATE(IF(COUNTIF(aRoundedScores!$P14:$AI14,aRoundedScores!AB14)>1,\"=\",\"\"),RANK(aRoundedScores!AB14,aRoundedScores!$P14:$AI14)),\"n/a\")","v":"=10"},{"$f":"IF(ISNUMBER(aRoundedScores!AC14),CONCATENATE(IF(COUNTIF(aRoundedScores!$P14:$AI14,aRoundedScores!AC14)>1,\"=\",\"\"),RANK(aRoundedScores!AC14,aRoundedScores!$P14:$AI14)),\"n/a\")","v":"=10"},{"$f":"IF(ISNUMBER(aRoundedScores!AD14),CONCATENATE(IF(COUNTIF(aRoundedScores!$P14:$AI14,aRoundedScores!AD14)>1,\"=\",\"\"),RANK(aRoundedScores!AD14,aRoundedScores!$P14:$AI14)),\"n/a\")","v":"=18"},{"$f":"IF(ISNUMBER(aRoundedScores!AE14),CONCATENATE(IF(COUNTIF(aRoundedScores!$P14:$AI14,aRoundedScores!AE14)>1,\"=\",\"\"),RANK(aRoundedScores!AE14,aRoundedScores!$P14:$AI14)),\"n/a\")","v":"=1"},{"$f":"IF(ISNUMBER(aRoundedScores!AF14),CONCATENATE(IF(COUNTIF(aRoundedScores!$P14:$AI14,aRoundedScores!AF14)>1,\"=\",\"\"),RANK(aRoundedScores!AF14,aRoundedScores!$P14:$AI14)),\"n/a\")","v":"=10"},{"$f":"IF(ISNUMBER(aRoundedScores!AG14),CONCATENATE(IF(COUNTIF(aRoundedScores!$P14:$AI14,aRoundedScores!AG14)>1,\"=\",\"\"),RANK(aRoundedScores!AG14,aRoundedScores!$P14:$AI14)),\"n/a\")","v":"=1"},{"$f":"IF(ISNUMBER(aRoundedScores!AH14),CONCATENATE(IF(COUNTIF(aRoundedScores!$P14:$AI14,aRoundedScores!AH14)>1,\"=\",\"\"),RANK(aRoundedScores!AH14,aRoundedScores!$P14:$AI14)),\"n/a\")","v":"=1"},{"$f":"IF(ISNUMBER(aRoundedScores!AI14),CONCATENATE(IF(COUNTIF(aRoundedScores!$P14:$AI14,aRoundedScores!AI14)>1,\"=\",\"\"),RANK(aRoundedScores!AI14,aRoundedScores!$P14:$AI14)),\"n/a\")","v":"=1"}]
[null,"1.3) National strategy to adapt to climate change",null,{"$f":"IF(ISNUMBER(aRoundedScores!P15),CONCATENATE(IF(COUNTIF(aRoundedScores!$P15:$AI15,aRoundedScores!P15)>1,\"=\",\"\"),RANK(aRoundedScores!P15,aRoundedScores!$P15:$AI15)),\"n/a\")","v":"=11"},{"$f":"IF(ISNUMBER(aRoundedScores!Q15),CONCATENATE(IF(COUNTIF(aRoundedScores!$P15:$AI15,aRoundedScores!Q15)>1,\"=\",\"\"),RANK(aRoundedScores!Q15,aRoundedScores!$P15:$AI15)),\"n/a\")","v":"=1"},{"$f":"IF(ISNUMBER(aRoundedScores!R15),CONCATENATE(IF(COUNTIF(aRoundedScores!$P15:$AI15,aRoundedScores!R15)>1,\"=\",\"\"),RANK(aRoundedScores!R15,aRoundedScores!$P15:$AI15)),\"n/a\")","v":"=11"},{"$f":"IF(ISNUMBER(aRoundedScores!S15),CONCATENATE(IF(COUNTIF(aRoundedScores!$P15:$AI15,aRoundedScores!S15)>1,\"=\",\"\"),RANK(aRoundedScores!S15,aRoundedScores!$P15:$AI15)),\"n/a\")","v":"=1"},{"$f":"IF(ISNUMBER(aRoundedScores!T15),CONCATENATE(IF(COUNTIF(aRoundedScores!$P15:$AI15,aRoundedScores!T15)>1,\"=\",\"\"),RANK(aRoundedScores!T15,aRoundedScores!$P15:$AI15)),\"n/a\")","v":"=1"},{"$f":"IF(ISNUMBER(aRoundedScores!U15),CONCATENATE(IF(COUNTIF(aRoundedScores!$P15:$AI15,aRoundedScores!U15)>1,\"=\",\"\"),RANK(aRoundedScores!U15,aRoundedScores!$P15:$AI15)),\"n/a\")","v":"=11"},{"$f":"IF(ISNUMBER(aRoundedScores!V15),CONCATENATE(IF(COUNTIF(aRoundedScores!$P15:$AI15,aRoundedScores!V15)>1,\"=\",\"\"),RANK(aRoundedScores!V15,aRoundedScores!$P15:$AI15)),\"n/a\")","v":"=1"},{"$f":"IF(ISNUMBER(aRoundedScores!W15),CONCATENATE(IF(COUNTIF(aRoundedScores!$P15:$AI15,aRoundedScores!W15)>1,\"=\",\"\"),RANK(aRoundedScores!W15,aRoundedScores!$P15:$AI15)),\"n/a\")","v":"=11"},{"$f":"IF(ISNUMBER(aRoundedScores!X15),CONCATENATE(IF(COUNTIF(aRoundedScores!$P15:$AI15,aRoundedScores!X15)>1,\"=\",\"\"),RANK(aRoundedScores!X15,aRoundedScores!$P15:$AI15)),\"n/a\")","v":"=11"},{"$f":"IF(ISNUMBER(aRoundedScores!Y15),CONCATENATE(IF(COUNTIF(aRoundedScores!$P15:$AI15,aRoundedScores!Y15)>1,\"=\",\"\"),RANK(aRoundedScores!Y15,aRoundedScores!$P15:$AI15)),\"n/a\")","v":"=1"},{"$f":"IF(ISNUMBER(aRoundedScores!Z15),CONCATENATE(IF(COUNTIF(aRoundedScores!$P15:$AI15,aRoundedScores!Z15)>1,\"=\",\"\"),RANK(aRoundedScores!Z15,aRoundedScores!$P15:$AI15)),\"n/a\")","v":"=1"},{"$f":"IF(ISNUMBER(aRoundedScores!AA15),CONCATENATE(IF(COUNTIF(aRoundedScores!$P15:$AI15,aRoundedScores!AA15)>1,\"=\",\"\"),RANK(aRoundedScores!AA15,aRoundedScores!$P15:$AI15)),\"n/a\")","v":"=11"},{"$f":"IF(ISNUMBER(aRoundedScores!AB15),CONCATENATE(IF(COUNTIF(aRoundedScores!$P15:$AI15,aRoundedScores!AB15)>1,\"=\",\"\"),RANK(aRoundedScores!AB15,aRoundedScores!$P15:$AI15)),\"n/a\")","v":"=11"},{"$f":"IF(ISNUMBER(aRoundedScores!AC15),CONCATENATE(IF(COUNTIF(aRoundedScores!$P15:$AI15,aRoundedScores!AC15)>1,\"=\",\"\"),RANK(aRoundedScores!AC15,aRoundedScores!$P15:$AI15)),\"n/a\")","v":"=11"},{"$f":"IF(ISNUMBER(aRoundedScores!AD15),CONCATENATE(IF(COUNTIF(aRoundedScores!$P15:$AI15,aRoundedScores!AD15)>1,\"=\",\"\"),RANK(aRoundedScores!AD15,aRoundedScores!$P15:$AI15)),\"n/a\")","v":"20"},{"$f":"IF(ISNUMBER(aRoundedScores!AE15),CONCATENATE(IF(COUNTIF(aRoundedScores!$P15:$AI15,aRoundedScores!AE15)>1,\"=\",\"\"),RANK(aRoundedScores!AE15,aRoundedScores!$P15:$AI15)),\"n/a\")","v":"=1"},{"$f":"IF(ISNUMBER(aRoundedScores!AF15),CONCATENATE(IF(COUNTIF(aRoundedScores!$P15:$AI15,aRoundedScores!AF15)>1,\"=\",\"\"),RANK(aRoundedScores!AF15,aRoundedScores!$P15:$AI15)),\"n/a\")","v":"=1"},{"$f":"IF(ISNUMBER(aRoundedScores!AG15),CONCATENATE(IF(COUNTIF(aRoundedScores!$P15:$AI15,aRoundedScores!AG15)>1,\"=\",\"\"),RANK(aRoundedScores!AG15,aRoundedScores!$P15:$AI15)),\"n/a\")","v":"=1"},{"$f":"IF(ISNUMBER(aRoundedScores!AH15),CONCATENATE(IF(COUNTIF(aRoundedScores!$P15:$AI15,aRoundedScores!AH15)>1,\"=\",\"\"),RANK(aRoundedScores!AH15,aRoundedScores!$P15:$AI15)),\"n/a\")","v":"=1"},{"$f":"IF(ISNUMBER(aRoundedScores!AI15),CONCATENATE(IF(COUNTIF(aRoundedScores!$P15:$AI15,aRoundedScores!AI15)>1,\"=\",\"\"),RANK(aRoundedScores!AI15,aRoundedScores!$P15:$AI15)),\"n/a\")","v":"=11"}]
[null,"1.3.1) Strategy to adapt coastal areas to climate change",null,{"$f":"IF(ISNUMBER(aRoundedScores!P16),CONCATENATE(IF(COUNTIF(aRoundedScores!$P16:$AI16,aRoundedScores!P16)>1,\"=\",\"\"),RANK(aRoundedScores!P16,aRoundedScores!$P16:$AI16)),\"n/a\")","v":"=11"},{"$f":"IF(ISNUMBER(aRoundedScores!Q16),CONCATENATE(IF(COUNTIF(aRoundedScores!$P16:$AI16,aRoundedScores!Q16)>1,\"=\",\"\"),RANK(aRoundedScores!Q16,aRoundedScores!$P16:$AI16)),\"n/a\")","v":"=1"},{"$f":"IF(ISNUMBER(aRoundedScores!R16),CONCATENATE(IF(COUNTIF(aRoundedScores!$P16:$AI16,aRoundedScores!R16)>1,\"=\",\"\"),RANK(aRoundedScores!R16,aRoundedScores!$P16:$AI16)),\"n/a\")","v":"=11"},{"$f":"IF(ISNUMBER(aRoundedScores!S16),CONCATENATE(IF(COUNTIF(aRoundedScores!$P16:$AI16,aRoundedScores!S16)>1,\"=\",\"\"),RANK(aRoundedScores!S16,aRoundedScores!$P16:$AI16)),\"n/a\")","v":"=1"},{"$f":"IF(ISNUMBER(aRoundedScores!T16),CONCATENATE(IF(COUNTIF(aRoundedScores!$P16:$AI16,aRoundedScores!T16)>1,\"=\",\"\"),RANK(aRoundedScores!T16,aRoundedScores!$P16:$AI16)),\"n/a\")","v":"=1"},{"$f":"IF(ISNUMBER(aRoundedScores!U16),CONCATENATE(IF(COUNTIF(aRoundedScores!$P16:$AI16,aRoundedScores!U16)>1,\"=\",\"\"),RANK(aRoundedScores!U16,aRoundedScores!$P16:$AI16)),\"n/a\")","v":"=11"},{"$f":"IF(ISNUMBER(aRoundedScores!V16),CONCATENATE(IF(COUNTIF(aRoundedScores!$P16:$AI16,aRoundedScores!V16)>1,\"=\",\"\"),RANK(aRoundedScores!V16,aRoundedScores!$P16:$AI16)),\"n/a\")","v":"=1"},{"$f":"IF(ISNUMBER(aRoundedScores!W16),CONCATENATE(IF(COUNTIF(aRoundedScores!$P16:$AI16,aRoundedScores!W16)>1,\"=\",\"\"),RANK(aRoundedScores!W16,aRoundedScores!$P16:$AI16)),\"n/a\")","v":"=11"},{"$f":"IF(ISNUMBER(aRoundedScores!X16),CONCATENATE(IF(COUNTIF(aRoundedScores!$P16:$AI16,aRoundedScores!X16)>1,\"=\",\"\"),RANK(aRoundedScores!X16,aRoundedScores!$P16:$AI16)),\"n/a\")","v":"=11"},{"$f":"IF(ISNUMBER(aRoundedScores!Y16),CONCATENATE(IF(COUNTIF(aRoundedScores!$P16:$AI16,aRoundedScores!Y16)>1,\"=\",\"\"),RANK(aRoundedScores!Y16,aRoundedScores!$P16:$AI16)),\"n/a\")","v":"=1"},{"$f":"IF(ISNUMBER(aRoundedScores!Z16),CONCATENATE(IF(COUNTIF(aRoundedScores!$P16:$AI16,aRoundedScores!Z16)>1,\"=\",\"\"),RANK(aRoundedScores!Z16,aRoundedScores!$P16:$AI16)),\"n/a\")","v":"=1"},{"$f":"IF(ISNUMBER(aRoundedScores!AA16),CONCATENATE(IF(COUNTIF(aRoundedScores!$P16:$AI16,aRoundedScores!AA16)>1,\"=\",\"\"),RANK(aRoundedScores!AA16,aRoundedScores!$P16:$AI16)),\"n/a\")","v":"=11"},{"$f":"IF(ISNUMBER(aRoundedScores!AB16),CONCATENATE(IF(COUNTIF(aRoundedScores!$P16:$AI16,aRoundedScores!AB16)>1,\"=\",\"\"),RANK(aRoundedScores!AB16,aRoundedScores!$P16:$AI16)),\"n/a\")","v":"=11"},{"$f":"IF(ISNUMBER(aRoundedScores!AC16),CONCATENATE(IF(COUNTIF(aRoundedScores!$P16:$AI16,aRoundedScores!AC16)>1,\"=\",\"\"),RANK(aRoundedScores!AC16,aRoundedScores!$P16:$AI16)),\"n/a\")","v":"=11"},{"$f":"IF(ISNUMBER(aRoundedScores!AD16),CONCATENATE(IF(COUNTIF(aRoundedScores!$P16:$AI16,aRoundedScores!AD16)>1,\"=\",\"\"),RANK(aRoundedScores!AD16,aRoundedScores!$P16:$AI16)),\"n/a\")","v":"20"},{"$f":"IF(ISNUMBER(aRoundedScores!AE16),CONCATENATE(IF(COUNTIF(aRoundedScores!$P16:$AI16,aRoundedScores!AE16)>1,\"=\",\"\"),RANK(aRoundedScores!AE16,aRoundedScores!$P16:$AI16)),\"n/a\")","v":"=1"},{"$f":"IF(ISNUMBER(aRoundedScores!AF16),CONCATENATE(IF(COUNTIF(aRoundedScores!$P16:$AI16,aRoundedScores!AF16)>1,\"=\",\"\"),RANK(aRoundedScores!AF16,aRoundedScores!$P16:$AI16)),\"n/a\")","v":"=1"},{"$f":"IF(ISNUMBER(aRoundedScores!AG16),CONCATENATE(IF(COUNTIF(aRoundedScores!$P16:$AI16,aRoundedScores!AG16)>1,\"=\",\"\"),RANK(aRoundedScores!AG16,aRoundedScores!$P16:$AI16)),\"n/a\")","v":"=1"},{"$f":"IF(ISNUMBER(aRoundedScores!AH16),CONCATENATE(IF(COUNTIF(aRoundedScores!$P16:$AI16,aRoundedScores!AH16)>1,\"=\",\"\"),RANK(aRoundedScores!AH16,aRoundedScores!$P16:$AI16)),\"n/a\")","v":"=1"},{"$f":"IF(ISNUMBER(aRoundedScores!AI16),CONCATENATE(IF(COUNTIF(aRoundedScores!$P16:$AI16,aRoundedScores!AI16)>1,\"=\",\"\"),RANK(aRoundedScores!AI16,aRoundedScores!$P16:$AI16)),\"n/a\")","v":"=11"}]
[null,"1.4) Maritime Spatial Planning",null,{"$f":"IF(ISNUMBER(aRoundedScores!P17),CONCATENATE(IF(COUNTIF(aRoundedScores!$P17:$AI17,aRoundedScores!P17)>1,\"=\",\"\"),RANK(aRoundedScores!P17,aRoundedScores!$P17:$AI17)),\"n/a\")","v":"=13"},{"$f":"IF(ISNUMBER(aRoundedScores!Q17),CONCATENATE(IF(COUNTIF(aRoundedScores!$P17:$AI17,aRoundedScores!Q17)>1,\"=\",\"\"),RANK(aRoundedScores!Q17,aRoundedScores!$P17:$AI17)),\"n/a\")","v":"=7"},{"$f":"IF(ISNUMBER(aRoundedScores!R17),CONCATENATE(IF(COUNTIF(aRoundedScores!$P17:$AI17,aRoundedScores!R17)>1,\"=\",\"\"),RANK(aRoundedScores!R17,aRoundedScores!$P17:$AI17)),\"n/a\")","v":"=13"},{"$f":"IF(ISNUMBER(aRoundedScores!S17),CONCATENATE(IF(COUNTIF(aRoundedScores!$P17:$AI17,aRoundedScores!S17)>1,\"=\",\"\"),RANK(aRoundedScores!S17,aRoundedScores!$P17:$AI17)),\"n/a\")","v":"=1"},{"$f":"IF(ISNUMBER(aRoundedScores!T17),CONCATENATE(IF(COUNTIF(aRoundedScores!$P17:$AI17,aRoundedScores!T17)>1,\"=\",\"\"),RANK(aRoundedScores!T17,aRoundedScores!$P17:$AI17)),\"n/a\")","v":"=7"},{"$f":"IF(ISNUMBER(aRoundedScores!U17),CONCATENATE(IF(COUNTIF(aRoundedScores!$P17:$AI17,aRoundedScores!U17)>1,\"=\",\"\"),RANK(aRoundedScores!U17,aRoundedScores!$P17:$AI17)),\"n/a\")","v":"=13"},{"$f":"IF(ISNUMBER(aRoundedScores!V17),CONCATENATE(IF(COUNTIF(aRoundedScores!$P17:$AI17,aRoundedScores!V17)>1,\"=\",\"\"),RANK(aRoundedScores!V17,aRoundedScores!$P17:$AI17)),\"n/a\")","v":"=11"},{"$f":"IF(ISNUMBER(aRoundedScores!W17),CONCATENATE(IF(COUNTIF(aRoundedScores!$P17:$AI17,aRoundedScores!W17)>1,\"=\",\"\"),RANK(aRoundedScores!W17,aRoundedScores!$P17:$AI17)),\"n/a\")","v":"=13"},{"$f":"IF(ISNUMBER(aRoundedScores!X17),CONCATENATE(IF(COUNTIF(aRoundedScores!$P17:$AI17,aRoundedScores!X17)>1,\"=\",\"\"),RANK(aRoundedScores!X17,aRoundedScores!$P17:$AI17)),\"n/a\")","v":"=1"},{"$f":"IF(ISNUMBER(aRoundedScores!Y17),CONCATENATE(IF(COUNTIF(aRoundedScores!$P17:$AI17,aRoundedScores!Y17)>1,\"=\",\"\"),RANK(aRoundedScores!Y17,aRoundedScores!$P17:$AI17)),\"n/a\")","v":"=7"},{"$f":"IF(ISNUMBER(aRoundedScores!Z17),CONCATENATE(IF(COUNTIF(aRoundedScores!$P17:$AI17,aRoundedScores!Z17)>1,\"=\",\"\"),RANK(aRoundedScores!Z17,aRoundedScores!$P17:$AI17)),\"n/a\")","v":"=13"},{"$f":"IF(ISNUMBER(aRoundedScores!AA17),CONCATENATE(IF(COUNTIF(aRoundedScores!$P17:$AI17,aRoundedScores!AA17)>1,\"=\",\"\"),RANK(aRoundedScores!AA17,aRoundedScores!$P17:$AI17)),\"n/a\")","v":"=1"},{"$f":"IF(ISNUMBER(aRoundedScores!AB17),CONCATENATE(IF(COUNTIF(aRoundedScores!$P17:$AI17,aRoundedScores!AB17)>1,\"=\",\"\"),RANK(aRoundedScores!AB17,aRoundedScores!$P17:$AI17)),\"n/a\")","v":"=13"},{"$f":"IF(ISNUMBER(aRoundedScores!AC17),CONCATENATE(IF(COUNTIF(aRoundedScores!$P17:$AI17,aRoundedScores!AC17)>1,\"=\",\"\"),RANK(aRoundedScores!AC17,aRoundedScores!$P17:$AI17)),\"n/a\")","v":"=7"},{"$f":"IF(ISNUMBER(aRoundedScores!AD17),CONCATENATE(IF(COUNTIF(aRoundedScores!$P17:$AI17,aRoundedScores!AD17)>1,\"=\",\"\"),RANK(aRoundedScores!AD17,aRoundedScores!$P17:$AI17)),\"n/a\")","v":"=13"},{"$f":"IF(ISNUMBER(aRoundedScores!AE17),CONCATENATE(IF(COUNTIF(aRoundedScores!$P17:$AI17,aRoundedScores!AE17)>1,\"=\",\"\"),RANK(aRoundedScores!AE17,aRoundedScores!$P17:$AI17)),\"n/a\")","v":"=11"},{"$f":"IF(ISNUMBER(aRoundedScores!AF17),CONCATENATE(IF(COUNTIF(aRoundedScores!$P17:$AI17,aRoundedScores!AF17)>1,\"=\",\"\"),RANK(aRoundedScores!AF17,aRoundedScores!$P17:$AI17)),\"n/a\")","v":"=13"},{"$f":"IF(ISNUMBER(aRoundedScores!AG17),CONCATENATE(IF(COUNTIF(aRoundedScores!$P17:$AI17,aRoundedScores!AG17)>1,\"=\",\"\"),RANK(aRoundedScores!AG17,aRoundedScores!$P17:$AI17)),\"n/a\")","v":"=1"},{"$f":"IF(ISNUMBER(aRoundedScores!AH17),CONCATENATE(IF(COUNTIF(aRoundedScores!$P17:$AI17,aRoundedScores!AH17)>1,\"=\",\"\"),RANK(aRoundedScores!AH17,aRoundedScores!$P17:$AI17)),\"n/a\")","v":"6"},{"$f":"IF(ISNUMBER(aRoundedScores!AI17),CONCATENATE(IF(COUNTIF(aRoundedScores!$P17:$AI17,aRoundedScores!AI17)>1,\"=\",\"\"),RANK(aRoundedScores!AI17,aRoundedScores!$P17:$AI17)),\"n/a\")","v":"=1"}]
[null,"1.4.1) Legal basis for maritime spatial planning",null,{"$f":"IF(ISNUMBER(aRoundedScores!P18),CONCATENATE(IF(COUNTIF(aRoundedScores!$P18:$AI18,aRoundedScores!P18)>1,\"=\",\"\"),RANK(aRoundedScores!P18,aRoundedScores!$P18:$AI18)),\"n/a\")","v":"=12"},{"$f":"IF(ISNUMBER(aRoundedScores!Q18),CONCATENATE(IF(COUNTIF(aRoundedScores!$P18:$AI18,aRoundedScores!Q18)>1,\"=\",\"\"),RANK(aRoundedScores!Q18,aRoundedScores!$P18:$AI18)),\"n/a\")","v":"=6"},{"$f":"IF(ISNUMBER(aRoundedScores!R18),CONCATENATE(IF(COUNTIF(aRoundedScores!$P18:$AI18,aRoundedScores!R18)>1,\"=\",\"\"),RANK(aRoundedScores!R18,aRoundedScores!$P18:$AI18)),\"n/a\")","v":"=12"},{"$f":"IF(ISNUMBER(aRoundedScores!S18),CONCATENATE(IF(COUNTIF(aRoundedScores!$P18:$AI18,aRoundedScores!S18)>1,\"=\",\"\"),RANK(aRoundedScores!S18,aRoundedScores!$P18:$AI18)),\"n/a\")","v":"=1"},{"$f":"IF(ISNUMBER(aRoundedScores!T18),CONCATENATE(IF(COUNTIF(aRoundedScores!$P18:$AI18,aRoundedScores!T18)>1,\"=\",\"\"),RANK(aRoundedScores!T18,aRoundedScores!$P18:$AI18)),\"n/a\")","v":"=6"},{"$f":"IF(ISNUMBER(aRoundedScores!U18),CONCATENATE(IF(COUNTIF(aRoundedScores!$P18:$AI18,aRoundedScores!U18)>1,\"=\",\"\"),RANK(aRoundedScores!U18,aRoundedScores!$P18:$AI18)),\"n/a\")","v":"=12"},{"$f":"IF(ISNUMBER(aRoundedScores!V18),CONCATENATE(IF(COUNTIF(aRoundedScores!$P18:$AI18,aRoundedScores!V18)>1,\"=\",\"\"),RANK(aRoundedScores!V18,aRoundedScores!$P18:$AI18)),\"n/a\")","v":"=12"},{"$f":"IF(ISNUMBER(aRoundedScores!W18),CONCATENATE(IF(COUNTIF(aRoundedScores!$P18:$AI18,aRoundedScores!W18)>1,\"=\",\"\"),RANK(aRoundedScores!W18,aRoundedScores!$P18:$AI18)),\"n/a\")","v":"=12"},{"$f":"IF(ISNUMBER(aRoundedScores!X18),CONCATENATE(IF(COUNTIF(aRoundedScores!$P18:$AI18,aRoundedScores!X18)>1,\"=\",\"\"),RANK(aRoundedScores!X18,aRoundedScores!$P18:$AI18)),\"n/a\")","v":"=1"},{"$f":"IF(ISNUMBER(aRoundedScores!Y18),CONCATENATE(IF(COUNTIF(aRoundedScores!$P18:$AI18,aRoundedScores!Y18)>1,\"=\",\"\"),RANK(aRoundedScores!Y18,aRoundedScores!$P18:$AI18)),\"n/a\")","v":"=6"},{"$f":"IF(ISNUMBER(aRoundedScores!Z18),CONCATENATE(IF(COUNTIF(aRoundedScores!$P18:$AI18,aRoundedScores!Z18)>1,\"=\",\"\"),RANK(aRoundedScores!Z18,aRoundedScores!$P18:$AI18)),\"n/a\")","v":"=12"},{"$f":"IF(ISNUMBER(aRoundedScores!AA18),CONCATENATE(IF(COUNTIF(aRoundedScores!$P18:$AI18,aRoundedScores!AA18)>1,\"=\",\"\"),RANK(aRoundedScores!AA18,aRoundedScores!$P18:$AI18)),\"n/a\")","v":"=1"},{"$f":"IF(ISNUMBER(aRoundedScores!AB18),CONCATENATE(IF(COUNTIF(aRoundedScores!$P18:$AI18,aRoundedScores!AB18)>1,\"=\",\"\"),RANK(aRoundedScores!AB18,aRoundedScores!$P18:$AI18)),\"n/a\")","v":"=12"},{"$f":"IF(ISNUMBER(aRoundedScores!AC18),CONCATENATE(IF(COUNTIF(aRoundedScores!$P18:$AI18,aRoundedScores!AC18)>1,\"=\",\"\"),RANK(aRoundedScores!AC18,aRoundedScores!$P18:$AI18)),\"n/a\")","v":"=6"},{"$f":"IF(ISNUMBER(aRoundedScores!AD18),CONCATENATE(IF(COUNTIF(aRoundedScores!$P18:$AI18,aRoundedScores!AD18)>1,\"=\",\"\"),RANK(aRoundedScores!AD18,aRoundedScores!$P18:$AI18)),\"n/a\")","v":"=12"},{"$f":"IF(ISNUMBER(aRoundedScores!AE18),CONCATENATE(IF(COUNTIF(aRoundedScores!$P18:$AI18,aRoundedScores!AE18)>1,\"=\",\"\"),RANK(aRoundedScores!AE18,aRoundedScores!$P18:$AI18)),\"n/a\")","v":"=6"},{"$f":"IF(ISNUMBER(aRoundedScores!AF18),CONCATENATE(IF(COUNTIF(aRoundedScores!$P18:$AI18,aRoundedScores!AF18)>1,\"=\",\"\"),RANK(aRoundedScores!AF18,aRoundedScores!$P18:$AI18)),\"n/a\")","v":"=12"},{"$f":"IF(ISNUMBER(aRoundedScores!AG18),CONCATENATE(IF(COUNTIF(aRoundedScores!$P18:$AI18,aRoundedScores!AG18)>1,\"=\",\"\"),RANK(aRoundedScores!AG18,aRoundedScores!$P18:$AI18)),\"n/a\")","v":"=1"},{"$f":"IF(ISNUMBER(aRoundedScores!AH18),CONCATENATE(IF(COUNTIF(aRoundedScores!$P18:$AI18,aRoundedScores!AH18)>1,\"=\",\"\"),RANK(aRoundedScores!AH18,aRoundedScores!$P18:$AI18)),\"n/a\")","v":"=6"},{"$f":"IF(ISNUMBER(aRoundedScores!AI18),CONCATENATE(IF(COUNTIF(aRoundedScores!$P18:$AI18,aRoundedScores!AI18)>1,\"=\",\"\"),RANK(aRoundedScores!AI18,aRoundedScores!$P18:$AI18)),\"n/a\")","v":"=1"}]
[null,"1.4.2) Institution for maritime spatial planning",null,{"$f":"IF(ISNUMBER(aRoundedScores!P19),CONCATENATE(IF(COUNTIF(aRoundedScores!$P19:$AI19,aRoundedScores!P19)>1,\"=\",\"\"),RANK(aRoundedScores!P19,aRoundedScores!$P19:$AI19)),\"n/a\")","v":"=12"},{"$f":"IF(ISNUMBER(aRoundedScores!Q19),CONCATENATE(IF(COUNTIF(aRoundedScores!$P19:$AI19,aRoundedScores!Q19)>1,\"=\",\"\"),RANK(aRoundedScores!Q19,aRoundedScores!$P19:$AI19)),\"n/a\")","v":"=7"},{"$f":"IF(ISNUMBER(aRoundedScores!R19),CONCATENATE(IF(COUNTIF(aRoundedScores!$P19:$AI19,aRoundedScores!R19)>1,\"=\",\"\"),RANK(aRoundedScores!R19,aRoundedScores!$P19:$AI19)),\"n/a\")","v":"=12"},{"$f":"IF(ISNUMBER(aRoundedScores!S19),CONCATENATE(IF(COUNTIF(aRoundedScores!$P19:$AI19,aRoundedScores!S19)>1,\"=\",\"\"),RANK(aRoundedScores!S19,aRoundedScores!$P19:$AI19)),\"n/a\")","v":"=1"},{"$f":"IF(ISNUMBER(aRoundedScores!T19),CONCATENATE(IF(COUNTIF(aRoundedScores!$P19:$AI19,aRoundedScores!T19)>1,\"=\",\"\"),RANK(aRoundedScores!T19,aRoundedScores!$P19:$AI19)),\"n/a\")","v":"=7"},{"$f":"IF(ISNUMBER(aRoundedScores!U19),CONCATENATE(IF(COUNTIF(aRoundedScores!$P19:$AI19,aRoundedScores!U19)>1,\"=\",\"\"),RANK(aRoundedScores!U19,aRoundedScores!$P19:$AI19)),\"n/a\")","v":"=12"},{"$f":"IF(ISNUMBER(aRoundedScores!V19),CONCATENATE(IF(COUNTIF(aRoundedScores!$P19:$AI19,aRoundedScores!V19)>1,\"=\",\"\"),RANK(aRoundedScores!V19,aRoundedScores!$P19:$AI19)),\"n/a\")","v":"=7"},{"$f":"IF(ISNUMBER(aRoundedScores!W19),CONCATENATE(IF(COUNTIF(aRoundedScores!$P19:$AI19,aRoundedScores!W19)>1,\"=\",\"\"),RANK(aRoundedScores!W19,aRoundedScores!$P19:$AI19)),\"n/a\")","v":"=12"},{"$f":"IF(ISNUMBER(aRoundedScores!X19),CONCATENATE(IF(COUNTIF(aRoundedScores!$P19:$AI19,aRoundedScores!X19)>1,\"=\",\"\"),RANK(aRoundedScores!X19,aRoundedScores!$P19:$AI19)),\"n/a\")","v":"=1"},{"$f":"IF(ISNUMBER(aRoundedScores!Y19),CONCATENATE(IF(COUNTIF(aRoundedScores!$P19:$AI19,aRoundedScores!Y19)>1,\"=\",\"\"),RANK(aRoundedScores!Y19,aRoundedScores!$P19:$AI19)),\"n/a\")","v":"=7"},{"$f":"IF(ISNUMBER(aRoundedScores!Z19),CONCATENATE(IF(COUNTIF(aRoundedScores!$P19:$AI19,aRoundedScores!Z19)>1,\"=\",\"\"),RANK(aRoundedScores!Z19,aRoundedScores!$P19:$AI19)),\"n/a\")","v":"=12"},{"$f":"IF(ISNUMBER(aRoundedScores!AA19),CONCATENATE(IF(COUNTIF(aRoundedScores!$P19:$AI19,aRoundedScores!AA19)>1,\"=\",\"\"),RANK(aRoundedScores!AA19,aRoundedScores!$P19:$AI19)),\"n/a\")","v":"=1"},{"$f":"IF(ISNUMBER(aRoundedScores!AB19),CONCATENATE(IF(COUNTIF(aRoundedScores!$P19:$AI19,aRoundedScores!AB19)>1,\"=\",\"\"),RANK(aRoundedScores!AB19,aRoundedScores!$P19:$AI19)),\"n/a\")","v":"=12"},{"$f":"IF(ISNUMBER(aRoundedScores!AC19),CONCATENATE(IF(COUNTIF(aRoundedScores!$P19:$AI19,aRoundedScores!AC19)>1,\"=\",\"\"),RANK(aRoundedScores!AC19,aRoundedScores!$P19:$AI19)),\"n/a\")","v":"=7"},{"$f":"IF(ISNUMBER(aRoundedScores!AD19),CONCATENATE(IF(COUNTIF(aRoundedScores!$P19:$AI19,aRoundedScores!AD19)>1,\"=\",\"\"),RANK(aRoundedScores!AD19,aRoundedScores!$P19:$AI19)),\"n/a\")","v":"=12"},{"$f":"IF(ISNUMBER(aRoundedScores!AE19),CONCATENATE(IF(COUNTIF(aRoundedScores!$P19:$AI19,aRoundedScores!AE19)>1,\"=\",\"\"),RANK(aRoundedScores!AE19,aRoundedScores!$P19:$AI19)),\"n/a\")","v":"=12"},{"$f":"IF(ISNUMBER(aRoundedScores!AF19),CONCATENATE(IF(COUNTIF(aRoundedScores!$P19:$AI19,aRoundedScores!AF19)>1,\"=\",\"\"),RANK(aRoundedScores!AF19,aRoundedScores!$P19:$AI19)),\"n/a\")","v":"=12"},{"$f":"IF(ISNUMBER(aRoundedScores!AG19),CONCATENATE(IF(COUNTIF(aRoundedScores!$P19:$AI19,aRoundedScores!AG19)>1,\"=\",\"\"),RANK(aRoundedScores!AG19,aRoundedScores!$P19:$AI19)),\"n/a\")","v":"=1"},{"$f":"IF(ISNUMBER(aRoundedScores!AH19),CONCATENATE(IF(COUNTIF(aRoundedScores!$P19:$AI19,aRoundedScores!AH19)>1,\"=\",\"\"),RANK(aRoundedScores!AH19,aRoundedScores!$P19:$AI19)),\"n/a\")","v":"=1"},{"$f":"IF(ISNUMBER(aRoundedScores!AI19),CONCATENATE(IF(COUNTIF(aRoundedScores!$P19:$AI19,aRoundedScores!AI19)>1,\"=\",\"\"),RANK(aRoundedScores!AI19,aRoundedScores!$P19:$AI19)),\"n/a\")","v":"=1"}]
[null,"1.5) Stakeholder engagement",null,{"$f":"IF(ISNUMBER(aRoundedScores!P20),CONCATENATE(IF(COUNTIF(aRoundedScores!$P20:$AI20,aRoundedScores!P20)>1,\"=\",\"\"),RANK(aRoundedScores!P20,aRoundedScores!$P20:$AI20)),\"n/a\")","v":"=1"},{"$f":"IF(ISNUMBER(aRoundedScores!Q20),CONCATENATE(IF(COUNTIF(aRoundedScores!$P20:$AI20,aRoundedScores!Q20)>1,\"=\",\"\"),RANK(aRoundedScores!Q20,aRoundedScores!$P20:$AI20)),\"n/a\")","v":"=1"},{"$f":"IF(ISNUMBER(aRoundedScores!R20),CONCATENATE(IF(COUNTIF(aRoundedScores!$P20:$AI20,aRoundedScores!R20)>1,\"=\",\"\"),RANK(aRoundedScores!R20,aRoundedScores!$P20:$AI20)),\"n/a\")","v":"=10"},{"$f":"IF(ISNUMBER(aRoundedScores!S20),CONCATENATE(IF(COUNTIF(aRoundedScores!$P20:$AI20,aRoundedScores!S20)>1,\"=\",\"\"),RANK(aRoundedScores!S20,aRoundedScores!$P20:$AI20)),\"n/a\")","v":"=18"},{"$f":"IF(ISNUMBER(aRoundedScores!T20),CONCATENATE(IF(COUNTIF(aRoundedScores!$P20:$AI20,aRoundedScores!T20)>1,\"=\",\"\"),RANK(aRoundedScores!T20,aRoundedScores!$P20:$AI20)),\"n/a\")","v":"=10"},{"$f":"IF(ISNUMBER(aRoundedScores!U20),CONCATENATE(IF(COUNTIF(aRoundedScores!$P20:$AI20,aRoundedScores!U20)>1,\"=\",\"\"),RANK(aRoundedScores!U20,aRoundedScores!$P20:$AI20)),\"n/a\")","v":"=1"},{"$f":"IF(ISNUMBER(aRoundedScores!V20),CONCATENATE(IF(COUNTIF(aRoundedScores!$P20:$AI20,aRoundedScores!V20)>1,\"=\",\"\"),RANK(aRoundedScores!V20,aRoundedScores!$P20:$AI20)),\"n/a\")","v":"9"},{"$f":"IF(ISNUMBER(aRoundedScores!W20),CONCATENATE(IF(COUNTIF(aRoundedScores!$P20:$AI20,aRoundedScores!W20)>1,\"=\",\"\"),RANK(aRoundedScores!W20,aRoundedScores!$P20:$AI20)),\"n/a\")","v":"=1"},{"$f":"IF(ISNUMBER(aRoundedScores!X20),CONCATENATE(IF(COUNTIF(aRoundedScores!$P20:$AI20,aRoundedScores!X20)>1,\"=\",\"\"),RANK(aRoundedScores!X20,aRoundedScores!$P20:$AI20)),\"n/a\")","v":"=15"},{"$f":"IF(ISNUMBER(aRoundedScores!Y20),CONCATENATE(IF(COUNTIF(aRoundedScores!$P20:$AI20,aRoundedScores!Y20)>1,\"=\",\"\"),RANK(aRoundedScores!Y20,aRoundedScores!$P20:$AI20)),\"n/a\")","v":"=10"},{"$f":"IF(ISNUMBER(aRoundedScores!Z20),CONCATENATE(IF(COUNTIF(aRoundedScores!$P20:$AI20,aRoundedScores!Z20)>1,\"=\",\"\"),RANK(aRoundedScores!Z20,aRoundedScores!$P20:$AI20)),\"n/a\")","v":"=18"},{"$f":"IF(ISNUMBER(aRoundedScores!AA20),CONCATENATE(IF(COUNTIF(aRoundedScores!$P20:$AI20,aRoundedScores!AA20)>1,\"=\",\"\"),RANK(aRoundedScores!AA20,aRoundedScores!$P20:$AI20)),\"n/a\")","v":"=10"},{"$f":"IF(ISNUMBER(aRoundedScores!AB20),CONCATENATE(IF(COUNTIF(aRoundedScores!$P20:$AI20,aRoundedScores!AB20)>1,\"=\",\"\"),RANK(aRoundedScores!AB20,aRoundedScores!$P20:$AI20)),\"n/a\")","v":"=15"},{"$f":"IF(ISNUMBER(aRoundedScores!AC20),CONCATENATE(IF(COUNTIF(aRoundedScores!$P20:$AI20,aRoundedScores!AC20)>1,\"=\",\"\"),RANK(aRoundedScores!AC20,aRoundedScores!$P20:$AI20)),\"n/a\")","v":"=1"},{"$f":"IF(ISNUMBER(aRoundedScores!AD20),CONCATENATE(IF(COUNTIF(aRoundedScores!$P20:$AI20,aRoundedScores!AD20)>1,\"=\",\"\"),RANK(aRoundedScores!AD20,aRoundedScores!$P20:$AI20)),\"n/a\")","v":"=18"},{"$f":"IF(ISNUMBER(aRoundedScores!AE20),CONCATENATE(IF(COUNTIF(aRoundedScores!$P20:$AI20,aRoundedScores!AE20)>1,\"=\",\"\"),RANK(aRoundedScores!AE20,aRoundedScores!$P20:$AI20)),\"n/a\")","v":"=1"},{"$f":"IF(ISNUMBER(aRoundedScores!AF20),CONCATENATE(IF(COUNTIF(aRoundedScores!$P20:$AI20,aRoundedScores!AF20)>1,\"=\",\"\"),RANK(aRoundedScores!AF20,aRoundedScores!$P20:$AI20)),\"n/a\")","v":"=15"},{"$f":"IF(ISNUMBER(aRoundedScores!AG20),CONCATENATE(IF(COUNTIF(aRoundedScores!$P20:$AI20,aRoundedScores!AG20)>1,\"=\",\"\"),RANK(aRoundedScores!AG20,aRoundedScores!$P20:$AI20)),\"n/a\")","v":"=1"},{"$f":"IF(ISNUMBER(aRoundedScores!AH20),CONCATENATE(IF(COUNTIF(aRoundedScores!$P20:$AI20,aRoundedScores!AH20)>1,\"=\",\"\"),RANK(aRoundedScores!AH20,aRoundedScores!$P20:$AI20)),\"n/a\")","v":"=1"},{"$f":"IF(ISNUMBER(aRoundedScores!AI20),CONCATENATE(IF(COUNTIF(aRoundedScores!$P20:$AI20,aRoundedScores!AI20)>1,\"=\",\"\"),RANK(aRoundedScores!AI20,aRoundedScores!$P20:$AI20)),\"n/a\")","v":"=10"}]
[null,"1.5.1) Grievance redress",null,{"$f":"IF(ISNUMBER(aRoundedScores!P21),CONCATENATE(IF(COUNTIF(aRoundedScores!$P21:$AI21,aRoundedScores!P21)>1,\"=\",\"\"),RANK(aRoundedScores!P21,aRoundedScores!$P21:$AI21)),\"n/a\")","v":"=1"},{"$f":"IF(ISNUMBER(aRoundedScores!Q21),CONCATENATE(IF(COUNTIF(aRoundedScores!$P21:$AI21,aRoundedScores!Q21)>1,\"=\",\"\"),RANK(aRoundedScores!Q21,aRoundedScores!$P21:$AI21)),\"n/a\")","v":"=1"},{"$f":"IF(ISNUMBER(aRoundedScores!R21),CONCATENATE(IF(COUNTIF(aRoundedScores!$P21:$AI21,aRoundedScores!R21)>1,\"=\",\"\"),RANK(aRoundedScores!R21,aRoundedScores!$P21:$AI21)),\"n/a\")","v":"=1"},{"$f":"IF(ISNUMBER(aRoundedScores!S21),CONCATENATE(IF(COUNTIF(aRoundedScores!$P21:$AI21,aRoundedScores!S21)>1,\"=\",\"\"),RANK(aRoundedScores!S21,aRoundedScores!$P21:$AI21)),\"n/a\")","v":"=17"},{"$f":"IF(ISNUMBER(aRoundedScores!T21),CONCATENATE(IF(COUNTIF(aRoundedScores!$P21:$AI21,aRoundedScores!T21)>1,\"=\",\"\"),RANK(aRoundedScores!T21,aRoundedScores!$P21:$AI21)),\"n/a\")","v":"=1"},{"$f":"IF(ISNUMBER(aRoundedScores!U21),CONCATENATE(IF(COUNTIF(aRoundedScores!$P21:$AI21,aRoundedScores!U21)>1,\"=\",\"\"),RANK(aRoundedScores!U21,aRoundedScores!$P21:$AI21)),\"n/a\")","v":"=1"},{"$f":"IF(ISNUMBER(aRoundedScores!V21),CONCATENATE(IF(COUNTIF(aRoundedScores!$P21:$AI21,aRoundedScores!V21)>1,\"=\",\"\"),RANK(aRoundedScores!V21,aRoundedScores!$P21:$AI21)),\"n/a\")","v":"=13"},{"$f":"IF(ISNUMBER(aRoundedScores!W21),CONCATENATE(IF(COUNTIF(aRoundedScores!$P21:$AI21,aRoundedScores!W21)>1,\"=\",\"\"),RANK(aRoundedScores!W21,aRoundedScores!$P21:$AI21)),\"n/a\")","v":"=1"},{"$f":"IF(ISNUMBER(aRoundedScores!X21),CONCATENATE(IF(COUNTIF(aRoundedScores!$P21:$AI21,aRoundedScores!X21)>1,\"=\",\"\"),RANK(aRoundedScores!X21,aRoundedScores!$P21:$AI21)),\"n/a\")","v":"=13"},{"$f":"IF(ISNUMBER(aRoundedScores!Y21),CONCATENATE(IF(COUNTIF(aRoundedScores!$P21:$AI21,aRoundedScores!Y21)>1,\"=\",\"\"),RANK(aRoundedScores!Y21,aRoundedScores!$P21:$AI21)),\"n/a\")","v":"=1"},{"$f":"IF(ISNUMBER(aRoundedScores!Z21),CONCATENATE(IF(COUNTIF(aRoundedScores!$P21:$AI21,aRoundedScores!Z21)>1,\"=\",\"\"),RANK(aRoundedScores!Z21,aRoundedScores!$P21:$AI21)),\"n/a\")","v":"=17"},{"$f":"IF(ISNUMBER(aRoundedScores!AA21),CONCATENATE(IF(COUNTIF(aRoundedScores!$P21:$AI21,aRoundedScores!AA21)>1,\"=\",\"\"),RANK(aRoundedScores!AA21,aRoundedScores!$P21:$AI21)),\"n/a\")","v":"=1"},{"$f":"IF(ISNUMBER(aRoundedScores!AB21),CONCATENATE(IF(COUNTIF(aRoundedScores!$P21:$AI21,aRoundedScores!AB21)>1,\"=\",\"\"),RANK(aRoundedScores!AB21,aRoundedScores!$P21:$AI21)),\"n/a\")","v":"=13"},{"$f":"IF(ISNUMBER(aRoundedScores!AC21),CONCATENATE(IF(COUNTIF(aRoundedScores!$P21:$AI21,aRoundedScores!AC21)>1,\"=\",\"\"),RANK(aRoundedScores!AC21,aRoundedScores!$P21:$AI21)),\"n/a\")","v":"=1"},{"$f":"IF(ISNUMBER(aRoundedScores!AD21),CONCATENATE(IF(COUNTIF(aRoundedScores!$P21:$AI21,aRoundedScores!AD21)>1,\"=\",\"\"),RANK(aRoundedScores!AD21,aRoundedScores!$P21:$AI21)),\"n/a\")","v":"=17"},{"$f":"IF(ISNUMBER(aRoundedScores!AE21),CONCATENATE(IF(COUNTIF(aRoundedScores!$P21:$AI21,aRoundedScores!AE21)>1,\"=\",\"\"),RANK(aRoundedScores!AE21,aRoundedScores!$P21:$AI21)),\"n/a\")","v":"=1"},{"$f":"IF(ISNUMBER(aRoundedScores!AF21),CONCATENATE(IF(COUNTIF(aRoundedScores!$P21:$AI21,aRoundedScores!AF21)>1,\"=\",\"\"),RANK(aRoundedScores!AF21,aRoundedScores!$P21:$AI21)),\"n/a\")","v":"=13"},{"$f":"IF(ISNUMBER(aRoundedScores!AG21),CONCATENATE(IF(COUNTIF(aRoundedScores!$P21:$AI21,aRoundedScores!AG21)>1,\"=\",\"\"),RANK(aRoundedScores!AG21,aRoundedScores!$P21:$AI21)),\"n/a\")","v":"=1"},{"$f":"IF(ISNUMBER(aRoundedScores!AH21),CONCATENATE(IF(COUNTIF(aRoundedScores!$P21:$AI21,aRoundedScores!AH21)>1,\"=\",\"\"),RANK(aRoundedScores!AH21,aRoundedScores!$P21:$AI21)),\"n/a\")","v":"=1"},{"$f":"IF(ISNUMBER(aRoundedScores!AI21),CONCATENATE(IF(COUNTIF(aRoundedScores!$P21:$AI21,aRoundedScores!AI21)>1,\"=\",\"\"),RANK(aRoundedScores!AI21,aRoundedScores!$P21:$AI21)),\"n/a\")","v":"=17"}]
[null,"1.5.2) Multi-stakeholder engagement",null,{"$f":"IF(ISNUMBER(aRoundedScores!P22),CONCATENATE(IF(COUNTIF(aRoundedScores!$P22:$AI22,aRoundedScores!P22)>1,\"=\",\"\"),RANK(aRoundedScores!P22,aRoundedScores!$P22:$AI22)),\"n/a\")","v":"=1"},{"$f":"IF(ISNUMBER(aRoundedScores!Q22),CONCATENATE(IF(COUNTIF(aRoundedScores!$P22:$AI22,aRoundedScores!Q22)>1,\"=\",\"\"),RANK(aRoundedScores!Q22,aRoundedScores!$P22:$AI22)),\"n/a\")","v":"=1"},{"$f":"IF(ISNUMBER(aRoundedScores!R22),CONCATENATE(IF(COUNTIF(aRoundedScores!$P22:$AI22,aRoundedScores!R22)>1,\"=\",\"\"),RANK(aRoundedScores!R22,aRoundedScores!$P22:$AI22)),\"n/a\")","v":"=11"},{"$f":"IF(ISNUMBER(aRoundedScores!S22),CONCATENATE(IF(COUNTIF(aRoundedScores!$P22:$AI22,aRoundedScores!S22)>1,\"=\",\"\"),RANK(aRoundedScores!S22,aRoundedScores!$P22:$AI22)),\"n/a\")","v":"=11"},{"$f":"IF(ISNUMBER(aRoundedScores!T22),CONCATENATE(IF(COUNTIF(aRoundedScores!$P22:$AI22,aRoundedScores!T22)>1,\"=\",\"\"),RANK(aRoundedScores!T22,aRoundedScores!$P22:$AI22)),\"n/a\")","v":"=11"},{"$f":"IF(ISNUMBER(aRoundedScores!U22),CONCATENATE(IF(COUNTIF(aRoundedScores!$P22:$AI22,aRoundedScores!U22)>1,\"=\",\"\"),RANK(aRoundedScores!U22,aRoundedScores!$P22:$AI22)),\"n/a\")","v":"=1"},{"$f":"IF(ISNUMBER(aRoundedScores!V22),CONCATENATE(IF(COUNTIF(aRoundedScores!$P22:$AI22,aRoundedScores!V22)>1,\"=\",\"\"),RANK(aRoundedScores!V22,aRoundedScores!$P22:$AI22)),\"n/a\")","v":"=1"},{"$f":"IF(ISNUMBER(aRoundedScores!W22),CONCATENATE(IF(COUNTIF(aRoundedScores!$P22:$AI22,aRoundedScores!W22)>1,\"=\",\"\"),RANK(aRoundedScores!W22,aRoundedScores!$P22:$AI22)),\"n/a\")","v":"=1"},{"$f":"IF(ISNUMBER(aRoundedScores!X22),CONCATENATE(IF(COUNTIF(aRoundedScores!$P22:$AI22,aRoundedScores!X22)>1,\"=\",\"\"),RANK(aRoundedScores!X22,aRoundedScores!$P22:$AI22)),\"n/a\")","v":"=11"},{"$f":"IF(ISNUMBER(aRoundedScores!Y22),CONCATENATE(IF(COUNTIF(aRoundedScores!$P22:$AI22,aRoundedScores!Y22)>1,\"=\",\"\"),RANK(aRoundedScores!Y22,aRoundedScores!$P22:$AI22)),\"n/a\")","v":"=11"},{"$f":"IF(ISNUMBER(aRoundedScores!Z22),CONCATENATE(IF(COUNTIF(aRoundedScores!$P22:$AI22,aRoundedScores!Z22)>1,\"=\",\"\"),RANK(aRoundedScores!Z22,aRoundedScores!$P22:$AI22)),\"n/a\")","v":"=11"},{"$f":"IF(ISNUMBER(aRoundedScores!AA22),CONCATENATE(IF(COUNTIF(aRoundedScores!$P22:$AI22,aRoundedScores!AA22)>1,\"=\",\"\"),RANK(aRoundedScores!AA22,aRoundedScores!$P22:$AI22)),\"n/a\")","v":"=11"},{"$f":"IF(ISNUMBER(aRoundedScores!AB22),CONCATENATE(IF(COUNTIF(aRoundedScores!$P22:$AI22,aRoundedScores!AB22)>1,\"=\",\"\"),RANK(aRoundedScores!AB22,aRoundedScores!$P22:$AI22)),\"n/a\")","v":"=11"},{"$f":"IF(ISNUMBER(aRoundedScores!AC22),CONCATENATE(IF(COUNTIF(aRoundedScores!$P22:$AI22,aRoundedScores!AC22)>1,\"=\",\"\"),RANK(aRoundedScores!AC22,aRoundedScores!$P22:$AI22)),\"n/a\")","v":"=1"},{"$f":"IF(ISNUMBER(aRoundedScores!AD22),CONCATENATE(IF(COUNTIF(aRoundedScores!$P22:$AI22,aRoundedScores!AD22)>1,\"=\",\"\"),RANK(aRoundedScores!AD22,aRoundedScores!$P22:$AI22)),\"n/a\")","v":"=11"},{"$f":"IF(ISNUMBER(aRoundedScores!AE22),CONCATENATE(IF(COUNTIF(aRoundedScores!$P22:$AI22,aRoundedScores!AE22)>1,\"=\",\"\"),RANK(aRoundedScores!AE22,aRoundedScores!$P22:$AI22)),\"n/a\")","v":"=1"},{"$f":"IF(ISNUMBER(aRoundedScores!AF22),CONCATENATE(IF(COUNTIF(aRoundedScores!$P22:$AI22,aRoundedScores!AF22)>1,\"=\",\"\"),RANK(aRoundedScores!AF22,aRoundedScores!$P22:$AI22)),\"n/a\")","v":"=11"},{"$f":"IF(ISNUMBER(aRoundedScores!AG22),CONCATENATE(IF(COUNTIF(aRoundedScores!$P22:$AI22,aRoundedScores!AG22)>1,\"=\",\"\"),RANK(aRoundedScores!AG22,aRoundedScores!$P22:$AI22)),\"n/a\")","v":"=1"},{"$f":"IF(ISNUMBER(aRoundedScores!AH22),CONCATENATE(IF(COUNTIF(aRoundedScores!$P22:$AI22,aRoundedScores!AH22)>1,\"=\",\"\"),RANK(aRoundedScores!AH22,aRoundedScores!$P22:$AI22)),\"n/a\")","v":"=1"},{"$f":"IF(ISNUMBER(aRoundedScores!AI22),CONCATENATE(IF(COUNTIF(aRoundedScores!$P22:$AI22,aRoundedScores!AI22)>1,\"=\",\"\"),RANK(aRoundedScores!AI22,aRoundedScores!$P22:$AI22)),\"n/a\")","v":"=1"}]
[null,"1.6) Extractive industries transparency",null,{"$f":"IF(ISNUMBER(aRoundedScores!P23),CONCATENATE(IF(COUNTIF(aRoundedScores!$P23:$AI23,aRoundedScores!P23)>1,\"=\",\"\"),RANK(aRoundedScores!P23,aRoundedScores!$P23:$AI23)),\"n/a\")","v":"=11"},{"$f":"IF(ISNUMBER(aRoundedScores!Q23),CONCATENATE(IF(COUNTIF(aRoundedScores!$P23:$AI23,aRoundedScores!Q23)>1,\"=\",\"\"),RANK(aRoundedScores!Q23,aRoundedScores!$P23:$AI23)),\"n/a\")","v":"=11"},{"$f":"IF(ISNUMBER(aRoundedScores!R23),CONCATENATE(IF(COUNTIF(aRoundedScores!$P23:$AI23,aRoundedScores!R23)>1,\"=\",\"\"),RANK(aRoundedScores!R23,aRoundedScores!$P23:$AI23)),\"n/a\")","v":"=11"},{"$f":"IF(ISNUMBER(aRoundedScores!S23),CONCATENATE(IF(COUNTIF(aRoundedScores!$P23:$AI23,aRoundedScores!S23)>1,\"=\",\"\"),RANK(aRoundedScores!S23,aRoundedScores!$P23:$AI23)),\"n/a\")","v":"=11"},{"$f":"IF(ISNUMBER(aRoundedScores!T23),CONCATENATE(IF(COUNTIF(aRoundedScores!$P23:$AI23,aRoundedScores!T23)>1,\"=\",\"\"),RANK(aRoundedScores!T23,aRoundedScores!$P23:$AI23)),\"n/a\")","v":"=1"},{"$f":"IF(ISNUMBER(aRoundedScores!U23),CONCATENATE(IF(COUNTIF(aRoundedScores!$P23:$AI23,aRoundedScores!U23)>1,\"=\",\"\"),RANK(aRoundedScores!U23,aRoundedScores!$P23:$AI23)),\"n/a\")","v":"=11"},{"$f":"IF(ISNUMBER(aRoundedScores!V23),CONCATENATE(IF(COUNTIF(aRoundedScores!$P23:$AI23,aRoundedScores!V23)>1,\"=\",\"\"),RANK(aRoundedScores!V23,aRoundedScores!$P23:$AI23)),\"n/a\")","v":"10"},{"$f":"IF(ISNUMBER(aRoundedScores!W23),CONCATENATE(IF(COUNTIF(aRoundedScores!$P23:$AI23,aRoundedScores!W23)>1,\"=\",\"\"),RANK(aRoundedScores!W23,aRoundedScores!$P23:$AI23)),\"n/a\")","v":"=1"},{"$f":"IF(ISNUMBER(aRoundedScores!X23),CONCATENATE(IF(COUNTIF(aRoundedScores!$P23:$AI23,aRoundedScores!X23)>1,\"=\",\"\"),RANK(aRoundedScores!X23,aRoundedScores!$P23:$AI23)),\"n/a\")","v":"=11"},{"$f":"IF(ISNUMBER(aRoundedScores!Y23),CONCATENATE(IF(COUNTIF(aRoundedScores!$P23:$AI23,aRoundedScores!Y23)>1,\"=\",\"\"),RANK(aRoundedScores!Y23,aRoundedScores!$P23:$AI23)),\"n/a\")","v":"=1"},{"$f":"IF(ISNUMBER(aRoundedScores!Z23),CONCATENATE(IF(COUNTIF(aRoundedScores!$P23:$AI23,aRoundedScores!Z23)>1,\"=\",\"\"),RANK(aRoundedScores!Z23,aRoundedScores!$P23:$AI23)),\"n/a\")","v":"=1"},{"$f":"IF(ISNUMBER(aRoundedScores!AA23),CONCATENATE(IF(COUNTIF(aRoundedScores!$P23:$AI23,aRoundedScores!AA23)>1,\"=\",\"\"),RANK(aRoundedScores!AA23,aRoundedScores!$P23:$AI23)),\"n/a\")","v":"=1"},{"$f":"IF(ISNUMBER(aRoundedScores!AB23),CONCATENATE(IF(COUNTIF(aRoundedScores!$P23:$AI23,aRoundedScores!AB23)>1,\"=\",\"\"),RANK(aRoundedScores!AB23,aRoundedScores!$P23:$AI23)),\"n/a\")","v":"=1"},{"$f":"IF(ISNUMBER(aRoundedScores!AC23),CONCATENATE(IF(COUNTIF(aRoundedScores!$P23:$AI23,aRoundedScores!AC23)>1,\"=\",\"\"),RANK(aRoundedScores!AC23,aRoundedScores!$P23:$AI23)),\"n/a\")","v":"=8"},{"$f":"IF(ISNUMBER(aRoundedScores!AD23),CONCATENATE(IF(COUNTIF(aRoundedScores!$P23:$AI23,aRoundedScores!AD23)>1,\"=\",\"\"),RANK(aRoundedScores!AD23,aRoundedScores!$P23:$AI23)),\"n/a\")","v":"=11"},{"$f":"IF(ISNUMBER(aRoundedScores!AE23),CONCATENATE(IF(COUNTIF(aRoundedScores!$P23:$AI23,aRoundedScores!AE23)>1,\"=\",\"\"),RANK(aRoundedScores!AE23,aRoundedScores!$P23:$AI23)),\"n/a\")","v":"=11"},{"$f":"IF(ISNUMBER(aRoundedScores!AF23),CONCATENATE(IF(COUNTIF(aRoundedScores!$P23:$AI23,aRoundedScores!AF23)>1,\"=\",\"\"),RANK(aRoundedScores!AF23,aRoundedScores!$P23:$AI23)),\"n/a\")","v":"=1"},{"$f":"IF(ISNUMBER(aRoundedScores!AG23),CONCATENATE(IF(COUNTIF(aRoundedScores!$P23:$AI23,aRoundedScores!AG23)>1,\"=\",\"\"),RANK(aRoundedScores!AG23,aRoundedScores!$P23:$AI23)),\"n/a\")","v":"=11"},{"$f":"IF(ISNUMBER(aRoundedScores!AH23),CONCATENATE(IF(COUNTIF(aRoundedScores!$P23:$AI23,aRoundedScores!AH23)>1,\"=\",\"\"),RANK(aRoundedScores!AH23,aRoundedScores!$P23:$AI23)),\"n/a\")","v":"=8"},{"$f":"IF(ISNUMBER(aRoundedScores!AI23),CONCATENATE(IF(COUNTIF(aRoundedScores!$P23:$AI23,aRoundedScores!AI23)>1,\"=\",\"\"),RANK(aRoundedScores!AI23,aRoundedScores!$P23:$AI23)),\"n/a\")","v":"=11"}]
[null,"1.6.1) Adoption of EITI standards",null,{"$f":"IF(ISNUMBER(aRoundedScores!P24),CONCATENATE(IF(COUNTIF(aRoundedScores!$P24:$AI24,aRoundedScores!P24)>1,\"=\",\"\"),RANK(aRoundedScores!P24,aRoundedScores!$P24:$AI24)),\"n/a\")","v":"=11"},{"$f":"IF(ISNUMBER(aRoundedScores!Q24),CONCATENATE(IF(COUNTIF(aRoundedScores!$P24:$AI24,aRoundedScores!Q24)>1,\"=\",\"\"),RANK(aRoundedScores!Q24,aRoundedScores!$P24:$AI24)),\"n/a\")","v":"=11"},{"$f":"IF(ISNUMBER(aRoundedScores!R24),CONCATENATE(IF(COUNTIF(aRoundedScores!$P24:$AI24,aRoundedScores!R24)>1,\"=\",\"\"),RANK(aRoundedScores!R24,aRoundedScores!$P24:$AI24)),\"n/a\")","v":"=11"},{"$f":"IF(ISNUMBER(aRoundedScores!S24),CONCATENATE(IF(COUNTIF(aRoundedScores!$P24:$AI24,aRoundedScores!S24)>1,\"=\",\"\"),RANK(aRoundedScores!S24,aRoundedScores!$P24:$AI24)),\"n/a\")","v":"=11"},{"$f":"IF(ISNUMBER(aRoundedScores!T24),CONCATENATE(IF(COUNTIF(aRoundedScores!$P24:$AI24,aRoundedScores!T24)>1,\"=\",\"\"),RANK(aRoundedScores!T24,aRoundedScores!$P24:$AI24)),\"n/a\")","v":"=1"},{"$f":"IF(ISNUMBER(aRoundedScores!U24),CONCATENATE(IF(COUNTIF(aRoundedScores!$P24:$AI24,aRoundedScores!U24)>1,\"=\",\"\"),RANK(aRoundedScores!U24,aRoundedScores!$P24:$AI24)),\"n/a\")","v":"=11"},{"$f":"IF(ISNUMBER(aRoundedScores!V24),CONCATENATE(IF(COUNTIF(aRoundedScores!$P24:$AI24,aRoundedScores!V24)>1,\"=\",\"\"),RANK(aRoundedScores!V24,aRoundedScores!$P24:$AI24)),\"n/a\")","v":"10"},{"$f":"IF(ISNUMBER(aRoundedScores!W24),CONCATENATE(IF(COUNTIF(aRoundedScores!$P24:$AI24,aRoundedScores!W24)>1,\"=\",\"\"),RANK(aRoundedScores!W24,aRoundedScores!$P24:$AI24)),\"n/a\")","v":"=1"},{"$f":"IF(ISNUMBER(aRoundedScores!X24),CONCATENATE(IF(COUNTIF(aRoundedScores!$P24:$AI24,aRoundedScores!X24)>1,\"=\",\"\"),RANK(aRoundedScores!X24,aRoundedScores!$P24:$AI24)),\"n/a\")","v":"=11"},{"$f":"IF(ISNUMBER(aRoundedScores!Y24),CONCATENATE(IF(COUNTIF(aRoundedScores!$P24:$AI24,aRoundedScores!Y24)>1,\"=\",\"\"),RANK(aRoundedScores!Y24,aRoundedScores!$P24:$AI24)),\"n/a\")","v":"=1"},{"$f":"IF(ISNUMBER(aRoundedScores!Z24),CONCATENATE(IF(COUNTIF(aRoundedScores!$P24:$AI24,aRoundedScores!Z24)>1,\"=\",\"\"),RANK(aRoundedScores!Z24,aRoundedScores!$P24:$AI24)),\"n/a\")","v":"=1"},{"$f":"IF(ISNUMBER(aRoundedScores!AA24),CONCATENATE(IF(COUNTIF(aRoundedScores!$P24:$AI24,aRoundedScores!AA24)>1,\"=\",\"\"),RANK(aRoundedScores!AA24,aRoundedScores!$P24:$AI24)),\"n/a\")","v":"=1"},{"$f":"IF(ISNUMBER(aRoundedScores!AB24),CONCATENATE(IF(COUNTIF(aRoundedScores!$P24:$AI24,aRoundedScores!AB24)>1,\"=\",\"\"),RANK(aRoundedScores!AB24,aRoundedScores!$P24:$AI24)),\"n/a\")","v":"=1"},{"$f":"IF(ISNUMBER(aRoundedScores!AC24),CONCATENATE(IF(COUNTIF(aRoundedScores!$P24:$AI24,aRoundedScores!AC24)>1,\"=\",\"\"),RANK(aRoundedScores!AC24,aRoundedScores!$P24:$AI24)),\"n/a\")","v":"=8"},{"$f":"IF(ISNUMBER(aRoundedScores!AD24),CONCATENATE(IF(COUNTIF(aRoundedScores!$P24:$AI24,aRoundedScores!AD24)>1,\"=\",\"\"),RANK(aRoundedScores!AD24,aRoundedScores!$P24:$AI24)),\"n/a\")","v":"=11"},{"$f":"IF(ISNUMBER(aRoundedScores!AE24),CONCATENATE(IF(COUNTIF(aRoundedScores!$P24:$AI24,aRoundedScores!AE24)>1,\"=\",\"\"),RANK(aRoundedScores!AE24,aRoundedScores!$P24:$AI24)),\"n/a\")","v":"=11"},{"$f":"IF(ISNUMBER(aRoundedScores!AF24),CONCATENATE(IF(COUNTIF(aRoundedScores!$P24:$AI24,aRoundedScores!AF24)>1,\"=\",\"\"),RANK(aRoundedScores!AF24,aRoundedScores!$P24:$AI24)),\"n/a\")","v":"=1"},{"$f":"IF(ISNUMBER(aRoundedScores!AG24),CONCATENATE(IF(COUNTIF(aRoundedScores!$P24:$AI24,aRoundedScores!AG24)>1,\"=\",\"\"),RANK(aRoundedScores!AG24,aRoundedScores!$P24:$AI24)),\"n/a\")","v":"=11"},{"$f":"IF(ISNUMBER(aRoundedScores!AH24),CONCATENATE(IF(COUNTIF(aRoundedScores!$P24:$AI24,aRoundedScores!AH24)>1,\"=\",\"\"),RANK(aRoundedScores!AH24,aRoundedScores!$P24:$AI24)),\"n/a\")","v":"=8"},{"$f":"IF(ISNUMBER(aRoundedScores!AI24),CONCATENATE(IF(COUNTIF(aRoundedScores!$P24:$AI24,aRoundedScores!AI24)>1,\"=\",\"\"),RANK(aRoundedScores!AI24,aRoundedScores!$P24:$AI24)),\"n/a\")","v":"=11"}]
[null,"1.7) Adoption of the United Nations Convention on the Law of the Sea (UNCLOS)",null,{"$f":"IF(ISNUMBER(aRoundedScores!P25),CONCATENATE(IF(COUNTIF(aRoundedScores!$P25:$AI25,aRoundedScores!P25)>1,\"=\",\"\"),RANK(aRoundedScores!P25,aRoundedScores!$P25:$AI25)),\"n/a\")","v":"=1"},{"$f":"IF(ISNUMBER(aRoundedScores!Q25),CONCATENATE(IF(COUNTIF(aRoundedScores!$P25:$AI25,aRoundedScores!Q25)>1,\"=\",\"\"),RANK(aRoundedScores!Q25,aRoundedScores!$P25:$AI25)),\"n/a\")","v":"=1"},{"$f":"IF(ISNUMBER(aRoundedScores!R25),CONCATENATE(IF(COUNTIF(aRoundedScores!$P25:$AI25,aRoundedScores!R25)>1,\"=\",\"\"),RANK(aRoundedScores!R25,aRoundedScores!$P25:$AI25)),\"n/a\")","v":"=1"},{"$f":"IF(ISNUMBER(aRoundedScores!S25),CONCATENATE(IF(COUNTIF(aRoundedScores!$P25:$AI25,aRoundedScores!S25)>1,\"=\",\"\"),RANK(aRoundedScores!S25,aRoundedScores!$P25:$AI25)),\"n/a\")","v":"=1"},{"$f":"IF(ISNUMBER(aRoundedScores!T25),CONCATENATE(IF(COUNTIF(aRoundedScores!$P25:$AI25,aRoundedScores!T25)>1,\"=\",\"\"),RANK(aRoundedScores!T25,aRoundedScores!$P25:$AI25)),\"n/a\")","v":"=1"},{"$f":"IF(ISNUMBER(aRoundedScores!U25),CONCATENATE(IF(COUNTIF(aRoundedScores!$P25:$AI25,aRoundedScores!U25)>1,\"=\",\"\"),RANK(aRoundedScores!U25,aRoundedScores!$P25:$AI25)),\"n/a\")","v":"=1"},{"$f":"IF(ISNUMBER(aRoundedScores!V25),CONCATENATE(IF(COUNTIF(aRoundedScores!$P25:$AI25,aRoundedScores!V25)>1,\"=\",\"\"),RANK(aRoundedScores!V25,aRoundedScores!$P25:$AI25)),\"n/a\")","v":"=1"},{"$f":"IF(ISNUMBER(aRoundedScores!W25),CONCATENATE(IF(COUNTIF(aRoundedScores!$P25:$AI25,aRoundedScores!W25)>1,\"=\",\"\"),RANK(aRoundedScores!W25,aRoundedScores!$P25:$AI25)),\"n/a\")","v":"=1"},{"$f":"IF(ISNUMBER(aRoundedScores!X25),CONCATENATE(IF(COUNTIF(aRoundedScores!$P25:$AI25,aRoundedScores!X25)>1,\"=\",\"\"),RANK(aRoundedScores!X25,aRoundedScores!$P25:$AI25)),\"n/a\")","v":"=1"},{"$f":"IF(ISNUMBER(aRoundedScores!Y25),CONCATENATE(IF(COUNTIF(aRoundedScores!$P25:$AI25,aRoundedScores!Y25)>1,\"=\",\"\"),RANK(aRoundedScores!Y25,aRoundedScores!$P25:$AI25)),\"n/a\")","v":"=1"},{"$f":"IF(ISNUMBER(aRoundedScores!Z25),CONCATENATE(IF(COUNTIF(aRoundedScores!$P25:$AI25,aRoundedScores!Z25)>1,\"=\",\"\"),RANK(aRoundedScores!Z25,aRoundedScores!$P25:$AI25)),\"n/a\")","v":"=1"},{"$f":"IF(ISNUMBER(aRoundedScores!AA25),CONCATENATE(IF(COUNTIF(aRoundedScores!$P25:$AI25,aRoundedScores!AA25)>1,\"=\",\"\"),RANK(aRoundedScores!AA25,aRoundedScores!$P25:$AI25)),\"n/a\")","v":"=1"},{"$f":"IF(ISNUMBER(aRoundedScores!AB25),CONCATENATE(IF(COUNTIF(aRoundedScores!$P25:$AI25,aRoundedScores!AB25)>1,\"=\",\"\"),RANK(aRoundedScores!AB25,aRoundedScores!$P25:$AI25)),\"n/a\")","v":"20"},{"$f":"IF(ISNUMBER(aRoundedScores!AC25),CONCATENATE(IF(COUNTIF(aRoundedScores!$P25:$AI25,aRoundedScores!AC25)>1,\"=\",\"\"),RANK(aRoundedScores!AC25,aRoundedScores!$P25:$AI25)),\"n/a\")","v":"=1"},{"$f":"IF(ISNUMBER(aRoundedScores!AD25),CONCATENATE(IF(COUNTIF(aRoundedScores!$P25:$AI25,aRoundedScores!AD25)>1,\"=\",\"\"),RANK(aRoundedScores!AD25,aRoundedScores!$P25:$AI25)),\"n/a\")","v":"=1"},{"$f":"IF(ISNUMBER(aRoundedScores!AE25),CONCATENATE(IF(COUNTIF(aRoundedScores!$P25:$AI25,aRoundedScores!AE25)>1,\"=\",\"\"),RANK(aRoundedScores!AE25,aRoundedScores!$P25:$AI25)),\"n/a\")","v":"=1"},{"$f":"IF(ISNUMBER(aRoundedScores!AF25),CONCATENATE(IF(COUNTIF(aRoundedScores!$P25:$AI25,aRoundedScores!AF25)>1,\"=\",\"\"),RANK(aRoundedScores!AF25,aRoundedScores!$P25:$AI25)),\"n/a\")","v":"=1"},{"$f":"IF(ISNUMBER(aRoundedScores!AG25),CONCATENATE(IF(COUNTIF(aRoundedScores!$P25:$AI25,aRoundedScores!AG25)>1,\"=\",\"\"),RANK(aRoundedScores!AG25,aRoundedScores!$P25:$AI25)),\"n/a\")","v":"=1"},{"$f":"IF(ISNUMBER(aRoundedScores!AH25),CONCATENATE(IF(COUNTIF(aRoundedScores!$P25:$AI25,aRoundedScores!AH25)>1,\"=\",\"\"),RANK(aRoundedScores!AH25,aRoundedScores!$P25:$AI25)),\"n/a\")","v":"19"},{"$f":"IF(ISNUMBER(aRoundedScores!AI25),CONCATENATE(IF(COUNTIF(aRoundedScores!$P25:$AI25,aRoundedScores!AI25)>1,\"=\",\"\"),RANK(aRoundedScores!AI25,aRoundedScores!$P25:$AI25)),\"n/a\")","v":"=1"}]
[null,"1.7.1) Adoption of UNCLOS",null,{"$f":"IF(ISNUMBER(aRoundedScores!P26),CONCATENATE(IF(COUNTIF(aRoundedScores!$P26:$AI26,aRoundedScores!P26)>1,\"=\",\"\"),RANK(aRoundedScores!P26,aRoundedScores!$P26:$AI26)),\"n/a\")","v":"=1"},{"$f":"IF(ISNUMBER(aRoundedScores!Q26),CONCATENATE(IF(COUNTIF(aRoundedScores!$P26:$AI26,aRoundedScores!Q26)>1,\"=\",\"\"),RANK(aRoundedScores!Q26,aRoundedScores!$P26:$AI26)),\"n/a\")","v":"=1"},{"$f":"IF(ISNUMBER(aRoundedScores!R26),CONCATENATE(IF(COUNTIF(aRoundedScores!$P26:$AI26,aRoundedScores!R26)>1,\"=\",\"\"),RANK(aRoundedScores!R26,aRoundedScores!$P26:$AI26)),\"n/a\")","v":"=1"},{"$f":"IF(ISNUMBER(aRoundedScores!S26),CONCATENATE(IF(COUNTIF(aRoundedScores!$P26:$AI26,aRoundedScores!S26)>1,\"=\",\"\"),RANK(aRoundedScores!S26,aRoundedScores!$P26:$AI26)),\"n/a\")","v":"=1"},{"$f":"IF(ISNUMBER(aRoundedScores!T26),CONCATENATE(IF(COUNTIF(aRoundedScores!$P26:$AI26,aRoundedScores!T26)>1,\"=\",\"\"),RANK(aRoundedScores!T26,aRoundedScores!$P26:$AI26)),\"n/a\")","v":"=1"},{"$f":"IF(ISNUMBER(aRoundedScores!U26),CONCATENATE(IF(COUNTIF(aRoundedScores!$P26:$AI26,aRoundedScores!U26)>1,\"=\",\"\"),RANK(aRoundedScores!U26,aRoundedScores!$P26:$AI26)),\"n/a\")","v":"=1"},{"$f":"IF(ISNUMBER(aRoundedScores!V26),CONCATENATE(IF(COUNTIF(aRoundedScores!$P26:$AI26,aRoundedScores!V26)>1,\"=\",\"\"),RANK(aRoundedScores!V26,aRoundedScores!$P26:$AI26)),\"n/a\")","v":"=1"},{"$f":"IF(ISNUMBER(aRoundedScores!W26),CONCATENATE(IF(COUNTIF(aRoundedScores!$P26:$AI26,aRoundedScores!W26)>1,\"=\",\"\"),RANK(aRoundedScores!W26,aRoundedScores!$P26:$AI26)),\"n/a\")","v":"=1"},{"$f":"IF(ISNUMBER(aRoundedScores!X26),CONCATENATE(IF(COUNTIF(aRoundedScores!$P26:$AI26,aRoundedScores!X26)>1,\"=\",\"\"),RANK(aRoundedScores!X26,aRoundedScores!$P26:$AI26)),\"n/a\")","v":"=1"},{"$f":"IF(ISNUMBER(aRoundedScores!Y26),CONCATENATE(IF(COUNTIF(aRoundedScores!$P26:$AI26,aRoundedScores!Y26)>1,\"=\",\"\"),RANK(aRoundedScores!Y26,aRoundedScores!$P26:$AI26)),\"n/a\")","v":"=1"},{"$f":"IF(ISNUMBER(aRoundedScores!Z26),CONCATENATE(IF(COUNTIF(aRoundedScores!$P26:$AI26,aRoundedScores!Z26)>1,\"=\",\"\"),RANK(aRoundedScores!Z26,aRoundedScores!$P26:$AI26)),\"n/a\")","v":"=1"},{"$f":"IF(ISNUMBER(aRoundedScores!AA26),CONCATENATE(IF(COUNTIF(aRoundedScores!$P26:$AI26,aRoundedScores!AA26)>1,\"=\",\"\"),RANK(aRoundedScores!AA26,aRoundedScores!$P26:$AI26)),\"n/a\")","v":"=1"},{"$f":"IF(ISNUMBER(aRoundedScores!AB26),CONCATENATE(IF(COUNTIF(aRoundedScores!$P26:$AI26,aRoundedScores!AB26)>1,\"=\",\"\"),RANK(aRoundedScores!AB26,aRoundedScores!$P26:$AI26)),\"n/a\")","v":"20"},{"$f":"IF(ISNUMBER(aRoundedScores!AC26),CONCATENATE(IF(COUNTIF(aRoundedScores!$P26:$AI26,aRoundedScores!AC26)>1,\"=\",\"\"),RANK(aRoundedScores!AC26,aRoundedScores!$P26:$AI26)),\"n/a\")","v":"=1"},{"$f":"IF(ISNUMBER(aRoundedScores!AD26),CONCATENATE(IF(COUNTIF(aRoundedScores!$P26:$AI26,aRoundedScores!AD26)>1,\"=\",\"\"),RANK(aRoundedScores!AD26,aRoundedScores!$P26:$AI26)),\"n/a\")","v":"=1"},{"$f":"IF(ISNUMBER(aRoundedScores!AE26),CONCATENATE(IF(COUNTIF(aRoundedScores!$P26:$AI26,aRoundedScores!AE26)>1,\"=\",\"\"),RANK(aRoundedScores!AE26,aRoundedScores!$P26:$AI26)),\"n/a\")","v":"=1"},{"$f":"IF(ISNUMBER(aRoundedScores!AF26),CONCATENATE(IF(COUNTIF(aRoundedScores!$P26:$AI26,aRoundedScores!AF26)>1,\"=\",\"\"),RANK(aRoundedScores!AF26,aRoundedScores!$P26:$AI26)),\"n/a\")","v":"=1"},{"$f":"IF(ISNUMBER(aRoundedScores!AG26),CONCATENATE(IF(COUNTIF(aRoundedScores!$P26:$AI26,aRoundedScores!AG26)>1,\"=\",\"\"),RANK(aRoundedScores!AG26,aRoundedScores!$P26:$AI26)),\"n/a\")","v":"=1"},{"$f":"IF(ISNUMBER(aRoundedScores!AH26),CONCATENATE(IF(COUNTIF(aRoundedScores!$P26:$AI26,aRoundedScores!AH26)>1,\"=\",\"\"),RANK(aRoundedScores!AH26,aRoundedScores!$P26:$AI26)),\"n/a\")","v":"19"},{"$f":"IF(ISNUMBER(aRoundedScores!AI26),CONCATENATE(IF(COUNTIF(aRoundedScores!$P26:$AI26,aRoundedScores!AI26)>1,\"=\",\"\"),RANK(aRoundedScores!AI26,aRoundedScores!$P26:$AI26)),\"n/a\")","v":"=1"}]
[null,"2) BUSINESS ENVIRONMENT FOR COASTAL ACTIVITIES",null,{"$f":"IF(ISNUMBER(aRoundedScores!P27),CONCATENATE(IF(COUNTIF(aRoundedScores!$P27:$AI27,aRoundedScores!P27)>1,\"=\",\"\"),RANK(aRoundedScores!P27,aRoundedScores!$P27:$AI27)),\"n/a\")","v":"12"},{"$f":"IF(ISNUMBER(aRoundedScores!Q27),CONCATENATE(IF(COUNTIF(aRoundedScores!$P27:$AI27,aRoundedScores!Q27)>1,\"=\",\"\"),RANK(aRoundedScores!Q27,aRoundedScores!$P27:$AI27)),\"n/a\")","v":"1"},{"$f":"IF(ISNUMBER(aRoundedScores!R27),CONCATENATE(IF(COUNTIF(aRoundedScores!$P27:$AI27,aRoundedScores!R27)>1,\"=\",\"\"),RANK(aRoundedScores!R27,aRoundedScores!$P27:$AI27)),\"n/a\")","v":"8"},{"$f":"IF(ISNUMBER(aRoundedScores!S27),CONCATENATE(IF(COUNTIF(aRoundedScores!$P27:$AI27,aRoundedScores!S27)>1,\"=\",\"\"),RANK(aRoundedScores!S27,aRoundedScores!$P27:$AI27)),\"n/a\")","v":"13"},{"$f":"IF(ISNUMBER(aRoundedScores!T27),CONCATENATE(IF(COUNTIF(aRoundedScores!$P27:$AI27,aRoundedScores!T27)>1,\"=\",\"\"),RANK(aRoundedScores!T27,aRoundedScores!$P27:$AI27)),\"n/a\")","v":"5"},{"$f":"IF(ISNUMBER(aRoundedScores!U27),CONCATENATE(IF(COUNTIF(aRoundedScores!$P27:$AI27,aRoundedScores!U27)>1,\"=\",\"\"),RANK(aRoundedScores!U27,aRoundedScores!$P27:$AI27)),\"n/a\")","v":"17"},{"$f":"IF(ISNUMBER(aRoundedScores!V27),CONCATENATE(IF(COUNTIF(aRoundedScores!$P27:$AI27,aRoundedScores!V27)>1,\"=\",\"\"),RANK(aRoundedScores!V27,aRoundedScores!$P27:$AI27)),\"n/a\")","v":"18"},{"$f":"IF(ISNUMBER(aRoundedScores!W27),CONCATENATE(IF(COUNTIF(aRoundedScores!$P27:$AI27,aRoundedScores!W27)>1,\"=\",\"\"),RANK(aRoundedScores!W27,aRoundedScores!$P27:$AI27)),\"n/a\")","v":"7"},{"$f":"IF(ISNUMBER(aRoundedScores!X27),CONCATENATE(IF(COUNTIF(aRoundedScores!$P27:$AI27,aRoundedScores!X27)>1,\"=\",\"\"),RANK(aRoundedScores!X27,aRoundedScores!$P27:$AI27)),\"n/a\")","v":"11"},{"$f":"IF(ISNUMBER(aRoundedScores!Y27),CONCATENATE(IF(COUNTIF(aRoundedScores!$P27:$AI27,aRoundedScores!Y27)>1,\"=\",\"\"),RANK(aRoundedScores!Y27,aRoundedScores!$P27:$AI27)),\"n/a\")","v":"3"},{"$f":"IF(ISNUMBER(aRoundedScores!Z27),CONCATENATE(IF(COUNTIF(aRoundedScores!$P27:$AI27,aRoundedScores!Z27)>1,\"=\",\"\"),RANK(aRoundedScores!Z27,aRoundedScores!$P27:$AI27)),\"n/a\")","v":"20"},{"$f":"IF(ISNUMBER(aRoundedScores!AA27),CONCATENATE(IF(COUNTIF(aRoundedScores!$P27:$AI27,aRoundedScores!AA27)>1,\"=\",\"\"),RANK(aRoundedScores!AA27,aRoundedScores!$P27:$AI27)),\"n/a\")","v":"2"},{"$f":"IF(ISNUMBER(aRoundedScores!AB27),CONCATENATE(IF(COUNTIF(aRoundedScores!$P27:$AI27,aRoundedScores!AB27)>1,\"=\",\"\"),RANK(aRoundedScores!AB27,aRoundedScores!$P27:$AI27)),\"n/a\")","v":"16"},{"$f":"IF(ISNUMBER(aRoundedScores!AC27),CONCATENATE(IF(COUNTIF(aRoundedScores!$P27:$AI27,aRoundedScores!AC27)>1,\"=\",\"\"),RANK(aRoundedScores!AC27,aRoundedScores!$P27:$AI27)),\"n/a\")","v":"14"},{"$f":"IF(ISNUMBER(aRoundedScores!AD27),CONCATENATE(IF(COUNTIF(aRoundedScores!$P27:$AI27,aRoundedScores!AD27)>1,\"=\",\"\"),RANK(aRoundedScores!AD27,aRoundedScores!$P27:$AI27)),\"n/a\")","v":"19"},{"$f":"IF(ISNUMBER(aRoundedScores!AE27),CONCATENATE(IF(COUNTIF(aRoundedScores!$P27:$AI27,aRoundedScores!AE27)>1,\"=\",\"\"),RANK(aRoundedScores!AE27,aRoundedScores!$P27:$AI27)),\"n/a\")","v":"10"},{"$f":"IF(ISNUMBER(aRoundedScores!AF27),CONCATENATE(IF(COUNTIF(aRoundedScores!$P27:$AI27,aRoundedScores!AF27)>1,\"=\",\"\"),RANK(aRoundedScores!AF27,aRoundedScores!$P27:$AI27)),\"n/a\")","v":"9"},{"$f":"IF(ISNUMBER(aRoundedScores!AG27),CONCATENATE(IF(COUNTIF(aRoundedScores!$P27:$AI27,aRoundedScores!AG27)>1,\"=\",\"\"),RANK(aRoundedScores!AG27,aRoundedScores!$P27:$AI27)),\"n/a\")","v":"6"},{"$f":"IF(ISNUMBER(aRoundedScores!AH27),CONCATENATE(IF(COUNTIF(aRoundedScores!$P27:$AI27,aRoundedScores!AH27)>1,\"=\",\"\"),RANK(aRoundedScores!AH27,aRoundedScores!$P27:$AI27)),\"n/a\")","v":"4"},{"$f":"IF(ISNUMBER(aRoundedScores!AI27),CONCATENATE(IF(COUNTIF(aRoundedScores!$P27:$AI27,aRoundedScores!AI27)>1,\"=\",\"\"),RANK(aRoundedScores!AI27,aRoundedScores!$P27:$AI27)),\"n/a\")","v":"15"}]
[null,"2.1) Ease of doing business",null,{"$f":"IF(ISNUMBER(aRoundedScores!P28),CONCATENATE(IF(COUNTIF(aRoundedScores!$P28:$AI28,aRoundedScores!P28)>1,\"=\",\"\"),RANK(aRoundedScores!P28,aRoundedScores!$P28:$AI28)),\"n/a\")","v":"11"},{"$f":"IF(ISNUMBER(aRoundedScores!Q28),CONCATENATE(IF(COUNTIF(aRoundedScores!$P28:$AI28,aRoundedScores!Q28)>1,\"=\",\"\"),RANK(aRoundedScores!Q28,aRoundedScores!$P28:$AI28)),\"n/a\")","v":"1"},{"$f":"IF(ISNUMBER(aRoundedScores!R28),CONCATENATE(IF(COUNTIF(aRoundedScores!$P28:$AI28,aRoundedScores!R28)>1,\"=\",\"\"),RANK(aRoundedScores!R28,aRoundedScores!$P28:$AI28)),\"n/a\")","v":"5"},{"$f":"IF(ISNUMBER(aRoundedScores!S28),CONCATENATE(IF(COUNTIF(aRoundedScores!$P28:$AI28,aRoundedScores!S28)>1,\"=\",\"\"),RANK(aRoundedScores!S28,aRoundedScores!$P28:$AI28)),\"n/a\")","v":"12"},{"$f":"IF(ISNUMBER(aRoundedScores!T28),CONCATENATE(IF(COUNTIF(aRoundedScores!$P28:$AI28,aRoundedScores!T28)>1,\"=\",\"\"),RANK(aRoundedScores!T28,aRoundedScores!$P28:$AI28)),\"n/a\")","v":"6"},{"$f":"IF(ISNUMBER(aRoundedScores!U28),CONCATENATE(IF(COUNTIF(aRoundedScores!$P28:$AI28,aRoundedScores!U28)>1,\"=\",\"\"),RANK(aRoundedScores!U28,aRoundedScores!$P28:$AI28)),\"n/a\")","v":"16"},{"$f":"IF(ISNUMBER(aRoundedScores!V28),CONCATENATE(IF(COUNTIF(aRoundedScores!$P28:$AI28,aRoundedScores!V28)>1,\"=\",\"\"),RANK(aRoundedScores!V28,aRoundedScores!$P28:$AI28)),\"n/a\")","v":"17"},{"$f":"IF(ISNUMBER(aRoundedScores!W28),CONCATENATE(IF(COUNTIF(aRoundedScores!$P28:$AI28,aRoundedScores!W28)>1,\"=\",\"\"),RANK(aRoundedScores!W28,aRoundedScores!$P28:$AI28)),\"n/a\")","v":"=8"},{"$f":"IF(ISNUMBER(aRoundedScores!X28),CONCATENATE(IF(COUNTIF(aRoundedScores!$P28:$AI28,aRoundedScores!X28)>1,\"=\",\"\"),RANK(aRoundedScores!X28,aRoundedScores!$P28:$AI28)),\"n/a\")","v":"10"},{"$f":"IF(ISNUMBER(aRoundedScores!Y28),CONCATENATE(IF(COUNTIF(aRoundedScores!$P28:$AI28,aRoundedScores!Y28)>1,\"=\",\"\"),RANK(aRoundedScores!Y28,aRoundedScores!$P28:$AI28)),\"n/a\")","v":"3"},{"$f":"IF(ISNUMBER(aRoundedScores!Z28),CONCATENATE(IF(COUNTIF(aRoundedScores!$P28:$AI28,aRoundedScores!Z28)>1,\"=\",\"\"),RANK(aRoundedScores!Z28,aRoundedScores!$P28:$AI28)),\"n/a\")","v":"20"},{"$f":"IF(ISNUMBER(aRoundedScores!AA28),CONCATENATE(IF(COUNTIF(aRoundedScores!$P28:$AI28,aRoundedScores!AA28)>1,\"=\",\"\"),RANK(aRoundedScores!AA28,aRoundedScores!$P28:$AI28)),\"n/a\")","v":"4"},{"$f":"IF(ISNUMBER(aRoundedScores!AB28),CONCATENATE(IF(COUNTIF(aRoundedScores!$P28:$AI28,aRoundedScores!AB28)>1,\"=\",\"\"),RANK(aRoundedScores!AB28,aRoundedScores!$P28:$AI28)),\"n/a\")","v":"13"},{"$f":"IF(ISNUMBER(aRoundedScores!AC28),CONCATENATE(IF(COUNTIF(aRoundedScores!$P28:$AI28,aRoundedScores!AC28)>1,\"=\",\"\"),RANK(aRoundedScores!AC28,aRoundedScores!$P28:$AI28)),\"n/a\")","v":"=14"},{"$f":"IF(ISNUMBER(aRoundedScores!AD28),CONCATENATE(IF(COUNTIF(aRoundedScores!$P28:$AI28,aRoundedScores!AD28)>1,\"=\",\"\"),RANK(aRoundedScores!AD28,aRoundedScores!$P28:$AI28)),\"n/a\")","v":"=18"},{"$f":"IF(ISNUMBER(aRoundedScores!AE28),CONCATENATE(IF(COUNTIF(aRoundedScores!$P28:$AI28,aRoundedScores!AE28)>1,\"=\",\"\"),RANK(aRoundedScores!AE28,aRoundedScores!$P28:$AI28)),\"n/a\")","v":"=14"},{"$f":"IF(ISNUMBER(aRoundedScores!AF28),CONCATENATE(IF(COUNTIF(aRoundedScores!$P28:$AI28,aRoundedScores!AF28)>1,\"=\",\"\"),RANK(aRoundedScores!AF28,aRoundedScores!$P28:$AI28)),\"n/a\")","v":"7"},{"$f":"IF(ISNUMBER(aRoundedScores!AG28),CONCATENATE(IF(COUNTIF(aRoundedScores!$P28:$AI28,aRoundedScores!AG28)>1,\"=\",\"\"),RANK(aRoundedScores!AG28,aRoundedScores!$P28:$AI28)),\"n/a\")","v":"=8"},{"$f":"IF(ISNUMBER(aRoundedScores!AH28),CONCATENATE(IF(COUNTIF(aRoundedScores!$P28:$AI28,aRoundedScores!AH28)>1,\"=\",\"\"),RANK(aRoundedScores!AH28,aRoundedScores!$P28:$AI28)),\"n/a\")","v":"2"},{"$f":"IF(ISNUMBER(aRoundedScores!AI28),CONCATENATE(IF(COUNTIF(aRoundedScores!$P28:$AI28,aRoundedScores!AI28)>1,\"=\",\"\"),RANK(aRoundedScores!AI28,aRoundedScores!$P28:$AI28)),\"n/a\")","v":"=18"}]
[null,"2.1.1) Business environment",null,{"$f":"IF(ISNUMBER(aRoundedScores!P29),CONCATENATE(IF(COUNTIF(aRoundedScores!$P29:$AI29,aRoundedScores!P29)>1,\"=\",\"\"),RANK(aRoundedScores!P29,aRoundedScores!$P29:$AI29)),\"n/a\")","v":"11"},{"$f":"IF(ISNUMBER(aRoundedScores!Q29),CONCATENATE(IF(COUNTIF(aRoundedScores!$P29:$AI29,aRoundedScores!Q29)>1,\"=\",\"\"),RANK(aRoundedScores!Q29,aRoundedScores!$P29:$AI29)),\"n/a\")","v":"1"},{"$f":"IF(ISNUMBER(aRoundedScores!R29),CONCATENATE(IF(COUNTIF(aRoundedScores!$P29:$AI29,aRoundedScores!R29)>1,\"=\",\"\"),RANK(aRoundedScores!R29,aRoundedScores!$P29:$AI29)),\"n/a\")","v":"5"},{"$f":"IF(ISNUMBER(aRoundedScores!S29),CONCATENATE(IF(COUNTIF(aRoundedScores!$P29:$AI29,aRoundedScores!S29)>1,\"=\",\"\"),RANK(aRoundedScores!S29,aRoundedScores!$P29:$AI29)),\"n/a\")","v":"12"},{"$f":"IF(ISNUMBER(aRoundedScores!T29),CONCATENATE(IF(COUNTIF(aRoundedScores!$P29:$AI29,aRoundedScores!T29)>1,\"=\",\"\"),RANK(aRoundedScores!T29,aRoundedScores!$P29:$AI29)),\"n/a\")","v":"6"},{"$f":"IF(ISNUMBER(aRoundedScores!U29),CONCATENATE(IF(COUNTIF(aRoundedScores!$P29:$AI29,aRoundedScores!U29)>1,\"=\",\"\"),RANK(aRoundedScores!U29,aRoundedScores!$P29:$AI29)),\"n/a\")","v":"16"},{"$f":"IF(ISNUMBER(aRoundedScores!V29),CONCATENATE(IF(COUNTIF(aRoundedScores!$P29:$AI29,aRoundedScores!V29)>1,\"=\",\"\"),RANK(aRoundedScores!V29,aRoundedScores!$P29:$AI29)),\"n/a\")","v":"17"},{"$f":"IF(ISNUMBER(aRoundedScores!W29),CONCATENATE(IF(COUNTIF(aRoundedScores!$P29:$AI29,aRoundedScores!W29)>1,\"=\",\"\"),RANK(aRoundedScores!W29,aRoundedScores!$P29:$AI29)),\"n/a\")","v":"=8"},{"$f":"IF(ISNUMBER(aRoundedScores!X29),CONCATENATE(IF(COUNTIF(aRoundedScores!$P29:$AI29,aRoundedScores!X29)>1,\"=\",\"\"),RANK(aRoundedScores!X29,aRoundedScores!$P29:$AI29)),\"n/a\")","v":"10"},{"$f":"IF(ISNUMBER(aRoundedScores!Y29),CONCATENATE(IF(COUNTIF(aRoundedScores!$P29:$AI29,aRoundedScores!Y29)>1,\"=\",\"\"),RANK(aRoundedScores!Y29,aRoundedScores!$P29:$AI29)),\"n/a\")","v":"3"},{"$f":"IF(ISNUMBER(aRoundedScores!Z29),CONCATENATE(IF(COUNTIF(aRoundedScores!$P29:$AI29,aRoundedScores!Z29)>1,\"=\",\"\"),RANK(aRoundedScores!Z29,aRoundedScores!$P29:$AI29)),\"n/a\")","v":"20"},{"$f":"IF(ISNUMBER(aRoundedScores!AA29),CONCATENATE(IF(COUNTIF(aRoundedScores!$P29:$AI29,aRoundedScores!AA29)>1,\"=\",\"\"),RANK(aRoundedScores!AA29,aRoundedScores!$P29:$AI29)),\"n/a\")","v":"4"},{"$f":"IF(ISNUMBER(aRoundedScores!AB29),CONCATENATE(IF(COUNTIF(aRoundedScores!$P29:$AI29,aRoundedScores!AB29)>1,\"=\",\"\"),RANK(aRoundedScores!AB29,aRoundedScores!$P29:$AI29)),\"n/a\")","v":"13"},{"$f":"IF(ISNUMBER(aRoundedScores!AC29),CONCATENATE(IF(COUNTIF(aRoundedScores!$P29:$AI29,aRoundedScores!AC29)>1,\"=\",\"\"),RANK(aRoundedScores!AC29,aRoundedScores!$P29:$AI29)),\"n/a\")","v":"=14"},{"$f":"IF(ISNUMBER(aRoundedScores!AD29),CONCATENATE(IF(COUNTIF(aRoundedScores!$P29:$AI29,aRoundedScores!AD29)>1,\"=\",\"\"),RANK(aRoundedScores!AD29,aRoundedScores!$P29:$AI29)),\"n/a\")","v":"=18"},{"$f":"IF(ISNUMBER(aRoundedScores!AE29),CONCATENATE(IF(COUNTIF(aRoundedScores!$P29:$AI29,aRoundedScores!AE29)>1,\"=\",\"\"),RANK(aRoundedScores!AE29,aRoundedScores!$P29:$AI29)),\"n/a\")","v":"=14"},{"$f":"IF(ISNUMBER(aRoundedScores!AF29),CONCATENATE(IF(COUNTIF(aRoundedScores!$P29:$AI29,aRoundedScores!AF29)>1,\"=\",\"\"),RANK(aRoundedScores!AF29,aRoundedScores!$P29:$AI29)),\"n/a\")","v":"7"},{"$f":"IF(ISNUMBER(aRoundedScores!AG29),CONCATENATE(IF(COUNTIF(aRoundedScores!$P29:$AI29,aRoundedScores!AG29)>1,\"=\",\"\"),RANK(aRoundedScores!AG29,aRoundedScores!$P29:$AI29)),\"n/a\")","v":"=8"},{"$f":"IF(ISNUMBER(aRoundedScores!AH29),CONCATENATE(IF(COUNTIF(aRoundedScores!$P29:$AI29,aRoundedScores!AH29)>1,\"=\",\"\"),RANK(aRoundedScores!AH29,aRoundedScores!$P29:$AI29)),\"n/a\")","v":"2"},{"$f":"IF(ISNUMBER(aRoundedScores!AI29),CONCATENATE(IF(COUNTIF(aRoundedScores!$P29:$AI29,aRoundedScores!AI29)>1,\"=\",\"\"),RANK(aRoundedScores!AI29,aRoundedScores!$P29:$AI29)),\"n/a\")","v":"=18"}]
[null,"2.2) Corruption perception",null,{"$f":"IF(ISNUMBER(aRoundedScores!P30),CONCATENATE(IF(COUNTIF(aRoundedScores!$P30:$AI30,aRoundedScores!P30)>1,\"=\",\"\"),RANK(aRoundedScores!P30,aRoundedScores!$P30:$AI30)),\"n/a\")","v":"=10"},{"$f":"IF(ISNUMBER(aRoundedScores!Q30),CONCATENATE(IF(COUNTIF(aRoundedScores!$P30:$AI30,aRoundedScores!Q30)>1,\"=\",\"\"),RANK(aRoundedScores!Q30,aRoundedScores!$P30:$AI30)),\"n/a\")","v":"3"},{"$f":"IF(ISNUMBER(aRoundedScores!R30),CONCATENATE(IF(COUNTIF(aRoundedScores!$P30:$AI30,aRoundedScores!R30)>1,\"=\",\"\"),RANK(aRoundedScores!R30,aRoundedScores!$P30:$AI30)),\"n/a\")","v":"5"},{"$f":"IF(ISNUMBER(aRoundedScores!S30),CONCATENATE(IF(COUNTIF(aRoundedScores!$P30:$AI30,aRoundedScores!S30)>1,\"=\",\"\"),RANK(aRoundedScores!S30,aRoundedScores!$P30:$AI30)),\"n/a\")","v":"12"},{"$f":"IF(ISNUMBER(aRoundedScores!T30),CONCATENATE(IF(COUNTIF(aRoundedScores!$P30:$AI30,aRoundedScores!T30)>1,\"=\",\"\"),RANK(aRoundedScores!T30,aRoundedScores!$P30:$AI30)),\"n/a\")","v":"6"},{"$f":"IF(ISNUMBER(aRoundedScores!U30),CONCATENATE(IF(COUNTIF(aRoundedScores!$P30:$AI30,aRoundedScores!U30)>1,\"=\",\"\"),RANK(aRoundedScores!U30,aRoundedScores!$P30:$AI30)),\"n/a\")","v":"17"},{"$f":"IF(ISNUMBER(aRoundedScores!V30),CONCATENATE(IF(COUNTIF(aRoundedScores!$P30:$AI30,aRoundedScores!V30)>1,\"=\",\"\"),RANK(aRoundedScores!V30,aRoundedScores!$P30:$AI30)),\"n/a\")","v":"18"},{"$f":"IF(ISNUMBER(aRoundedScores!W30),CONCATENATE(IF(COUNTIF(aRoundedScores!$P30:$AI30,aRoundedScores!W30)>1,\"=\",\"\"),RANK(aRoundedScores!W30,aRoundedScores!$P30:$AI30)),\"n/a\")","v":"4"},{"$f":"IF(ISNUMBER(aRoundedScores!X30),CONCATENATE(IF(COUNTIF(aRoundedScores!$P30:$AI30,aRoundedScores!X30)>1,\"=\",\"\"),RANK(aRoundedScores!X30,aRoundedScores!$P30:$AI30)),\"n/a\")","v":"15"},{"$f":"IF(ISNUMBER(aRoundedScores!Y30),CONCATENATE(IF(COUNTIF(aRoundedScores!$P30:$AI30,aRoundedScores!Y30)>1,\"=\",\"\"),RANK(aRoundedScores!Y30,aRoundedScores!$P30:$AI30)),\"n/a\")","v":"1"},{"$f":"IF(ISNUMBER(aRoundedScores!Z30),CONCATENATE(IF(COUNTIF(aRoundedScores!$P30:$AI30,aRoundedScores!Z30)>1,\"=\",\"\"),RANK(aRoundedScores!Z30,aRoundedScores!$P30:$AI30)),\"n/a\")","v":"20"},{"$f":"IF(ISNUMBER(aRoundedScores!AA30),CONCATENATE(IF(COUNTIF(aRoundedScores!$P30:$AI30,aRoundedScores!AA30)>1,\"=\",\"\"),RANK(aRoundedScores!AA30,aRoundedScores!$P30:$AI30)),\"n/a\")","v":"2"},{"$f":"IF(ISNUMBER(aRoundedScores!AB30),CONCATENATE(IF(COUNTIF(aRoundedScores!$P30:$AI30,aRoundedScores!AB30)>1,\"=\",\"\"),RANK(aRoundedScores!AB30,aRoundedScores!$P30:$AI30)),\"n/a\")","v":"14"},{"$f":"IF(ISNUMBER(aRoundedScores!AC30),CONCATENATE(IF(COUNTIF(aRoundedScores!$P30:$AI30,aRoundedScores!AC30)>1,\"=\",\"\"),RANK(aRoundedScores!AC30,aRoundedScores!$P30:$AI30)),\"n/a\")","v":"13"},{"$f":"IF(ISNUMBER(aRoundedScores!AD30),CONCATENATE(IF(COUNTIF(aRoundedScores!$P30:$AI30,aRoundedScores!AD30)>1,\"=\",\"\"),RANK(aRoundedScores!AD30,aRoundedScores!$P30:$AI30)),\"n/a\")","v":"19"},{"$f":"IF(ISNUMBER(aRoundedScores!AE30),CONCATENATE(IF(COUNTIF(aRoundedScores!$P30:$AI30,aRoundedScores!AE30)>1,\"=\",\"\"),RANK(aRoundedScores!AE30,aRoundedScores!$P30:$AI30)),\"n/a\")","v":"=10"},{"$f":"IF(ISNUMBER(aRoundedScores!AF30),CONCATENATE(IF(COUNTIF(aRoundedScores!$P30:$AI30,aRoundedScores!AF30)>1,\"=\",\"\"),RANK(aRoundedScores!AF30,aRoundedScores!$P30:$AI30)),\"n/a\")","v":"9"},{"$f":"IF(ISNUMBER(aRoundedScores!AG30),CONCATENATE(IF(COUNTIF(aRoundedScores!$P30:$AI30,aRoundedScores!AG30)>1,\"=\",\"\"),RANK(aRoundedScores!AG30,aRoundedScores!$P30:$AI30)),\"n/a\")","v":"8"},{"$f":"IF(ISNUMBER(aRoundedScores!AH30),CONCATENATE(IF(COUNTIF(aRoundedScores!$P30:$AI30,aRoundedScores!AH30)>1,\"=\",\"\"),RANK(aRoundedScores!AH30,aRoundedScores!$P30:$AI30)),\"n/a\")","v":"7"},{"$f":"IF(ISNUMBER(aRoundedScores!AI30),CONCATENATE(IF(COUNTIF(aRoundedScores!$P30:$AI30,aRoundedScores!AI30)>1,\"=\",\"\"),RANK(aRoundedScores!AI30,aRoundedScores!$P30:$AI30)),\"n/a\")","v":"16"}]
[null,"2.2.1) Control of corruption",null,{"$f":"IF(ISNUMBER(aRoundedScores!P31),CONCATENATE(IF(COUNTIF(aRoundedScores!$P31:$AI31,aRoundedScores!P31)>1,\"=\",\"\"),RANK(aRoundedScores!P31,aRoundedScores!$P31:$AI31)),\"n/a\")","v":"=10"},{"$f":"IF(ISNUMBER(aRoundedScores!Q31),CONCATENATE(IF(COUNTIF(aRoundedScores!$P31:$AI31,aRoundedScores!Q31)>1,\"=\",\"\"),RANK(aRoundedScores!Q31,aRoundedScores!$P31:$AI31)),\"n/a\")","v":"3"},{"$f":"IF(ISNUMBER(aRoundedScores!R31),CONCATENATE(IF(COUNTIF(aRoundedScores!$P31:$AI31,aRoundedScores!R31)>1,\"=\",\"\"),RANK(aRoundedScores!R31,aRoundedScores!$P31:$AI31)),\"n/a\")","v":"5"},{"$f":"IF(ISNUMBER(aRoundedScores!S31),CONCATENATE(IF(COUNTIF(aRoundedScores!$P31:$AI31,aRoundedScores!S31)>1,\"=\",\"\"),RANK(aRoundedScores!S31,aRoundedScores!$P31:$AI31)),\"n/a\")","v":"12"},{"$f":"IF(ISNUMBER(aRoundedScores!T31),CONCATENATE(IF(COUNTIF(aRoundedScores!$P31:$AI31,aRoundedScores!T31)>1,\"=\",\"\"),RANK(aRoundedScores!T31,aRoundedScores!$P31:$AI31)),\"n/a\")","v":"6"},{"$f":"IF(ISNUMBER(aRoundedScores!U31),CONCATENATE(IF(COUNTIF(aRoundedScores!$P31:$AI31,aRoundedScores!U31)>1,\"=\",\"\"),RANK(aRoundedScores!U31,aRoundedScores!$P31:$AI31)),\"n/a\")","v":"17"},{"$f":"IF(ISNUMBER(aRoundedScores!V31),CONCATENATE(IF(COUNTIF(aRoundedScores!$P31:$AI31,aRoundedScores!V31)>1,\"=\",\"\"),RANK(aRoundedScores!V31,aRoundedScores!$P31:$AI31)),\"n/a\")","v":"18"},{"$f":"IF(ISNUMBER(aRoundedScores!W31),CONCATENATE(IF(COUNTIF(aRoundedScores!$P31:$AI31,aRoundedScores!W31)>1,\"=\",\"\"),RANK(aRoundedScores!W31,aRoundedScores!$P31:$AI31)),\"n/a\")","v":"4"},{"$f":"IF(ISNUMBER(aRoundedScores!X31),CONCATENATE(IF(COUNTIF(aRoundedScores!$P31:$AI31,aRoundedScores!X31)>1,\"=\",\"\"),RANK(aRoundedScores!X31,aRoundedScores!$P31:$AI31)),\"n/a\")","v":"15"},{"$f":"IF(ISNUMBER(aRoundedScores!Y31),CONCATENATE(IF(COUNTIF(aRoundedScores!$P31:$AI31,aRoundedScores!Y31)>1,\"=\",\"\"),RANK(aRoundedScores!Y31,aRoundedScores!$P31:$AI31)),\"n/a\")","v":"1"},{"$f":"IF(ISNUMBER(aRoundedScores!Z31),CONCATENATE(IF(COUNTIF(aRoundedScores!$P31:$AI31,aRoundedScores!Z31)>1,\"=\",\"\"),RANK(aRoundedScores!Z31,aRoundedScores!$P31:$AI31)),\"n/a\")","v":"20"},{"$f":"IF(ISNUMBER(aRoundedScores!AA31),CONCATENATE(IF(COUNTIF(aRoundedScores!$P31:$AI31,aRoundedScores!AA31)>1,\"=\",\"\"),RANK(aRoundedScores!AA31,aRoundedScores!$P31:$AI31)),\"n/a\")","v":"2"},{"$f":"IF(ISNUMBER(aRoundedScores!AB31),CONCATENATE(IF(COUNTIF(aRoundedScores!$P31:$AI31,aRoundedScores!AB31)>1,\"=\",\"\"),RANK(aRoundedScores!AB31,aRoundedScores!$P31:$AI31)),\"n/a\")","v":"14"},{"$f":"IF(ISNUMBER(aRoundedScores!AC31),CONCATENATE(IF(COUNTIF(aRoundedScores!$P31:$AI31,aRoundedScores!AC31)>1,\"=\",\"\"),RANK(aRoundedScores!AC31,aRoundedScores!$P31:$AI31)),\"n/a\")","v":"13"},{"$f":"IF(ISNUMBER(aRoundedScores!AD31),CONCATENATE(IF(COUNTIF(aRoundedScores!$P31:$AI31,aRoundedScores!AD31)>1,\"=\",\"\"),RANK(aRoundedScores!AD31,aRoundedScores!$P31:$AI31)),\"n/a\")","v":"19"},{"$f":"IF(ISNUMBER(aRoundedScores!AE31),CONCATENATE(IF(COUNTIF(aRoundedScores!$P31:$AI31,aRoundedScores!AE31)>1,\"=\",\"\"),RANK(aRoundedScores!AE31,aRoundedScores!$P31:$AI31)),\"n/a\")","v":"=10"},{"$f":"IF(ISNUMBER(aRoundedScores!AF31),CONCATENATE(IF(COUNTIF(aRoundedScores!$P31:$AI31,aRoundedScores!AF31)>1,\"=\",\"\"),RANK(aRoundedScores!AF31,aRoundedScores!$P31:$AI31)),\"n/a\")","v":"9"},{"$f":"IF(ISNUMBER(aRoundedScores!AG31),CONCATENATE(IF(COUNTIF(aRoundedScores!$P31:$AI31,aRoundedScores!AG31)>1,\"=\",\"\"),RANK(aRoundedScores!AG31,aRoundedScores!$P31:$AI31)),\"n/a\")","v":"8"},{"$f":"IF(ISNUMBER(aRoundedScores!AH31),CONCATENATE(IF(COUNTIF(aRoundedScores!$P31:$AI31,aRoundedScores!AH31)>1,\"=\",\"\"),RANK(aRoundedScores!AH31,aRoundedScores!$P31:$AI31)),\"n/a\")","v":"7"},{"$f":"IF(ISNUMBER(aRoundedScores!AI31),CONCATENATE(IF(COUNTIF(aRoundedScores!$P31:$AI31,aRoundedScores!AI31)>1,\"=\",\"\"),RANK(aRoundedScores!AI31,aRoundedScores!$P31:$AI31)),\"n/a\")","v":"16"}]
[null,"2.3) Effectiveness of dispute resolution mechanisms",null,{"$f":"IF(ISNUMBER(aRoundedScores!P32),CONCATENATE(IF(COUNTIF(aRoundedScores!$P32:$AI32,aRoundedScores!P32)>1,\"=\",\"\"),RANK(aRoundedScores!P32,aRoundedScores!$P32:$AI32)),\"n/a\")","v":"12"},{"$f":"IF(ISNUMBER(aRoundedScores!Q32),CONCATENATE(IF(COUNTIF(aRoundedScores!$P32:$AI32,aRoundedScores!Q32)>1,\"=\",\"\"),RANK(aRoundedScores!Q32,aRoundedScores!$P32:$AI32)),\"n/a\")","v":"=1"},{"$f":"IF(ISNUMBER(aRoundedScores!R32),CONCATENATE(IF(COUNTIF(aRoundedScores!$P32:$AI32,aRoundedScores!R32)>1,\"=\",\"\"),RANK(aRoundedScores!R32,aRoundedScores!$P32:$AI32)),\"n/a\")","v":"=7"},{"$f":"IF(ISNUMBER(aRoundedScores!S32),CONCATENATE(IF(COUNTIF(aRoundedScores!$P32:$AI32,aRoundedScores!S32)>1,\"=\",\"\"),RANK(aRoundedScores!S32,aRoundedScores!$P32:$AI32)),\"n/a\")","v":"=15"},{"$f":"IF(ISNUMBER(aRoundedScores!T32),CONCATENATE(IF(COUNTIF(aRoundedScores!$P32:$AI32,aRoundedScores!T32)>1,\"=\",\"\"),RANK(aRoundedScores!T32,aRoundedScores!$P32:$AI32)),\"n/a\")","v":"=5"},{"$f":"IF(ISNUMBER(aRoundedScores!U32),CONCATENATE(IF(COUNTIF(aRoundedScores!$P32:$AI32,aRoundedScores!U32)>1,\"=\",\"\"),RANK(aRoundedScores!U32,aRoundedScores!$P32:$AI32)),\"n/a\")","v":"=15"},{"$f":"IF(ISNUMBER(aRoundedScores!V32),CONCATENATE(IF(COUNTIF(aRoundedScores!$P32:$AI32,aRoundedScores!V32)>1,\"=\",\"\"),RANK(aRoundedScores!V32,aRoundedScores!$P32:$AI32)),\"n/a\")","v":"=15"},{"$f":"IF(ISNUMBER(aRoundedScores!W32),CONCATENATE(IF(COUNTIF(aRoundedScores!$P32:$AI32,aRoundedScores!W32)>1,\"=\",\"\"),RANK(aRoundedScores!W32,aRoundedScores!$P32:$AI32)),\"n/a\")","v":"=9"},{"$f":"IF(ISNUMBER(aRoundedScores!X32),CONCATENATE(IF(COUNTIF(aRoundedScores!$P32:$AI32,aRoundedScores!X32)>1,\"=\",\"\"),RANK(aRoundedScores!X32,aRoundedScores!$P32:$AI32)),\"n/a\")","v":"=9"},{"$f":"IF(ISNUMBER(aRoundedScores!Y32),CONCATENATE(IF(COUNTIF(aRoundedScores!$P32:$AI32,aRoundedScores!Y32)>1,\"=\",\"\"),RANK(aRoundedScores!Y32,aRoundedScores!$P32:$AI32)),\"n/a\")","v":"=1"},{"$f":"IF(ISNUMBER(aRoundedScores!Z32),CONCATENATE(IF(COUNTIF(aRoundedScores!$P32:$AI32,aRoundedScores!Z32)>1,\"=\",\"\"),RANK(aRoundedScores!Z32,aRoundedScores!$P32:$AI32)),\"n/a\")","v":"20"},{"$f":"IF(ISNUMBER(aRoundedScores!AA32),CONCATENATE(IF(COUNTIF(aRoundedScores!$P32:$AI32,aRoundedScores!AA32)>1,\"=\",\"\"),RANK(aRoundedScores!AA32,aRoundedScores!$P32:$AI32)),\"n/a\")","v":"=1"},{"$f":"IF(ISNUMBER(aRoundedScores!AB32),CONCATENATE(IF(COUNTIF(aRoundedScores!$P32:$AI32,aRoundedScores!AB32)>1,\"=\",\"\"),RANK(aRoundedScores!AB32,aRoundedScores!$P32:$AI32)),\"n/a\")","v":"=15"},{"$f":"IF(ISNUMBER(aRoundedScores!AC32),CONCATENATE(IF(COUNTIF(aRoundedScores!$P32:$AI32,aRoundedScores!AC32)>1,\"=\",\"\"),RANK(aRoundedScores!AC32,aRoundedScores!$P32:$AI32)),\"n/a\")","v":"=13"},{"$f":"IF(ISNUMBER(aRoundedScores!AD32),CONCATENATE(IF(COUNTIF(aRoundedScores!$P32:$AI32,aRoundedScores!AD32)>1,\"=\",\"\"),RANK(aRoundedScores!AD32,aRoundedScores!$P32:$AI32)),\"n/a\")","v":"19"},{"$f":"IF(ISNUMBER(aRoundedScores!AE32),CONCATENATE(IF(COUNTIF(aRoundedScores!$P32:$AI32,aRoundedScores!AE32)>1,\"=\",\"\"),RANK(aRoundedScores!AE32,aRoundedScores!$P32:$AI32)),\"n/a\")","v":"=9"},{"$f":"IF(ISNUMBER(aRoundedScores!AF32),CONCATENATE(IF(COUNTIF(aRoundedScores!$P32:$AI32,aRoundedScores!AF32)>1,\"=\",\"\"),RANK(aRoundedScores!AF32,aRoundedScores!$P32:$AI32)),\"n/a\")","v":"=7"},{"$f":"IF(ISNUMBER(aRoundedScores!AG32),CONCATENATE(IF(COUNTIF(aRoundedScores!$P32:$AI32,aRoundedScores!AG32)>1,\"=\",\"\"),RANK(aRoundedScores!AG32,aRoundedScores!$P32:$AI32)),\"n/a\")","v":"=5"},{"$f":"IF(ISNUMBER(aRoundedScores!AH32),CONCATENATE(IF(COUNTIF(aRoundedScores!$P32:$AI32,aRoundedScores!AH32)>1,\"=\",\"\"),RANK(aRoundedScores!AH32,aRoundedScores!$P32:$AI32)),\"n/a\")","v":"=1"},{"$f":"IF(ISNUMBER(aRoundedScores!AI32),CONCATENATE(IF(COUNTIF(aRoundedScores!$P32:$AI32,aRoundedScores!AI32)>1,\"=\",\"\"),RANK(aRoundedScores!AI32,aRoundedScores!$P32:$AI32)),\"n/a\")","v":"=13"}]
[null,"2.3.1) Fairness of judicial process",null,{"$f":"IF(ISNUMBER(aRoundedScores!P33),CONCATENATE(IF(COUNTIF(aRoundedScores!$P33:$AI33,aRoundedScores!P33)>1,\"=\",\"\"),RANK(aRoundedScores!P33,aRoundedScores!$P33:$AI33)),\"n/a\")","v":"=11"},{"$f":"IF(ISNUMBER(aRoundedScores!Q33),CONCATENATE(IF(COUNTIF(aRoundedScores!$P33:$AI33,aRoundedScores!Q33)>1,\"=\",\"\"),RANK(aRoundedScores!Q33,aRoundedScores!$P33:$AI33)),\"n/a\")","v":"=1"},{"$f":"IF(ISNUMBER(aRoundedScores!R33),CONCATENATE(IF(COUNTIF(aRoundedScores!$P33:$AI33,aRoundedScores!R33)>1,\"=\",\"\"),RANK(aRoundedScores!R33,aRoundedScores!$P33:$AI33)),\"n/a\")","v":"=5"},{"$f":"IF(ISNUMBER(aRoundedScores!S33),CONCATENATE(IF(COUNTIF(aRoundedScores!$P33:$AI33,aRoundedScores!S33)>1,\"=\",\"\"),RANK(aRoundedScores!S33,aRoundedScores!$P33:$AI33)),\"n/a\")","v":"=14"},{"$f":"IF(ISNUMBER(aRoundedScores!T33),CONCATENATE(IF(COUNTIF(aRoundedScores!$P33:$AI33,aRoundedScores!T33)>1,\"=\",\"\"),RANK(aRoundedScores!T33,aRoundedScores!$P33:$AI33)),\"n/a\")","v":"=5"},{"$f":"IF(ISNUMBER(aRoundedScores!U33),CONCATENATE(IF(COUNTIF(aRoundedScores!$P33:$AI33,aRoundedScores!U33)>1,\"=\",\"\"),RANK(aRoundedScores!U33,aRoundedScores!$P33:$AI33)),\"n/a\")","v":"=14"},{"$f":"IF(ISNUMBER(aRoundedScores!V33),CONCATENATE(IF(COUNTIF(aRoundedScores!$P33:$AI33,aRoundedScores!V33)>1,\"=\",\"\"),RANK(aRoundedScores!V33,aRoundedScores!$P33:$AI33)),\"n/a\")","v":"=14"},{"$f":"IF(ISNUMBER(aRoundedScores!W33),CONCATENATE(IF(COUNTIF(aRoundedScores!$P33:$AI33,aRoundedScores!W33)>1,\"=\",\"\"),RANK(aRoundedScores!W33,aRoundedScores!$P33:$AI33)),\"n/a\")","v":"=5"},{"$f":"IF(ISNUMBER(aRoundedScores!X33),CONCATENATE(IF(COUNTIF(aRoundedScores!$P33:$AI33,aRoundedScores!X33)>1,\"=\",\"\"),RANK(aRoundedScores!X33,aRoundedScores!$P33:$AI33)),\"n/a\")","v":"=11"},{"$f":"IF(ISNUMBER(aRoundedScores!Y33),CONCATENATE(IF(COUNTIF(aRoundedScores!$P33:$AI33,aRoundedScores!Y33)>1,\"=\",\"\"),RANK(aRoundedScores!Y33,aRoundedScores!$P33:$AI33)),\"n/a\")","v":"=1"},{"$f":"IF(ISNUMBER(aRoundedScores!Z33),CONCATENATE(IF(COUNTIF(aRoundedScores!$P33:$AI33,aRoundedScores!Z33)>1,\"=\",\"\"),RANK(aRoundedScores!Z33,aRoundedScores!$P33:$AI33)),\"n/a\")","v":"=19"},{"$f":"IF(ISNUMBER(aRoundedScores!AA33),CONCATENATE(IF(COUNTIF(aRoundedScores!$P33:$AI33,aRoundedScores!AA33)>1,\"=\",\"\"),RANK(aRoundedScores!AA33,aRoundedScores!$P33:$AI33)),\"n/a\")","v":"=1"},{"$f":"IF(ISNUMBER(aRoundedScores!AB33),CONCATENATE(IF(COUNTIF(aRoundedScores!$P33:$AI33,aRoundedScores!AB33)>1,\"=\",\"\"),RANK(aRoundedScores!AB33,aRoundedScores!$P33:$AI33)),\"n/a\")","v":"=14"},{"$f":"IF(ISNUMBER(aRoundedScores!AC33),CONCATENATE(IF(COUNTIF(aRoundedScores!$P33:$AI33,aRoundedScores!AC33)>1,\"=\",\"\"),RANK(aRoundedScores!AC33,aRoundedScores!$P33:$AI33)),\"n/a\")","v":"=11"},{"$f":"IF(ISNUMBER(aRoundedScores!AD33),CONCATENATE(IF(COUNTIF(aRoundedScores!$P33:$AI33,aRoundedScores!AD33)>1,\"=\",\"\"),RANK(aRoundedScores!AD33,aRoundedScores!$P33:$AI33)),\"n/a\")","v":"=19"},{"$f":"IF(ISNUMBER(aRoundedScores!AE33),CONCATENATE(IF(COUNTIF(aRoundedScores!$P33:$AI33,aRoundedScores!AE33)>1,\"=\",\"\"),RANK(aRoundedScores!AE33,aRoundedScores!$P33:$AI33)),\"n/a\")","v":"=5"},{"$f":"IF(ISNUMBER(aRoundedScores!AF33),CONCATENATE(IF(COUNTIF(aRoundedScores!$P33:$AI33,aRoundedScores!AF33)>1,\"=\",\"\"),RANK(aRoundedScores!AF33,aRoundedScores!$P33:$AI33)),\"n/a\")","v":"=5"},{"$f":"IF(ISNUMBER(aRoundedScores!AG33),CONCATENATE(IF(COUNTIF(aRoundedScores!$P33:$AI33,aRoundedScores!AG33)>1,\"=\",\"\"),RANK(aRoundedScores!AG33,aRoundedScores!$P33:$AI33)),\"n/a\")","v":"=5"},{"$f":"IF(ISNUMBER(aRoundedScores!AH33),CONCATENATE(IF(COUNTIF(aRoundedScores!$P33:$AI33,aRoundedScores!AH33)>1,\"=\",\"\"),RANK(aRoundedScores!AH33,aRoundedScores!$P33:$AI33)),\"n/a\")","v":"=1"},{"$f":"IF(ISNUMBER(aRoundedScores!AI33),CONCATENATE(IF(COUNTIF(aRoundedScores!$P33:$AI33,aRoundedScores!AI33)>1,\"=\",\"\"),RANK(aRoundedScores!AI33,aRoundedScores!$P33:$AI33)),\"n/a\")","v":"=14"}]
[null,"2.3.2) Enforceability of contracts",null,{"$f":"IF(ISNUMBER(aRoundedScores!P34),CONCATENATE(IF(COUNTIF(aRoundedScores!$P34:$AI34,aRoundedScores!P34)>1,\"=\",\"\"),RANK(aRoundedScores!P34,aRoundedScores!$P34:$AI34)),\"n/a\")","v":"=10"},{"$f":"IF(ISNUMBER(aRoundedScores!Q34),CONCATENATE(IF(COUNTIF(aRoundedScores!$P34:$AI34,aRoundedScores!Q34)>1,\"=\",\"\"),RANK(aRoundedScores!Q34,aRoundedScores!$P34:$AI34)),\"n/a\")","v":"=1"},{"$f":"IF(ISNUMBER(aRoundedScores!R34),CONCATENATE(IF(COUNTIF(aRoundedScores!$P34:$AI34,aRoundedScores!R34)>1,\"=\",\"\"),RANK(aRoundedScores!R34,aRoundedScores!$P34:$AI34)),\"n/a\")","v":"=7"},{"$f":"IF(ISNUMBER(aRoundedScores!S34),CONCATENATE(IF(COUNTIF(aRoundedScores!$P34:$AI34,aRoundedScores!S34)>1,\"=\",\"\"),RANK(aRoundedScores!S34,aRoundedScores!$P34:$AI34)),\"n/a\")","v":"=14"},{"$f":"IF(ISNUMBER(aRoundedScores!T34),CONCATENATE(IF(COUNTIF(aRoundedScores!$P34:$AI34,aRoundedScores!T34)>1,\"=\",\"\"),RANK(aRoundedScores!T34,aRoundedScores!$P34:$AI34)),\"n/a\")","v":"=1"},{"$f":"IF(ISNUMBER(aRoundedScores!U34),CONCATENATE(IF(COUNTIF(aRoundedScores!$P34:$AI34,aRoundedScores!U34)>1,\"=\",\"\"),RANK(aRoundedScores!U34,aRoundedScores!$P34:$AI34)),\"n/a\")","v":"=14"},{"$f":"IF(ISNUMBER(aRoundedScores!V34),CONCATENATE(IF(COUNTIF(aRoundedScores!$P34:$AI34,aRoundedScores!V34)>1,\"=\",\"\"),RANK(aRoundedScores!V34,aRoundedScores!$P34:$AI34)),\"n/a\")","v":"=14"},{"$f":"IF(ISNUMBER(aRoundedScores!W34),CONCATENATE(IF(COUNTIF(aRoundedScores!$P34:$AI34,aRoundedScores!W34)>1,\"=\",\"\"),RANK(aRoundedScores!W34,aRoundedScores!$P34:$AI34)),\"n/a\")","v":"=10"},{"$f":"IF(ISNUMBER(aRoundedScores!X34),CONCATENATE(IF(COUNTIF(aRoundedScores!$P34:$AI34,aRoundedScores!X34)>1,\"=\",\"\"),RANK(aRoundedScores!X34,aRoundedScores!$P34:$AI34)),\"n/a\")","v":"=7"},{"$f":"IF(ISNUMBER(aRoundedScores!Y34),CONCATENATE(IF(COUNTIF(aRoundedScores!$P34:$AI34,aRoundedScores!Y34)>1,\"=\",\"\"),RANK(aRoundedScores!Y34,aRoundedScores!$P34:$AI34)),\"n/a\")","v":"=1"},{"$f":"IF(ISNUMBER(aRoundedScores!Z34),CONCATENATE(IF(COUNTIF(aRoundedScores!$P34:$AI34,aRoundedScores!Z34)>1,\"=\",\"\"),RANK(aRoundedScores!Z34,aRoundedScores!$P34:$AI34)),\"n/a\")","v":"20"},{"$f":"IF(ISNUMBER(aRoundedScores!AA34),CONCATENATE(IF(COUNTIF(aRoundedScores!$P34:$AI34,aRoundedScores!AA34)>1,\"=\",\"\"),RANK(aRoundedScores!AA34,aRoundedScores!$P34:$AI34)),\"n/a\")","v":"=1"},{"$f":"IF(ISNUMBER(aRoundedScores!AB34),CONCATENATE(IF(COUNTIF(aRoundedScores!$P34:$AI34,aRoundedScores!AB34)>1,\"=\",\"\"),RANK(aRoundedScores!AB34,aRoundedScores!$P34:$AI34)),\"n/a\")","v":"=14"},{"$f":"IF(ISNUMBER(aRoundedScores!AC34),CONCATENATE(IF(COUNTIF(aRoundedScores!$P34:$AI34,aRoundedScores!AC34)>1,\"=\",\"\"),RANK(aRoundedScores!AC34,aRoundedScores!$P34:$AI34)),\"n/a\")","v":"=14"},{"$f":"IF(ISNUMBER(aRoundedScores!AD34),CONCATENATE(IF(COUNTIF(aRoundedScores!$P34:$AI34,aRoundedScores!AD34)>1,\"=\",\"\"),RANK(aRoundedScores!AD34,aRoundedScores!$P34:$AI34)),\"n/a\")","v":"=14"},{"$f":"IF(ISNUMBER(aRoundedScores!AE34),CONCATENATE(IF(COUNTIF(aRoundedScores!$P34:$AI34,aRoundedScores!AE34)>1,\"=\",\"\"),RANK(aRoundedScores!AE34,aRoundedScores!$P34:$AI34)),\"n/a\")","v":"=10"},{"$f":"IF(ISNUMBER(aRoundedScores!AF34),CONCATENATE(IF(COUNTIF(aRoundedScores!$P34:$AI34,aRoundedScores!AF34)>1,\"=\",\"\"),RANK(aRoundedScores!AF34,aRoundedScores!$P34:$AI34)),\"n/a\")","v":"=7"},{"$f":"IF(ISNUMBER(aRoundedScores!AG34),CONCATENATE(IF(COUNTIF(aRoundedScores!$P34:$AI34,aRoundedScores!AG34)>1,\"=\",\"\"),RANK(aRoundedScores!AG34,aRoundedScores!$P34:$AI34)),\"n/a\")","v":"=1"},{"$f":"IF(ISNUMBER(aRoundedScores!AH34),CONCATENATE(IF(COUNTIF(aRoundedScores!$P34:$AI34,aRoundedScores!AH34)>1,\"=\",\"\"),RANK(aRoundedScores!AH34,aRoundedScores!$P34:$AI34)),\"n/a\")","v":"=1"},{"$f":"IF(ISNUMBER(aRoundedScores!AI34),CONCATENATE(IF(COUNTIF(aRoundedScores!$P34:$AI34,aRoundedScores!AI34)>1,\"=\",\"\"),RANK(aRoundedScores!AI34,aRoundedScores!$P34:$AI34)),\"n/a\")","v":"=10"}]
[null,"2.4) Quality of coastal infrastructure",null,{"$f":"IF(ISNUMBER(aRoundedScores!P35),CONCATENATE(IF(COUNTIF(aRoundedScores!$P35:$AI35,aRoundedScores!P35)>1,\"=\",\"\"),RANK(aRoundedScores!P35,aRoundedScores!$P35:$AI35)),\"n/a\")","v":"19"},{"$f":"IF(ISNUMBER(aRoundedScores!Q35),CONCATENATE(IF(COUNTIF(aRoundedScores!$P35:$AI35,aRoundedScores!Q35)>1,\"=\",\"\"),RANK(aRoundedScores!Q35,aRoundedScores!$P35:$AI35)),\"n/a\")","v":"4"},{"$f":"IF(ISNUMBER(aRoundedScores!R35),CONCATENATE(IF(COUNTIF(aRoundedScores!$P35:$AI35,aRoundedScores!R35)>1,\"=\",\"\"),RANK(aRoundedScores!R35,aRoundedScores!$P35:$AI35)),\"n/a\")","v":"9"},{"$f":"IF(ISNUMBER(aRoundedScores!S35),CONCATENATE(IF(COUNTIF(aRoundedScores!$P35:$AI35,aRoundedScores!S35)>1,\"=\",\"\"),RANK(aRoundedScores!S35,aRoundedScores!$P35:$AI35)),\"n/a\")","v":"10"},{"$f":"IF(ISNUMBER(aRoundedScores!T35),CONCATENATE(IF(COUNTIF(aRoundedScores!$P35:$AI35,aRoundedScores!T35)>1,\"=\",\"\"),RANK(aRoundedScores!T35,aRoundedScores!$P35:$AI35)),\"n/a\")","v":"3"},{"$f":"IF(ISNUMBER(aRoundedScores!U35),CONCATENATE(IF(COUNTIF(aRoundedScores!$P35:$AI35,aRoundedScores!U35)>1,\"=\",\"\"),RANK(aRoundedScores!U35,aRoundedScores!$P35:$AI35)),\"n/a\")","v":"15"},{"$f":"IF(ISNUMBER(aRoundedScores!V35),CONCATENATE(IF(COUNTIF(aRoundedScores!$P35:$AI35,aRoundedScores!V35)>1,\"=\",\"\"),RANK(aRoundedScores!V35,aRoundedScores!$P35:$AI35)),\"n/a\")","v":"14"},{"$f":"IF(ISNUMBER(aRoundedScores!W35),CONCATENATE(IF(COUNTIF(aRoundedScores!$P35:$AI35,aRoundedScores!W35)>1,\"=\",\"\"),RANK(aRoundedScores!W35,aRoundedScores!$P35:$AI35)),\"n/a\")","v":"=1"},{"$f":"IF(ISNUMBER(aRoundedScores!X35),CONCATENATE(IF(COUNTIF(aRoundedScores!$P35:$AI35,aRoundedScores!X35)>1,\"=\",\"\"),RANK(aRoundedScores!X35,aRoundedScores!$P35:$AI35)),\"n/a\")","v":"12"},{"$f":"IF(ISNUMBER(aRoundedScores!Y35),CONCATENATE(IF(COUNTIF(aRoundedScores!$P35:$AI35,aRoundedScores!Y35)>1,\"=\",\"\"),RANK(aRoundedScores!Y35,aRoundedScores!$P35:$AI35)),\"n/a\")","v":"8"},{"$f":"IF(ISNUMBER(aRoundedScores!Z35),CONCATENATE(IF(COUNTIF(aRoundedScores!$P35:$AI35,aRoundedScores!Z35)>1,\"=\",\"\"),RANK(aRoundedScores!Z35,aRoundedScores!$P35:$AI35)),\"n/a\")","v":"20"},{"$f":"IF(ISNUMBER(aRoundedScores!AA35),CONCATENATE(IF(COUNTIF(aRoundedScores!$P35:$AI35,aRoundedScores!AA35)>1,\"=\",\"\"),RANK(aRoundedScores!AA35,aRoundedScores!$P35:$AI35)),\"n/a\")","v":"7"},{"$f":"IF(ISNUMBER(aRoundedScores!AB35),CONCATENATE(IF(COUNTIF(aRoundedScores!$P35:$AI35,aRoundedScores!AB35)>1,\"=\",\"\"),RANK(aRoundedScores!AB35,aRoundedScores!$P35:$AI35)),\"n/a\")","v":"18"},{"$f":"IF(ISNUMBER(aRoundedScores!AC35),CONCATENATE(IF(COUNTIF(aRoundedScores!$P35:$AI35,aRoundedScores!AC35)>1,\"=\",\"\"),RANK(aRoundedScores!AC35,aRoundedScores!$P35:$AI35)),\"n/a\")","v":"17"},{"$f":"IF(ISNUMBER(aRoundedScores!AD35),CONCATENATE(IF(COUNTIF(aRoundedScores!$P35:$AI35,aRoundedScores!AD35)>1,\"=\",\"\"),RANK(aRoundedScores!AD35,aRoundedScores!$P35:$AI35)),\"n/a\")","v":"13"},{"$f":"IF(ISNUMBER(aRoundedScores!AE35),CONCATENATE(IF(COUNTIF(aRoundedScores!$P35:$AI35,aRoundedScores!AE35)>1,\"=\",\"\"),RANK(aRoundedScores!AE35,aRoundedScores!$P35:$AI35)),\"n/a\")","v":"11"},{"$f":"IF(ISNUMBER(aRoundedScores!AF35),CONCATENATE(IF(COUNTIF(aRoundedScores!$P35:$AI35,aRoundedScores!AF35)>1,\"=\",\"\"),RANK(aRoundedScores!AF35,aRoundedScores!$P35:$AI35)),\"n/a\")","v":"6"},{"$f":"IF(ISNUMBER(aRoundedScores!AG35),CONCATENATE(IF(COUNTIF(aRoundedScores!$P35:$AI35,aRoundedScores!AG35)>1,\"=\",\"\"),RANK(aRoundedScores!AG35,aRoundedScores!$P35:$AI35)),\"n/a\")","v":"=1"},{"$f":"IF(ISNUMBER(aRoundedScores!AH35),CONCATENATE(IF(COUNTIF(aRoundedScores!$P35:$AI35,aRoundedScores!AH35)>1,\"=\",\"\"),RANK(aRoundedScores!AH35,aRoundedScores!$P35:$AI35)),\"n/a\")","v":"5"},{"$f":"IF(ISNUMBER(aRoundedScores!AI35),CONCATENATE(IF(COUNTIF(aRoundedScores!$P35:$AI35,aRoundedScores!AI35)>1,\"=\",\"\"),RANK(aRoundedScores!AI35,aRoundedScores!$P35:$AI35)),\"n/a\")","v":"16"}]
[null,"2.4.1) Quality of port facilities",null,{"$f":"IF(ISNUMBER(aRoundedScores!P36),CONCATENATE(IF(COUNTIF(aRoundedScores!$P36:$AI36,aRoundedScores!P36)>1,\"=\",\"\"),RANK(aRoundedScores!P36,aRoundedScores!$P36:$AI36)),\"n/a\")","v":"20"},{"$f":"IF(ISNUMBER(aRoundedScores!Q36),CONCATENATE(IF(COUNTIF(aRoundedScores!$P36:$AI36,aRoundedScores!Q36)>1,\"=\",\"\"),RANK(aRoundedScores!Q36,aRoundedScores!$P36:$AI36)),\"n/a\")","v":"5"},{"$f":"IF(ISNUMBER(aRoundedScores!R36),CONCATENATE(IF(COUNTIF(aRoundedScores!$P36:$AI36,aRoundedScores!R36)>1,\"=\",\"\"),RANK(aRoundedScores!R36,aRoundedScores!$P36:$AI36)),\"n/a\")","v":"9"},{"$f":"IF(ISNUMBER(aRoundedScores!S36),CONCATENATE(IF(COUNTIF(aRoundedScores!$P36:$AI36,aRoundedScores!S36)>1,\"=\",\"\"),RANK(aRoundedScores!S36,aRoundedScores!$P36:$AI36)),\"n/a\")","v":"11"},{"$f":"IF(ISNUMBER(aRoundedScores!T36),CONCATENATE(IF(COUNTIF(aRoundedScores!$P36:$AI36,aRoundedScores!T36)>1,\"=\",\"\"),RANK(aRoundedScores!T36,aRoundedScores!$P36:$AI36)),\"n/a\")","v":"8"},{"$f":"IF(ISNUMBER(aRoundedScores!U36),CONCATENATE(IF(COUNTIF(aRoundedScores!$P36:$AI36,aRoundedScores!U36)>1,\"=\",\"\"),RANK(aRoundedScores!U36,aRoundedScores!$P36:$AI36)),\"n/a\")","v":"=13"},{"$f":"IF(ISNUMBER(aRoundedScores!V36),CONCATENATE(IF(COUNTIF(aRoundedScores!$P36:$AI36,aRoundedScores!V36)>1,\"=\",\"\"),RANK(aRoundedScores!V36,aRoundedScores!$P36:$AI36)),\"n/a\")","v":"=13"},{"$f":"IF(ISNUMBER(aRoundedScores!W36),CONCATENATE(IF(COUNTIF(aRoundedScores!$P36:$AI36,aRoundedScores!W36)>1,\"=\",\"\"),RANK(aRoundedScores!W36,aRoundedScores!$P36:$AI36)),\"n/a\")","v":"=6"},{"$f":"IF(ISNUMBER(aRoundedScores!X36),CONCATENATE(IF(COUNTIF(aRoundedScores!$P36:$AI36,aRoundedScores!X36)>1,\"=\",\"\"),RANK(aRoundedScores!X36,aRoundedScores!$P36:$AI36)),\"n/a\")","v":"12"},{"$f":"IF(ISNUMBER(aRoundedScores!Y36),CONCATENATE(IF(COUNTIF(aRoundedScores!$P36:$AI36,aRoundedScores!Y36)>1,\"=\",\"\"),RANK(aRoundedScores!Y36,aRoundedScores!$P36:$AI36)),\"n/a\")","v":"2"},{"$f":"IF(ISNUMBER(aRoundedScores!Z36),CONCATENATE(IF(COUNTIF(aRoundedScores!$P36:$AI36,aRoundedScores!Z36)>1,\"=\",\"\"),RANK(aRoundedScores!Z36,aRoundedScores!$P36:$AI36)),\"n/a\")","v":"19"},{"$f":"IF(ISNUMBER(aRoundedScores!AA36),CONCATENATE(IF(COUNTIF(aRoundedScores!$P36:$AI36,aRoundedScores!AA36)>1,\"=\",\"\"),RANK(aRoundedScores!AA36,aRoundedScores!$P36:$AI36)),\"n/a\")","v":"=3"},{"$f":"IF(ISNUMBER(aRoundedScores!AB36),CONCATENATE(IF(COUNTIF(aRoundedScores!$P36:$AI36,aRoundedScores!AB36)>1,\"=\",\"\"),RANK(aRoundedScores!AB36,aRoundedScores!$P36:$AI36)),\"n/a\")","v":"=16"},{"$f":"IF(ISNUMBER(aRoundedScores!AC36),CONCATENATE(IF(COUNTIF(aRoundedScores!$P36:$AI36,aRoundedScores!AC36)>1,\"=\",\"\"),RANK(aRoundedScores!AC36,aRoundedScores!$P36:$AI36)),\"n/a\")","v":"18"},{"$f":"IF(ISNUMBER(aRoundedScores!AD36),CONCATENATE(IF(COUNTIF(aRoundedScores!$P36:$AI36,aRoundedScores!AD36)>1,\"=\",\"\"),RANK(aRoundedScores!AD36,aRoundedScores!$P36:$AI36)),\"n/a\")","v":"15"},{"$f":"IF(ISNUMBER(aRoundedScores!AE36),CONCATENATE(IF(COUNTIF(aRoundedScores!$P36:$AI36,aRoundedScores!AE36)>1,\"=\",\"\"),RANK(aRoundedScores!AE36,aRoundedScores!$P36:$AI36)),\"n/a\")","v":"10"},{"$f":"IF(ISNUMBER(aRoundedScores!AF36),CONCATENATE(IF(COUNTIF(aRoundedScores!$P36:$AI36,aRoundedScores!AF36)>1,\"=\",\"\"),RANK(aRoundedScores!AF36,aRoundedScores!$P36:$AI36)),\"n/a\")","v":"=6"},{"$f":"IF(ISNUMBER(aRoundedScores!AG36),CONCATENATE(IF(COUNTIF(aRoundedScores!$P36:$AI36,aRoundedScores!AG36)>1,\"=\",\"\"),RANK(aRoundedScores!AG36,aRoundedScores!$P36:$AI36)),\"n/a\")","v":"1"},{"$f":"IF(ISNUMBER(aRoundedScores!AH36),CONCATENATE(IF(COUNTIF(aRoundedScores!$P36:$AI36,aRoundedScores!AH36)>1,\"=\",\"\"),RANK(aRoundedScores!AH36,aRoundedScores!$P36:$AI36)),\"n/a\")","v":"=3"},{"$f":"IF(ISNUMBER(aRoundedScores!AI36),CONCATENATE(IF(COUNTIF(aRoundedScores!$P36:$AI36,aRoundedScores!AI36)>1,\"=\",\"\"),RANK(aRoundedScores!AI36,aRoundedScores!$P36:$AI36)),\"n/a\")","v":"=16"}]
[null,"2.4.2) Quality of electricity supply",null,{"$f":"IF(ISNUMBER(aRoundedScores!P37),CONCATENATE(IF(COUNTIF(aRoundedScores!$P37:$AI37,aRoundedScores!P37)>1,\"=\",\"\"),RANK(aRoundedScores!P37,aRoundedScores!$P37:$AI37)),\"n/a\")","v":"17"},{"$f":"IF(ISNUMBER(aRoundedScores!Q37),CONCATENATE(IF(COUNTIF(aRoundedScores!$P37:$AI37,aRoundedScores!Q37)>1,\"=\",\"\"),RANK(aRoundedScores!Q37,aRoundedScores!$P37:$AI37)),\"n/a\")","v":"2"},{"$f":"IF(ISNUMBER(aRoundedScores!R37),CONCATENATE(IF(COUNTIF(aRoundedScores!$P37:$AI37,aRoundedScores!R37)>1,\"=\",\"\"),RANK(aRoundedScores!R37,aRoundedScores!$P37:$AI37)),\"n/a\")","v":"9"},{"$f":"IF(ISNUMBER(aRoundedScores!S37),CONCATENATE(IF(COUNTIF(aRoundedScores!$P37:$AI37,aRoundedScores!S37)>1,\"=\",\"\"),RANK(aRoundedScores!S37,aRoundedScores!$P37:$AI37)),\"n/a\")","v":"10"},{"$f":"IF(ISNUMBER(aRoundedScores!T37),CONCATENATE(IF(COUNTIF(aRoundedScores!$P37:$AI37,aRoundedScores!T37)>1,\"=\",\"\"),RANK(aRoundedScores!T37,aRoundedScores!$P37:$AI37)),\"n/a\")","v":"3"},{"$f":"IF(ISNUMBER(aRoundedScores!U37),CONCATENATE(IF(COUNTIF(aRoundedScores!$P37:$AI37,aRoundedScores!U37)>1,\"=\",\"\"),RANK(aRoundedScores!U37,aRoundedScores!$P37:$AI37)),\"n/a\")","v":"19"},{"$f":"IF(ISNUMBER(aRoundedScores!V37),CONCATENATE(IF(COUNTIF(aRoundedScores!$P37:$AI37,aRoundedScores!V37)>1,\"=\",\"\"),RANK(aRoundedScores!V37,aRoundedScores!$P37:$AI37)),\"n/a\")","v":"14"},{"$f":"IF(ISNUMBER(aRoundedScores!W37),CONCATENATE(IF(COUNTIF(aRoundedScores!$P37:$AI37,aRoundedScores!W37)>1,\"=\",\"\"),RANK(aRoundedScores!W37,aRoundedScores!$P37:$AI37)),\"n/a\")","v":"=5"},{"$f":"IF(ISNUMBER(aRoundedScores!X37),CONCATENATE(IF(COUNTIF(aRoundedScores!$P37:$AI37,aRoundedScores!X37)>1,\"=\",\"\"),RANK(aRoundedScores!X37,aRoundedScores!$P37:$AI37)),\"n/a\")","v":"13"},{"$f":"IF(ISNUMBER(aRoundedScores!Y37),CONCATENATE(IF(COUNTIF(aRoundedScores!$P37:$AI37,aRoundedScores!Y37)>1,\"=\",\"\"),RANK(aRoundedScores!Y37,aRoundedScores!$P37:$AI37)),\"n/a\")","v":"7"},{"$f":"IF(ISNUMBER(aRoundedScores!Z37),CONCATENATE(IF(COUNTIF(aRoundedScores!$P37:$AI37,aRoundedScores!Z37)>1,\"=\",\"\"),RANK(aRoundedScores!Z37,aRoundedScores!$P37:$AI37)),\"n/a\")","v":"20"},{"$f":"IF(ISNUMBER(aRoundedScores!AA37),CONCATENATE(IF(COUNTIF(aRoundedScores!$P37:$AI37,aRoundedScores!AA37)>1,\"=\",\"\"),RANK(aRoundedScores!AA37,aRoundedScores!$P37:$AI37)),\"n/a\")","v":"1"},{"$f":"IF(ISNUMBER(aRoundedScores!AB37),CONCATENATE(IF(COUNTIF(aRoundedScores!$P37:$AI37,aRoundedScores!AB37)>1,\"=\",\"\"),RANK(aRoundedScores!AB37,aRoundedScores!$P37:$AI37)),\"n/a\")","v":"11"},{"$f":"IF(ISNUMBER(aRoundedScores!AC37),CONCATENATE(IF(COUNTIF(aRoundedScores!$P37:$AI37,aRoundedScores!AC37)>1,\"=\",\"\"),RANK(aRoundedScores!AC37,aRoundedScores!$P37:$AI37)),\"n/a\")","v":"=15"},{"$f":"IF(ISNUMBER(aRoundedScores!AD37),CONCATENATE(IF(COUNTIF(aRoundedScores!$P37:$AI37,aRoundedScores!AD37)>1,\"=\",\"\"),RANK(aRoundedScores!AD37,aRoundedScores!$P37:$AI37)),\"n/a\")","v":"12"},{"$f":"IF(ISNUMBER(aRoundedScores!AE37),CONCATENATE(IF(COUNTIF(aRoundedScores!$P37:$AI37,aRoundedScores!AE37)>1,\"=\",\"\"),RANK(aRoundedScores!AE37,aRoundedScores!$P37:$AI37)),\"n/a\")","v":"18"},{"$f":"IF(ISNUMBER(aRoundedScores!AF37),CONCATENATE(IF(COUNTIF(aRoundedScores!$P37:$AI37,aRoundedScores!AF37)>1,\"=\",\"\"),RANK(aRoundedScores!AF37,aRoundedScores!$P37:$AI37)),\"n/a\")","v":"8"},{"$f":"IF(ISNUMBER(aRoundedScores!AG37),CONCATENATE(IF(COUNTIF(aRoundedScores!$P37:$AI37,aRoundedScores!AG37)>1,\"=\",\"\"),RANK(aRoundedScores!AG37,aRoundedScores!$P37:$AI37)),\"n/a\")","v":"4"},{"$f":"IF(ISNUMBER(aRoundedScores!AH37),CONCATENATE(IF(COUNTIF(aRoundedScores!$P37:$AI37,aRoundedScores!AH37)>1,\"=\",\"\"),RANK(aRoundedScores!AH37,aRoundedScores!$P37:$AI37)),\"n/a\")","v":"=5"},{"$f":"IF(ISNUMBER(aRoundedScores!AI37),CONCATENATE(IF(COUNTIF(aRoundedScores!$P37:$AI37,aRoundedScores!AI37)>1,\"=\",\"\"),RANK(aRoundedScores!AI37,aRoundedScores!$P37:$AI37)),\"n/a\")","v":"=15"}]
[null,"2.4.3) Quality of road infrastructure",null,{"$f":"IF(ISNUMBER(aRoundedScores!P38),CONCATENATE(IF(COUNTIF(aRoundedScores!$P38:$AI38,aRoundedScores!P38)>1,\"=\",\"\"),RANK(aRoundedScores!P38,aRoundedScores!$P38:$AI38)),\"n/a\")","v":"=18"},{"$f":"IF(ISNUMBER(aRoundedScores!Q38),CONCATENATE(IF(COUNTIF(aRoundedScores!$P38:$AI38,aRoundedScores!Q38)>1,\"=\",\"\"),RANK(aRoundedScores!Q38,aRoundedScores!$P38:$AI38)),\"n/a\")","v":"6"},{"$f":"IF(ISNUMBER(aRoundedScores!R38),CONCATENATE(IF(COUNTIF(aRoundedScores!$P38:$AI38,aRoundedScores!R38)>1,\"=\",\"\"),RANK(aRoundedScores!R38,aRoundedScores!$P38:$AI38)),\"n/a\")","v":"7"},{"$f":"IF(ISNUMBER(aRoundedScores!S38),CONCATENATE(IF(COUNTIF(aRoundedScores!$P38:$AI38,aRoundedScores!S38)>1,\"=\",\"\"),RANK(aRoundedScores!S38,aRoundedScores!$P38:$AI38)),\"n/a\")","v":"10"},{"$f":"IF(ISNUMBER(aRoundedScores!T38),CONCATENATE(IF(COUNTIF(aRoundedScores!$P38:$AI38,aRoundedScores!T38)>1,\"=\",\"\"),RANK(aRoundedScores!T38,aRoundedScores!$P38:$AI38)),\"n/a\")","v":"1"},{"$f":"IF(ISNUMBER(aRoundedScores!U38),CONCATENATE(IF(COUNTIF(aRoundedScores!$P38:$AI38,aRoundedScores!U38)>1,\"=\",\"\"),RANK(aRoundedScores!U38,aRoundedScores!$P38:$AI38)),\"n/a\")","v":"14"},{"$f":"IF(ISNUMBER(aRoundedScores!V38),CONCATENATE(IF(COUNTIF(aRoundedScores!$P38:$AI38,aRoundedScores!V38)>1,\"=\",\"\"),RANK(aRoundedScores!V38,aRoundedScores!$P38:$AI38)),\"n/a\")","v":"12"},{"$f":"IF(ISNUMBER(aRoundedScores!W38),CONCATENATE(IF(COUNTIF(aRoundedScores!$P38:$AI38,aRoundedScores!W38)>1,\"=\",\"\"),RANK(aRoundedScores!W38,aRoundedScores!$P38:$AI38)),\"n/a\")","v":"=2"},{"$f":"IF(ISNUMBER(aRoundedScores!X38),CONCATENATE(IF(COUNTIF(aRoundedScores!$P38:$AI38,aRoundedScores!X38)>1,\"=\",\"\"),RANK(aRoundedScores!X38,aRoundedScores!$P38:$AI38)),\"n/a\")","v":"11"},{"$f":"IF(ISNUMBER(aRoundedScores!Y38),CONCATENATE(IF(COUNTIF(aRoundedScores!$P38:$AI38,aRoundedScores!Y38)>1,\"=\",\"\"),RANK(aRoundedScores!Y38,aRoundedScores!$P38:$AI38)),\"n/a\")","v":"=8"},{"$f":"IF(ISNUMBER(aRoundedScores!Z38),CONCATENATE(IF(COUNTIF(aRoundedScores!$P38:$AI38,aRoundedScores!Z38)>1,\"=\",\"\"),RANK(aRoundedScores!Z38,aRoundedScores!$P38:$AI38)),\"n/a\")","v":"20"},{"$f":"IF(ISNUMBER(aRoundedScores!AA38),CONCATENATE(IF(COUNTIF(aRoundedScores!$P38:$AI38,aRoundedScores!AA38)>1,\"=\",\"\"),RANK(aRoundedScores!AA38,aRoundedScores!$P38:$AI38)),\"n/a\")","v":"13"},{"$f":"IF(ISNUMBER(aRoundedScores!AB38),CONCATENATE(IF(COUNTIF(aRoundedScores!$P38:$AI38,aRoundedScores!AB38)>1,\"=\",\"\"),RANK(aRoundedScores!AB38,aRoundedScores!$P38:$AI38)),\"n/a\")","v":"=16"},{"$f":"IF(ISNUMBER(aRoundedScores!AC38),CONCATENATE(IF(COUNTIF(aRoundedScores!$P38:$AI38,aRoundedScores!AC38)>1,\"=\",\"\"),RANK(aRoundedScores!AC38,aRoundedScores!$P38:$AI38)),\"n/a\")","v":"15"},{"$f":"IF(ISNUMBER(aRoundedScores!AD38),CONCATENATE(IF(COUNTIF(aRoundedScores!$P38:$AI38,aRoundedScores!AD38)>1,\"=\",\"\"),RANK(aRoundedScores!AD38,aRoundedScores!$P38:$AI38)),\"n/a\")","v":"=18"},{"$f":"IF(ISNUMBER(aRoundedScores!AE38),CONCATENATE(IF(COUNTIF(aRoundedScores!$P38:$AI38,aRoundedScores!AE38)>1,\"=\",\"\"),RANK(aRoundedScores!AE38,aRoundedScores!$P38:$AI38)),\"n/a\")","v":"=8"},{"$f":"IF(ISNUMBER(aRoundedScores!AF38),CONCATENATE(IF(COUNTIF(aRoundedScores!$P38:$AI38,aRoundedScores!AF38)>1,\"=\",\"\"),RANK(aRoundedScores!AF38,aRoundedScores!$P38:$AI38)),\"n/a\")","v":"5"},{"$f":"IF(ISNUMBER(aRoundedScores!AG38),CONCATENATE(IF(COUNTIF(aRoundedScores!$P38:$AI38,aRoundedScores!AG38)>1,\"=\",\"\"),RANK(aRoundedScores!AG38,aRoundedScores!$P38:$AI38)),\"n/a\")","v":"=2"},{"$f":"IF(ISNUMBER(aRoundedScores!AH38),CONCATENATE(IF(COUNTIF(aRoundedScores!$P38:$AI38,aRoundedScores!AH38)>1,\"=\",\"\"),RANK(aRoundedScores!AH38,aRoundedScores!$P38:$AI38)),\"n/a\")","v":"4"},{"$f":"IF(ISNUMBER(aRoundedScores!AI38),CONCATENATE(IF(COUNTIF(aRoundedScores!$P38:$AI38,aRoundedScores!AI38)>1,\"=\",\"\"),RANK(aRoundedScores!AI38,aRoundedScores!$P38:$AI38)),\"n/a\")","v":"=16"}]
[null,"2.4.4) Quality of railroad infrastructure",null,{"$f":"IF(ISNUMBER(aRoundedScores!P39),CONCATENATE(IF(COUNTIF(aRoundedScores!$P39:$AI39,aRoundedScores!P39)>1,\"=\",\"\"),RANK(aRoundedScores!P39,aRoundedScores!$P39:$AI39)),\"n/a\")","v":"19"},{"$f":"IF(ISNUMBER(aRoundedScores!Q39),CONCATENATE(IF(COUNTIF(aRoundedScores!$P39:$AI39,aRoundedScores!Q39)>1,\"=\",\"\"),RANK(aRoundedScores!Q39,aRoundedScores!$P39:$AI39)),\"n/a\")","v":"=6"},{"$f":"IF(ISNUMBER(aRoundedScores!R39),CONCATENATE(IF(COUNTIF(aRoundedScores!$P39:$AI39,aRoundedScores!R39)>1,\"=\",\"\"),RANK(aRoundedScores!R39,aRoundedScores!$P39:$AI39)),\"n/a\")","v":"16"},{"$f":"IF(ISNUMBER(aRoundedScores!S39),CONCATENATE(IF(COUNTIF(aRoundedScores!$P39:$AI39,aRoundedScores!S39)>1,\"=\",\"\"),RANK(aRoundedScores!S39,aRoundedScores!$P39:$AI39)),\"n/a\")","v":"=6"},{"$f":"IF(ISNUMBER(aRoundedScores!T39),CONCATENATE(IF(COUNTIF(aRoundedScores!$P39:$AI39,aRoundedScores!T39)>1,\"=\",\"\"),RANK(aRoundedScores!T39,aRoundedScores!$P39:$AI39)),\"n/a\")","v":"3"},{"$f":"IF(ISNUMBER(aRoundedScores!U39),CONCATENATE(IF(COUNTIF(aRoundedScores!$P39:$AI39,aRoundedScores!U39)>1,\"=\",\"\"),RANK(aRoundedScores!U39,aRoundedScores!$P39:$AI39)),\"n/a\")","v":"9"},{"$f":"IF(ISNUMBER(aRoundedScores!V39),CONCATENATE(IF(COUNTIF(aRoundedScores!$P39:$AI39,aRoundedScores!V39)>1,\"=\",\"\"),RANK(aRoundedScores!V39,aRoundedScores!$P39:$AI39)),\"n/a\")","v":"=11"},{"$f":"IF(ISNUMBER(aRoundedScores!W39),CONCATENATE(IF(COUNTIF(aRoundedScores!$P39:$AI39,aRoundedScores!W39)>1,\"=\",\"\"),RANK(aRoundedScores!W39,aRoundedScores!$P39:$AI39)),\"n/a\")","v":"1"},{"$f":"IF(ISNUMBER(aRoundedScores!X39),CONCATENATE(IF(COUNTIF(aRoundedScores!$P39:$AI39,aRoundedScores!X39)>1,\"=\",\"\"),RANK(aRoundedScores!X39,aRoundedScores!$P39:$AI39)),\"n/a\")","v":"15"},{"$f":"IF(ISNUMBER(aRoundedScores!Y39),CONCATENATE(IF(COUNTIF(aRoundedScores!$P39:$AI39,aRoundedScores!Y39)>1,\"=\",\"\"),RANK(aRoundedScores!Y39,aRoundedScores!$P39:$AI39)),\"n/a\")","v":"=11"},{"$f":"IF(ISNUMBER(aRoundedScores!Z39),CONCATENATE(IF(COUNTIF(aRoundedScores!$P39:$AI39,aRoundedScores!Z39)>1,\"=\",\"\"),RANK(aRoundedScores!Z39,aRoundedScores!$P39:$AI39)),\"n/a\")","v":"20"},{"$f":"IF(ISNUMBER(aRoundedScores!AA39),CONCATENATE(IF(COUNTIF(aRoundedScores!$P39:$AI39,aRoundedScores!AA39)>1,\"=\",\"\"),RANK(aRoundedScores!AA39,aRoundedScores!$P39:$AI39)),\"n/a\")","v":"10"},{"$f":"IF(ISNUMBER(aRoundedScores!AB39),CONCATENATE(IF(COUNTIF(aRoundedScores!$P39:$AI39,aRoundedScores!AB39)>1,\"=\",\"\"),RANK(aRoundedScores!AB39,aRoundedScores!$P39:$AI39)),\"n/a\")","v":"18"},{"$f":"IF(ISNUMBER(aRoundedScores!AC39),CONCATENATE(IF(COUNTIF(aRoundedScores!$P39:$AI39,aRoundedScores!AC39)>1,\"=\",\"\"),RANK(aRoundedScores!AC39,aRoundedScores!$P39:$AI39)),\"n/a\")","v":"17"},{"$f":"IF(ISNUMBER(aRoundedScores!AD39),CONCATENATE(IF(COUNTIF(aRoundedScores!$P39:$AI39,aRoundedScores!AD39)>1,\"=\",\"\"),RANK(aRoundedScores!AD39,aRoundedScores!$P39:$AI39)),\"n/a\")","v":"8"},{"$f":"IF(ISNUMBER(aRoundedScores!AE39),CONCATENATE(IF(COUNTIF(aRoundedScores!$P39:$AI39,aRoundedScores!AE39)>1,\"=\",\"\"),RANK(aRoundedScores!AE39,aRoundedScores!$P39:$AI39)),\"n/a\")","v":"13"},{"$f":"IF(ISNUMBER(aRoundedScores!AF39),CONCATENATE(IF(COUNTIF(aRoundedScores!$P39:$AI39,aRoundedScores!AF39)>1,\"=\",\"\"),RANK(aRoundedScores!AF39,aRoundedScores!$P39:$AI39)),\"n/a\")","v":"4"},{"$f":"IF(ISNUMBER(aRoundedScores!AG39),CONCATENATE(IF(COUNTIF(aRoundedScores!$P39:$AI39,aRoundedScores!AG39)>1,\"=\",\"\"),RANK(aRoundedScores!AG39,aRoundedScores!$P39:$AI39)),\"n/a\")","v":"2"},{"$f":"IF(ISNUMBER(aRoundedScores!AH39),CONCATENATE(IF(COUNTIF(aRoundedScores!$P39:$AI39,aRoundedScores!AH39)>1,\"=\",\"\"),RANK(aRoundedScores!AH39,aRoundedScores!$P39:$AI39)),\"n/a\")","v":"5"},{"$f":"IF(ISNUMBER(aRoundedScores!AI39),CONCATENATE(IF(COUNTIF(aRoundedScores!$P39:$AI39,aRoundedScores!AI39)>1,\"=\",\"\"),RANK(aRoundedScores!AI39,aRoundedScores!$P39:$AI39)),\"n/a\")","v":"14"}]
[null,"2.4.5) Quality of water infrastructure",null,{"$f":"IF(ISNUMBER(aRoundedScores!P40),CONCATENATE(IF(COUNTIF(aRoundedScores!$P40:$AI40,aRoundedScores!P40)>1,\"=\",\"\"),RANK(aRoundedScores!P40,aRoundedScores!$P40:$AI40)),\"n/a\")","v":"10"},{"$f":"IF(ISNUMBER(aRoundedScores!Q40),CONCATENATE(IF(COUNTIF(aRoundedScores!$P40:$AI40,aRoundedScores!Q40)>1,\"=\",\"\"),RANK(aRoundedScores!Q40,aRoundedScores!$P40:$AI40)),\"n/a\")","v":"5"},{"$f":"IF(ISNUMBER(aRoundedScores!R40),CONCATENATE(IF(COUNTIF(aRoundedScores!$P40:$AI40,aRoundedScores!R40)>1,\"=\",\"\"),RANK(aRoundedScores!R40,aRoundedScores!$P40:$AI40)),\"n/a\")","v":"8"},{"$f":"IF(ISNUMBER(aRoundedScores!S40),CONCATENATE(IF(COUNTIF(aRoundedScores!$P40:$AI40,aRoundedScores!S40)>1,\"=\",\"\"),RANK(aRoundedScores!S40,aRoundedScores!$P40:$AI40)),\"n/a\")","v":"16"},{"$f":"IF(ISNUMBER(aRoundedScores!T40),CONCATENATE(IF(COUNTIF(aRoundedScores!$P40:$AI40,aRoundedScores!T40)>1,\"=\",\"\"),RANK(aRoundedScores!T40,aRoundedScores!$P40:$AI40)),\"n/a\")","v":"=1"},{"$f":"IF(ISNUMBER(aRoundedScores!U40),CONCATENATE(IF(COUNTIF(aRoundedScores!$P40:$AI40,aRoundedScores!U40)>1,\"=\",\"\"),RANK(aRoundedScores!U40,aRoundedScores!$P40:$AI40)),\"n/a\")","v":"18"},{"$f":"IF(ISNUMBER(aRoundedScores!V40),CONCATENATE(IF(COUNTIF(aRoundedScores!$P40:$AI40,aRoundedScores!V40)>1,\"=\",\"\"),RANK(aRoundedScores!V40,aRoundedScores!$P40:$AI40)),\"n/a\")","v":"19"},{"$f":"IF(ISNUMBER(aRoundedScores!W40),CONCATENATE(IF(COUNTIF(aRoundedScores!$P40:$AI40,aRoundedScores!W40)>1,\"=\",\"\"),RANK(aRoundedScores!W40,aRoundedScores!$P40:$AI40)),\"n/a\")","v":"=1"},{"$f":"IF(ISNUMBER(aRoundedScores!X40),CONCATENATE(IF(COUNTIF(aRoundedScores!$P40:$AI40,aRoundedScores!X40)>1,\"=\",\"\"),RANK(aRoundedScores!X40,aRoundedScores!$P40:$AI40)),\"n/a\")","v":"11"},{"$f":"IF(ISNUMBER(aRoundedScores!Y40),CONCATENATE(IF(COUNTIF(aRoundedScores!$P40:$AI40,aRoundedScores!Y40)>1,\"=\",\"\"),RANK(aRoundedScores!Y40,aRoundedScores!$P40:$AI40)),\"n/a\")","v":"9"},{"$f":"IF(ISNUMBER(aRoundedScores!Z40),CONCATENATE(IF(COUNTIF(aRoundedScores!$P40:$AI40,aRoundedScores!Z40)>1,\"=\",\"\"),RANK(aRoundedScores!Z40,aRoundedScores!$P40:$AI40)),\"n/a\")","v":"20"},{"$f":"IF(ISNUMBER(aRoundedScores!AA40),CONCATENATE(IF(COUNTIF(aRoundedScores!$P40:$AI40,aRoundedScores!AA40)>1,\"=\",\"\"),RANK(aRoundedScores!AA40,aRoundedScores!$P40:$AI40)),\"n/a\")","v":"=1"},{"$f":"IF(ISNUMBER(aRoundedScores!AB40),CONCATENATE(IF(COUNTIF(aRoundedScores!$P40:$AI40,aRoundedScores!AB40)>1,\"=\",\"\"),RANK(aRoundedScores!AB40,aRoundedScores!$P40:$AI40)),\"n/a\")","v":"17"},{"$f":"IF(ISNUMBER(aRoundedScores!AC40),CONCATENATE(IF(COUNTIF(aRoundedScores!$P40:$AI40,aRoundedScores!AC40)>1,\"=\",\"\"),RANK(aRoundedScores!AC40,aRoundedScores!$P40:$AI40)),\"n/a\")","v":"14"},{"$f":"IF(ISNUMBER(aRoundedScores!AD40),CONCATENATE(IF(COUNTIF(aRoundedScores!$P40:$AI40,aRoundedScores!AD40)>1,\"=\",\"\"),RANK(aRoundedScores!AD40,aRoundedScores!$P40:$AI40)),\"n/a\")","v":"12"},{"$f":"IF(ISNUMBER(aRoundedScores!AE40),CONCATENATE(IF(COUNTIF(aRoundedScores!$P40:$AI40,aRoundedScores!AE40)>1,\"=\",\"\"),RANK(aRoundedScores!AE40,aRoundedScores!$P40:$AI40)),\"n/a\")","v":"15"},{"$f":"IF(ISNUMBER(aRoundedScores!AF40),CONCATENATE(IF(COUNTIF(aRoundedScores!$P40:$AI40,aRoundedScores!AF40)>1,\"=\",\"\"),RANK(aRoundedScores!AF40,aRoundedScores!$P40:$AI40)),\"n/a\")","v":"=6"},{"$f":"IF(ISNUMBER(aRoundedScores!AG40),CONCATENATE(IF(COUNTIF(aRoundedScores!$P40:$AI40,aRoundedScores!AG40)>1,\"=\",\"\"),RANK(aRoundedScores!AG40,aRoundedScores!$P40:$AI40)),\"n/a\")","v":"4"},{"$f":"IF(ISNUMBER(aRoundedScores!AH40),CONCATENATE(IF(COUNTIF(aRoundedScores!$P40:$AI40,aRoundedScores!AH40)>1,\"=\",\"\"),RANK(aRoundedScores!AH40,aRoundedScores!$P40:$AI40)),\"n/a\")","v":"=6"},{"$f":"IF(ISNUMBER(aRoundedScores!AI40),CONCATENATE(IF(COUNTIF(aRoundedScores!$P40:$AI40,aRoundedScores!AI40)>1,\"=\",\"\"),RANK(aRoundedScores!AI40,aRoundedScores!$P40:$AI40)),\"n/a\")","v":"13"}]
[null,"3) WATER QUALITY",null,{"$f":"IF(ISNUMBER(aRoundedScores!P41),CONCATENATE(IF(COUNTIF(aRoundedScores!$P41:$AI41,aRoundedScores!P41)>1,\"=\",\"\"),RANK(aRoundedScores!P41,aRoundedScores!$P41:$AI41)),\"n/a\")","v":"=11"},{"$f":"IF(ISNUMBER(aRoundedScores!Q41),CONCATENATE(IF(COUNTIF(aRoundedScores!$P41:$AI41,aRoundedScores!Q41)>1,\"=\",\"\"),RANK(aRoundedScores!Q41,aRoundedScores!$P41:$AI41)),\"n/a\")","v":"16"},{"$f":"IF(ISNUMBER(aRoundedScores!R41),CONCATENATE(IF(COUNTIF(aRoundedScores!$P41:$AI41,aRoundedScores!R41)>1,\"=\",\"\"),RANK(aRoundedScores!R41,aRoundedScores!$P41:$AI41)),\"n/a\")","v":"=3"},{"$f":"IF(ISNUMBER(aRoundedScores!S41),CONCATENATE(IF(COUNTIF(aRoundedScores!$P41:$AI41,aRoundedScores!S41)>1,\"=\",\"\"),RANK(aRoundedScores!S41,aRoundedScores!$P41:$AI41)),\"n/a\")","v":"17"},{"$f":"IF(ISNUMBER(aRoundedScores!T41),CONCATENATE(IF(COUNTIF(aRoundedScores!$P41:$AI41,aRoundedScores!T41)>1,\"=\",\"\"),RANK(aRoundedScores!T41,aRoundedScores!$P41:$AI41)),\"n/a\")","v":"=1"},{"$f":"IF(ISNUMBER(aRoundedScores!U41),CONCATENATE(IF(COUNTIF(aRoundedScores!$P41:$AI41,aRoundedScores!U41)>1,\"=\",\"\"),RANK(aRoundedScores!U41,aRoundedScores!$P41:$AI41)),\"n/a\")","v":"=11"},{"$f":"IF(ISNUMBER(aRoundedScores!V41),CONCATENATE(IF(COUNTIF(aRoundedScores!$P41:$AI41,aRoundedScores!V41)>1,\"=\",\"\"),RANK(aRoundedScores!V41,aRoundedScores!$P41:$AI41)),\"n/a\")","v":"14"},{"$f":"IF(ISNUMBER(aRoundedScores!W41),CONCATENATE(IF(COUNTIF(aRoundedScores!$P41:$AI41,aRoundedScores!W41)>1,\"=\",\"\"),RANK(aRoundedScores!W41,aRoundedScores!$P41:$AI41)),\"n/a\")","v":"=3"},{"$f":"IF(ISNUMBER(aRoundedScores!X41),CONCATENATE(IF(COUNTIF(aRoundedScores!$P41:$AI41,aRoundedScores!X41)>1,\"=\",\"\"),RANK(aRoundedScores!X41,aRoundedScores!$P41:$AI41)),\"n/a\")","v":"=8"},{"$f":"IF(ISNUMBER(aRoundedScores!Y41),CONCATENATE(IF(COUNTIF(aRoundedScores!$P41:$AI41,aRoundedScores!Y41)>1,\"=\",\"\"),RANK(aRoundedScores!Y41,aRoundedScores!$P41:$AI41)),\"n/a\")","v":"=1"},{"$f":"IF(ISNUMBER(aRoundedScores!Z41),CONCATENATE(IF(COUNTIF(aRoundedScores!$P41:$AI41,aRoundedScores!Z41)>1,\"=\",\"\"),RANK(aRoundedScores!Z41,aRoundedScores!$P41:$AI41)),\"n/a\")","v":"18"},{"$f":"IF(ISNUMBER(aRoundedScores!AA41),CONCATENATE(IF(COUNTIF(aRoundedScores!$P41:$AI41,aRoundedScores!AA41)>1,\"=\",\"\"),RANK(aRoundedScores!AA41,aRoundedScores!$P41:$AI41)),\"n/a\")","v":"=8"},{"$f":"IF(ISNUMBER(aRoundedScores!AB41),CONCATENATE(IF(COUNTIF(aRoundedScores!$P41:$AI41,aRoundedScores!AB41)>1,\"=\",\"\"),RANK(aRoundedScores!AB41,aRoundedScores!$P41:$AI41)),\"n/a\")","v":"10"},{"$f":"IF(ISNUMBER(aRoundedScores!AC41),CONCATENATE(IF(COUNTIF(aRoundedScores!$P41:$AI41,aRoundedScores!AC41)>1,\"=\",\"\"),RANK(aRoundedScores!AC41,aRoundedScores!$P41:$AI41)),\"n/a\")","v":"19"},{"$f":"IF(ISNUMBER(aRoundedScores!AD41),CONCATENATE(IF(COUNTIF(aRoundedScores!$P41:$AI41,aRoundedScores!AD41)>1,\"=\",\"\"),RANK(aRoundedScores!AD41,aRoundedScores!$P41:$AI41)),\"n/a\")","v":"20"},{"$f":"IF(ISNUMBER(aRoundedScores!AE41),CONCATENATE(IF(COUNTIF(aRoundedScores!$P41:$AI41,aRoundedScores!AE41)>1,\"=\",\"\"),RANK(aRoundedScores!AE41,aRoundedScores!$P41:$AI41)),\"n/a\")","v":"15"},{"$f":"IF(ISNUMBER(aRoundedScores!AF41),CONCATENATE(IF(COUNTIF(aRoundedScores!$P41:$AI41,aRoundedScores!AF41)>1,\"=\",\"\"),RANK(aRoundedScores!AF41,aRoundedScores!$P41:$AI41)),\"n/a\")","v":"7"},{"$f":"IF(ISNUMBER(aRoundedScores!AG41),CONCATENATE(IF(COUNTIF(aRoundedScores!$P41:$AI41,aRoundedScores!AG41)>1,\"=\",\"\"),RANK(aRoundedScores!AG41,aRoundedScores!$P41:$AI41)),\"n/a\")","v":"6"},{"$f":"IF(ISNUMBER(aRoundedScores!AH41),CONCATENATE(IF(COUNTIF(aRoundedScores!$P41:$AI41,aRoundedScores!AH41)>1,\"=\",\"\"),RANK(aRoundedScores!AH41,aRoundedScores!$P41:$AI41)),\"n/a\")","v":"5"},{"$f":"IF(ISNUMBER(aRoundedScores!AI41),CONCATENATE(IF(COUNTIF(aRoundedScores!$P41:$AI41,aRoundedScores!AI41)>1,\"=\",\"\"),RANK(aRoundedScores!AI41,aRoundedScores!$P41:$AI41)),\"n/a\")","v":"13"}]
[null,"3.1) Agency",null,{"$f":"IF(ISNUMBER(aRoundedScores!P42),CONCATENATE(IF(COUNTIF(aRoundedScores!$P42:$AI42,aRoundedScores!P42)>1,\"=\",\"\"),RANK(aRoundedScores!P42,aRoundedScores!$P42:$AI42)),\"n/a\")","v":"=1"},{"$f":"IF(ISNUMBER(aRoundedScores!Q42),CONCATENATE(IF(COUNTIF(aRoundedScores!$P42:$AI42,aRoundedScores!Q42)>1,\"=\",\"\"),RANK(aRoundedScores!Q42,aRoundedScores!$P42:$AI42)),\"n/a\")","v":"20"},{"$f":"IF(ISNUMBER(aRoundedScores!R42),CONCATENATE(IF(COUNTIF(aRoundedScores!$P42:$AI42,aRoundedScores!R42)>1,\"=\",\"\"),RANK(aRoundedScores!R42,aRoundedScores!$P42:$AI42)),\"n/a\")","v":"=1"},{"$f":"IF(ISNUMBER(aRoundedScores!S42),CONCATENATE(IF(COUNTIF(aRoundedScores!$P42:$AI42,aRoundedScores!S42)>1,\"=\",\"\"),RANK(aRoundedScores!S42,aRoundedScores!$P42:$AI42)),\"n/a\")","v":"=1"},{"$f":"IF(ISNUMBER(aRoundedScores!T42),CONCATENATE(IF(COUNTIF(aRoundedScores!$P42:$AI42,aRoundedScores!T42)>1,\"=\",\"\"),RANK(aRoundedScores!T42,aRoundedScores!$P42:$AI42)),\"n/a\")","v":"=1"},{"$f":"IF(ISNUMBER(aRoundedScores!U42),CONCATENATE(IF(COUNTIF(aRoundedScores!$P42:$AI42,aRoundedScores!U42)>1,\"=\",\"\"),RANK(aRoundedScores!U42,aRoundedScores!$P42:$AI42)),\"n/a\")","v":"=1"},{"$f":"IF(ISNUMBER(aRoundedScores!V42),CONCATENATE(IF(COUNTIF(aRoundedScores!$P42:$AI42,aRoundedScores!V42)>1,\"=\",\"\"),RANK(aRoundedScores!V42,aRoundedScores!$P42:$AI42)),\"n/a\")","v":"=1"},{"$f":"IF(ISNUMBER(aRoundedScores!W42),CONCATENATE(IF(COUNTIF(aRoundedScores!$P42:$AI42,aRoundedScores!W42)>1,\"=\",\"\"),RANK(aRoundedScores!W42,aRoundedScores!$P42:$AI42)),\"n/a\")","v":"=1"},{"$f":"IF(ISNUMBER(aRoundedScores!X42),CONCATENATE(IF(COUNTIF(aRoundedScores!$P42:$AI42,aRoundedScores!X42)>1,\"=\",\"\"),RANK(aRoundedScores!X42,aRoundedScores!$P42:$AI42)),\"n/a\")","v":"=1"},{"$f":"IF(ISNUMBER(aRoundedScores!Y42),CONCATENATE(IF(COUNTIF(aRoundedScores!$P42:$AI42,aRoundedScores!Y42)>1,\"=\",\"\"),RANK(aRoundedScores!Y42,aRoundedScores!$P42:$AI42)),\"n/a\")","v":"=1"},{"$f":"IF(ISNUMBER(aRoundedScores!Z42),CONCATENATE(IF(COUNTIF(aRoundedScores!$P42:$AI42,aRoundedScores!Z42)>1,\"=\",\"\"),RANK(aRoundedScores!Z42,aRoundedScores!$P42:$AI42)),\"n/a\")","v":"=1"},{"$f":"IF(ISNUMBER(aRoundedScores!AA42),CONCATENATE(IF(COUNTIF(aRoundedScores!$P42:$AI42,aRoundedScores!AA42)>1,\"=\",\"\"),RANK(aRoundedScores!AA42,aRoundedScores!$P42:$AI42)),\"n/a\")","v":"=1"},{"$f":"IF(ISNUMBER(aRoundedScores!AB42),CONCATENATE(IF(COUNTIF(aRoundedScores!$P42:$AI42,aRoundedScores!AB42)>1,\"=\",\"\"),RANK(aRoundedScores!AB42,aRoundedScores!$P42:$AI42)),\"n/a\")","v":"=1"},{"$f":"IF(ISNUMBER(aRoundedScores!AC42),CONCATENATE(IF(COUNTIF(aRoundedScores!$P42:$AI42,aRoundedScores!AC42)>1,\"=\",\"\"),RANK(aRoundedScores!AC42,aRoundedScores!$P42:$AI42)),\"n/a\")","v":"=1"},{"$f":"IF(ISNUMBER(aRoundedScores!AD42),CONCATENATE(IF(COUNTIF(aRoundedScores!$P42:$AI42,aRoundedScores!AD42)>1,\"=\",\"\"),RANK(aRoundedScores!AD42,aRoundedScores!$P42:$AI42)),\"n/a\")","v":"=1"},{"$f":"IF(ISNUMBER(aRoundedScores!AE42),CONCATENATE(IF(COUNTIF(aRoundedScores!$P42:$AI42,aRoundedScores!AE42)>1,\"=\",\"\"),RANK(aRoundedScores!AE42,aRoundedScores!$P42:$AI42)),\"n/a\")","v":"=1"},{"$f":"IF(ISNUMBER(aRoundedScores!AF42),CONCATENATE(IF(COUNTIF(aRoundedScores!$P42:$AI42,aRoundedScores!AF42)>1,\"=\",\"\"),RANK(aRoundedScores!AF42,aRoundedScores!$P42:$AI42)),\"n/a\")","v":"=1"},{"$f":"IF(ISNUMBER(aRoundedScores!AG42),CONCATENATE(IF(COUNTIF(aRoundedScores!$P42:$AI42,aRoundedScores!AG42)>1,\"=\",\"\"),RANK(aRoundedScores!AG42,aRoundedScores!$P42:$AI42)),\"n/a\")","v":"=1"},{"$f":"IF(ISNUMBER(aRoundedScores!AH42),CONCATENATE(IF(COUNTIF(aRoundedScores!$P42:$AI42,aRoundedScores!AH42)>1,\"=\",\"\"),RANK(aRoundedScores!AH42,aRoundedScores!$P42:$AI42)),\"n/a\")","v":"=1"},{"$f":"IF(ISNUMBER(aRoundedScores!AI42),CONCATENATE(IF(COUNTIF(aRoundedScores!$P42:$AI42,aRoundedScores!AI42)>1,\"=\",\"\"),RANK(aRoundedScores!AI42,aRoundedScores!$P42:$AI42)),\"n/a\")","v":"=1"}]
[null,"3.1.1) Agency responsible for freshwater pollution controls",null,{"$f":"IF(ISNUMBER(aRoundedScores!P43),CONCATENATE(IF(COUNTIF(aRoundedScores!$P43:$AI43,aRoundedScores!P43)>1,\"=\",\"\"),RANK(aRoundedScores!P43,aRoundedScores!$P43:$AI43)),\"n/a\")","v":"=1"},{"$f":"IF(ISNUMBER(aRoundedScores!Q43),CONCATENATE(IF(COUNTIF(aRoundedScores!$P43:$AI43,aRoundedScores!Q43)>1,\"=\",\"\"),RANK(aRoundedScores!Q43,aRoundedScores!$P43:$AI43)),\"n/a\")","v":"20"},{"$f":"IF(ISNUMBER(aRoundedScores!R43),CONCATENATE(IF(COUNTIF(aRoundedScores!$P43:$AI43,aRoundedScores!R43)>1,\"=\",\"\"),RANK(aRoundedScores!R43,aRoundedScores!$P43:$AI43)),\"n/a\")","v":"=1"},{"$f":"IF(ISNUMBER(aRoundedScores!S43),CONCATENATE(IF(COUNTIF(aRoundedScores!$P43:$AI43,aRoundedScores!S43)>1,\"=\",\"\"),RANK(aRoundedScores!S43,aRoundedScores!$P43:$AI43)),\"n/a\")","v":"=1"},{"$f":"IF(ISNUMBER(aRoundedScores!T43),CONCATENATE(IF(COUNTIF(aRoundedScores!$P43:$AI43,aRoundedScores!T43)>1,\"=\",\"\"),RANK(aRoundedScores!T43,aRoundedScores!$P43:$AI43)),\"n/a\")","v":"=1"},{"$f":"IF(ISNUMBER(aRoundedScores!U43),CONCATENATE(IF(COUNTIF(aRoundedScores!$P43:$AI43,aRoundedScores!U43)>1,\"=\",\"\"),RANK(aRoundedScores!U43,aRoundedScores!$P43:$AI43)),\"n/a\")","v":"=1"},{"$f":"IF(ISNUMBER(aRoundedScores!V43),CONCATENATE(IF(COUNTIF(aRoundedScores!$P43:$AI43,aRoundedScores!V43)>1,\"=\",\"\"),RANK(aRoundedScores!V43,aRoundedScores!$P43:$AI43)),\"n/a\")","v":"=1"},{"$f":"IF(ISNUMBER(aRoundedScores!W43),CONCATENATE(IF(COUNTIF(aRoundedScores!$P43:$AI43,aRoundedScores!W43)>1,\"=\",\"\"),RANK(aRoundedScores!W43,aRoundedScores!$P43:$AI43)),\"n/a\")","v":"=1"},{"$f":"IF(ISNUMBER(aRoundedScores!X43),CONCATENATE(IF(COUNTIF(aRoundedScores!$P43:$AI43,aRoundedScores!X43)>1,\"=\",\"\"),RANK(aRoundedScores!X43,aRoundedScores!$P43:$AI43)),\"n/a\")","v":"=1"},{"$f":"IF(ISNUMBER(aRoundedScores!Y43),CONCATENATE(IF(COUNTIF(aRoundedScores!$P43:$AI43,aRoundedScores!Y43)>1,\"=\",\"\"),RANK(aRoundedScores!Y43,aRoundedScores!$P43:$AI43)),\"n/a\")","v":"=1"},{"$f":"IF(ISNUMBER(aRoundedScores!Z43),CONCATENATE(IF(COUNTIF(aRoundedScores!$P43:$AI43,aRoundedScores!Z43)>1,\"=\",\"\"),RANK(aRoundedScores!Z43,aRoundedScores!$P43:$AI43)),\"n/a\")","v":"=1"},{"$f":"IF(ISNUMBER(aRoundedScores!AA43),CONCATENATE(IF(COUNTIF(aRoundedScores!$P43:$AI43,aRoundedScores!AA43)>1,\"=\",\"\"),RANK(aRoundedScores!AA43,aRoundedScores!$P43:$AI43)),\"n/a\")","v":"=1"},{"$f":"IF(ISNUMBER(aRoundedScores!AB43),CONCATENATE(IF(COUNTIF(aRoundedScores!$P43:$AI43,aRoundedScores!AB43)>1,\"=\",\"\"),RANK(aRoundedScores!AB43,aRoundedScores!$P43:$AI43)),\"n/a\")","v":"=1"},{"$f":"IF(ISNUMBER(aRoundedScores!AC43),CONCATENATE(IF(COUNTIF(aRoundedScores!$P43:$AI43,aRoundedScores!AC43)>1,\"=\",\"\"),RANK(aRoundedScores!AC43,aRoundedScores!$P43:$AI43)),\"n/a\")","v":"=1"},{"$f":"IF(ISNUMBER(aRoundedScores!AD43),CONCATENATE(IF(COUNTIF(aRoundedScores!$P43:$AI43,aRoundedScores!AD43)>1,\"=\",\"\"),RANK(aRoundedScores!AD43,aRoundedScores!$P43:$AI43)),\"n/a\")","v":"=1"},{"$f":"IF(ISNUMBER(aRoundedScores!AE43),CONCATENATE(IF(COUNTIF(aRoundedScores!$P43:$AI43,aRoundedScores!AE43)>1,\"=\",\"\"),RANK(aRoundedScores!AE43,aRoundedScores!$P43:$AI43)),\"n/a\")","v":"=1"},{"$f":"IF(ISNUMBER(aRoundedScores!AF43),CONCATENATE(IF(COUNTIF(aRoundedScores!$P43:$AI43,aRoundedScores!AF43)>1,\"=\",\"\"),RANK(aRoundedScores!AF43,aRoundedScores!$P43:$AI43)),\"n/a\")","v":"=1"},{"$f":"IF(ISNUMBER(aRoundedScores!AG43),CONCATENATE(IF(COUNTIF(aRoundedScores!$P43:$AI43,aRoundedScores!AG43)>1,\"=\",\"\"),RANK(aRoundedScores!AG43,aRoundedScores!$P43:$AI43)),\"n/a\")","v":"=1"},{"$f":"IF(ISNUMBER(aRoundedScores!AH43),CONCATENATE(IF(COUNTIF(aRoundedScores!$P43:$AI43,aRoundedScores!AH43)>1,\"=\",\"\"),RANK(aRoundedScores!AH43,aRoundedScores!$P43:$AI43)),\"n/a\")","v":"=1"},{"$f":"IF(ISNUMBER(aRoundedScores!AI43),CONCATENATE(IF(COUNTIF(aRoundedScores!$P43:$AI43,aRoundedScores!AI43)>1,\"=\",\"\"),RANK(aRoundedScores!AI43,aRoundedScores!$P43:$AI43)),\"n/a\")","v":"=1"}]
[null,"3.2) Regulatory standards for water pollution",null,{"$f":"IF(ISNUMBER(aRoundedScores!P44),CONCATENATE(IF(COUNTIF(aRoundedScores!$P44:$AI44,aRoundedScores!P44)>1,\"=\",\"\"),RANK(aRoundedScores!P44,aRoundedScores!$P44:$AI44)),\"n/a\")","v":"14"},{"$f":"IF(ISNUMBER(aRoundedScores!Q44),CONCATENATE(IF(COUNTIF(aRoundedScores!$P44:$AI44,aRoundedScores!Q44)>1,\"=\",\"\"),RANK(aRoundedScores!Q44,aRoundedScores!$P44:$AI44)),\"n/a\")","v":"=2"},{"$f":"IF(ISNUMBER(aRoundedScores!R44),CONCATENATE(IF(COUNTIF(aRoundedScores!$P44:$AI44,aRoundedScores!R44)>1,\"=\",\"\"),RANK(aRoundedScores!R44,aRoundedScores!$P44:$AI44)),\"n/a\")","v":"8"},{"$f":"IF(ISNUMBER(aRoundedScores!S44),CONCATENATE(IF(COUNTIF(aRoundedScores!$P44:$AI44,aRoundedScores!S44)>1,\"=\",\"\"),RANK(aRoundedScores!S44,aRoundedScores!$P44:$AI44)),\"n/a\")","v":"19"},{"$f":"IF(ISNUMBER(aRoundedScores!T44),CONCATENATE(IF(COUNTIF(aRoundedScores!$P44:$AI44,aRoundedScores!T44)>1,\"=\",\"\"),RANK(aRoundedScores!T44,aRoundedScores!$P44:$AI44)),\"n/a\")","v":"=2"},{"$f":"IF(ISNUMBER(aRoundedScores!U44),CONCATENATE(IF(COUNTIF(aRoundedScores!$P44:$AI44,aRoundedScores!U44)>1,\"=\",\"\"),RANK(aRoundedScores!U44,aRoundedScores!$P44:$AI44)),\"n/a\")","v":"13"},{"$f":"IF(ISNUMBER(aRoundedScores!V44),CONCATENATE(IF(COUNTIF(aRoundedScores!$P44:$AI44,aRoundedScores!V44)>1,\"=\",\"\"),RANK(aRoundedScores!V44,aRoundedScores!$P44:$AI44)),\"n/a\")","v":"=16"},{"$f":"IF(ISNUMBER(aRoundedScores!W44),CONCATENATE(IF(COUNTIF(aRoundedScores!$P44:$AI44,aRoundedScores!W44)>1,\"=\",\"\"),RANK(aRoundedScores!W44,aRoundedScores!$P44:$AI44)),\"n/a\")","v":"7"},{"$f":"IF(ISNUMBER(aRoundedScores!X44),CONCATENATE(IF(COUNTIF(aRoundedScores!$P44:$AI44,aRoundedScores!X44)>1,\"=\",\"\"),RANK(aRoundedScores!X44,aRoundedScores!$P44:$AI44)),\"n/a\")","v":"10"},{"$f":"IF(ISNUMBER(aRoundedScores!Y44),CONCATENATE(IF(COUNTIF(aRoundedScores!$P44:$AI44,aRoundedScores!Y44)>1,\"=\",\"\"),RANK(aRoundedScores!Y44,aRoundedScores!$P44:$AI44)),\"n/a\")","v":"=2"},{"$f":"IF(ISNUMBER(aRoundedScores!Z44),CONCATENATE(IF(COUNTIF(aRoundedScores!$P44:$AI44,aRoundedScores!Z44)>1,\"=\",\"\"),RANK(aRoundedScores!Z44,aRoundedScores!$P44:$AI44)),\"n/a\")","v":"=16"},{"$f":"IF(ISNUMBER(aRoundedScores!AA44),CONCATENATE(IF(COUNTIF(aRoundedScores!$P44:$AI44,aRoundedScores!AA44)>1,\"=\",\"\"),RANK(aRoundedScores!AA44,aRoundedScores!$P44:$AI44)),\"n/a\")","v":"6"},{"$f":"IF(ISNUMBER(aRoundedScores!AB44),CONCATENATE(IF(COUNTIF(aRoundedScores!$P44:$AI44,aRoundedScores!AB44)>1,\"=\",\"\"),RANK(aRoundedScores!AB44,aRoundedScores!$P44:$AI44)),\"n/a\")","v":"12"},{"$f":"IF(ISNUMBER(aRoundedScores!AC44),CONCATENATE(IF(COUNTIF(aRoundedScores!$P44:$AI44,aRoundedScores!AC44)>1,\"=\",\"\"),RANK(aRoundedScores!AC44,aRoundedScores!$P44:$AI44)),\"n/a\")","v":"18"},{"$f":"IF(ISNUMBER(aRoundedScores!AD44),CONCATENATE(IF(COUNTIF(aRoundedScores!$P44:$AI44,aRoundedScores!AD44)>1,\"=\",\"\"),RANK(aRoundedScores!AD44,aRoundedScores!$P44:$AI44)),\"n/a\")","v":"20"},{"$f":"IF(ISNUMBER(aRoundedScores!AE44),CONCATENATE(IF(COUNTIF(aRoundedScores!$P44:$AI44,aRoundedScores!AE44)>1,\"=\",\"\"),RANK(aRoundedScores!AE44,aRoundedScores!$P44:$AI44)),\"n/a\")","v":"11"},{"$f":"IF(ISNUMBER(aRoundedScores!AF44),CONCATENATE(IF(COUNTIF(aRoundedScores!$P44:$AI44,aRoundedScores!AF44)>1,\"=\",\"\"),RANK(aRoundedScores!AF44,aRoundedScores!$P44:$AI44)),\"n/a\")","v":"=2"},{"$f":"IF(ISNUMBER(aRoundedScores!AG44),CONCATENATE(IF(COUNTIF(aRoundedScores!$P44:$AI44,aRoundedScores!AG44)>1,\"=\",\"\"),RANK(aRoundedScores!AG44,aRoundedScores!$P44:$AI44)),\"n/a\")","v":"1"},{"$f":"IF(ISNUMBER(aRoundedScores!AH44),CONCATENATE(IF(COUNTIF(aRoundedScores!$P44:$AI44,aRoundedScores!AH44)>1,\"=\",\"\"),RANK(aRoundedScores!AH44,aRoundedScores!$P44:$AI44)),\"n/a\")","v":"9"},{"$f":"IF(ISNUMBER(aRoundedScores!AI44),CONCATENATE(IF(COUNTIF(aRoundedScores!$P44:$AI44,aRoundedScores!AI44)>1,\"=\",\"\"),RANK(aRoundedScores!AI44,aRoundedScores!$P44:$AI44)),\"n/a\")","v":"15"}]
[null,"3.2.1) Standards for point source pollution",null,{"$f":"IF(ISNUMBER(aRoundedScores!P45),CONCATENATE(IF(COUNTIF(aRoundedScores!$P45:$AI45,aRoundedScores!P45)>1,\"=\",\"\"),RANK(aRoundedScores!P45,aRoundedScores!$P45:$AI45)),\"n/a\")","v":"=1"},{"$f":"IF(ISNUMBER(aRoundedScores!Q45),CONCATENATE(IF(COUNTIF(aRoundedScores!$P45:$AI45,aRoundedScores!Q45)>1,\"=\",\"\"),RANK(aRoundedScores!Q45,aRoundedScores!$P45:$AI45)),\"n/a\")","v":"=1"},{"$f":"IF(ISNUMBER(aRoundedScores!R45),CONCATENATE(IF(COUNTIF(aRoundedScores!$P45:$AI45,aRoundedScores!R45)>1,\"=\",\"\"),RANK(aRoundedScores!R45,aRoundedScores!$P45:$AI45)),\"n/a\")","v":"=1"},{"$f":"IF(ISNUMBER(aRoundedScores!S45),CONCATENATE(IF(COUNTIF(aRoundedScores!$P45:$AI45,aRoundedScores!S45)>1,\"=\",\"\"),RANK(aRoundedScores!S45,aRoundedScores!$P45:$AI45)),\"n/a\")","v":"=1"},{"$f":"IF(ISNUMBER(aRoundedScores!T45),CONCATENATE(IF(COUNTIF(aRoundedScores!$P45:$AI45,aRoundedScores!T45)>1,\"=\",\"\"),RANK(aRoundedScores!T45,aRoundedScores!$P45:$AI45)),\"n/a\")","v":"=1"},{"$f":"IF(ISNUMBER(aRoundedScores!U45),CONCATENATE(IF(COUNTIF(aRoundedScores!$P45:$AI45,aRoundedScores!U45)>1,\"=\",\"\"),RANK(aRoundedScores!U45,aRoundedScores!$P45:$AI45)),\"n/a\")","v":"=1"},{"$f":"IF(ISNUMBER(aRoundedScores!V45),CONCATENATE(IF(COUNTIF(aRoundedScores!$P45:$AI45,aRoundedScores!V45)>1,\"=\",\"\"),RANK(aRoundedScores!V45,aRoundedScores!$P45:$AI45)),\"n/a\")","v":"=1"},{"$f":"IF(ISNUMBER(aRoundedScores!W45),CONCATENATE(IF(COUNTIF(aRoundedScores!$P45:$AI45,aRoundedScores!W45)>1,\"=\",\"\"),RANK(aRoundedScores!W45,aRoundedScores!$P45:$AI45)),\"n/a\")","v":"=1"},{"$f":"IF(ISNUMBER(aRoundedScores!X45),CONCATENATE(IF(COUNTIF(aRoundedScores!$P45:$AI45,aRoundedScores!X45)>1,\"=\",\"\"),RANK(aRoundedScores!X45,aRoundedScores!$P45:$AI45)),\"n/a\")","v":"=1"},{"$f":"IF(ISNUMBER(aRoundedScores!Y45),CONCATENATE(IF(COUNTIF(aRoundedScores!$P45:$AI45,aRoundedScores!Y45)>1,\"=\",\"\"),RANK(aRoundedScores!Y45,aRoundedScores!$P45:$AI45)),\"n/a\")","v":"=1"},{"$f":"IF(ISNUMBER(aRoundedScores!Z45),CONCATENATE(IF(COUNTIF(aRoundedScores!$P45:$AI45,aRoundedScores!Z45)>1,\"=\",\"\"),RANK(aRoundedScores!Z45,aRoundedScores!$P45:$AI45)),\"n/a\")","v":"=1"},{"$f":"IF(ISNUMBER(aRoundedScores!AA45),CONCATENATE(IF(COUNTIF(aRoundedScores!$P45:$AI45,aRoundedScores!AA45)>1,\"=\",\"\"),RANK(aRoundedScores!AA45,aRoundedScores!$P45:$AI45)),\"n/a\")","v":"=1"},{"$f":"IF(ISNUMBER(aRoundedScores!AB45),CONCATENATE(IF(COUNTIF(aRoundedScores!$P45:$AI45,aRoundedScores!AB45)>1,\"=\",\"\"),RANK(aRoundedScores!AB45,aRoundedScores!$P45:$AI45)),\"n/a\")","v":"=1"},{"$f":"IF(ISNUMBER(aRoundedScores!AC45),CONCATENATE(IF(COUNTIF(aRoundedScores!$P45:$AI45,aRoundedScores!AC45)>1,\"=\",\"\"),RANK(aRoundedScores!AC45,aRoundedScores!$P45:$AI45)),\"n/a\")","v":"=1"},{"$f":"IF(ISNUMBER(aRoundedScores!AD45),CONCATENATE(IF(COUNTIF(aRoundedScores!$P45:$AI45,aRoundedScores!AD45)>1,\"=\",\"\"),RANK(aRoundedScores!AD45,aRoundedScores!$P45:$AI45)),\"n/a\")","v":"=1"},{"$f":"IF(ISNUMBER(aRoundedScores!AE45),CONCATENATE(IF(COUNTIF(aRoundedScores!$P45:$AI45,aRoundedScores!AE45)>1,\"=\",\"\"),RANK(aRoundedScores!AE45,aRoundedScores!$P45:$AI45)),\"n/a\")","v":"=1"},{"$f":"IF(ISNUMBER(aRoundedScores!AF45),CONCATENATE(IF(COUNTIF(aRoundedScores!$P45:$AI45,aRoundedScores!AF45)>1,\"=\",\"\"),RANK(aRoundedScores!AF45,aRoundedScores!$P45:$AI45)),\"n/a\")","v":"=1"},{"$f":"IF(ISNUMBER(aRoundedScores!AG45),CONCATENATE(IF(COUNTIF(aRoundedScores!$P45:$AI45,aRoundedScores!AG45)>1,\"=\",\"\"),RANK(aRoundedScores!AG45,aRoundedScores!$P45:$AI45)),\"n/a\")","v":"=1"},{"$f":"IF(ISNUMBER(aRoundedScores!AH45),CONCATENATE(IF(COUNTIF(aRoundedScores!$P45:$AI45,aRoundedScores!AH45)>1,\"=\",\"\"),RANK(aRoundedScores!AH45,aRoundedScores!$P45:$AI45)),\"n/a\")","v":"=1"},{"$f":"IF(ISNUMBER(aRoundedScores!AI45),CONCATENATE(IF(COUNTIF(aRoundedScores!$P45:$AI45,aRoundedScores!AI45)>1,\"=\",\"\"),RANK(aRoundedScores!AI45,aRoundedScores!$P45:$AI45)),\"n/a\")","v":"=1"}]
[null,"3.2.2) Restrictions on \"Dirty Dozen\" persistent pollutants",null,{"$f":"IF(ISNUMBER(aRoundedScores!P46),CONCATENATE(IF(COUNTIF(aRoundedScores!$P46:$AI46,aRoundedScores!P46)>1,\"=\",\"\"),RANK(aRoundedScores!P46,aRoundedScores!$P46:$AI46)),\"n/a\")","v":"=10"},{"$f":"IF(ISNUMBER(aRoundedScores!Q46),CONCATENATE(IF(COUNTIF(aRoundedScores!$P46:$AI46,aRoundedScores!Q46)>1,\"=\",\"\"),RANK(aRoundedScores!Q46,aRoundedScores!$P46:$AI46)),\"n/a\")","v":"=1"},{"$f":"IF(ISNUMBER(aRoundedScores!R46),CONCATENATE(IF(COUNTIF(aRoundedScores!$P46:$AI46,aRoundedScores!R46)>1,\"=\",\"\"),RANK(aRoundedScores!R46,aRoundedScores!$P46:$AI46)),\"n/a\")","v":"=3"},{"$f":"IF(ISNUMBER(aRoundedScores!S46),CONCATENATE(IF(COUNTIF(aRoundedScores!$P46:$AI46,aRoundedScores!S46)>1,\"=\",\"\"),RANK(aRoundedScores!S46,aRoundedScores!$P46:$AI46)),\"n/a\")","v":"19"},{"$f":"IF(ISNUMBER(aRoundedScores!T46),CONCATENATE(IF(COUNTIF(aRoundedScores!$P46:$AI46,aRoundedScores!T46)>1,\"=\",\"\"),RANK(aRoundedScores!T46,aRoundedScores!$P46:$AI46)),\"n/a\")","v":"=3"},{"$f":"IF(ISNUMBER(aRoundedScores!U46),CONCATENATE(IF(COUNTIF(aRoundedScores!$P46:$AI46,aRoundedScores!U46)>1,\"=\",\"\"),RANK(aRoundedScores!U46,aRoundedScores!$P46:$AI46)),\"n/a\")","v":"=3"},{"$f":"IF(ISNUMBER(aRoundedScores!V46),CONCATENATE(IF(COUNTIF(aRoundedScores!$P46:$AI46,aRoundedScores!V46)>1,\"=\",\"\"),RANK(aRoundedScores!V46,aRoundedScores!$P46:$AI46)),\"n/a\")","v":"=13"},{"$f":"IF(ISNUMBER(aRoundedScores!W46),CONCATENATE(IF(COUNTIF(aRoundedScores!$P46:$AI46,aRoundedScores!W46)>1,\"=\",\"\"),RANK(aRoundedScores!W46,aRoundedScores!$P46:$AI46)),\"n/a\")","v":"=3"},{"$f":"IF(ISNUMBER(aRoundedScores!X46),CONCATENATE(IF(COUNTIF(aRoundedScores!$P46:$AI46,aRoundedScores!X46)>1,\"=\",\"\"),RANK(aRoundedScores!X46,aRoundedScores!$P46:$AI46)),\"n/a\")","v":"=16"},{"$f":"IF(ISNUMBER(aRoundedScores!Y46),CONCATENATE(IF(COUNTIF(aRoundedScores!$P46:$AI46,aRoundedScores!Y46)>1,\"=\",\"\"),RANK(aRoundedScores!Y46,aRoundedScores!$P46:$AI46)),\"n/a\")","v":"=1"},{"$f":"IF(ISNUMBER(aRoundedScores!Z46),CONCATENATE(IF(COUNTIF(aRoundedScores!$P46:$AI46,aRoundedScores!Z46)>1,\"=\",\"\"),RANK(aRoundedScores!Z46,aRoundedScores!$P46:$AI46)),\"n/a\")","v":"=13"},{"$f":"IF(ISNUMBER(aRoundedScores!AA46),CONCATENATE(IF(COUNTIF(aRoundedScores!$P46:$AI46,aRoundedScores!AA46)>1,\"=\",\"\"),RANK(aRoundedScores!AA46,aRoundedScores!$P46:$AI46)),\"n/a\")","v":"=3"},{"$f":"IF(ISNUMBER(aRoundedScores!AB46),CONCATENATE(IF(COUNTIF(aRoundedScores!$P46:$AI46,aRoundedScores!AB46)>1,\"=\",\"\"),RANK(aRoundedScores!AB46,aRoundedScores!$P46:$AI46)),\"n/a\")","v":"=13"},{"$f":"IF(ISNUMBER(aRoundedScores!AC46),CONCATENATE(IF(COUNTIF(aRoundedScores!$P46:$AI46,aRoundedScores!AC46)>1,\"=\",\"\"),RANK(aRoundedScores!AC46,aRoundedScores!$P46:$AI46)),\"n/a\")","v":"18"},{"$f":"IF(ISNUMBER(aRoundedScores!AD46),CONCATENATE(IF(COUNTIF(aRoundedScores!$P46:$AI46,aRoundedScores!AD46)>1,\"=\",\"\"),RANK(aRoundedScores!AD46,aRoundedScores!$P46:$AI46)),\"n/a\")","v":"20"},{"$f":"IF(ISNUMBER(aRoundedScores!AE46),CONCATENATE(IF(COUNTIF(aRoundedScores!$P46:$AI46,aRoundedScores!AE46)>1,\"=\",\"\"),RANK(aRoundedScores!AE46,aRoundedScores!$P46:$AI46)),\"n/a\")","v":"=10"},{"$f":"IF(ISNUMBER(aRoundedScores!AF46),CONCATENATE(IF(COUNTIF(aRoundedScores!$P46:$AI46,aRoundedScores!AF46)>1,\"=\",\"\"),RANK(aRoundedScores!AF46,aRoundedScores!$P46:$AI46)),\"n/a\")","v":"=3"},{"$f":"IF(ISNUMBER(aRoundedScores!AG46),CONCATENATE(IF(COUNTIF(aRoundedScores!$P46:$AI46,aRoundedScores!AG46)>1,\"=\",\"\"),RANK(aRoundedScores!AG46,aRoundedScores!$P46:$AI46)),\"n/a\")","v":"=3"},{"$f":"IF(ISNUMBER(aRoundedScores!AH46),CONCATENATE(IF(COUNTIF(aRoundedScores!$P46:$AI46,aRoundedScores!AH46)>1,\"=\",\"\"),RANK(aRoundedScores!AH46,aRoundedScores!$P46:$AI46)),\"n/a\")","v":"=16"},{"$f":"IF(ISNUMBER(aRoundedScores!AI46),CONCATENATE(IF(COUNTIF(aRoundedScores!$P46:$AI46,aRoundedScores!AI46)>1,\"=\",\"\"),RANK(aRoundedScores!AI46,aRoundedScores!$P46:$AI46)),\"n/a\")","v":"=10"}]
[null,"3.2.3) Wastewater treatment",null,{"$f":"IF(ISNUMBER(aRoundedScores!P47),CONCATENATE(IF(COUNTIF(aRoundedScores!$P47:$AI47,aRoundedScores!P47)>1,\"=\",\"\"),RANK(aRoundedScores!P47,aRoundedScores!$P47:$AI47)),\"n/a\")","v":"15"},{"$f":"IF(ISNUMBER(aRoundedScores!Q47),CONCATENATE(IF(COUNTIF(aRoundedScores!$P47:$AI47,aRoundedScores!Q47)>1,\"=\",\"\"),RANK(aRoundedScores!Q47,aRoundedScores!$P47:$AI47)),\"n/a\")","v":"4"},{"$f":"IF(ISNUMBER(aRoundedScores!R47),CONCATENATE(IF(COUNTIF(aRoundedScores!$P47:$AI47,aRoundedScores!R47)>1,\"=\",\"\"),RANK(aRoundedScores!R47,aRoundedScores!$P47:$AI47)),\"n/a\")","v":"8"},{"$f":"IF(ISNUMBER(aRoundedScores!S47),CONCATENATE(IF(COUNTIF(aRoundedScores!$P47:$AI47,aRoundedScores!S47)>1,\"=\",\"\"),RANK(aRoundedScores!S47,aRoundedScores!$P47:$AI47)),\"n/a\")","v":"14"},{"$f":"IF(ISNUMBER(aRoundedScores!T47),CONCATENATE(IF(COUNTIF(aRoundedScores!$P47:$AI47,aRoundedScores!T47)>1,\"=\",\"\"),RANK(aRoundedScores!T47,aRoundedScores!$P47:$AI47)),\"n/a\")","v":"=2"},{"$f":"IF(ISNUMBER(aRoundedScores!U47),CONCATENATE(IF(COUNTIF(aRoundedScores!$P47:$AI47,aRoundedScores!U47)>1,\"=\",\"\"),RANK(aRoundedScores!U47,aRoundedScores!$P47:$AI47)),\"n/a\")","v":"16"},{"$f":"IF(ISNUMBER(aRoundedScores!V47),CONCATENATE(IF(COUNTIF(aRoundedScores!$P47:$AI47,aRoundedScores!V47)>1,\"=\",\"\"),RANK(aRoundedScores!V47,aRoundedScores!$P47:$AI47)),\"n/a\")","v":"=19"},{"$f":"IF(ISNUMBER(aRoundedScores!W47),CONCATENATE(IF(COUNTIF(aRoundedScores!$P47:$AI47,aRoundedScores!W47)>1,\"=\",\"\"),RANK(aRoundedScores!W47,aRoundedScores!$P47:$AI47)),\"n/a\")","v":"7"},{"$f":"IF(ISNUMBER(aRoundedScores!X47),CONCATENATE(IF(COUNTIF(aRoundedScores!$P47:$AI47,aRoundedScores!X47)>1,\"=\",\"\"),RANK(aRoundedScores!X47,aRoundedScores!$P47:$AI47)),\"n/a\")","v":"10"},{"$f":"IF(ISNUMBER(aRoundedScores!Y47),CONCATENATE(IF(COUNTIF(aRoundedScores!$P47:$AI47,aRoundedScores!Y47)>1,\"=\",\"\"),RANK(aRoundedScores!Y47,aRoundedScores!$P47:$AI47)),\"n/a\")","v":"5"},{"$f":"IF(ISNUMBER(aRoundedScores!Z47),CONCATENATE(IF(COUNTIF(aRoundedScores!$P47:$AI47,aRoundedScores!Z47)>1,\"=\",\"\"),RANK(aRoundedScores!Z47,aRoundedScores!$P47:$AI47)),\"n/a\")","v":"=17"},{"$f":"IF(ISNUMBER(aRoundedScores!AA47),CONCATENATE(IF(COUNTIF(aRoundedScores!$P47:$AI47,aRoundedScores!AA47)>1,\"=\",\"\"),RANK(aRoundedScores!AA47,aRoundedScores!$P47:$AI47)),\"n/a\")","v":"6"},{"$f":"IF(ISNUMBER(aRoundedScores!AB47),CONCATENATE(IF(COUNTIF(aRoundedScores!$P47:$AI47,aRoundedScores!AB47)>1,\"=\",\"\"),RANK(aRoundedScores!AB47,aRoundedScores!$P47:$AI47)),\"n/a\")","v":"13"},{"$f":"IF(ISNUMBER(aRoundedScores!AC47),CONCATENATE(IF(COUNTIF(aRoundedScores!$P47:$AI47,aRoundedScores!AC47)>1,\"=\",\"\"),RANK(aRoundedScores!AC47,aRoundedScores!$P47:$AI47)),\"n/a\")","v":"=17"},{"$f":"IF(ISNUMBER(aRoundedScores!AD47),CONCATENATE(IF(COUNTIF(aRoundedScores!$P47:$AI47,aRoundedScores!AD47)>1,\"=\",\"\"),RANK(aRoundedScores!AD47,aRoundedScores!$P47:$AI47)),\"n/a\")","v":"12"},{"$f":"IF(ISNUMBER(aRoundedScores!AE47),CONCATENATE(IF(COUNTIF(aRoundedScores!$P47:$AI47,aRoundedScores!AE47)>1,\"=\",\"\"),RANK(aRoundedScores!AE47,aRoundedScores!$P47:$AI47)),\"n/a\")","v":"11"},{"$f":"IF(ISNUMBER(aRoundedScores!AF47),CONCATENATE(IF(COUNTIF(aRoundedScores!$P47:$AI47,aRoundedScores!AF47)>1,\"=\",\"\"),RANK(aRoundedScores!AF47,aRoundedScores!$P47:$AI47)),\"n/a\")","v":"=2"},{"$f":"IF(ISNUMBER(aRoundedScores!AG47),CONCATENATE(IF(COUNTIF(aRoundedScores!$P47:$AI47,aRoundedScores!AG47)>1,\"=\",\"\"),RANK(aRoundedScores!AG47,aRoundedScores!$P47:$AI47)),\"n/a\")","v":"1"},{"$f":"IF(ISNUMBER(aRoundedScores!AH47),CONCATENATE(IF(COUNTIF(aRoundedScores!$P47:$AI47,aRoundedScores!AH47)>1,\"=\",\"\"),RANK(aRoundedScores!AH47,aRoundedScores!$P47:$AI47)),\"n/a\")","v":"9"},{"$f":"IF(ISNUMBER(aRoundedScores!AI47),CONCATENATE(IF(COUNTIF(aRoundedScores!$P47:$AI47,aRoundedScores!AI47)>1,\"=\",\"\"),RANK(aRoundedScores!AI47,aRoundedScores!$P47:$AI47)),\"n/a\")","v":"=19"}]
[null,"3.3) Monitoring and enforcement",null,{"$f":"IF(ISNUMBER(aRoundedScores!P48),CONCATENATE(IF(COUNTIF(aRoundedScores!$P48:$AI48,aRoundedScores!P48)>1,\"=\",\"\"),RANK(aRoundedScores!P48,aRoundedScores!$P48:$AI48)),\"n/a\")","v":"=1"},{"$f":"IF(ISNUMBER(aRoundedScores!Q48),CONCATENATE(IF(COUNTIF(aRoundedScores!$P48:$AI48,aRoundedScores!Q48)>1,\"=\",\"\"),RANK(aRoundedScores!Q48,aRoundedScores!$P48:$AI48)),\"n/a\")","v":"=1"},{"$f":"IF(ISNUMBER(aRoundedScores!R48),CONCATENATE(IF(COUNTIF(aRoundedScores!$P48:$AI48,aRoundedScores!R48)>1,\"=\",\"\"),RANK(aRoundedScores!R48,aRoundedScores!$P48:$AI48)),\"n/a\")","v":"=1"},{"$f":"IF(ISNUMBER(aRoundedScores!S48),CONCATENATE(IF(COUNTIF(aRoundedScores!$P48:$AI48,aRoundedScores!S48)>1,\"=\",\"\"),RANK(aRoundedScores!S48,aRoundedScores!$P48:$AI48)),\"n/a\")","v":"=13"},{"$f":"IF(ISNUMBER(aRoundedScores!T48),CONCATENATE(IF(COUNTIF(aRoundedScores!$P48:$AI48,aRoundedScores!T48)>1,\"=\",\"\"),RANK(aRoundedScores!T48,aRoundedScores!$P48:$AI48)),\"n/a\")","v":"=1"},{"$f":"IF(ISNUMBER(aRoundedScores!U48),CONCATENATE(IF(COUNTIF(aRoundedScores!$P48:$AI48,aRoundedScores!U48)>1,\"=\",\"\"),RANK(aRoundedScores!U48,aRoundedScores!$P48:$AI48)),\"n/a\")","v":"=1"},{"$f":"IF(ISNUMBER(aRoundedScores!V48),CONCATENATE(IF(COUNTIF(aRoundedScores!$P48:$AI48,aRoundedScores!V48)>1,\"=\",\"\"),RANK(aRoundedScores!V48,aRoundedScores!$P48:$AI48)),\"n/a\")","v":"=1"},{"$f":"IF(ISNUMBER(aRoundedScores!W48),CONCATENATE(IF(COUNTIF(aRoundedScores!$P48:$AI48,aRoundedScores!W48)>1,\"=\",\"\"),RANK(aRoundedScores!W48,aRoundedScores!$P48:$AI48)),\"n/a\")","v":"=1"},{"$f":"IF(ISNUMBER(aRoundedScores!X48),CONCATENATE(IF(COUNTIF(aRoundedScores!$P48:$AI48,aRoundedScores!X48)>1,\"=\",\"\"),RANK(aRoundedScores!X48,aRoundedScores!$P48:$AI48)),\"n/a\")","v":"=1"},{"$f":"IF(ISNUMBER(aRoundedScores!Y48),CONCATENATE(IF(COUNTIF(aRoundedScores!$P48:$AI48,aRoundedScores!Y48)>1,\"=\",\"\"),RANK(aRoundedScores!Y48,aRoundedScores!$P48:$AI48)),\"n/a\")","v":"=1"},{"$f":"IF(ISNUMBER(aRoundedScores!Z48),CONCATENATE(IF(COUNTIF(aRoundedScores!$P48:$AI48,aRoundedScores!Z48)>1,\"=\",\"\"),RANK(aRoundedScores!Z48,aRoundedScores!$P48:$AI48)),\"n/a\")","v":"=18"},{"$f":"IF(ISNUMBER(aRoundedScores!AA48),CONCATENATE(IF(COUNTIF(aRoundedScores!$P48:$AI48,aRoundedScores!AA48)>1,\"=\",\"\"),RANK(aRoundedScores!AA48,aRoundedScores!$P48:$AI48)),\"n/a\")","v":"=13"},{"$f":"IF(ISNUMBER(aRoundedScores!AB48),CONCATENATE(IF(COUNTIF(aRoundedScores!$P48:$AI48,aRoundedScores!AB48)>1,\"=\",\"\"),RANK(aRoundedScores!AB48,aRoundedScores!$P48:$AI48)),\"n/a\")","v":"=1"},{"$f":"IF(ISNUMBER(aRoundedScores!AC48),CONCATENATE(IF(COUNTIF(aRoundedScores!$P48:$AI48,aRoundedScores!AC48)>1,\"=\",\"\"),RANK(aRoundedScores!AC48,aRoundedScores!$P48:$AI48)),\"n/a\")","v":"=18"},{"$f":"IF(ISNUMBER(aRoundedScores!AD48),CONCATENATE(IF(COUNTIF(aRoundedScores!$P48:$AI48,aRoundedScores!AD48)>1,\"=\",\"\"),RANK(aRoundedScores!AD48,aRoundedScores!$P48:$AI48)),\"n/a\")","v":"=18"},{"$f":"IF(ISNUMBER(aRoundedScores!AE48),CONCATENATE(IF(COUNTIF(aRoundedScores!$P48:$AI48,aRoundedScores!AE48)>1,\"=\",\"\"),RANK(aRoundedScores!AE48,aRoundedScores!$P48:$AI48)),\"n/a\")","v":"=13"},{"$f":"IF(ISNUMBER(aRoundedScores!AF48),CONCATENATE(IF(COUNTIF(aRoundedScores!$P48:$AI48,aRoundedScores!AF48)>1,\"=\",\"\"),RANK(aRoundedScores!AF48,aRoundedScores!$P48:$AI48)),\"n/a\")","v":"=13"},{"$f":"IF(ISNUMBER(aRoundedScores!AG48),CONCATENATE(IF(COUNTIF(aRoundedScores!$P48:$AI48,aRoundedScores!AG48)>1,\"=\",\"\"),RANK(aRoundedScores!AG48,aRoundedScores!$P48:$AI48)),\"n/a\")","v":"=13"},{"$f":"IF(ISNUMBER(aRoundedScores!AH48),CONCATENATE(IF(COUNTIF(aRoundedScores!$P48:$AI48,aRoundedScores!AH48)>1,\"=\",\"\"),RANK(aRoundedScores!AH48,aRoundedScores!$P48:$AI48)),\"n/a\")","v":"=1"},{"$f":"IF(ISNUMBER(aRoundedScores!AI48),CONCATENATE(IF(COUNTIF(aRoundedScores!$P48:$AI48,aRoundedScores!AI48)>1,\"=\",\"\"),RANK(aRoundedScores!AI48,aRoundedScores!$P48:$AI48)),\"n/a\")","v":"=1"}]
[null,"3.3.1) Coastal water quality data",null,{"$f":"IF(ISNUMBER(aRoundedScores!P49),CONCATENATE(IF(COUNTIF(aRoundedScores!$P49:$AI49,aRoundedScores!P49)>1,\"=\",\"\"),RANK(aRoundedScores!P49,aRoundedScores!$P49:$AI49)),\"n/a\")","v":"=1"},{"$f":"IF(ISNUMBER(aRoundedScores!Q49),CONCATENATE(IF(COUNTIF(aRoundedScores!$P49:$AI49,aRoundedScores!Q49)>1,\"=\",\"\"),RANK(aRoundedScores!Q49,aRoundedScores!$P49:$AI49)),\"n/a\")","v":"=1"},{"$f":"IF(ISNUMBER(aRoundedScores!R49),CONCATENATE(IF(COUNTIF(aRoundedScores!$P49:$AI49,aRoundedScores!R49)>1,\"=\",\"\"),RANK(aRoundedScores!R49,aRoundedScores!$P49:$AI49)),\"n/a\")","v":"=1"},{"$f":"IF(ISNUMBER(aRoundedScores!S49),CONCATENATE(IF(COUNTIF(aRoundedScores!$P49:$AI49,aRoundedScores!S49)>1,\"=\",\"\"),RANK(aRoundedScores!S49,aRoundedScores!$P49:$AI49)),\"n/a\")","v":"=13"},{"$f":"IF(ISNUMBER(aRoundedScores!T49),CONCATENATE(IF(COUNTIF(aRoundedScores!$P49:$AI49,aRoundedScores!T49)>1,\"=\",\"\"),RANK(aRoundedScores!T49,aRoundedScores!$P49:$AI49)),\"n/a\")","v":"=1"},{"$f":"IF(ISNUMBER(aRoundedScores!U49),CONCATENATE(IF(COUNTIF(aRoundedScores!$P49:$AI49,aRoundedScores!U49)>1,\"=\",\"\"),RANK(aRoundedScores!U49,aRoundedScores!$P49:$AI49)),\"n/a\")","v":"=1"},{"$f":"IF(ISNUMBER(aRoundedScores!V49),CONCATENATE(IF(COUNTIF(aRoundedScores!$P49:$AI49,aRoundedScores!V49)>1,\"=\",\"\"),RANK(aRoundedScores!V49,aRoundedScores!$P49:$AI49)),\"n/a\")","v":"=1"},{"$f":"IF(ISNUMBER(aRoundedScores!W49),CONCATENATE(IF(COUNTIF(aRoundedScores!$P49:$AI49,aRoundedScores!W49)>1,\"=\",\"\"),RANK(aRoundedScores!W49,aRoundedScores!$P49:$AI49)),\"n/a\")","v":"=1"},{"$f":"IF(ISNUMBER(aRoundedScores!X49),CONCATENATE(IF(COUNTIF(aRoundedScores!$P49:$AI49,aRoundedScores!X49)>1,\"=\",\"\"),RANK(aRoundedScores!X49,aRoundedScores!$P49:$AI49)),\"n/a\")","v":"=1"},{"$f":"IF(ISNUMBER(aRoundedScores!Y49),CONCATENATE(IF(COUNTIF(aRoundedScores!$P49:$AI49,aRoundedScores!Y49)>1,\"=\",\"\"),RANK(aRoundedScores!Y49,aRoundedScores!$P49:$AI49)),\"n/a\")","v":"=1"},{"$f":"IF(ISNUMBER(aRoundedScores!Z49),CONCATENATE(IF(COUNTIF(aRoundedScores!$P49:$AI49,aRoundedScores!Z49)>1,\"=\",\"\"),RANK(aRoundedScores!Z49,aRoundedScores!$P49:$AI49)),\"n/a\")","v":"=18"},{"$f":"IF(ISNUMBER(aRoundedScores!AA49),CONCATENATE(IF(COUNTIF(aRoundedScores!$P49:$AI49,aRoundedScores!AA49)>1,\"=\",\"\"),RANK(aRoundedScores!AA49,aRoundedScores!$P49:$AI49)),\"n/a\")","v":"=13"},{"$f":"IF(ISNUMBER(aRoundedScores!AB49),CONCATENATE(IF(COUNTIF(aRoundedScores!$P49:$AI49,aRoundedScores!AB49)>1,\"=\",\"\"),RANK(aRoundedScores!AB49,aRoundedScores!$P49:$AI49)),\"n/a\")","v":"=1"},{"$f":"IF(ISNUMBER(aRoundedScores!AC49),CONCATENATE(IF(COUNTIF(aRoundedScores!$P49:$AI49,aRoundedScores!AC49)>1,\"=\",\"\"),RANK(aRoundedScores!AC49,aRoundedScores!$P49:$AI49)),\"n/a\")","v":"=18"},{"$f":"IF(ISNUMBER(aRoundedScores!AD49),CONCATENATE(IF(COUNTIF(aRoundedScores!$P49:$AI49,aRoundedScores!AD49)>1,\"=\",\"\"),RANK(aRoundedScores!AD49,aRoundedScores!$P49:$AI49)),\"n/a\")","v":"=18"},{"$f":"IF(ISNUMBER(aRoundedScores!AE49),CONCATENATE(IF(COUNTIF(aRoundedScores!$P49:$AI49,aRoundedScores!AE49)>1,\"=\",\"\"),RANK(aRoundedScores!AE49,aRoundedScores!$P49:$AI49)),\"n/a\")","v":"=13"},{"$f":"IF(ISNUMBER(aRoundedScores!AF49),CONCATENATE(IF(COUNTIF(aRoundedScores!$P49:$AI49,aRoundedScores!AF49)>1,\"=\",\"\"),RANK(aRoundedScores!AF49,aRoundedScores!$P49:$AI49)),\"n/a\")","v":"=13"},{"$f":"IF(ISNUMBER(aRoundedScores!AG49),CONCATENATE(IF(COUNTIF(aRoundedScores!$P49:$AI49,aRoundedScores!AG49)>1,\"=\",\"\"),RANK(aRoundedScores!AG49,aRoundedScores!$P49:$AI49)),\"n/a\")","v":"=13"},{"$f":"IF(ISNUMBER(aRoundedScores!AH49),CONCATENATE(IF(COUNTIF(aRoundedScores!$P49:$AI49,aRoundedScores!AH49)>1,\"=\",\"\"),RANK(aRoundedScores!AH49,aRoundedScores!$P49:$AI49)),\"n/a\")","v":"=1"},{"$f":"IF(ISNUMBER(aRoundedScores!AI49),CONCATENATE(IF(COUNTIF(aRoundedScores!$P49:$AI49,aRoundedScores!AI49)>1,\"=\",\"\"),RANK(aRoundedScores!AI49,aRoundedScores!$P49:$AI49)),\"n/a\")","v":"=1"}]
[null,"3.3.2) Penalties for water quality violations ",null,{"$f":"IF(ISNUMBER(aRoundedScores!P50),CONCATENATE(IF(COUNTIF(aRoundedScores!$P50:$AI50,aRoundedScores!P50)>1,\"=\",\"\"),RANK(aRoundedScores!P50,aRoundedScores!$P50:$AI50)),\"n/a\")","v":"=1"},{"$f":"IF(ISNUMBER(aRoundedScores!Q50),CONCATENATE(IF(COUNTIF(aRoundedScores!$P50:$AI50,aRoundedScores!Q50)>1,\"=\",\"\"),RANK(aRoundedScores!Q50,aRoundedScores!$P50:$AI50)),\"n/a\")","v":"=1"},{"$f":"IF(ISNUMBER(aRoundedScores!R50),CONCATENATE(IF(COUNTIF(aRoundedScores!$P50:$AI50,aRoundedScores!R50)>1,\"=\",\"\"),RANK(aRoundedScores!R50,aRoundedScores!$P50:$AI50)),\"n/a\")","v":"=1"},{"$f":"IF(ISNUMBER(aRoundedScores!S50),CONCATENATE(IF(COUNTIF(aRoundedScores!$P50:$AI50,aRoundedScores!S50)>1,\"=\",\"\"),RANK(aRoundedScores!S50,aRoundedScores!$P50:$AI50)),\"n/a\")","v":"=1"},{"$f":"IF(ISNUMBER(aRoundedScores!T50),CONCATENATE(IF(COUNTIF(aRoundedScores!$P50:$AI50,aRoundedScores!T50)>1,\"=\",\"\"),RANK(aRoundedScores!T50,aRoundedScores!$P50:$AI50)),\"n/a\")","v":"=1"},{"$f":"IF(ISNUMBER(aRoundedScores!U50),CONCATENATE(IF(COUNTIF(aRoundedScores!$P50:$AI50,aRoundedScores!U50)>1,\"=\",\"\"),RANK(aRoundedScores!U50,aRoundedScores!$P50:$AI50)),\"n/a\")","v":"=1"},{"$f":"IF(ISNUMBER(aRoundedScores!V50),CONCATENATE(IF(COUNTIF(aRoundedScores!$P50:$AI50,aRoundedScores!V50)>1,\"=\",\"\"),RANK(aRoundedScores!V50,aRoundedScores!$P50:$AI50)),\"n/a\")","v":"=1"},{"$f":"IF(ISNUMBER(aRoundedScores!W50),CONCATENATE(IF(COUNTIF(aRoundedScores!$P50:$AI50,aRoundedScores!W50)>1,\"=\",\"\"),RANK(aRoundedScores!W50,aRoundedScores!$P50:$AI50)),\"n/a\")","v":"=1"},{"$f":"IF(ISNUMBER(aRoundedScores!X50),CONCATENATE(IF(COUNTIF(aRoundedScores!$P50:$AI50,aRoundedScores!X50)>1,\"=\",\"\"),RANK(aRoundedScores!X50,aRoundedScores!$P50:$AI50)),\"n/a\")","v":"=1"},{"$f":"IF(ISNUMBER(aRoundedScores!Y50),CONCATENATE(IF(COUNTIF(aRoundedScores!$P50:$AI50,aRoundedScores!Y50)>1,\"=\",\"\"),RANK(aRoundedScores!Y50,aRoundedScores!$P50:$AI50)),\"n/a\")","v":"=1"},{"$f":"IF(ISNUMBER(aRoundedScores!Z50),CONCATENATE(IF(COUNTIF(aRoundedScores!$P50:$AI50,aRoundedScores!Z50)>1,\"=\",\"\"),RANK(aRoundedScores!Z50,aRoundedScores!$P50:$AI50)),\"n/a\")","v":"=1"},{"$f":"IF(ISNUMBER(aRoundedScores!AA50),CONCATENATE(IF(COUNTIF(aRoundedScores!$P50:$AI50,aRoundedScores!AA50)>1,\"=\",\"\"),RANK(aRoundedScores!AA50,aRoundedScores!$P50:$AI50)),\"n/a\")","v":"=1"},{"$f":"IF(ISNUMBER(aRoundedScores!AB50),CONCATENATE(IF(COUNTIF(aRoundedScores!$P50:$AI50,aRoundedScores!AB50)>1,\"=\",\"\"),RANK(aRoundedScores!AB50,aRoundedScores!$P50:$AI50)),\"n/a\")","v":"=1"},{"$f":"IF(ISNUMBER(aRoundedScores!AC50),CONCATENATE(IF(COUNTIF(aRoundedScores!$P50:$AI50,aRoundedScores!AC50)>1,\"=\",\"\"),RANK(aRoundedScores!AC50,aRoundedScores!$P50:$AI50)),\"n/a\")","v":"=1"},{"$f":"IF(ISNUMBER(aRoundedScores!AD50),CONCATENATE(IF(COUNTIF(aRoundedScores!$P50:$AI50,aRoundedScores!AD50)>1,\"=\",\"\"),RANK(aRoundedScores!AD50,aRoundedScores!$P50:$AI50)),\"n/a\")","v":"=1"},{"$f":"IF(ISNUMBER(aRoundedScores!AE50),CONCATENATE(IF(COUNTIF(aRoundedScores!$P50:$AI50,aRoundedScores!AE50)>1,\"=\",\"\"),RANK(aRoundedScores!AE50,aRoundedScores!$P50:$AI50)),\"n/a\")","v":"=1"},{"$f":"IF(ISNUMBER(aRoundedScores!AF50),CONCATENATE(IF(COUNTIF(aRoundedScores!$P50:$AI50,aRoundedScores!AF50)>1,\"=\",\"\"),RANK(aRoundedScores!AF50,aRoundedScores!$P50:$AI50)),\"n/a\")","v":"=1"},{"$f":"IF(ISNUMBER(aRoundedScores!AG50),CONCATENATE(IF(COUNTIF(aRoundedScores!$P50:$AI50,aRoundedScores!AG50)>1,\"=\",\"\"),RANK(aRoundedScores!AG50,aRoundedScores!$P50:$AI50)),\"n/a\")","v":"=1"},{"$f":"IF(ISNUMBER(aRoundedScores!AH50),CONCATENATE(IF(COUNTIF(aRoundedScores!$P50:$AI50,aRoundedScores!AH50)>1,\"=\",\"\"),RANK(aRoundedScores!AH50,aRoundedScores!$P50:$AI50)),\"n/a\")","v":"=1"},{"$f":"IF(ISNUMBER(aRoundedScores!AI50),CONCATENATE(IF(COUNTIF(aRoundedScores!$P50:$AI50,aRoundedScores!AI50)>1,\"=\",\"\"),RANK(aRoundedScores!AI50,aRoundedScores!$P50:$AI50)),\"n/a\")","v":"=1"}]
[null,"4) MINERALS AND ENERGY",null,{"$f":"IF(ISNUMBER(aRoundedScores!P51),CONCATENATE(IF(COUNTIF(aRoundedScores!$P51:$AI51,aRoundedScores!P51)>1,\"=\",\"\"),RANK(aRoundedScores!P51,aRoundedScores!$P51:$AI51)),\"n/a\")","v":"=6"},{"$f":"IF(ISNUMBER(aRoundedScores!Q51),CONCATENATE(IF(COUNTIF(aRoundedScores!$P51:$AI51,aRoundedScores!Q51)>1,\"=\",\"\"),RANK(aRoundedScores!Q51,aRoundedScores!$P51:$AI51)),\"n/a\")","v":"=3"},{"$f":"IF(ISNUMBER(aRoundedScores!R51),CONCATENATE(IF(COUNTIF(aRoundedScores!$P51:$AI51,aRoundedScores!R51)>1,\"=\",\"\"),RANK(aRoundedScores!R51,aRoundedScores!$P51:$AI51)),\"n/a\")","v":"11"},{"$f":"IF(ISNUMBER(aRoundedScores!S51),CONCATENATE(IF(COUNTIF(aRoundedScores!$P51:$AI51,aRoundedScores!S51)>1,\"=\",\"\"),RANK(aRoundedScores!S51,aRoundedScores!$P51:$AI51)),\"n/a\")","v":"10"},{"$f":"IF(ISNUMBER(aRoundedScores!T51),CONCATENATE(IF(COUNTIF(aRoundedScores!$P51:$AI51,aRoundedScores!T51)>1,\"=\",\"\"),RANK(aRoundedScores!T51,aRoundedScores!$P51:$AI51)),\"n/a\")","v":"18"},{"$f":"IF(ISNUMBER(aRoundedScores!U51),CONCATENATE(IF(COUNTIF(aRoundedScores!$P51:$AI51,aRoundedScores!U51)>1,\"=\",\"\"),RANK(aRoundedScores!U51,aRoundedScores!$P51:$AI51)),\"n/a\")","v":"12"},{"$f":"IF(ISNUMBER(aRoundedScores!V51),CONCATENATE(IF(COUNTIF(aRoundedScores!$P51:$AI51,aRoundedScores!V51)>1,\"=\",\"\"),RANK(aRoundedScores!V51,aRoundedScores!$P51:$AI51)),\"n/a\")","v":"20"},{"$f":"IF(ISNUMBER(aRoundedScores!W51),CONCATENATE(IF(COUNTIF(aRoundedScores!$P51:$AI51,aRoundedScores!W51)>1,\"=\",\"\"),RANK(aRoundedScores!W51,aRoundedScores!$P51:$AI51)),\"n/a\")","v":"=1"},{"$f":"IF(ISNUMBER(aRoundedScores!X51),CONCATENATE(IF(COUNTIF(aRoundedScores!$P51:$AI51,aRoundedScores!X51)>1,\"=\",\"\"),RANK(aRoundedScores!X51,aRoundedScores!$P51:$AI51)),\"n/a\")","v":"=15"},{"$f":"IF(ISNUMBER(aRoundedScores!Y51),CONCATENATE(IF(COUNTIF(aRoundedScores!$P51:$AI51,aRoundedScores!Y51)>1,\"=\",\"\"),RANK(aRoundedScores!Y51,aRoundedScores!$P51:$AI51)),\"n/a\")","v":"=6"},{"$f":"IF(ISNUMBER(aRoundedScores!Z51),CONCATENATE(IF(COUNTIF(aRoundedScores!$P51:$AI51,aRoundedScores!Z51)>1,\"=\",\"\"),RANK(aRoundedScores!Z51,aRoundedScores!$P51:$AI51)),\"n/a\")","v":"=3"},{"$f":"IF(ISNUMBER(aRoundedScores!AA51),CONCATENATE(IF(COUNTIF(aRoundedScores!$P51:$AI51,aRoundedScores!AA51)>1,\"=\",\"\"),RANK(aRoundedScores!AA51,aRoundedScores!$P51:$AI51)),\"n/a\")","v":"=1"},{"$f":"IF(ISNUMBER(aRoundedScores!AB51),CONCATENATE(IF(COUNTIF(aRoundedScores!$P51:$AI51,aRoundedScores!AB51)>1,\"=\",\"\"),RANK(aRoundedScores!AB51,aRoundedScores!$P51:$AI51)),\"n/a\")","v":"=15"},{"$f":"IF(ISNUMBER(aRoundedScores!AC51),CONCATENATE(IF(COUNTIF(aRoundedScores!$P51:$AI51,aRoundedScores!AC51)>1,\"=\",\"\"),RANK(aRoundedScores!AC51,aRoundedScores!$P51:$AI51)),\"n/a\")","v":"14"},{"$f":"IF(ISNUMBER(aRoundedScores!AD51),CONCATENATE(IF(COUNTIF(aRoundedScores!$P51:$AI51,aRoundedScores!AD51)>1,\"=\",\"\"),RANK(aRoundedScores!AD51,aRoundedScores!$P51:$AI51)),\"n/a\")","v":"=15"},{"$f":"IF(ISNUMBER(aRoundedScores!AE51),CONCATENATE(IF(COUNTIF(aRoundedScores!$P51:$AI51,aRoundedScores!AE51)>1,\"=\",\"\"),RANK(aRoundedScores!AE51,aRoundedScores!$P51:$AI51)),\"n/a\")","v":"=6"},{"$f":"IF(ISNUMBER(aRoundedScores!AF51),CONCATENATE(IF(COUNTIF(aRoundedScores!$P51:$AI51,aRoundedScores!AF51)>1,\"=\",\"\"),RANK(aRoundedScores!AF51,aRoundedScores!$P51:$AI51)),\"n/a\")","v":"9"},{"$f":"IF(ISNUMBER(aRoundedScores!AG51),CONCATENATE(IF(COUNTIF(aRoundedScores!$P51:$AI51,aRoundedScores!AG51)>1,\"=\",\"\"),RANK(aRoundedScores!AG51,aRoundedScores!$P51:$AI51)),\"n/a\")","v":"13"},{"$f":"IF(ISNUMBER(aRoundedScores!AH51),CONCATENATE(IF(COUNTIF(aRoundedScores!$P51:$AI51,aRoundedScores!AH51)>1,\"=\",\"\"),RANK(aRoundedScores!AH51,aRoundedScores!$P51:$AI51)),\"n/a\")","v":"=3"},{"$f":"IF(ISNUMBER(aRoundedScores!AI51),CONCATENATE(IF(COUNTIF(aRoundedScores!$P51:$AI51,aRoundedScores!AI51)>1,\"=\",\"\"),RANK(aRoundedScores!AI51,aRoundedScores!$P51:$AI51)),\"n/a\")","v":"19"}]
[null,"4.1) Permitting and licensing",null,{"$f":"IF(ISNUMBER(aRoundedScores!P52),CONCATENATE(IF(COUNTIF(aRoundedScores!$P52:$AI52,aRoundedScores!P52)>1,\"=\",\"\"),RANK(aRoundedScores!P52,aRoundedScores!$P52:$AI52)),\"n/a\")","v":"=1"},{"$f":"IF(ISNUMBER(aRoundedScores!Q52),CONCATENATE(IF(COUNTIF(aRoundedScores!$P52:$AI52,aRoundedScores!Q52)>1,\"=\",\"\"),RANK(aRoundedScores!Q52,aRoundedScores!$P52:$AI52)),\"n/a\")","v":"=1"},{"$f":"IF(ISNUMBER(aRoundedScores!R52),CONCATENATE(IF(COUNTIF(aRoundedScores!$P52:$AI52,aRoundedScores!R52)>1,\"=\",\"\"),RANK(aRoundedScores!R52,aRoundedScores!$P52:$AI52)),\"n/a\")","v":"19"},{"$f":"IF(ISNUMBER(aRoundedScores!S52),CONCATENATE(IF(COUNTIF(aRoundedScores!$P52:$AI52,aRoundedScores!S52)>1,\"=\",\"\"),RANK(aRoundedScores!S52,aRoundedScores!$P52:$AI52)),\"n/a\")","v":"=1"},{"$f":"IF(ISNUMBER(aRoundedScores!T52),CONCATENATE(IF(COUNTIF(aRoundedScores!$P52:$AI52,aRoundedScores!T52)>1,\"=\",\"\"),RANK(aRoundedScores!T52,aRoundedScores!$P52:$AI52)),\"n/a\")","v":"=1"},{"$f":"IF(ISNUMBER(aRoundedScores!U52),CONCATENATE(IF(COUNTIF(aRoundedScores!$P52:$AI52,aRoundedScores!U52)>1,\"=\",\"\"),RANK(aRoundedScores!U52,aRoundedScores!$P52:$AI52)),\"n/a\")","v":"=16"},{"$f":"IF(ISNUMBER(aRoundedScores!V52),CONCATENATE(IF(COUNTIF(aRoundedScores!$P52:$AI52,aRoundedScores!V52)>1,\"=\",\"\"),RANK(aRoundedScores!V52,aRoundedScores!$P52:$AI52)),\"n/a\")","v":"20"},{"$f":"IF(ISNUMBER(aRoundedScores!W52),CONCATENATE(IF(COUNTIF(aRoundedScores!$P52:$AI52,aRoundedScores!W52)>1,\"=\",\"\"),RANK(aRoundedScores!W52,aRoundedScores!$P52:$AI52)),\"n/a\")","v":"=1"},{"$f":"IF(ISNUMBER(aRoundedScores!X52),CONCATENATE(IF(COUNTIF(aRoundedScores!$P52:$AI52,aRoundedScores!X52)>1,\"=\",\"\"),RANK(aRoundedScores!X52,aRoundedScores!$P52:$AI52)),\"n/a\")","v":"=16"},{"$f":"IF(ISNUMBER(aRoundedScores!Y52),CONCATENATE(IF(COUNTIF(aRoundedScores!$P52:$AI52,aRoundedScores!Y52)>1,\"=\",\"\"),RANK(aRoundedScores!Y52,aRoundedScores!$P52:$AI52)),\"n/a\")","v":"=1"},{"$f":"IF(ISNUMBER(aRoundedScores!Z52),CONCATENATE(IF(COUNTIF(aRoundedScores!$P52:$AI52,aRoundedScores!Z52)>1,\"=\",\"\"),RANK(aRoundedScores!Z52,aRoundedScores!$P52:$AI52)),\"n/a\")","v":"=1"},{"$f":"IF(ISNUMBER(aRoundedScores!AA52),CONCATENATE(IF(COUNTIF(aRoundedScores!$P52:$AI52,aRoundedScores!AA52)>1,\"=\",\"\"),RANK(aRoundedScores!AA52,aRoundedScores!$P52:$AI52)),\"n/a\")","v":"=1"},{"$f":"IF(ISNUMBER(aRoundedScores!AB52),CONCATENATE(IF(COUNTIF(aRoundedScores!$P52:$AI52,aRoundedScores!AB52)>1,\"=\",\"\"),RANK(aRoundedScores!AB52,aRoundedScores!$P52:$AI52)),\"n/a\")","v":"=1"},{"$f":"IF(ISNUMBER(aRoundedScores!AC52),CONCATENATE(IF(COUNTIF(aRoundedScores!$P52:$AI52,aRoundedScores!AC52)>1,\"=\",\"\"),RANK(aRoundedScores!AC52,aRoundedScores!$P52:$AI52)),\"n/a\")","v":"=1"},{"$f":"IF(ISNUMBER(aRoundedScores!AD52),CONCATENATE(IF(COUNTIF(aRoundedScores!$P52:$AI52,aRoundedScores!AD52)>1,\"=\",\"\"),RANK(aRoundedScores!AD52,aRoundedScores!$P52:$AI52)),\"n/a\")","v":"=1"},{"$f":"IF(ISNUMBER(aRoundedScores!AE52),CONCATENATE(IF(COUNTIF(aRoundedScores!$P52:$AI52,aRoundedScores!AE52)>1,\"=\",\"\"),RANK(aRoundedScores!AE52,aRoundedScores!$P52:$AI52)),\"n/a\")","v":"=1"},{"$f":"IF(ISNUMBER(aRoundedScores!AF52),CONCATENATE(IF(COUNTIF(aRoundedScores!$P52:$AI52,aRoundedScores!AF52)>1,\"=\",\"\"),RANK(aRoundedScores!AF52,aRoundedScores!$P52:$AI52)),\"n/a\")","v":"=1"},{"$f":"IF(ISNUMBER(aRoundedScores!AG52),CONCATENATE(IF(COUNTIF(aRoundedScores!$P52:$AI52,aRoundedScores!AG52)>1,\"=\",\"\"),RANK(aRoundedScores!AG52,aRoundedScores!$P52:$AI52)),\"n/a\")","v":"=1"},{"$f":"IF(ISNUMBER(aRoundedScores!AH52),CONCATENATE(IF(COUNTIF(aRoundedScores!$P52:$AI52,aRoundedScores!AH52)>1,\"=\",\"\"),RANK(aRoundedScores!AH52,aRoundedScores!$P52:$AI52)),\"n/a\")","v":"=1"},{"$f":"IF(ISNUMBER(aRoundedScores!AI52),CONCATENATE(IF(COUNTIF(aRoundedScores!$P52:$AI52,aRoundedScores!AI52)>1,\"=\",\"\"),RANK(aRoundedScores!AI52,aRoundedScores!$P52:$AI52)),\"n/a\")","v":"=16"}]
[null,"4.1.1) Oil and gas tenure",null,{"$f":"IF(ISNUMBER(aRoundedScores!P53),CONCATENATE(IF(COUNTIF(aRoundedScores!$P53:$AI53,aRoundedScores!P53)>1,\"=\",\"\"),RANK(aRoundedScores!P53,aRoundedScores!$P53:$AI53)),\"n/a\")","v":"=1"},{"$f":"IF(ISNUMBER(aRoundedScores!Q53),CONCATENATE(IF(COUNTIF(aRoundedScores!$P53:$AI53,aRoundedScores!Q53)>1,\"=\",\"\"),RANK(aRoundedScores!Q53,aRoundedScores!$P53:$AI53)),\"n/a\")","v":"=1"},{"$f":"IF(ISNUMBER(aRoundedScores!R53),CONCATENATE(IF(COUNTIF(aRoundedScores!$P53:$AI53,aRoundedScores!R53)>1,\"=\",\"\"),RANK(aRoundedScores!R53,aRoundedScores!$P53:$AI53)),\"n/a\")","v":"=16"},{"$f":"IF(ISNUMBER(aRoundedScores!S53),CONCATENATE(IF(COUNTIF(aRoundedScores!$P53:$AI53,aRoundedScores!S53)>1,\"=\",\"\"),RANK(aRoundedScores!S53,aRoundedScores!$P53:$AI53)),\"n/a\")","v":"=1"},{"$f":"IF(ISNUMBER(aRoundedScores!T53),CONCATENATE(IF(COUNTIF(aRoundedScores!$P53:$AI53,aRoundedScores!T53)>1,\"=\",\"\"),RANK(aRoundedScores!T53,aRoundedScores!$P53:$AI53)),\"n/a\")","v":"=1"},{"$f":"IF(ISNUMBER(aRoundedScores!U53),CONCATENATE(IF(COUNTIF(aRoundedScores!$P53:$AI53,aRoundedScores!U53)>1,\"=\",\"\"),RANK(aRoundedScores!U53,aRoundedScores!$P53:$AI53)),\"n/a\")","v":"=16"},{"$f":"IF(ISNUMBER(aRoundedScores!V53),CONCATENATE(IF(COUNTIF(aRoundedScores!$P53:$AI53,aRoundedScores!V53)>1,\"=\",\"\"),RANK(aRoundedScores!V53,aRoundedScores!$P53:$AI53)),\"n/a\")","v":"=16"},{"$f":"IF(ISNUMBER(aRoundedScores!W53),CONCATENATE(IF(COUNTIF(aRoundedScores!$P53:$AI53,aRoundedScores!W53)>1,\"=\",\"\"),RANK(aRoundedScores!W53,aRoundedScores!$P53:$AI53)),\"n/a\")","v":"=1"},{"$f":"IF(ISNUMBER(aRoundedScores!X53),CONCATENATE(IF(COUNTIF(aRoundedScores!$P53:$AI53,aRoundedScores!X53)>1,\"=\",\"\"),RANK(aRoundedScores!X53,aRoundedScores!$P53:$AI53)),\"n/a\")","v":"=16"},{"$f":"IF(ISNUMBER(aRoundedScores!Y53),CONCATENATE(IF(COUNTIF(aRoundedScores!$P53:$AI53,aRoundedScores!Y53)>1,\"=\",\"\"),RANK(aRoundedScores!Y53,aRoundedScores!$P53:$AI53)),\"n/a\")","v":"=1"},{"$f":"IF(ISNUMBER(aRoundedScores!Z53),CONCATENATE(IF(COUNTIF(aRoundedScores!$P53:$AI53,aRoundedScores!Z53)>1,\"=\",\"\"),RANK(aRoundedScores!Z53,aRoundedScores!$P53:$AI53)),\"n/a\")","v":"=1"},{"$f":"IF(ISNUMBER(aRoundedScores!AA53),CONCATENATE(IF(COUNTIF(aRoundedScores!$P53:$AI53,aRoundedScores!AA53)>1,\"=\",\"\"),RANK(aRoundedScores!AA53,aRoundedScores!$P53:$AI53)),\"n/a\")","v":"=1"},{"$f":"IF(ISNUMBER(aRoundedScores!AB53),CONCATENATE(IF(COUNTIF(aRoundedScores!$P53:$AI53,aRoundedScores!AB53)>1,\"=\",\"\"),RANK(aRoundedScores!AB53,aRoundedScores!$P53:$AI53)),\"n/a\")","v":"=1"},{"$f":"IF(ISNUMBER(aRoundedScores!AC53),CONCATENATE(IF(COUNTIF(aRoundedScores!$P53:$AI53,aRoundedScores!AC53)>1,\"=\",\"\"),RANK(aRoundedScores!AC53,aRoundedScores!$P53:$AI53)),\"n/a\")","v":"=1"},{"$f":"IF(ISNUMBER(aRoundedScores!AD53),CONCATENATE(IF(COUNTIF(aRoundedScores!$P53:$AI53,aRoundedScores!AD53)>1,\"=\",\"\"),RANK(aRoundedScores!AD53,aRoundedScores!$P53:$AI53)),\"n/a\")","v":"=1"},{"$f":"IF(ISNUMBER(aRoundedScores!AE53),CONCATENATE(IF(COUNTIF(aRoundedScores!$P53:$AI53,aRoundedScores!AE53)>1,\"=\",\"\"),RANK(aRoundedScores!AE53,aRoundedScores!$P53:$AI53)),\"n/a\")","v":"=1"},{"$f":"IF(ISNUMBER(aRoundedScores!AF53),CONCATENATE(IF(COUNTIF(aRoundedScores!$P53:$AI53,aRoundedScores!AF53)>1,\"=\",\"\"),RANK(aRoundedScores!AF53,aRoundedScores!$P53:$AI53)),\"n/a\")","v":"=1"},{"$f":"IF(ISNUMBER(aRoundedScores!AG53),CONCATENATE(IF(COUNTIF(aRoundedScores!$P53:$AI53,aRoundedScores!AG53)>1,\"=\",\"\"),RANK(aRoundedScores!AG53,aRoundedScores!$P53:$AI53)),\"n/a\")","v":"=1"},{"$f":"IF(ISNUMBER(aRoundedScores!AH53),CONCATENATE(IF(COUNTIF(aRoundedScores!$P53:$AI53,aRoundedScores!AH53)>1,\"=\",\"\"),RANK(aRoundedScores!AH53,aRoundedScores!$P53:$AI53)),\"n/a\")","v":"=1"},{"$f":"IF(ISNUMBER(aRoundedScores!AI53),CONCATENATE(IF(COUNTIF(aRoundedScores!$P53:$AI53,aRoundedScores!AI53)>1,\"=\",\"\"),RANK(aRoundedScores!AI53,aRoundedScores!$P53:$AI53)),\"n/a\")","v":"=16"}]
[null,"4.1.2) Mining and minerals tenure",null,{"$f":"IF(ISNUMBER(aRoundedScores!P54),CONCATENATE(IF(COUNTIF(aRoundedScores!$P54:$AI54,aRoundedScores!P54)>1,\"=\",\"\"),RANK(aRoundedScores!P54,aRoundedScores!$P54:$AI54)),\"n/a\")","v":"=1"},{"$f":"IF(ISNUMBER(aRoundedScores!Q54),CONCATENATE(IF(COUNTIF(aRoundedScores!$P54:$AI54,aRoundedScores!Q54)>1,\"=\",\"\"),RANK(aRoundedScores!Q54,aRoundedScores!$P54:$AI54)),\"n/a\")","v":"=1"},{"$f":"IF(ISNUMBER(aRoundedScores!R54),CONCATENATE(IF(COUNTIF(aRoundedScores!$P54:$AI54,aRoundedScores!R54)>1,\"=\",\"\"),RANK(aRoundedScores!R54,aRoundedScores!$P54:$AI54)),\"n/a\")","v":"19"},{"$f":"IF(ISNUMBER(aRoundedScores!S54),CONCATENATE(IF(COUNTIF(aRoundedScores!$P54:$AI54,aRoundedScores!S54)>1,\"=\",\"\"),RANK(aRoundedScores!S54,aRoundedScores!$P54:$AI54)),\"n/a\")","v":"=1"},{"$f":"IF(ISNUMBER(aRoundedScores!T54),CONCATENATE(IF(COUNTIF(aRoundedScores!$P54:$AI54,aRoundedScores!T54)>1,\"=\",\"\"),RANK(aRoundedScores!T54,aRoundedScores!$P54:$AI54)),\"n/a\")","v":"=1"},{"$f":"IF(ISNUMBER(aRoundedScores!U54),CONCATENATE(IF(COUNTIF(aRoundedScores!$P54:$AI54,aRoundedScores!U54)>1,\"=\",\"\"),RANK(aRoundedScores!U54,aRoundedScores!$P54:$AI54)),\"n/a\")","v":"=1"},{"$f":"IF(ISNUMBER(aRoundedScores!V54),CONCATENATE(IF(COUNTIF(aRoundedScores!$P54:$AI54,aRoundedScores!V54)>1,\"=\",\"\"),RANK(aRoundedScores!V54,aRoundedScores!$P54:$AI54)),\"n/a\")","v":"20"},{"$f":"IF(ISNUMBER(aRoundedScores!W54),CONCATENATE(IF(COUNTIF(aRoundedScores!$P54:$AI54,aRoundedScores!W54)>1,\"=\",\"\"),RANK(aRoundedScores!W54,aRoundedScores!$P54:$AI54)),\"n/a\")","v":"=1"},{"$f":"IF(ISNUMBER(aRoundedScores!X54),CONCATENATE(IF(COUNTIF(aRoundedScores!$P54:$AI54,aRoundedScores!X54)>1,\"=\",\"\"),RANK(aRoundedScores!X54,aRoundedScores!$P54:$AI54)),\"n/a\")","v":"=1"},{"$f":"IF(ISNUMBER(aRoundedScores!Y54),CONCATENATE(IF(COUNTIF(aRoundedScores!$P54:$AI54,aRoundedScores!Y54)>1,\"=\",\"\"),RANK(aRoundedScores!Y54,aRoundedScores!$P54:$AI54)),\"n/a\")","v":"=1"},{"$f":"IF(ISNUMBER(aRoundedScores!Z54),CONCATENATE(IF(COUNTIF(aRoundedScores!$P54:$AI54,aRoundedScores!Z54)>1,\"=\",\"\"),RANK(aRoundedScores!Z54,aRoundedScores!$P54:$AI54)),\"n/a\")","v":"=1"},{"$f":"IF(ISNUMBER(aRoundedScores!AA54),CONCATENATE(IF(COUNTIF(aRoundedScores!$P54:$AI54,aRoundedScores!AA54)>1,\"=\",\"\"),RANK(aRoundedScores!AA54,aRoundedScores!$P54:$AI54)),\"n/a\")","v":"=1"},{"$f":"IF(ISNUMBER(aRoundedScores!AB54),CONCATENATE(IF(COUNTIF(aRoundedScores!$P54:$AI54,aRoundedScores!AB54)>1,\"=\",\"\"),RANK(aRoundedScores!AB54,aRoundedScores!$P54:$AI54)),\"n/a\")","v":"=1"},{"$f":"IF(ISNUMBER(aRoundedScores!AC54),CONCATENATE(IF(COUNTIF(aRoundedScores!$P54:$AI54,aRoundedScores!AC54)>1,\"=\",\"\"),RANK(aRoundedScores!AC54,aRoundedScores!$P54:$AI54)),\"n/a\")","v":"=1"},{"$f":"IF(ISNUMBER(aRoundedScores!AD54),CONCATENATE(IF(COUNTIF(aRoundedScores!$P54:$AI54,aRoundedScores!AD54)>1,\"=\",\"\"),RANK(aRoundedScores!AD54,aRoundedScores!$P54:$AI54)),\"n/a\")","v":"=1"},{"$f":"IF(ISNUMBER(aRoundedScores!AE54),CONCATENATE(IF(COUNTIF(aRoundedScores!$P54:$AI54,aRoundedScores!AE54)>1,\"=\",\"\"),RANK(aRoundedScores!AE54,aRoundedScores!$P54:$AI54)),\"n/a\")","v":"=1"},{"$f":"IF(ISNUMBER(aRoundedScores!AF54),CONCATENATE(IF(COUNTIF(aRoundedScores!$P54:$AI54,aRoundedScores!AF54)>1,\"=\",\"\"),RANK(aRoundedScores!AF54,aRoundedScores!$P54:$AI54)),\"n/a\")","v":"=1"},{"$f":"IF(ISNUMBER(aRoundedScores!AG54),CONCATENATE(IF(COUNTIF(aRoundedScores!$P54:$AI54,aRoundedScores!AG54)>1,\"=\",\"\"),RANK(aRoundedScores!AG54,aRoundedScores!$P54:$AI54)),\"n/a\")","v":"=1"},{"$f":"IF(ISNUMBER(aRoundedScores!AH54),CONCATENATE(IF(COUNTIF(aRoundedScores!$P54:$AI54,aRoundedScores!AH54)>1,\"=\",\"\"),RANK(aRoundedScores!AH54,aRoundedScores!$P54:$AI54)),\"n/a\")","v":"=1"},{"$f":"IF(ISNUMBER(aRoundedScores!AI54),CONCATENATE(IF(COUNTIF(aRoundedScores!$P54:$AI54,aRoundedScores!AI54)>1,\"=\",\"\"),RANK(aRoundedScores!AI54,aRoundedScores!$P54:$AI54)),\"n/a\")","v":"=1"}]
[null,"4.2) Monitoring and enforcement",null,{"$f":"IF(ISNUMBER(aRoundedScores!P55),CONCATENATE(IF(COUNTIF(aRoundedScores!$P55:$AI55,aRoundedScores!P55)>1,\"=\",\"\"),RANK(aRoundedScores!P55,aRoundedScores!$P55:$AI55)),\"n/a\")","v":"=9"},{"$f":"IF(ISNUMBER(aRoundedScores!Q55),CONCATENATE(IF(COUNTIF(aRoundedScores!$P55:$AI55,aRoundedScores!Q55)>1,\"=\",\"\"),RANK(aRoundedScores!Q55,aRoundedScores!$P55:$AI55)),\"n/a\")","v":"=1"},{"$f":"IF(ISNUMBER(aRoundedScores!R55),CONCATENATE(IF(COUNTIF(aRoundedScores!$P55:$AI55,aRoundedScores!R55)>1,\"=\",\"\"),RANK(aRoundedScores!R55,aRoundedScores!$P55:$AI55)),\"n/a\")","v":"=1"},{"$f":"IF(ISNUMBER(aRoundedScores!S55),CONCATENATE(IF(COUNTIF(aRoundedScores!$P55:$AI55,aRoundedScores!S55)>1,\"=\",\"\"),RANK(aRoundedScores!S55,aRoundedScores!$P55:$AI55)),\"n/a\")","v":"=9"},{"$f":"IF(ISNUMBER(aRoundedScores!T55),CONCATENATE(IF(COUNTIF(aRoundedScores!$P55:$AI55,aRoundedScores!T55)>1,\"=\",\"\"),RANK(aRoundedScores!T55,aRoundedScores!$P55:$AI55)),\"n/a\")","v":"20"},{"$f":"IF(ISNUMBER(aRoundedScores!U55),CONCATENATE(IF(COUNTIF(aRoundedScores!$P55:$AI55,aRoundedScores!U55)>1,\"=\",\"\"),RANK(aRoundedScores!U55,aRoundedScores!$P55:$AI55)),\"n/a\")","v":"=9"},{"$f":"IF(ISNUMBER(aRoundedScores!V55),CONCATENATE(IF(COUNTIF(aRoundedScores!$P55:$AI55,aRoundedScores!V55)>1,\"=\",\"\"),RANK(aRoundedScores!V55,aRoundedScores!$P55:$AI55)),\"n/a\")","v":"=16"},{"$f":"IF(ISNUMBER(aRoundedScores!W55),CONCATENATE(IF(COUNTIF(aRoundedScores!$P55:$AI55,aRoundedScores!W55)>1,\"=\",\"\"),RANK(aRoundedScores!W55,aRoundedScores!$P55:$AI55)),\"n/a\")","v":"=1"},{"$f":"IF(ISNUMBER(aRoundedScores!X55),CONCATENATE(IF(COUNTIF(aRoundedScores!$P55:$AI55,aRoundedScores!X55)>1,\"=\",\"\"),RANK(aRoundedScores!X55,aRoundedScores!$P55:$AI55)),\"n/a\")","v":"=1"},{"$f":"IF(ISNUMBER(aRoundedScores!Y55),CONCATENATE(IF(COUNTIF(aRoundedScores!$P55:$AI55,aRoundedScores!Y55)>1,\"=\",\"\"),RANK(aRoundedScores!Y55,aRoundedScores!$P55:$AI55)),\"n/a\")","v":"=9"},{"$f":"IF(ISNUMBER(aRoundedScores!Z55),CONCATENATE(IF(COUNTIF(aRoundedScores!$P55:$AI55,aRoundedScores!Z55)>1,\"=\",\"\"),RANK(aRoundedScores!Z55,aRoundedScores!$P55:$AI55)),\"n/a\")","v":"=1"},{"$f":"IF(ISNUMBER(aRoundedScores!AA55),CONCATENATE(IF(COUNTIF(aRoundedScores!$P55:$AI55,aRoundedScores!AA55)>1,\"=\",\"\"),RANK(aRoundedScores!AA55,aRoundedScores!$P55:$AI55)),\"n/a\")","v":"=1"},{"$f":"IF(ISNUMBER(aRoundedScores!AB55),CONCATENATE(IF(COUNTIF(aRoundedScores!$P55:$AI55,aRoundedScores!AB55)>1,\"=\",\"\"),RANK(aRoundedScores!AB55,aRoundedScores!$P55:$AI55)),\"n/a\")","v":"=16"},{"$f":"IF(ISNUMBER(aRoundedScores!AC55),CONCATENATE(IF(COUNTIF(aRoundedScores!$P55:$AI55,aRoundedScores!AC55)>1,\"=\",\"\"),RANK(aRoundedScores!AC55,aRoundedScores!$P55:$AI55)),\"n/a\")","v":"=9"},{"$f":"IF(ISNUMBER(aRoundedScores!AD55),CONCATENATE(IF(COUNTIF(aRoundedScores!$P55:$AI55,aRoundedScores!AD55)>1,\"=\",\"\"),RANK(aRoundedScores!AD55,aRoundedScores!$P55:$AI55)),\"n/a\")","v":"=16"},{"$f":"IF(ISNUMBER(aRoundedScores!AE55),CONCATENATE(IF(COUNTIF(aRoundedScores!$P55:$AI55,aRoundedScores!AE55)>1,\"=\",\"\"),RANK(aRoundedScores!AE55,aRoundedScores!$P55:$AI55)),\"n/a\")","v":"=9"},{"$f":"IF(ISNUMBER(aRoundedScores!AF55),CONCATENATE(IF(COUNTIF(aRoundedScores!$P55:$AI55,aRoundedScores!AF55)>1,\"=\",\"\"),RANK(aRoundedScores!AF55,aRoundedScores!$P55:$AI55)),\"n/a\")","v":"=1"},{"$f":"IF(ISNUMBER(aRoundedScores!AG55),CONCATENATE(IF(COUNTIF(aRoundedScores!$P55:$AI55,aRoundedScores!AG55)>1,\"=\",\"\"),RANK(aRoundedScores!AG55,aRoundedScores!$P55:$AI55)),\"n/a\")","v":"=16"},{"$f":"IF(ISNUMBER(aRoundedScores!AH55),CONCATENATE(IF(COUNTIF(aRoundedScores!$P55:$AI55,aRoundedScores!AH55)>1,\"=\",\"\"),RANK(aRoundedScores!AH55,aRoundedScores!$P55:$AI55)),\"n/a\")","v":"=1"},{"$f":"IF(ISNUMBER(aRoundedScores!AI55),CONCATENATE(IF(COUNTIF(aRoundedScores!$P55:$AI55,aRoundedScores!AI55)>1,\"=\",\"\"),RANK(aRoundedScores!AI55,aRoundedScores!$P55:$AI55)),\"n/a\")","v":"=9"}]
[null,"4.2.1) Environmental impact assessment for oil and gas",null,{"$f":"IF(ISNUMBER(aRoundedScores!P56),CONCATENATE(IF(COUNTIF(aRoundedScores!$P56:$AI56,aRoundedScores!P56)>1,\"=\",\"\"),RANK(aRoundedScores!P56,aRoundedScores!$P56:$AI56)),\"n/a\")","v":"=1"},{"$f":"IF(ISNUMBER(aRoundedScores!Q56),CONCATENATE(IF(COUNTIF(aRoundedScores!$P56:$AI56,aRoundedScores!Q56)>1,\"=\",\"\"),RANK(aRoundedScores!Q56,aRoundedScores!$P56:$AI56)),\"n/a\")","v":"=1"},{"$f":"IF(ISNUMBER(aRoundedScores!R56),CONCATENATE(IF(COUNTIF(aRoundedScores!$P56:$AI56,aRoundedScores!R56)>1,\"=\",\"\"),RANK(aRoundedScores!R56,aRoundedScores!$P56:$AI56)),\"n/a\")","v":"=1"},{"$f":"IF(ISNUMBER(aRoundedScores!S56),CONCATENATE(IF(COUNTIF(aRoundedScores!$P56:$AI56,aRoundedScores!S56)>1,\"=\",\"\"),RANK(aRoundedScores!S56,aRoundedScores!$P56:$AI56)),\"n/a\")","v":"=1"},{"$f":"IF(ISNUMBER(aRoundedScores!T56),CONCATENATE(IF(COUNTIF(aRoundedScores!$P56:$AI56,aRoundedScores!T56)>1,\"=\",\"\"),RANK(aRoundedScores!T56,aRoundedScores!$P56:$AI56)),\"n/a\")","v":"=1"},{"$f":"IF(ISNUMBER(aRoundedScores!U56),CONCATENATE(IF(COUNTIF(aRoundedScores!$P56:$AI56,aRoundedScores!U56)>1,\"=\",\"\"),RANK(aRoundedScores!U56,aRoundedScores!$P56:$AI56)),\"n/a\")","v":"=1"},{"$f":"IF(ISNUMBER(aRoundedScores!V56),CONCATENATE(IF(COUNTIF(aRoundedScores!$P56:$AI56,aRoundedScores!V56)>1,\"=\",\"\"),RANK(aRoundedScores!V56,aRoundedScores!$P56:$AI56)),\"n/a\")","v":"=1"},{"$f":"IF(ISNUMBER(aRoundedScores!W56),CONCATENATE(IF(COUNTIF(aRoundedScores!$P56:$AI56,aRoundedScores!W56)>1,\"=\",\"\"),RANK(aRoundedScores!W56,aRoundedScores!$P56:$AI56)),\"n/a\")","v":"=1"},{"$f":"IF(ISNUMBER(aRoundedScores!X56),CONCATENATE(IF(COUNTIF(aRoundedScores!$P56:$AI56,aRoundedScores!X56)>1,\"=\",\"\"),RANK(aRoundedScores!X56,aRoundedScores!$P56:$AI56)),\"n/a\")","v":"=1"},{"$f":"IF(ISNUMBER(aRoundedScores!Y56),CONCATENATE(IF(COUNTIF(aRoundedScores!$P56:$AI56,aRoundedScores!Y56)>1,\"=\",\"\"),RANK(aRoundedScores!Y56,aRoundedScores!$P56:$AI56)),\"n/a\")","v":"=1"},{"$f":"IF(ISNUMBER(aRoundedScores!Z56),CONCATENATE(IF(COUNTIF(aRoundedScores!$P56:$AI56,aRoundedScores!Z56)>1,\"=\",\"\"),RANK(aRoundedScores!Z56,aRoundedScores!$P56:$AI56)),\"n/a\")","v":"=1"},{"$f":"IF(ISNUMBER(aRoundedScores!AA56),CONCATENATE(IF(COUNTIF(aRoundedScores!$P56:$AI56,aRoundedScores!AA56)>1,\"=\",\"\"),RANK(aRoundedScores!AA56,aRoundedScores!$P56:$AI56)),\"n/a\")","v":"=1"},{"$f":"IF(ISNUMBER(aRoundedScores!AB56),CONCATENATE(IF(COUNTIF(aRoundedScores!$P56:$AI56,aRoundedScores!AB56)>1,\"=\",\"\"),RANK(aRoundedScores!AB56,aRoundedScores!$P56:$AI56)),\"n/a\")","v":"=1"},{"$f":"IF(ISNUMBER(aRoundedScores!AC56),CONCATENATE(IF(COUNTIF(aRoundedScores!$P56:$AI56,aRoundedScores!AC56)>1,\"=\",\"\"),RANK(aRoundedScores!AC56,aRoundedScores!$P56:$AI56)),\"n/a\")","v":"=1"},{"$f":"IF(ISNUMBER(aRoundedScores!AD56),CONCATENATE(IF(COUNTIF(aRoundedScores!$P56:$AI56,aRoundedScores!AD56)>1,\"=\",\"\"),RANK(aRoundedScores!AD56,aRoundedScores!$P56:$AI56)),\"n/a\")","v":"=1"},{"$f":"IF(ISNUMBER(aRoundedScores!AE56),CONCATENATE(IF(COUNTIF(aRoundedScores!$P56:$AI56,aRoundedScores!AE56)>1,\"=\",\"\"),RANK(aRoundedScores!AE56,aRoundedScores!$P56:$AI56)),\"n/a\")","v":"=1"},{"$f":"IF(ISNUMBER(aRoundedScores!AF56),CONCATENATE(IF(COUNTIF(aRoundedScores!$P56:$AI56,aRoundedScores!AF56)>1,\"=\",\"\"),RANK(aRoundedScores!AF56,aRoundedScores!$P56:$AI56)),\"n/a\")","v":"=1"},{"$f":"IF(ISNUMBER(aRoundedScores!AG56),CONCATENATE(IF(COUNTIF(aRoundedScores!$P56:$AI56,aRoundedScores!AG56)>1,\"=\",\"\"),RANK(aRoundedScores!AG56,aRoundedScores!$P56:$AI56)),\"n/a\")","v":"=1"},{"$f":"IF(ISNUMBER(aRoundedScores!AH56),CONCATENATE(IF(COUNTIF(aRoundedScores!$P56:$AI56,aRoundedScores!AH56)>1,\"=\",\"\"),RANK(aRoundedScores!AH56,aRoundedScores!$P56:$AI56)),\"n/a\")","v":"=1"},{"$f":"IF(ISNUMBER(aRoundedScores!AI56),CONCATENATE(IF(COUNTIF(aRoundedScores!$P56:$AI56,aRoundedScores!AI56)>1,\"=\",\"\"),RANK(aRoundedScores!AI56,aRoundedScores!$P56:$AI56)),\"n/a\")","v":"=1"}]
[null,"4.2.2) Environment impact assessment for mining and minerals",null,{"$f":"IF(ISNUMBER(aRoundedScores!P57),CONCATENATE(IF(COUNTIF(aRoundedScores!$P57:$AI57,aRoundedScores!P57)>1,\"=\",\"\"),RANK(aRoundedScores!P57,aRoundedScores!$P57:$AI57)),\"n/a\")","v":"=1"},{"$f":"IF(ISNUMBER(aRoundedScores!Q57),CONCATENATE(IF(COUNTIF(aRoundedScores!$P57:$AI57,aRoundedScores!Q57)>1,\"=\",\"\"),RANK(aRoundedScores!Q57,aRoundedScores!$P57:$AI57)),\"n/a\")","v":"=1"},{"$f":"IF(ISNUMBER(aRoundedScores!R57),CONCATENATE(IF(COUNTIF(aRoundedScores!$P57:$AI57,aRoundedScores!R57)>1,\"=\",\"\"),RANK(aRoundedScores!R57,aRoundedScores!$P57:$AI57)),\"n/a\")","v":"=1"},{"$f":"IF(ISNUMBER(aRoundedScores!S57),CONCATENATE(IF(COUNTIF(aRoundedScores!$P57:$AI57,aRoundedScores!S57)>1,\"=\",\"\"),RANK(aRoundedScores!S57,aRoundedScores!$P57:$AI57)),\"n/a\")","v":"=1"},{"$f":"IF(ISNUMBER(aRoundedScores!T57),CONCATENATE(IF(COUNTIF(aRoundedScores!$P57:$AI57,aRoundedScores!T57)>1,\"=\",\"\"),RANK(aRoundedScores!T57,aRoundedScores!$P57:$AI57)),\"n/a\")","v":"=1"},{"$f":"IF(ISNUMBER(aRoundedScores!U57),CONCATENATE(IF(COUNTIF(aRoundedScores!$P57:$AI57,aRoundedScores!U57)>1,\"=\",\"\"),RANK(aRoundedScores!U57,aRoundedScores!$P57:$AI57)),\"n/a\")","v":"=1"},{"$f":"IF(ISNUMBER(aRoundedScores!V57),CONCATENATE(IF(COUNTIF(aRoundedScores!$P57:$AI57,aRoundedScores!V57)>1,\"=\",\"\"),RANK(aRoundedScores!V57,aRoundedScores!$P57:$AI57)),\"n/a\")","v":"=1"},{"$f":"IF(ISNUMBER(aRoundedScores!W57),CONCATENATE(IF(COUNTIF(aRoundedScores!$P57:$AI57,aRoundedScores!W57)>1,\"=\",\"\"),RANK(aRoundedScores!W57,aRoundedScores!$P57:$AI57)),\"n/a\")","v":"=1"},{"$f":"IF(ISNUMBER(aRoundedScores!X57),CONCATENATE(IF(COUNTIF(aRoundedScores!$P57:$AI57,aRoundedScores!X57)>1,\"=\",\"\"),RANK(aRoundedScores!X57,aRoundedScores!$P57:$AI57)),\"n/a\")","v":"=1"},{"$f":"IF(ISNUMBER(aRoundedScores!Y57),CONCATENATE(IF(COUNTIF(aRoundedScores!$P57:$AI57,aRoundedScores!Y57)>1,\"=\",\"\"),RANK(aRoundedScores!Y57,aRoundedScores!$P57:$AI57)),\"n/a\")","v":"=1"},{"$f":"IF(ISNUMBER(aRoundedScores!Z57),CONCATENATE(IF(COUNTIF(aRoundedScores!$P57:$AI57,aRoundedScores!Z57)>1,\"=\",\"\"),RANK(aRoundedScores!Z57,aRoundedScores!$P57:$AI57)),\"n/a\")","v":"=1"},{"$f":"IF(ISNUMBER(aRoundedScores!AA57),CONCATENATE(IF(COUNTIF(aRoundedScores!$P57:$AI57,aRoundedScores!AA57)>1,\"=\",\"\"),RANK(aRoundedScores!AA57,aRoundedScores!$P57:$AI57)),\"n/a\")","v":"=1"},{"$f":"IF(ISNUMBER(aRoundedScores!AB57),CONCATENATE(IF(COUNTIF(aRoundedScores!$P57:$AI57,aRoundedScores!AB57)>1,\"=\",\"\"),RANK(aRoundedScores!AB57,aRoundedScores!$P57:$AI57)),\"n/a\")","v":"=1"},{"$f":"IF(ISNUMBER(aRoundedScores!AC57),CONCATENATE(IF(COUNTIF(aRoundedScores!$P57:$AI57,aRoundedScores!AC57)>1,\"=\",\"\"),RANK(aRoundedScores!AC57,aRoundedScores!$P57:$AI57)),\"n/a\")","v":"=1"},{"$f":"IF(ISNUMBER(aRoundedScores!AD57),CONCATENATE(IF(COUNTIF(aRoundedScores!$P57:$AI57,aRoundedScores!AD57)>1,\"=\",\"\"),RANK(aRoundedScores!AD57,aRoundedScores!$P57:$AI57)),\"n/a\")","v":"=1"},{"$f":"IF(ISNUMBER(aRoundedScores!AE57),CONCATENATE(IF(COUNTIF(aRoundedScores!$P57:$AI57,aRoundedScores!AE57)>1,\"=\",\"\"),RANK(aRoundedScores!AE57,aRoundedScores!$P57:$AI57)),\"n/a\")","v":"=1"},{"$f":"IF(ISNUMBER(aRoundedScores!AF57),CONCATENATE(IF(COUNTIF(aRoundedScores!$P57:$AI57,aRoundedScores!AF57)>1,\"=\",\"\"),RANK(aRoundedScores!AF57,aRoundedScores!$P57:$AI57)),\"n/a\")","v":"=1"},{"$f":"IF(ISNUMBER(aRoundedScores!AG57),CONCATENATE(IF(COUNTIF(aRoundedScores!$P57:$AI57,aRoundedScores!AG57)>1,\"=\",\"\"),RANK(aRoundedScores!AG57,aRoundedScores!$P57:$AI57)),\"n/a\")","v":"=1"},{"$f":"IF(ISNUMBER(aRoundedScores!AH57),CONCATENATE(IF(COUNTIF(aRoundedScores!$P57:$AI57,aRoundedScores!AH57)>1,\"=\",\"\"),RANK(aRoundedScores!AH57,aRoundedScores!$P57:$AI57)),\"n/a\")","v":"=1"},{"$f":"IF(ISNUMBER(aRoundedScores!AI57),CONCATENATE(IF(COUNTIF(aRoundedScores!$P57:$AI57,aRoundedScores!AI57)>1,\"=\",\"\"),RANK(aRoundedScores!AI57,aRoundedScores!$P57:$AI57)),\"n/a\")","v":"=1"}]
[null,"4.2.3) On-site reviews ",null,{"$f":"IF(ISNUMBER(aRoundedScores!P58),CONCATENATE(IF(COUNTIF(aRoundedScores!$P58:$AI58,aRoundedScores!P58)>1,\"=\",\"\"),RANK(aRoundedScores!P58,aRoundedScores!$P58:$AI58)),\"n/a\")","v":"=1"},{"$f":"IF(ISNUMBER(aRoundedScores!Q58),CONCATENATE(IF(COUNTIF(aRoundedScores!$P58:$AI58,aRoundedScores!Q58)>1,\"=\",\"\"),RANK(aRoundedScores!Q58,aRoundedScores!$P58:$AI58)),\"n/a\")","v":"=1"},{"$f":"IF(ISNUMBER(aRoundedScores!R58),CONCATENATE(IF(COUNTIF(aRoundedScores!$P58:$AI58,aRoundedScores!R58)>1,\"=\",\"\"),RANK(aRoundedScores!R58,aRoundedScores!$P58:$AI58)),\"n/a\")","v":"=1"},{"$f":"IF(ISNUMBER(aRoundedScores!S58),CONCATENATE(IF(COUNTIF(aRoundedScores!$P58:$AI58,aRoundedScores!S58)>1,\"=\",\"\"),RANK(aRoundedScores!S58,aRoundedScores!$P58:$AI58)),\"n/a\")","v":"=1"},{"$f":"IF(ISNUMBER(aRoundedScores!T58),CONCATENATE(IF(COUNTIF(aRoundedScores!$P58:$AI58,aRoundedScores!T58)>1,\"=\",\"\"),RANK(aRoundedScores!T58,aRoundedScores!$P58:$AI58)),\"n/a\")","v":"=19"},{"$f":"IF(ISNUMBER(aRoundedScores!U58),CONCATENATE(IF(COUNTIF(aRoundedScores!$P58:$AI58,aRoundedScores!U58)>1,\"=\",\"\"),RANK(aRoundedScores!U58,aRoundedScores!$P58:$AI58)),\"n/a\")","v":"=1"},{"$f":"IF(ISNUMBER(aRoundedScores!V58),CONCATENATE(IF(COUNTIF(aRoundedScores!$P58:$AI58,aRoundedScores!V58)>1,\"=\",\"\"),RANK(aRoundedScores!V58,aRoundedScores!$P58:$AI58)),\"n/a\")","v":"=1"},{"$f":"IF(ISNUMBER(aRoundedScores!W58),CONCATENATE(IF(COUNTIF(aRoundedScores!$P58:$AI58,aRoundedScores!W58)>1,\"=\",\"\"),RANK(aRoundedScores!W58,aRoundedScores!$P58:$AI58)),\"n/a\")","v":"=1"},{"$f":"IF(ISNUMBER(aRoundedScores!X58),CONCATENATE(IF(COUNTIF(aRoundedScores!$P58:$AI58,aRoundedScores!X58)>1,\"=\",\"\"),RANK(aRoundedScores!X58,aRoundedScores!$P58:$AI58)),\"n/a\")","v":"=1"},{"$f":"IF(ISNUMBER(aRoundedScores!Y58),CONCATENATE(IF(COUNTIF(aRoundedScores!$P58:$AI58,aRoundedScores!Y58)>1,\"=\",\"\"),RANK(aRoundedScores!Y58,aRoundedScores!$P58:$AI58)),\"n/a\")","v":"=1"},{"$f":"IF(ISNUMBER(aRoundedScores!Z58),CONCATENATE(IF(COUNTIF(aRoundedScores!$P58:$AI58,aRoundedScores!Z58)>1,\"=\",\"\"),RANK(aRoundedScores!Z58,aRoundedScores!$P58:$AI58)),\"n/a\")","v":"=1"},{"$f":"IF(ISNUMBER(aRoundedScores!AA58),CONCATENATE(IF(COUNTIF(aRoundedScores!$P58:$AI58,aRoundedScores!AA58)>1,\"=\",\"\"),RANK(aRoundedScores!AA58,aRoundedScores!$P58:$AI58)),\"n/a\")","v":"=1"},{"$f":"IF(ISNUMBER(aRoundedScores!AB58),CONCATENATE(IF(COUNTIF(aRoundedScores!$P58:$AI58,aRoundedScores!AB58)>1,\"=\",\"\"),RANK(aRoundedScores!AB58,aRoundedScores!$P58:$AI58)),\"n/a\")","v":"=1"},{"$f":"IF(ISNUMBER(aRoundedScores!AC58),CONCATENATE(IF(COUNTIF(aRoundedScores!$P58:$AI58,aRoundedScores!AC58)>1,\"=\",\"\"),RANK(aRoundedScores!AC58,aRoundedScores!$P58:$AI58)),\"n/a\")","v":"=1"},{"$f":"IF(ISNUMBER(aRoundedScores!AD58),CONCATENATE(IF(COUNTIF(aRoundedScores!$P58:$AI58,aRoundedScores!AD58)>1,\"=\",\"\"),RANK(aRoundedScores!AD58,aRoundedScores!$P58:$AI58)),\"n/a\")","v":"=1"},{"$f":"IF(ISNUMBER(aRoundedScores!AE58),CONCATENATE(IF(COUNTIF(aRoundedScores!$P58:$AI58,aRoundedScores!AE58)>1,\"=\",\"\"),RANK(aRoundedScores!AE58,aRoundedScores!$P58:$AI58)),\"n/a\")","v":"=1"},{"$f":"IF(ISNUMBER(aRoundedScores!AF58),CONCATENATE(IF(COUNTIF(aRoundedScores!$P58:$AI58,aRoundedScores!AF58)>1,\"=\",\"\"),RANK(aRoundedScores!AF58,aRoundedScores!$P58:$AI58)),\"n/a\")","v":"=1"},{"$f":"IF(ISNUMBER(aRoundedScores!AG58),CONCATENATE(IF(COUNTIF(aRoundedScores!$P58:$AI58,aRoundedScores!AG58)>1,\"=\",\"\"),RANK(aRoundedScores!AG58,aRoundedScores!$P58:$AI58)),\"n/a\")","v":"=19"},{"$f":"IF(ISNUMBER(aRoundedScores!AH58),CONCATENATE(IF(COUNTIF(aRoundedScores!$P58:$AI58,aRoundedScores!AH58)>1,\"=\",\"\"),RANK(aRoundedScores!AH58,aRoundedScores!$P58:$AI58)),\"n/a\")","v":"=1"},{"$f":"IF(ISNUMBER(aRoundedScores!AI58),CONCATENATE(IF(COUNTIF(aRoundedScores!$P58:$AI58,aRoundedScores!AI58)>1,\"=\",\"\"),RANK(aRoundedScores!AI58,aRoundedScores!$P58:$AI58)),\"n/a\")","v":"=1"}]
[null,"4.2.4) Collection of oil spills data",null,{"$f":"IF(ISNUMBER(aRoundedScores!P59),CONCATENATE(IF(COUNTIF(aRoundedScores!$P59:$AI59,aRoundedScores!P59)>1,\"=\",\"\"),RANK(aRoundedScores!P59,aRoundedScores!$P59:$AI59)),\"n/a\")","v":"=10"},{"$f":"IF(ISNUMBER(aRoundedScores!Q59),CONCATENATE(IF(COUNTIF(aRoundedScores!$P59:$AI59,aRoundedScores!Q59)>1,\"=\",\"\"),RANK(aRoundedScores!Q59,aRoundedScores!$P59:$AI59)),\"n/a\")","v":"=1"},{"$f":"IF(ISNUMBER(aRoundedScores!R59),CONCATENATE(IF(COUNTIF(aRoundedScores!$P59:$AI59,aRoundedScores!R59)>1,\"=\",\"\"),RANK(aRoundedScores!R59,aRoundedScores!$P59:$AI59)),\"n/a\")","v":"=1"},{"$f":"IF(ISNUMBER(aRoundedScores!S59),CONCATENATE(IF(COUNTIF(aRoundedScores!$P59:$AI59,aRoundedScores!S59)>1,\"=\",\"\"),RANK(aRoundedScores!S59,aRoundedScores!$P59:$AI59)),\"n/a\")","v":"=10"},{"$f":"IF(ISNUMBER(aRoundedScores!T59),CONCATENATE(IF(COUNTIF(aRoundedScores!$P59:$AI59,aRoundedScores!T59)>1,\"=\",\"\"),RANK(aRoundedScores!T59,aRoundedScores!$P59:$AI59)),\"n/a\")","v":"=17"},{"$f":"IF(ISNUMBER(aRoundedScores!U59),CONCATENATE(IF(COUNTIF(aRoundedScores!$P59:$AI59,aRoundedScores!U59)>1,\"=\",\"\"),RANK(aRoundedScores!U59,aRoundedScores!$P59:$AI59)),\"n/a\")","v":"=10"},{"$f":"IF(ISNUMBER(aRoundedScores!V59),CONCATENATE(IF(COUNTIF(aRoundedScores!$P59:$AI59,aRoundedScores!V59)>1,\"=\",\"\"),RANK(aRoundedScores!V59,aRoundedScores!$P59:$AI59)),\"n/a\")","v":"=17"},{"$f":"IF(ISNUMBER(aRoundedScores!W59),CONCATENATE(IF(COUNTIF(aRoundedScores!$P59:$AI59,aRoundedScores!W59)>1,\"=\",\"\"),RANK(aRoundedScores!W59,aRoundedScores!$P59:$AI59)),\"n/a\")","v":"=1"},{"$f":"IF(ISNUMBER(aRoundedScores!X59),CONCATENATE(IF(COUNTIF(aRoundedScores!$P59:$AI59,aRoundedScores!X59)>1,\"=\",\"\"),RANK(aRoundedScores!X59,aRoundedScores!$P59:$AI59)),\"n/a\")","v":"=1"},{"$f":"IF(ISNUMBER(aRoundedScores!Y59),CONCATENATE(IF(COUNTIF(aRoundedScores!$P59:$AI59,aRoundedScores!Y59)>1,\"=\",\"\"),RANK(aRoundedScores!Y59,aRoundedScores!$P59:$AI59)),\"n/a\")","v":"=10"},{"$f":"IF(ISNUMBER(aRoundedScores!Z59),CONCATENATE(IF(COUNTIF(aRoundedScores!$P59:$AI59,aRoundedScores!Z59)>1,\"=\",\"\"),RANK(aRoundedScores!Z59,aRoundedScores!$P59:$AI59)),\"n/a\")","v":"=1"},{"$f":"IF(ISNUMBER(aRoundedScores!AA59),CONCATENATE(IF(COUNTIF(aRoundedScores!$P59:$AI59,aRoundedScores!AA59)>1,\"=\",\"\"),RANK(aRoundedScores!AA59,aRoundedScores!$P59:$AI59)),\"n/a\")","v":"=1"},{"$f":"IF(ISNUMBER(aRoundedScores!AB59),CONCATENATE(IF(COUNTIF(aRoundedScores!$P59:$AI59,aRoundedScores!AB59)>1,\"=\",\"\"),RANK(aRoundedScores!AB59,aRoundedScores!$P59:$AI59)),\"n/a\")","v":"=17"},{"$f":"IF(ISNUMBER(aRoundedScores!AC59),CONCATENATE(IF(COUNTIF(aRoundedScores!$P59:$AI59,aRoundedScores!AC59)>1,\"=\",\"\"),RANK(aRoundedScores!AC59,aRoundedScores!$P59:$AI59)),\"n/a\")","v":"=10"},{"$f":"IF(ISNUMBER(aRoundedScores!AD59),CONCATENATE(IF(COUNTIF(aRoundedScores!$P59:$AI59,aRoundedScores!AD59)>1,\"=\",\"\"),RANK(aRoundedScores!AD59,aRoundedScores!$P59:$AI59)),\"n/a\")","v":"=17"},{"$f":"IF(ISNUMBER(aRoundedScores!AE59),CONCATENATE(IF(COUNTIF(aRoundedScores!$P59:$AI59,aRoundedScores!AE59)>1,\"=\",\"\"),RANK(aRoundedScores!AE59,aRoundedScores!$P59:$AI59)),\"n/a\")","v":"=10"},{"$f":"IF(ISNUMBER(aRoundedScores!AF59),CONCATENATE(IF(COUNTIF(aRoundedScores!$P59:$AI59,aRoundedScores!AF59)>1,\"=\",\"\"),RANK(aRoundedScores!AF59,aRoundedScores!$P59:$AI59)),\"n/a\")","v":"=1"},{"$f":"IF(ISNUMBER(aRoundedScores!AG59),CONCATENATE(IF(COUNTIF(aRoundedScores!$P59:$AI59,aRoundedScores!AG59)>1,\"=\",\"\"),RANK(aRoundedScores!AG59,aRoundedScores!$P59:$AI59)),\"n/a\")","v":"=1"},{"$f":"IF(ISNUMBER(aRoundedScores!AH59),CONCATENATE(IF(COUNTIF(aRoundedScores!$P59:$AI59,aRoundedScores!AH59)>1,\"=\",\"\"),RANK(aRoundedScores!AH59,aRoundedScores!$P59:$AI59)),\"n/a\")","v":"=1"},{"$f":"IF(ISNUMBER(aRoundedScores!AI59),CONCATENATE(IF(COUNTIF(aRoundedScores!$P59:$AI59,aRoundedScores!AI59)>1,\"=\",\"\"),RANK(aRoundedScores!AI59,aRoundedScores!$P59:$AI59)),\"n/a\")","v":"=10"}]
[null,"4.3) Risk mitigation",null,{"$f":"IF(ISNUMBER(aRoundedScores!P60),CONCATENATE(IF(COUNTIF(aRoundedScores!$P60:$AI60,aRoundedScores!P60)>1,\"=\",\"\"),RANK(aRoundedScores!P60,aRoundedScores!$P60:$AI60)),\"n/a\")","v":"=4"},{"$f":"IF(ISNUMBER(aRoundedScores!Q60),CONCATENATE(IF(COUNTIF(aRoundedScores!$P60:$AI60,aRoundedScores!Q60)>1,\"=\",\"\"),RANK(aRoundedScores!Q60,aRoundedScores!$P60:$AI60)),\"n/a\")","v":"=4"},{"$f":"IF(ISNUMBER(aRoundedScores!R60),CONCATENATE(IF(COUNTIF(aRoundedScores!$P60:$AI60,aRoundedScores!R60)>1,\"=\",\"\"),RANK(aRoundedScores!R60,aRoundedScores!$P60:$AI60)),\"n/a\")","v":"=1"},{"$f":"IF(ISNUMBER(aRoundedScores!S60),CONCATENATE(IF(COUNTIF(aRoundedScores!$P60:$AI60,aRoundedScores!S60)>1,\"=\",\"\"),RANK(aRoundedScores!S60,aRoundedScores!$P60:$AI60)),\"n/a\")","v":"=11"},{"$f":"IF(ISNUMBER(aRoundedScores!T60),CONCATENATE(IF(COUNTIF(aRoundedScores!$P60:$AI60,aRoundedScores!T60)>1,\"=\",\"\"),RANK(aRoundedScores!T60,aRoundedScores!$P60:$AI60)),\"n/a\")","v":"=11"},{"$f":"IF(ISNUMBER(aRoundedScores!U60),CONCATENATE(IF(COUNTIF(aRoundedScores!$P60:$AI60,aRoundedScores!U60)>1,\"=\",\"\"),RANK(aRoundedScores!U60,aRoundedScores!$P60:$AI60)),\"n/a\")","v":"=4"},{"$f":"IF(ISNUMBER(aRoundedScores!V60),CONCATENATE(IF(COUNTIF(aRoundedScores!$P60:$AI60,aRoundedScores!V60)>1,\"=\",\"\"),RANK(aRoundedScores!V60,aRoundedScores!$P60:$AI60)),\"n/a\")","v":"=11"},{"$f":"IF(ISNUMBER(aRoundedScores!W60),CONCATENATE(IF(COUNTIF(aRoundedScores!$P60:$AI60,aRoundedScores!W60)>1,\"=\",\"\"),RANK(aRoundedScores!W60,aRoundedScores!$P60:$AI60)),\"n/a\")","v":"=1"},{"$f":"IF(ISNUMBER(aRoundedScores!X60),CONCATENATE(IF(COUNTIF(aRoundedScores!$P60:$AI60,aRoundedScores!X60)>1,\"=\",\"\"),RANK(aRoundedScores!X60,aRoundedScores!$P60:$AI60)),\"n/a\")","v":"=16"},{"$f":"IF(ISNUMBER(aRoundedScores!Y60),CONCATENATE(IF(COUNTIF(aRoundedScores!$P60:$AI60,aRoundedScores!Y60)>1,\"=\",\"\"),RANK(aRoundedScores!Y60,aRoundedScores!$P60:$AI60)),\"n/a\")","v":"=4"},{"$f":"IF(ISNUMBER(aRoundedScores!Z60),CONCATENATE(IF(COUNTIF(aRoundedScores!$P60:$AI60,aRoundedScores!Z60)>1,\"=\",\"\"),RANK(aRoundedScores!Z60,aRoundedScores!$P60:$AI60)),\"n/a\")","v":"=4"},{"$f":"IF(ISNUMBER(aRoundedScores!AA60),CONCATENATE(IF(COUNTIF(aRoundedScores!$P60:$AI60,aRoundedScores!AA60)>1,\"=\",\"\"),RANK(aRoundedScores!AA60,aRoundedScores!$P60:$AI60)),\"n/a\")","v":"=1"},{"$f":"IF(ISNUMBER(aRoundedScores!AB60),CONCATENATE(IF(COUNTIF(aRoundedScores!$P60:$AI60,aRoundedScores!AB60)>1,\"=\",\"\"),RANK(aRoundedScores!AB60,aRoundedScores!$P60:$AI60)),\"n/a\")","v":"=16"},{"$f":"IF(ISNUMBER(aRoundedScores!AC60),CONCATENATE(IF(COUNTIF(aRoundedScores!$P60:$AI60,aRoundedScores!AC60)>1,\"=\",\"\"),RANK(aRoundedScores!AC60,aRoundedScores!$P60:$AI60)),\"n/a\")","v":"=16"},{"$f":"IF(ISNUMBER(aRoundedScores!AD60),CONCATENATE(IF(COUNTIF(aRoundedScores!$P60:$AI60,aRoundedScores!AD60)>1,\"=\",\"\"),RANK(aRoundedScores!AD60,aRoundedScores!$P60:$AI60)),\"n/a\")","v":"=16"},{"$f":"IF(ISNUMBER(aRoundedScores!AE60),CONCATENATE(IF(COUNTIF(aRoundedScores!$P60:$AI60,aRoundedScores!AE60)>1,\"=\",\"\"),RANK(aRoundedScores!AE60,aRoundedScores!$P60:$AI60)),\"n/a\")","v":"=4"},{"$f":"IF(ISNUMBER(aRoundedScores!AF60),CONCATENATE(IF(COUNTIF(aRoundedScores!$P60:$AI60,aRoundedScores!AF60)>1,\"=\",\"\"),RANK(aRoundedScores!AF60,aRoundedScores!$P60:$AI60)),\"n/a\")","v":"=11"},{"$f":"IF(ISNUMBER(aRoundedScores!AG60),CONCATENATE(IF(COUNTIF(aRoundedScores!$P60:$AI60,aRoundedScores!AG60)>1,\"=\",\"\"),RANK(aRoundedScores!AG60,aRoundedScores!$P60:$AI60)),\"n/a\")","v":"=11"},{"$f":"IF(ISNUMBER(aRoundedScores!AH60),CONCATENATE(IF(COUNTIF(aRoundedScores!$P60:$AI60,aRoundedScores!AH60)>1,\"=\",\"\"),RANK(aRoundedScores!AH60,aRoundedScores!$P60:$AI60)),\"n/a\")","v":"=4"},{"$f":"IF(ISNUMBER(aRoundedScores!AI60),CONCATENATE(IF(COUNTIF(aRoundedScores!$P60:$AI60,aRoundedScores!AI60)>1,\"=\",\"\"),RANK(aRoundedScores!AI60,aRoundedScores!$P60:$AI60)),\"n/a\")","v":"20"}]
[null,"4.3.1) Adoption of the OPRC ",null,{"$f":"IF(ISNUMBER(aRoundedScores!P61),CONCATENATE(IF(COUNTIF(aRoundedScores!$P61:$AI61,aRoundedScores!P61)>1,\"=\",\"\"),RANK(aRoundedScores!P61,aRoundedScores!$P61:$AI61)),\"n/a\")","v":"=8"},{"$f":"IF(ISNUMBER(aRoundedScores!Q61),CONCATENATE(IF(COUNTIF(aRoundedScores!$P61:$AI61,aRoundedScores!Q61)>1,\"=\",\"\"),RANK(aRoundedScores!Q61,aRoundedScores!$P61:$AI61)),\"n/a\")","v":"=8"},{"$f":"IF(ISNUMBER(aRoundedScores!R61),CONCATENATE(IF(COUNTIF(aRoundedScores!$P61:$AI61,aRoundedScores!R61)>1,\"=\",\"\"),RANK(aRoundedScores!R61,aRoundedScores!$P61:$AI61)),\"n/a\")","v":"=1"},{"$f":"IF(ISNUMBER(aRoundedScores!S61),CONCATENATE(IF(COUNTIF(aRoundedScores!$P61:$AI61,aRoundedScores!S61)>1,\"=\",\"\"),RANK(aRoundedScores!S61,aRoundedScores!$P61:$AI61)),\"n/a\")","v":"=1"},{"$f":"IF(ISNUMBER(aRoundedScores!T61),CONCATENATE(IF(COUNTIF(aRoundedScores!$P61:$AI61,aRoundedScores!T61)>1,\"=\",\"\"),RANK(aRoundedScores!T61,aRoundedScores!$P61:$AI61)),\"n/a\")","v":"=1"},{"$f":"IF(ISNUMBER(aRoundedScores!U61),CONCATENATE(IF(COUNTIF(aRoundedScores!$P61:$AI61,aRoundedScores!U61)>1,\"=\",\"\"),RANK(aRoundedScores!U61,aRoundedScores!$P61:$AI61)),\"n/a\")","v":"=8"},{"$f":"IF(ISNUMBER(aRoundedScores!V61),CONCATENATE(IF(COUNTIF(aRoundedScores!$P61:$AI61,aRoundedScores!V61)>1,\"=\",\"\"),RANK(aRoundedScores!V61,aRoundedScores!$P61:$AI61)),\"n/a\")","v":"=19"},{"$f":"IF(ISNUMBER(aRoundedScores!W61),CONCATENATE(IF(COUNTIF(aRoundedScores!$P61:$AI61,aRoundedScores!W61)>1,\"=\",\"\"),RANK(aRoundedScores!W61,aRoundedScores!$P61:$AI61)),\"n/a\")","v":"=1"},{"$f":"IF(ISNUMBER(aRoundedScores!X61),CONCATENATE(IF(COUNTIF(aRoundedScores!$P61:$AI61,aRoundedScores!X61)>1,\"=\",\"\"),RANK(aRoundedScores!X61,aRoundedScores!$P61:$AI61)),\"n/a\")","v":"=8"},{"$f":"IF(ISNUMBER(aRoundedScores!Y61),CONCATENATE(IF(COUNTIF(aRoundedScores!$P61:$AI61,aRoundedScores!Y61)>1,\"=\",\"\"),RANK(aRoundedScores!Y61,aRoundedScores!$P61:$AI61)),\"n/a\")","v":"=8"},{"$f":"IF(ISNUMBER(aRoundedScores!Z61),CONCATENATE(IF(COUNTIF(aRoundedScores!$P61:$AI61,aRoundedScores!Z61)>1,\"=\",\"\"),RANK(aRoundedScores!Z61,aRoundedScores!$P61:$AI61)),\"n/a\")","v":"=8"},{"$f":"IF(ISNUMBER(aRoundedScores!AA61),CONCATENATE(IF(COUNTIF(aRoundedScores!$P61:$AI61,aRoundedScores!AA61)>1,\"=\",\"\"),RANK(aRoundedScores!AA61,aRoundedScores!$P61:$AI61)),\"n/a\")","v":"=1"},{"$f":"IF(ISNUMBER(aRoundedScores!AB61),CONCATENATE(IF(COUNTIF(aRoundedScores!$P61:$AI61,aRoundedScores!AB61)>1,\"=\",\"\"),RANK(aRoundedScores!AB61,aRoundedScores!$P61:$AI61)),\"n/a\")","v":"=8"},{"$f":"IF(ISNUMBER(aRoundedScores!AC61),CONCATENATE(IF(COUNTIF(aRoundedScores!$P61:$AI61,aRoundedScores!AC61)>1,\"=\",\"\"),RANK(aRoundedScores!AC61,aRoundedScores!$P61:$AI61)),\"n/a\")","v":"=8"},{"$f":"IF(ISNUMBER(aRoundedScores!AD61),CONCATENATE(IF(COUNTIF(aRoundedScores!$P61:$AI61,aRoundedScores!AD61)>1,\"=\",\"\"),RANK(aRoundedScores!AD61,aRoundedScores!$P61:$AI61)),\"n/a\")","v":"=8"},{"$f":"IF(ISNUMBER(aRoundedScores!AE61),CONCATENATE(IF(COUNTIF(aRoundedScores!$P61:$AI61,aRoundedScores!AE61)>1,\"=\",\"\"),RANK(aRoundedScores!AE61,aRoundedScores!$P61:$AI61)),\"n/a\")","v":"=8"},{"$f":"IF(ISNUMBER(aRoundedScores!AF61),CONCATENATE(IF(COUNTIF(aRoundedScores!$P61:$AI61,aRoundedScores!AF61)>1,\"=\",\"\"),RANK(aRoundedScores!AF61,aRoundedScores!$P61:$AI61)),\"n/a\")","v":"=1"},{"$f":"IF(ISNUMBER(aRoundedScores!AG61),CONCATENATE(IF(COUNTIF(aRoundedScores!$P61:$AI61,aRoundedScores!AG61)>1,\"=\",\"\"),RANK(aRoundedScores!AG61,aRoundedScores!$P61:$AI61)),\"n/a\")","v":"=1"},{"$f":"IF(ISNUMBER(aRoundedScores!AH61),CONCATENATE(IF(COUNTIF(aRoundedScores!$P61:$AI61,aRoundedScores!AH61)>1,\"=\",\"\"),RANK(aRoundedScores!AH61,aRoundedScores!$P61:$AI61)),\"n/a\")","v":"=8"},{"$f":"IF(ISNUMBER(aRoundedScores!AI61),CONCATENATE(IF(COUNTIF(aRoundedScores!$P61:$AI61,aRoundedScores!AI61)>1,\"=\",\"\"),RANK(aRoundedScores!AI61,aRoundedScores!$P61:$AI61)),\"n/a\")","v":"=19"}]
[null,"4.3.2) Emergency plan ",null,{"$f":"IF(ISNUMBER(aRoundedScores!P62),CONCATENATE(IF(COUNTIF(aRoundedScores!$P62:$AI62,aRoundedScores!P62)>1,\"=\",\"\"),RANK(aRoundedScores!P62,aRoundedScores!$P62:$AI62)),\"n/a\")","v":"=1"},{"$f":"IF(ISNUMBER(aRoundedScores!Q62),CONCATENATE(IF(COUNTIF(aRoundedScores!$P62:$AI62,aRoundedScores!Q62)>1,\"=\",\"\"),RANK(aRoundedScores!Q62,aRoundedScores!$P62:$AI62)),\"n/a\")","v":"=1"},{"$f":"IF(ISNUMBER(aRoundedScores!R62),CONCATENATE(IF(COUNTIF(aRoundedScores!$P62:$AI62,aRoundedScores!R62)>1,\"=\",\"\"),RANK(aRoundedScores!R62,aRoundedScores!$P62:$AI62)),\"n/a\")","v":"=1"},{"$f":"IF(ISNUMBER(aRoundedScores!S62),CONCATENATE(IF(COUNTIF(aRoundedScores!$P62:$AI62,aRoundedScores!S62)>1,\"=\",\"\"),RANK(aRoundedScores!S62,aRoundedScores!$P62:$AI62)),\"n/a\")","v":"=1"},{"$f":"IF(ISNUMBER(aRoundedScores!T62),CONCATENATE(IF(COUNTIF(aRoundedScores!$P62:$AI62,aRoundedScores!T62)>1,\"=\",\"\"),RANK(aRoundedScores!T62,aRoundedScores!$P62:$AI62)),\"n/a\")","v":"=1"},{"$f":"IF(ISNUMBER(aRoundedScores!U62),CONCATENATE(IF(COUNTIF(aRoundedScores!$P62:$AI62,aRoundedScores!U62)>1,\"=\",\"\"),RANK(aRoundedScores!U62,aRoundedScores!$P62:$AI62)),\"n/a\")","v":"=1"},{"$f":"IF(ISNUMBER(aRoundedScores!V62),CONCATENATE(IF(COUNTIF(aRoundedScores!$P62:$AI62,aRoundedScores!V62)>1,\"=\",\"\"),RANK(aRoundedScores!V62,aRoundedScores!$P62:$AI62)),\"n/a\")","v":"=1"},{"$f":"IF(ISNUMBER(aRoundedScores!W62),CONCATENATE(IF(COUNTIF(aRoundedScores!$P62:$AI62,aRoundedScores!W62)>1,\"=\",\"\"),RANK(aRoundedScores!W62,aRoundedScores!$P62:$AI62)),\"n/a\")","v":"=1"},{"$f":"IF(ISNUMBER(aRoundedScores!X62),CONCATENATE(IF(COUNTIF(aRoundedScores!$P62:$AI62,aRoundedScores!X62)>1,\"=\",\"\"),RANK(aRoundedScores!X62,aRoundedScores!$P62:$AI62)),\"n/a\")","v":"=1"},{"$f":"IF(ISNUMBER(aRoundedScores!Y62),CONCATENATE(IF(COUNTIF(aRoundedScores!$P62:$AI62,aRoundedScores!Y62)>1,\"=\",\"\"),RANK(aRoundedScores!Y62,aRoundedScores!$P62:$AI62)),\"n/a\")","v":"=1"},{"$f":"IF(ISNUMBER(aRoundedScores!Z62),CONCATENATE(IF(COUNTIF(aRoundedScores!$P62:$AI62,aRoundedScores!Z62)>1,\"=\",\"\"),RANK(aRoundedScores!Z62,aRoundedScores!$P62:$AI62)),\"n/a\")","v":"=1"},{"$f":"IF(ISNUMBER(aRoundedScores!AA62),CONCATENATE(IF(COUNTIF(aRoundedScores!$P62:$AI62,aRoundedScores!AA62)>1,\"=\",\"\"),RANK(aRoundedScores!AA62,aRoundedScores!$P62:$AI62)),\"n/a\")","v":"=1"},{"$f":"IF(ISNUMBER(aRoundedScores!AB62),CONCATENATE(IF(COUNTIF(aRoundedScores!$P62:$AI62,aRoundedScores!AB62)>1,\"=\",\"\"),RANK(aRoundedScores!AB62,aRoundedScores!$P62:$AI62)),\"n/a\")","v":"=1"},{"$f":"IF(ISNUMBER(aRoundedScores!AC62),CONCATENATE(IF(COUNTIF(aRoundedScores!$P62:$AI62,aRoundedScores!AC62)>1,\"=\",\"\"),RANK(aRoundedScores!AC62,aRoundedScores!$P62:$AI62)),\"n/a\")","v":"20"},{"$f":"IF(ISNUMBER(aRoundedScores!AD62),CONCATENATE(IF(COUNTIF(aRoundedScores!$P62:$AI62,aRoundedScores!AD62)>1,\"=\",\"\"),RANK(aRoundedScores!AD62,aRoundedScores!$P62:$AI62)),\"n/a\")","v":"=1"},{"$f":"IF(ISNUMBER(aRoundedScores!AE62),CONCATENATE(IF(COUNTIF(aRoundedScores!$P62:$AI62,aRoundedScores!AE62)>1,\"=\",\"\"),RANK(aRoundedScores!AE62,aRoundedScores!$P62:$AI62)),\"n/a\")","v":"=1"},{"$f":"IF(ISNUMBER(aRoundedScores!AF62),CONCATENATE(IF(COUNTIF(aRoundedScores!$P62:$AI62,aRoundedScores!AF62)>1,\"=\",\"\"),RANK(aRoundedScores!AF62,aRoundedScores!$P62:$AI62)),\"n/a\")","v":"=1"},{"$f":"IF(ISNUMBER(aRoundedScores!AG62),CONCATENATE(IF(COUNTIF(aRoundedScores!$P62:$AI62,aRoundedScores!AG62)>1,\"=\",\"\"),RANK(aRoundedScores!AG62,aRoundedScores!$P62:$AI62)),\"n/a\")","v":"=1"},{"$f":"IF(ISNUMBER(aRoundedScores!AH62),CONCATENATE(IF(COUNTIF(aRoundedScores!$P62:$AI62,aRoundedScores!AH62)>1,\"=\",\"\"),RANK(aRoundedScores!AH62,aRoundedScores!$P62:$AI62)),\"n/a\")","v":"=1"},{"$f":"IF(ISNUMBER(aRoundedScores!AI62),CONCATENATE(IF(COUNTIF(aRoundedScores!$P62:$AI62,aRoundedScores!AI62)>1,\"=\",\"\"),RANK(aRoundedScores!AI62,aRoundedScores!$P62:$AI62)),\"n/a\")","v":"=1"}]
[null,"4.3.3) Off-limit areas ",null,{"$f":"IF(ISNUMBER(aRoundedScores!P63),CONCATENATE(IF(COUNTIF(aRoundedScores!$P63:$AI63,aRoundedScores!P63)>1,\"=\",\"\"),RANK(aRoundedScores!P63,aRoundedScores!$P63:$AI63)),\"n/a\")","v":"=1"},{"$f":"IF(ISNUMBER(aRoundedScores!Q63),CONCATENATE(IF(COUNTIF(aRoundedScores!$P63:$AI63,aRoundedScores!Q63)>1,\"=\",\"\"),RANK(aRoundedScores!Q63,aRoundedScores!$P63:$AI63)),\"n/a\")","v":"=1"},{"$f":"IF(ISNUMBER(aRoundedScores!R63),CONCATENATE(IF(COUNTIF(aRoundedScores!$P63:$AI63,aRoundedScores!R63)>1,\"=\",\"\"),RANK(aRoundedScores!R63,aRoundedScores!$P63:$AI63)),\"n/a\")","v":"=1"},{"$f":"IF(ISNUMBER(aRoundedScores!S63),CONCATENATE(IF(COUNTIF(aRoundedScores!$P63:$AI63,aRoundedScores!S63)>1,\"=\",\"\"),RANK(aRoundedScores!S63,aRoundedScores!$P63:$AI63)),\"n/a\")","v":"=13"},{"$f":"IF(ISNUMBER(aRoundedScores!T63),CONCATENATE(IF(COUNTIF(aRoundedScores!$P63:$AI63,aRoundedScores!T63)>1,\"=\",\"\"),RANK(aRoundedScores!T63,aRoundedScores!$P63:$AI63)),\"n/a\")","v":"=13"},{"$f":"IF(ISNUMBER(aRoundedScores!U63),CONCATENATE(IF(COUNTIF(aRoundedScores!$P63:$AI63,aRoundedScores!U63)>1,\"=\",\"\"),RANK(aRoundedScores!U63,aRoundedScores!$P63:$AI63)),\"n/a\")","v":"=1"},{"$f":"IF(ISNUMBER(aRoundedScores!V63),CONCATENATE(IF(COUNTIF(aRoundedScores!$P63:$AI63,aRoundedScores!V63)>1,\"=\",\"\"),RANK(aRoundedScores!V63,aRoundedScores!$P63:$AI63)),\"n/a\")","v":"=1"},{"$f":"IF(ISNUMBER(aRoundedScores!W63),CONCATENATE(IF(COUNTIF(aRoundedScores!$P63:$AI63,aRoundedScores!W63)>1,\"=\",\"\"),RANK(aRoundedScores!W63,aRoundedScores!$P63:$AI63)),\"n/a\")","v":"=1"},{"$f":"IF(ISNUMBER(aRoundedScores!X63),CONCATENATE(IF(COUNTIF(aRoundedScores!$P63:$AI63,aRoundedScores!X63)>1,\"=\",\"\"),RANK(aRoundedScores!X63,aRoundedScores!$P63:$AI63)),\"n/a\")","v":"=13"},{"$f":"IF(ISNUMBER(aRoundedScores!Y63),CONCATENATE(IF(COUNTIF(aRoundedScores!$P63:$AI63,aRoundedScores!Y63)>1,\"=\",\"\"),RANK(aRoundedScores!Y63,aRoundedScores!$P63:$AI63)),\"n/a\")","v":"=1"},{"$f":"IF(ISNUMBER(aRoundedScores!Z63),CONCATENATE(IF(COUNTIF(aRoundedScores!$P63:$AI63,aRoundedScores!Z63)>1,\"=\",\"\"),RANK(aRoundedScores!Z63,aRoundedScores!$P63:$AI63)),\"n/a\")","v":"=1"},{"$f":"IF(ISNUMBER(aRoundedScores!AA63),CONCATENATE(IF(COUNTIF(aRoundedScores!$P63:$AI63,aRoundedScores!AA63)>1,\"=\",\"\"),RANK(aRoundedScores!AA63,aRoundedScores!$P63:$AI63)),\"n/a\")","v":"=1"},{"$f":"IF(ISNUMBER(aRoundedScores!AB63),CONCATENATE(IF(COUNTIF(aRoundedScores!$P63:$AI63,aRoundedScores!AB63)>1,\"=\",\"\"),RANK(aRoundedScores!AB63,aRoundedScores!$P63:$AI63)),\"n/a\")","v":"=13"},{"$f":"IF(ISNUMBER(aRoundedScores!AC63),CONCATENATE(IF(COUNTIF(aRoundedScores!$P63:$AI63,aRoundedScores!AC63)>1,\"=\",\"\"),RANK(aRoundedScores!AC63,aRoundedScores!$P63:$AI63)),\"n/a\")","v":"=1"},{"$f":"IF(ISNUMBER(aRoundedScores!AD63),CONCATENATE(IF(COUNTIF(aRoundedScores!$P63:$AI63,aRoundedScores!AD63)>1,\"=\",\"\"),RANK(aRoundedScores!AD63,aRoundedScores!$P63:$AI63)),\"n/a\")","v":"=13"},{"$f":"IF(ISNUMBER(aRoundedScores!AE63),CONCATENATE(IF(COUNTIF(aRoundedScores!$P63:$AI63,aRoundedScores!AE63)>1,\"=\",\"\"),RANK(aRoundedScores!AE63,aRoundedScores!$P63:$AI63)),\"n/a\")","v":"=1"},{"$f":"IF(ISNUMBER(aRoundedScores!AF63),CONCATENATE(IF(COUNTIF(aRoundedScores!$P63:$AI63,aRoundedScores!AF63)>1,\"=\",\"\"),RANK(aRoundedScores!AF63,aRoundedScores!$P63:$AI63)),\"n/a\")","v":"=13"},{"$f":"IF(ISNUMBER(aRoundedScores!AG63),CONCATENATE(IF(COUNTIF(aRoundedScores!$P63:$AI63,aRoundedScores!AG63)>1,\"=\",\"\"),RANK(aRoundedScores!AG63,aRoundedScores!$P63:$AI63)),\"n/a\")","v":"=13"},{"$f":"IF(ISNUMBER(aRoundedScores!AH63),CONCATENATE(IF(COUNTIF(aRoundedScores!$P63:$AI63,aRoundedScores!AH63)>1,\"=\",\"\"),RANK(aRoundedScores!AH63,aRoundedScores!$P63:$AI63)),\"n/a\")","v":"=1"},{"$f":"IF(ISNUMBER(aRoundedScores!AI63),CONCATENATE(IF(COUNTIF(aRoundedScores!$P63:$AI63,aRoundedScores!AI63)>1,\"=\",\"\"),RANK(aRoundedScores!AI63,aRoundedScores!$P63:$AI63)),\"n/a\")","v":"=13"}]
[null,"5) LAND",null,{"$f":"IF(ISNUMBER(aRoundedScores!P64),CONCATENATE(IF(COUNTIF(aRoundedScores!$P64:$AI64,aRoundedScores!P64)>1,\"=\",\"\"),RANK(aRoundedScores!P64,aRoundedScores!$P64:$AI64)),\"n/a\")","v":"19"},{"$f":"IF(ISNUMBER(aRoundedScores!Q64),CONCATENATE(IF(COUNTIF(aRoundedScores!$P64:$AI64,aRoundedScores!Q64)>1,\"=\",\"\"),RANK(aRoundedScores!Q64,aRoundedScores!$P64:$AI64)),\"n/a\")","v":"=10"},{"$f":"IF(ISNUMBER(aRoundedScores!R64),CONCATENATE(IF(COUNTIF(aRoundedScores!$P64:$AI64,aRoundedScores!R64)>1,\"=\",\"\"),RANK(aRoundedScores!R64,aRoundedScores!$P64:$AI64)),\"n/a\")","v":"12"},{"$f":"IF(ISNUMBER(aRoundedScores!S64),CONCATENATE(IF(COUNTIF(aRoundedScores!$P64:$AI64,aRoundedScores!S64)>1,\"=\",\"\"),RANK(aRoundedScores!S64,aRoundedScores!$P64:$AI64)),\"n/a\")","v":"=5"},{"$f":"IF(ISNUMBER(aRoundedScores!T64),CONCATENATE(IF(COUNTIF(aRoundedScores!$P64:$AI64,aRoundedScores!T64)>1,\"=\",\"\"),RANK(aRoundedScores!T64,aRoundedScores!$P64:$AI64)),\"n/a\")","v":"2"},{"$f":"IF(ISNUMBER(aRoundedScores!U64),CONCATENATE(IF(COUNTIF(aRoundedScores!$P64:$AI64,aRoundedScores!U64)>1,\"=\",\"\"),RANK(aRoundedScores!U64,aRoundedScores!$P64:$AI64)),\"n/a\")","v":"=13"},{"$f":"IF(ISNUMBER(aRoundedScores!V64),CONCATENATE(IF(COUNTIF(aRoundedScores!$P64:$AI64,aRoundedScores!V64)>1,\"=\",\"\"),RANK(aRoundedScores!V64,aRoundedScores!$P64:$AI64)),\"n/a\")","v":"=8"},{"$f":"IF(ISNUMBER(aRoundedScores!W64),CONCATENATE(IF(COUNTIF(aRoundedScores!$P64:$AI64,aRoundedScores!W64)>1,\"=\",\"\"),RANK(aRoundedScores!W64,aRoundedScores!$P64:$AI64)),\"n/a\")","v":"7"},{"$f":"IF(ISNUMBER(aRoundedScores!X64),CONCATENATE(IF(COUNTIF(aRoundedScores!$P64:$AI64,aRoundedScores!X64)>1,\"=\",\"\"),RANK(aRoundedScores!X64,aRoundedScores!$P64:$AI64)),\"n/a\")","v":"=17"},{"$f":"IF(ISNUMBER(aRoundedScores!Y64),CONCATENATE(IF(COUNTIF(aRoundedScores!$P64:$AI64,aRoundedScores!Y64)>1,\"=\",\"\"),RANK(aRoundedScores!Y64,aRoundedScores!$P64:$AI64)),\"n/a\")","v":"1"},{"$f":"IF(ISNUMBER(aRoundedScores!Z64),CONCATENATE(IF(COUNTIF(aRoundedScores!$P64:$AI64,aRoundedScores!Z64)>1,\"=\",\"\"),RANK(aRoundedScores!Z64,aRoundedScores!$P64:$AI64)),\"n/a\")","v":"16"},{"$f":"IF(ISNUMBER(aRoundedScores!AA64),CONCATENATE(IF(COUNTIF(aRoundedScores!$P64:$AI64,aRoundedScores!AA64)>1,\"=\",\"\"),RANK(aRoundedScores!AA64,aRoundedScores!$P64:$AI64)),\"n/a\")","v":"=17"},{"$f":"IF(ISNUMBER(aRoundedScores!AB64),CONCATENATE(IF(COUNTIF(aRoundedScores!$P64:$AI64,aRoundedScores!AB64)>1,\"=\",\"\"),RANK(aRoundedScores!AB64,aRoundedScores!$P64:$AI64)),\"n/a\")","v":"=5"},{"$f":"IF(ISNUMBER(aRoundedScores!AC64),CONCATENATE(IF(COUNTIF(aRoundedScores!$P64:$AI64,aRoundedScores!AC64)>1,\"=\",\"\"),RANK(aRoundedScores!AC64,aRoundedScores!$P64:$AI64)),\"n/a\")","v":"=8"},{"$f":"IF(ISNUMBER(aRoundedScores!AD64),CONCATENATE(IF(COUNTIF(aRoundedScores!$P64:$AI64,aRoundedScores!AD64)>1,\"=\",\"\"),RANK(aRoundedScores!AD64,aRoundedScores!$P64:$AI64)),\"n/a\")","v":"20"},{"$f":"IF(ISNUMBER(aRoundedScores!AE64),CONCATENATE(IF(COUNTIF(aRoundedScores!$P64:$AI64,aRoundedScores!AE64)>1,\"=\",\"\"),RANK(aRoundedScores!AE64,aRoundedScores!$P64:$AI64)),\"n/a\")","v":"=10"},{"$f":"IF(ISNUMBER(aRoundedScores!AF64),CONCATENATE(IF(COUNTIF(aRoundedScores!$P64:$AI64,aRoundedScores!AF64)>1,\"=\",\"\"),RANK(aRoundedScores!AF64,aRoundedScores!$P64:$AI64)),\"n/a\")","v":"=13"},{"$f":"IF(ISNUMBER(aRoundedScores!AG64),CONCATENATE(IF(COUNTIF(aRoundedScores!$P64:$AI64,aRoundedScores!AG64)>1,\"=\",\"\"),RANK(aRoundedScores!AG64,aRoundedScores!$P64:$AI64)),\"n/a\")","v":"3"},{"$f":"IF(ISNUMBER(aRoundedScores!AH64),CONCATENATE(IF(COUNTIF(aRoundedScores!$P64:$AI64,aRoundedScores!AH64)>1,\"=\",\"\"),RANK(aRoundedScores!AH64,aRoundedScores!$P64:$AI64)),\"n/a\")","v":"4"},{"$f":"IF(ISNUMBER(aRoundedScores!AI64),CONCATENATE(IF(COUNTIF(aRoundedScores!$P64:$AI64,aRoundedScores!AI64)>1,\"=\",\"\"),RANK(aRoundedScores!AI64,aRoundedScores!$P64:$AI64)),\"n/a\")","v":"15"}]
[null,"5.1) Prevalence of coastal protected areas",null,{"$f":"IF(ISNUMBER(aRoundedScores!P65),CONCATENATE(IF(COUNTIF(aRoundedScores!$P65:$AI65,aRoundedScores!P65)>1,\"=\",\"\"),RANK(aRoundedScores!P65,aRoundedScores!$P65:$AI65)),\"n/a\")","v":"=1"},{"$f":"IF(ISNUMBER(aRoundedScores!Q65),CONCATENATE(IF(COUNTIF(aRoundedScores!$P65:$AI65,aRoundedScores!Q65)>1,\"=\",\"\"),RANK(aRoundedScores!Q65,aRoundedScores!$P65:$AI65)),\"n/a\")","v":"=16"},{"$f":"IF(ISNUMBER(aRoundedScores!R65),CONCATENATE(IF(COUNTIF(aRoundedScores!$P65:$AI65,aRoundedScores!R65)>1,\"=\",\"\"),RANK(aRoundedScores!R65,aRoundedScores!$P65:$AI65)),\"n/a\")","v":"=1"},{"$f":"IF(ISNUMBER(aRoundedScores!S65),CONCATENATE(IF(COUNTIF(aRoundedScores!$P65:$AI65,aRoundedScores!S65)>1,\"=\",\"\"),RANK(aRoundedScores!S65,aRoundedScores!$P65:$AI65)),\"n/a\")","v":"=7"},{"$f":"IF(ISNUMBER(aRoundedScores!T65),CONCATENATE(IF(COUNTIF(aRoundedScores!$P65:$AI65,aRoundedScores!T65)>1,\"=\",\"\"),RANK(aRoundedScores!T65,aRoundedScores!$P65:$AI65)),\"n/a\")","v":"=1"},{"$f":"IF(ISNUMBER(aRoundedScores!U65),CONCATENATE(IF(COUNTIF(aRoundedScores!$P65:$AI65,aRoundedScores!U65)>1,\"=\",\"\"),RANK(aRoundedScores!U65,aRoundedScores!$P65:$AI65)),\"n/a\")","v":"=16"},{"$f":"IF(ISNUMBER(aRoundedScores!V65),CONCATENATE(IF(COUNTIF(aRoundedScores!$P65:$AI65,aRoundedScores!V65)>1,\"=\",\"\"),RANK(aRoundedScores!V65,aRoundedScores!$P65:$AI65)),\"n/a\")","v":"=7"},{"$f":"IF(ISNUMBER(aRoundedScores!W65),CONCATENATE(IF(COUNTIF(aRoundedScores!$P65:$AI65,aRoundedScores!W65)>1,\"=\",\"\"),RANK(aRoundedScores!W65,aRoundedScores!$P65:$AI65)),\"n/a\")","v":"=7"},{"$f":"IF(ISNUMBER(aRoundedScores!X65),CONCATENATE(IF(COUNTIF(aRoundedScores!$P65:$AI65,aRoundedScores!X65)>1,\"=\",\"\"),RANK(aRoundedScores!X65,aRoundedScores!$P65:$AI65)),\"n/a\")","v":"=7"},{"$f":"IF(ISNUMBER(aRoundedScores!Y65),CONCATENATE(IF(COUNTIF(aRoundedScores!$P65:$AI65,aRoundedScores!Y65)>1,\"=\",\"\"),RANK(aRoundedScores!Y65,aRoundedScores!$P65:$AI65)),\"n/a\")","v":"=1"},{"$f":"IF(ISNUMBER(aRoundedScores!Z65),CONCATENATE(IF(COUNTIF(aRoundedScores!$P65:$AI65,aRoundedScores!Z65)>1,\"=\",\"\"),RANK(aRoundedScores!Z65,aRoundedScores!$P65:$AI65)),\"n/a\")","v":"=7"},{"$f":"IF(ISNUMBER(aRoundedScores!AA65),CONCATENATE(IF(COUNTIF(aRoundedScores!$P65:$AI65,aRoundedScores!AA65)>1,\"=\",\"\"),RANK(aRoundedScores!AA65,aRoundedScores!$P65:$AI65)),\"n/a\")","v":"=7"},{"$f":"IF(ISNUMBER(aRoundedScores!AB65),CONCATENATE(IF(COUNTIF(aRoundedScores!$P65:$AI65,aRoundedScores!AB65)>1,\"=\",\"\"),RANK(aRoundedScores!AB65,aRoundedScores!$P65:$AI65)),\"n/a\")","v":"=1"},{"$f":"IF(ISNUMBER(aRoundedScores!AC65),CONCATENATE(IF(COUNTIF(aRoundedScores!$P65:$AI65,aRoundedScores!AC65)>1,\"=\",\"\"),RANK(aRoundedScores!AC65,aRoundedScores!$P65:$AI65)),\"n/a\")","v":"=7"},{"$f":"IF(ISNUMBER(aRoundedScores!AD65),CONCATENATE(IF(COUNTIF(aRoundedScores!$P65:$AI65,aRoundedScores!AD65)>1,\"=\",\"\"),RANK(aRoundedScores!AD65,aRoundedScores!$P65:$AI65)),\"n/a\")","v":"=7"},{"$f":"IF(ISNUMBER(aRoundedScores!AE65),CONCATENATE(IF(COUNTIF(aRoundedScores!$P65:$AI65,aRoundedScores!AE65)>1,\"=\",\"\"),RANK(aRoundedScores!AE65,aRoundedScores!$P65:$AI65)),\"n/a\")","v":"=16"},{"$f":"IF(ISNUMBER(aRoundedScores!AF65),CONCATENATE(IF(COUNTIF(aRoundedScores!$P65:$AI65,aRoundedScores!AF65)>1,\"=\",\"\"),RANK(aRoundedScores!AF65,aRoundedScores!$P65:$AI65)),\"n/a\")","v":"=16"},{"$f":"IF(ISNUMBER(aRoundedScores!AG65),CONCATENATE(IF(COUNTIF(aRoundedScores!$P65:$AI65,aRoundedScores!AG65)>1,\"=\",\"\"),RANK(aRoundedScores!AG65,aRoundedScores!$P65:$AI65)),\"n/a\")","v":"=1"},{"$f":"IF(ISNUMBER(aRoundedScores!AH65),CONCATENATE(IF(COUNTIF(aRoundedScores!$P65:$AI65,aRoundedScores!AH65)>1,\"=\",\"\"),RANK(aRoundedScores!AH65,aRoundedScores!$P65:$AI65)),\"n/a\")","v":"=7"},{"$f":"IF(ISNUMBER(aRoundedScores!AI65),CONCATENATE(IF(COUNTIF(aRoundedScores!$P65:$AI65,aRoundedScores!AI65)>1,\"=\",\"\"),RANK(aRoundedScores!AI65,aRoundedScores!$P65:$AI65)),\"n/a\")","v":"=16"}]
[null,"5.1.1) Terrestrial protected areas",null,{"$f":"IF(ISNUMBER(aRoundedScores!P66),CONCATENATE(IF(COUNTIF(aRoundedScores!$P66:$AI66,aRoundedScores!P66)>1,\"=\",\"\"),RANK(aRoundedScores!P66,aRoundedScores!$P66:$AI66)),\"n/a\")","v":"=1"},{"$f":"IF(ISNUMBER(aRoundedScores!Q66),CONCATENATE(IF(COUNTIF(aRoundedScores!$P66:$AI66,aRoundedScores!Q66)>1,\"=\",\"\"),RANK(aRoundedScores!Q66,aRoundedScores!$P66:$AI66)),\"n/a\")","v":"=16"},{"$f":"IF(ISNUMBER(aRoundedScores!R66),CONCATENATE(IF(COUNTIF(aRoundedScores!$P66:$AI66,aRoundedScores!R66)>1,\"=\",\"\"),RANK(aRoundedScores!R66,aRoundedScores!$P66:$AI66)),\"n/a\")","v":"=1"},{"$f":"IF(ISNUMBER(aRoundedScores!S66),CONCATENATE(IF(COUNTIF(aRoundedScores!$P66:$AI66,aRoundedScores!S66)>1,\"=\",\"\"),RANK(aRoundedScores!S66,aRoundedScores!$P66:$AI66)),\"n/a\")","v":"=7"},{"$f":"IF(ISNUMBER(aRoundedScores!T66),CONCATENATE(IF(COUNTIF(aRoundedScores!$P66:$AI66,aRoundedScores!T66)>1,\"=\",\"\"),RANK(aRoundedScores!T66,aRoundedScores!$P66:$AI66)),\"n/a\")","v":"=1"},{"$f":"IF(ISNUMBER(aRoundedScores!U66),CONCATENATE(IF(COUNTIF(aRoundedScores!$P66:$AI66,aRoundedScores!U66)>1,\"=\",\"\"),RANK(aRoundedScores!U66,aRoundedScores!$P66:$AI66)),\"n/a\")","v":"=16"},{"$f":"IF(ISNUMBER(aRoundedScores!V66),CONCATENATE(IF(COUNTIF(aRoundedScores!$P66:$AI66,aRoundedScores!V66)>1,\"=\",\"\"),RANK(aRoundedScores!V66,aRoundedScores!$P66:$AI66)),\"n/a\")","v":"=7"},{"$f":"IF(ISNUMBER(aRoundedScores!W66),CONCATENATE(IF(COUNTIF(aRoundedScores!$P66:$AI66,aRoundedScores!W66)>1,\"=\",\"\"),RANK(aRoundedScores!W66,aRoundedScores!$P66:$AI66)),\"n/a\")","v":"=7"},{"$f":"IF(ISNUMBER(aRoundedScores!X66),CONCATENATE(IF(COUNTIF(aRoundedScores!$P66:$AI66,aRoundedScores!X66)>1,\"=\",\"\"),RANK(aRoundedScores!X66,aRoundedScores!$P66:$AI66)),\"n/a\")","v":"=7"},{"$f":"IF(ISNUMBER(aRoundedScores!Y66),CONCATENATE(IF(COUNTIF(aRoundedScores!$P66:$AI66,aRoundedScores!Y66)>1,\"=\",\"\"),RANK(aRoundedScores!Y66,aRoundedScores!$P66:$AI66)),\"n/a\")","v":"=1"},{"$f":"IF(ISNUMBER(aRoundedScores!Z66),CONCATENATE(IF(COUNTIF(aRoundedScores!$P66:$AI66,aRoundedScores!Z66)>1,\"=\",\"\"),RANK(aRoundedScores!Z66,aRoundedScores!$P66:$AI66)),\"n/a\")","v":"=7"},{"$f":"IF(ISNUMBER(aRoundedScores!AA66),CONCATENATE(IF(COUNTIF(aRoundedScores!$P66:$AI66,aRoundedScores!AA66)>1,\"=\",\"\"),RANK(aRoundedScores!AA66,aRoundedScores!$P66:$AI66)),\"n/a\")","v":"=7"},{"$f":"IF(ISNUMBER(aRoundedScores!AB66),CONCATENATE(IF(COUNTIF(aRoundedScores!$P66:$AI66,aRoundedScores!AB66)>1,\"=\",\"\"),RANK(aRoundedScores!AB66,aRoundedScores!$P66:$AI66)),\"n/a\")","v":"=1"},{"$f":"IF(ISNUMBER(aRoundedScores!AC66),CONCATENATE(IF(COUNTIF(aRoundedScores!$P66:$AI66,aRoundedScores!AC66)>1,\"=\",\"\"),RANK(aRoundedScores!AC66,aRoundedScores!$P66:$AI66)),\"n/a\")","v":"=7"},{"$f":"IF(ISNUMBER(aRoundedScores!AD66),CONCATENATE(IF(COUNTIF(aRoundedScores!$P66:$AI66,aRoundedScores!AD66)>1,\"=\",\"\"),RANK(aRoundedScores!AD66,aRoundedScores!$P66:$AI66)),\"n/a\")","v":"=7"},{"$f":"IF(ISNUMBER(aRoundedScores!AE66),CONCATENATE(IF(COUNTIF(aRoundedScores!$P66:$AI66,aRoundedScores!AE66)>1,\"=\",\"\"),RANK(aRoundedScores!AE66,aRoundedScores!$P66:$AI66)),\"n/a\")","v":"=16"},{"$f":"IF(ISNUMBER(aRoundedScores!AF66),CONCATENATE(IF(COUNTIF(aRoundedScores!$P66:$AI66,aRoundedScores!AF66)>1,\"=\",\"\"),RANK(aRoundedScores!AF66,aRoundedScores!$P66:$AI66)),\"n/a\")","v":"=16"},{"$f":"IF(ISNUMBER(aRoundedScores!AG66),CONCATENATE(IF(COUNTIF(aRoundedScores!$P66:$AI66,aRoundedScores!AG66)>1,\"=\",\"\"),RANK(aRoundedScores!AG66,aRoundedScores!$P66:$AI66)),\"n/a\")","v":"=1"},{"$f":"IF(ISNUMBER(aRoundedScores!AH66),CONCATENATE(IF(COUNTIF(aRoundedScores!$P66:$AI66,aRoundedScores!AH66)>1,\"=\",\"\"),RANK(aRoundedScores!AH66,aRoundedScores!$P66:$AI66)),\"n/a\")","v":"=7"},{"$f":"IF(ISNUMBER(aRoundedScores!AI66),CONCATENATE(IF(COUNTIF(aRoundedScores!$P66:$AI66,aRoundedScores!AI66)>1,\"=\",\"\"),RANK(aRoundedScores!AI66,aRoundedScores!$P66:$AI66)),\"n/a\")","v":"=16"}]
[null,"5.2) Environmental impact of coastal development",null,{"$f":"IF(ISNUMBER(aRoundedScores!P67),CONCATENATE(IF(COUNTIF(aRoundedScores!$P67:$AI67,aRoundedScores!P67)>1,\"=\",\"\"),RANK(aRoundedScores!P67,aRoundedScores!$P67:$AI67)),\"n/a\")","v":"=16"},{"$f":"IF(ISNUMBER(aRoundedScores!Q67),CONCATENATE(IF(COUNTIF(aRoundedScores!$P67:$AI67,aRoundedScores!Q67)>1,\"=\",\"\"),RANK(aRoundedScores!Q67,aRoundedScores!$P67:$AI67)),\"n/a\")","v":"=1"},{"$f":"IF(ISNUMBER(aRoundedScores!R67),CONCATENATE(IF(COUNTIF(aRoundedScores!$P67:$AI67,aRoundedScores!R67)>1,\"=\",\"\"),RANK(aRoundedScores!R67,aRoundedScores!$P67:$AI67)),\"n/a\")","v":"=1"},{"$f":"IF(ISNUMBER(aRoundedScores!S67),CONCATENATE(IF(COUNTIF(aRoundedScores!$P67:$AI67,aRoundedScores!S67)>1,\"=\",\"\"),RANK(aRoundedScores!S67,aRoundedScores!$P67:$AI67)),\"n/a\")","v":"=1"},{"$f":"IF(ISNUMBER(aRoundedScores!T67),CONCATENATE(IF(COUNTIF(aRoundedScores!$P67:$AI67,aRoundedScores!T67)>1,\"=\",\"\"),RANK(aRoundedScores!T67,aRoundedScores!$P67:$AI67)),\"n/a\")","v":"=1"},{"$f":"IF(ISNUMBER(aRoundedScores!U67),CONCATENATE(IF(COUNTIF(aRoundedScores!$P67:$AI67,aRoundedScores!U67)>1,\"=\",\"\"),RANK(aRoundedScores!U67,aRoundedScores!$P67:$AI67)),\"n/a\")","v":"=1"},{"$f":"IF(ISNUMBER(aRoundedScores!V67),CONCATENATE(IF(COUNTIF(aRoundedScores!$P67:$AI67,aRoundedScores!V67)>1,\"=\",\"\"),RANK(aRoundedScores!V67,aRoundedScores!$P67:$AI67)),\"n/a\")","v":"=1"},{"$f":"IF(ISNUMBER(aRoundedScores!W67),CONCATENATE(IF(COUNTIF(aRoundedScores!$P67:$AI67,aRoundedScores!W67)>1,\"=\",\"\"),RANK(aRoundedScores!W67,aRoundedScores!$P67:$AI67)),\"n/a\")","v":"=1"},{"$f":"IF(ISNUMBER(aRoundedScores!X67),CONCATENATE(IF(COUNTIF(aRoundedScores!$P67:$AI67,aRoundedScores!X67)>1,\"=\",\"\"),RANK(aRoundedScores!X67,aRoundedScores!$P67:$AI67)),\"n/a\")","v":"=1"},{"$f":"IF(ISNUMBER(aRoundedScores!Y67),CONCATENATE(IF(COUNTIF(aRoundedScores!$P67:$AI67,aRoundedScores!Y67)>1,\"=\",\"\"),RANK(aRoundedScores!Y67,aRoundedScores!$P67:$AI67)),\"n/a\")","v":"=1"},{"$f":"IF(ISNUMBER(aRoundedScores!Z67),CONCATENATE(IF(COUNTIF(aRoundedScores!$P67:$AI67,aRoundedScores!Z67)>1,\"=\",\"\"),RANK(aRoundedScores!Z67,aRoundedScores!$P67:$AI67)),\"n/a\")","v":"=16"},{"$f":"IF(ISNUMBER(aRoundedScores!AA67),CONCATENATE(IF(COUNTIF(aRoundedScores!$P67:$AI67,aRoundedScores!AA67)>1,\"=\",\"\"),RANK(aRoundedScores!AA67,aRoundedScores!$P67:$AI67)),\"n/a\")","v":"=1"},{"$f":"IF(ISNUMBER(aRoundedScores!AB67),CONCATENATE(IF(COUNTIF(aRoundedScores!$P67:$AI67,aRoundedScores!AB67)>1,\"=\",\"\"),RANK(aRoundedScores!AB67,aRoundedScores!$P67:$AI67)),\"n/a\")","v":"=16"},{"$f":"IF(ISNUMBER(aRoundedScores!AC67),CONCATENATE(IF(COUNTIF(aRoundedScores!$P67:$AI67,aRoundedScores!AC67)>1,\"=\",\"\"),RANK(aRoundedScores!AC67,aRoundedScores!$P67:$AI67)),\"n/a\")","v":"=1"},{"$f":"IF(ISNUMBER(aRoundedScores!AD67),CONCATENATE(IF(COUNTIF(aRoundedScores!$P67:$AI67,aRoundedScores!AD67)>1,\"=\",\"\"),RANK(aRoundedScores!AD67,aRoundedScores!$P67:$AI67)),\"n/a\")","v":"20"},{"$f":"IF(ISNUMBER(aRoundedScores!AE67),CONCATENATE(IF(COUNTIF(aRoundedScores!$P67:$AI67,aRoundedScores!AE67)>1,\"=\",\"\"),RANK(aRoundedScores!AE67,aRoundedScores!$P67:$AI67)),\"n/a\")","v":"=1"},{"$f":"IF(ISNUMBER(aRoundedScores!AF67),CONCATENATE(IF(COUNTIF(aRoundedScores!$P67:$AI67,aRoundedScores!AF67)>1,\"=\",\"\"),RANK(aRoundedScores!AF67,aRoundedScores!$P67:$AI67)),\"n/a\")","v":"=1"},{"$f":"IF(ISNUMBER(aRoundedScores!AG67),CONCATENATE(IF(COUNTIF(aRoundedScores!$P67:$AI67,aRoundedScores!AG67)>1,\"=\",\"\"),RANK(aRoundedScores!AG67,aRoundedScores!$P67:$AI67)),\"n/a\")","v":"=16"},{"$f":"IF(ISNUMBER(aRoundedScores!AH67),CONCATENATE(IF(COUNTIF(aRoundedScores!$P67:$AI67,aRoundedScores!AH67)>1,\"=\",\"\"),RANK(aRoundedScores!AH67,aRoundedScores!$P67:$AI67)),\"n/a\")","v":"=1"},{"$f":"IF(ISNUMBER(aRoundedScores!AI67),CONCATENATE(IF(COUNTIF(aRoundedScores!$P67:$AI67,aRoundedScores!AI67)>1,\"=\",\"\"),RANK(aRoundedScores!AI67,aRoundedScores!$P67:$AI67)),\"n/a\")","v":"=1"}]
[null,"5.2.1) Environment impact assessment for coastal development ",null,{"$f":"IF(ISNUMBER(aRoundedScores!P68),CONCATENATE(IF(COUNTIF(aRoundedScores!$P68:$AI68,aRoundedScores!P68)>1,\"=\",\"\"),RANK(aRoundedScores!P68,aRoundedScores!$P68:$AI68)),\"n/a\")","v":"=1"},{"$f":"IF(ISNUMBER(aRoundedScores!Q68),CONCATENATE(IF(COUNTIF(aRoundedScores!$P68:$AI68,aRoundedScores!Q68)>1,\"=\",\"\"),RANK(aRoundedScores!Q68,aRoundedScores!$P68:$AI68)),\"n/a\")","v":"=1"},{"$f":"IF(ISNUMBER(aRoundedScores!R68),CONCATENATE(IF(COUNTIF(aRoundedScores!$P68:$AI68,aRoundedScores!R68)>1,\"=\",\"\"),RANK(aRoundedScores!R68,aRoundedScores!$P68:$AI68)),\"n/a\")","v":"=1"},{"$f":"IF(ISNUMBER(aRoundedScores!S68),CONCATENATE(IF(COUNTIF(aRoundedScores!$P68:$AI68,aRoundedScores!S68)>1,\"=\",\"\"),RANK(aRoundedScores!S68,aRoundedScores!$P68:$AI68)),\"n/a\")","v":"=1"},{"$f":"IF(ISNUMBER(aRoundedScores!T68),CONCATENATE(IF(COUNTIF(aRoundedScores!$P68:$AI68,aRoundedScores!T68)>1,\"=\",\"\"),RANK(aRoundedScores!T68,aRoundedScores!$P68:$AI68)),\"n/a\")","v":"=1"},{"$f":"IF(ISNUMBER(aRoundedScores!U68),CONCATENATE(IF(COUNTIF(aRoundedScores!$P68:$AI68,aRoundedScores!U68)>1,\"=\",\"\"),RANK(aRoundedScores!U68,aRoundedScores!$P68:$AI68)),\"n/a\")","v":"=1"},{"$f":"IF(ISNUMBER(aRoundedScores!V68),CONCATENATE(IF(COUNTIF(aRoundedScores!$P68:$AI68,aRoundedScores!V68)>1,\"=\",\"\"),RANK(aRoundedScores!V68,aRoundedScores!$P68:$AI68)),\"n/a\")","v":"=1"},{"$f":"IF(ISNUMBER(aRoundedScores!W68),CONCATENATE(IF(COUNTIF(aRoundedScores!$P68:$AI68,aRoundedScores!W68)>1,\"=\",\"\"),RANK(aRoundedScores!W68,aRoundedScores!$P68:$AI68)),\"n/a\")","v":"=1"},{"$f":"IF(ISNUMBER(aRoundedScores!X68),CONCATENATE(IF(COUNTIF(aRoundedScores!$P68:$AI68,aRoundedScores!X68)>1,\"=\",\"\"),RANK(aRoundedScores!X68,aRoundedScores!$P68:$AI68)),\"n/a\")","v":"=1"},{"$f":"IF(ISNUMBER(aRoundedScores!Y68),CONCATENATE(IF(COUNTIF(aRoundedScores!$P68:$AI68,aRoundedScores!Y68)>1,\"=\",\"\"),RANK(aRoundedScores!Y68,aRoundedScores!$P68:$AI68)),\"n/a\")","v":"=1"},{"$f":"IF(ISNUMBER(aRoundedScores!Z68),CONCATENATE(IF(COUNTIF(aRoundedScores!$P68:$AI68,aRoundedScores!Z68)>1,\"=\",\"\"),RANK(aRoundedScores!Z68,aRoundedScores!$P68:$AI68)),\"n/a\")","v":"=1"},{"$f":"IF(ISNUMBER(aRoundedScores!AA68),CONCATENATE(IF(COUNTIF(aRoundedScores!$P68:$AI68,aRoundedScores!AA68)>1,\"=\",\"\"),RANK(aRoundedScores!AA68,aRoundedScores!$P68:$AI68)),\"n/a\")","v":"=1"},{"$f":"IF(ISNUMBER(aRoundedScores!AB68),CONCATENATE(IF(COUNTIF(aRoundedScores!$P68:$AI68,aRoundedScores!AB68)>1,\"=\",\"\"),RANK(aRoundedScores!AB68,aRoundedScores!$P68:$AI68)),\"n/a\")","v":"=19"},{"$f":"IF(ISNUMBER(aRoundedScores!AC68),CONCATENATE(IF(COUNTIF(aRoundedScores!$P68:$AI68,aRoundedScores!AC68)>1,\"=\",\"\"),RANK(aRoundedScores!AC68,aRoundedScores!$P68:$AI68)),\"n/a\")","v":"=1"},{"$f":"IF(ISNUMBER(aRoundedScores!AD68),CONCATENATE(IF(COUNTIF(aRoundedScores!$P68:$AI68,aRoundedScores!AD68)>1,\"=\",\"\"),RANK(aRoundedScores!AD68,aRoundedScores!$P68:$AI68)),\"n/a\")","v":"=19"},{"$f":"IF(ISNUMBER(aRoundedScores!AE68),CONCATENATE(IF(COUNTIF(aRoundedScores!$P68:$AI68,aRoundedScores!AE68)>1,\"=\",\"\"),RANK(aRoundedScores!AE68,aRoundedScores!$P68:$AI68)),\"n/a\")","v":"=1"},{"$f":"IF(ISNUMBER(aRoundedScores!AF68),CONCATENATE(IF(COUNTIF(aRoundedScores!$P68:$AI68,aRoundedScores!AF68)>1,\"=\",\"\"),RANK(aRoundedScores!AF68,aRoundedScores!$P68:$AI68)),\"n/a\")","v":"=1"},{"$f":"IF(ISNUMBER(aRoundedScores!AG68),CONCATENATE(IF(COUNTIF(aRoundedScores!$P68:$AI68,aRoundedScores!AG68)>1,\"=\",\"\"),RANK(aRoundedScores!AG68,aRoundedScores!$P68:$AI68)),\"n/a\")","v":"=1"},{"$f":"IF(ISNUMBER(aRoundedScores!AH68),CONCATENATE(IF(COUNTIF(aRoundedScores!$P68:$AI68,aRoundedScores!AH68)>1,\"=\",\"\"),RANK(aRoundedScores!AH68,aRoundedScores!$P68:$AI68)),\"n/a\")","v":"=1"},{"$f":"IF(ISNUMBER(aRoundedScores!AI68),CONCATENATE(IF(COUNTIF(aRoundedScores!$P68:$AI68,aRoundedScores!AI68)>1,\"=\",\"\"),RANK(aRoundedScores!AI68,aRoundedScores!$P68:$AI68)),\"n/a\")","v":"=1"}]
[null,"5.2.2) On-site reviews ",null,{"$f":"IF(ISNUMBER(aRoundedScores!P69),CONCATENATE(IF(COUNTIF(aRoundedScores!$P69:$AI69,aRoundedScores!P69)>1,\"=\",\"\"),RANK(aRoundedScores!P69,aRoundedScores!$P69:$AI69)),\"n/a\")","v":"=17"},{"$f":"IF(ISNUMBER(aRoundedScores!Q69),CONCATENATE(IF(COUNTIF(aRoundedScores!$P69:$AI69,aRoundedScores!Q69)>1,\"=\",\"\"),RANK(aRoundedScores!Q69,aRoundedScores!$P69:$AI69)),\"n/a\")","v":"=1"},{"$f":"IF(ISNUMBER(aRoundedScores!R69),CONCATENATE(IF(COUNTIF(aRoundedScores!$P69:$AI69,aRoundedScores!R69)>1,\"=\",\"\"),RANK(aRoundedScores!R69,aRoundedScores!$P69:$AI69)),\"n/a\")","v":"=1"},{"$f":"IF(ISNUMBER(aRoundedScores!S69),CONCATENATE(IF(COUNTIF(aRoundedScores!$P69:$AI69,aRoundedScores!S69)>1,\"=\",\"\"),RANK(aRoundedScores!S69,aRoundedScores!$P69:$AI69)),\"n/a\")","v":"=1"},{"$f":"IF(ISNUMBER(aRoundedScores!T69),CONCATENATE(IF(COUNTIF(aRoundedScores!$P69:$AI69,aRoundedScores!T69)>1,\"=\",\"\"),RANK(aRoundedScores!T69,aRoundedScores!$P69:$AI69)),\"n/a\")","v":"=1"},{"$f":"IF(ISNUMBER(aRoundedScores!U69),CONCATENATE(IF(COUNTIF(aRoundedScores!$P69:$AI69,aRoundedScores!U69)>1,\"=\",\"\"),RANK(aRoundedScores!U69,aRoundedScores!$P69:$AI69)),\"n/a\")","v":"=1"},{"$f":"IF(ISNUMBER(aRoundedScores!V69),CONCATENATE(IF(COUNTIF(aRoundedScores!$P69:$AI69,aRoundedScores!V69)>1,\"=\",\"\"),RANK(aRoundedScores!V69,aRoundedScores!$P69:$AI69)),\"n/a\")","v":"=1"},{"$f":"IF(ISNUMBER(aRoundedScores!W69),CONCATENATE(IF(COUNTIF(aRoundedScores!$P69:$AI69,aRoundedScores!W69)>1,\"=\",\"\"),RANK(aRoundedScores!W69,aRoundedScores!$P69:$AI69)),\"n/a\")","v":"=1"},{"$f":"IF(ISNUMBER(aRoundedScores!X69),CONCATENATE(IF(COUNTIF(aRoundedScores!$P69:$AI69,aRoundedScores!X69)>1,\"=\",\"\"),RANK(aRoundedScores!X69,aRoundedScores!$P69:$AI69)),\"n/a\")","v":"=1"},{"$f":"IF(ISNUMBER(aRoundedScores!Y69),CONCATENATE(IF(COUNTIF(aRoundedScores!$P69:$AI69,aRoundedScores!Y69)>1,\"=\",\"\"),RANK(aRoundedScores!Y69,aRoundedScores!$P69:$AI69)),\"n/a\")","v":"=1"},{"$f":"IF(ISNUMBER(aRoundedScores!Z69),CONCATENATE(IF(COUNTIF(aRoundedScores!$P69:$AI69,aRoundedScores!Z69)>1,\"=\",\"\"),RANK(aRoundedScores!Z69,aRoundedScores!$P69:$AI69)),\"n/a\")","v":"=17"},{"$f":"IF(ISNUMBER(aRoundedScores!AA69),CONCATENATE(IF(COUNTIF(aRoundedScores!$P69:$AI69,aRoundedScores!AA69)>1,\"=\",\"\"),RANK(aRoundedScores!AA69,aRoundedScores!$P69:$AI69)),\"n/a\")","v":"=1"},{"$f":"IF(ISNUMBER(aRoundedScores!AB69),CONCATENATE(IF(COUNTIF(aRoundedScores!$P69:$AI69,aRoundedScores!AB69)>1,\"=\",\"\"),RANK(aRoundedScores!AB69,aRoundedScores!$P69:$AI69)),\"n/a\")","v":"=1"},{"$f":"IF(ISNUMBER(aRoundedScores!AC69),CONCATENATE(IF(COUNTIF(aRoundedScores!$P69:$AI69,aRoundedScores!AC69)>1,\"=\",\"\"),RANK(aRoundedScores!AC69,aRoundedScores!$P69:$AI69)),\"n/a\")","v":"=1"},{"$f":"IF(ISNUMBER(aRoundedScores!AD69),CONCATENATE(IF(COUNTIF(aRoundedScores!$P69:$AI69,aRoundedScores!AD69)>1,\"=\",\"\"),RANK(aRoundedScores!AD69,aRoundedScores!$P69:$AI69)),\"n/a\")","v":"=17"},{"$f":"IF(ISNUMBER(aRoundedScores!AE69),CONCATENATE(IF(COUNTIF(aRoundedScores!$P69:$AI69,aRoundedScores!AE69)>1,\"=\",\"\"),RANK(aRoundedScores!AE69,aRoundedScores!$P69:$AI69)),\"n/a\")","v":"=1"},{"$f":"IF(ISNUMBER(aRoundedScores!AF69),CONCATENATE(IF(COUNTIF(aRoundedScores!$P69:$AI69,aRoundedScores!AF69)>1,\"=\",\"\"),RANK(aRoundedScores!AF69,aRoundedScores!$P69:$AI69)),\"n/a\")","v":"=1"},{"$f":"IF(ISNUMBER(aRoundedScores!AG69),CONCATENATE(IF(COUNTIF(aRoundedScores!$P69:$AI69,aRoundedScores!AG69)>1,\"=\",\"\"),RANK(aRoundedScores!AG69,aRoundedScores!$P69:$AI69)),\"n/a\")","v":"=17"},{"$f":"IF(ISNUMBER(aRoundedScores!AH69),CONCATENATE(IF(COUNTIF(aRoundedScores!$P69:$AI69,aRoundedScores!AH69)>1,\"=\",\"\"),RANK(aRoundedScores!AH69,aRoundedScores!$P69:$AI69)),\"n/a\")","v":"=1"},{"$f":"IF(ISNUMBER(aRoundedScores!AI69),CONCATENATE(IF(COUNTIF(aRoundedScores!$P69:$AI69,aRoundedScores!AI69)>1,\"=\",\"\"),RANK(aRoundedScores!AI69,aRoundedScores!$P69:$AI69)),\"n/a\")","v":"=1"}]
[null,"5.3) Government commitment to sustainability in coastal tourism development",null,{"$f":"IF(ISNUMBER(aRoundedScores!P70),CONCATENATE(IF(COUNTIF(aRoundedScores!$P70:$AI70,aRoundedScores!P70)>1,\"=\",\"\"),RANK(aRoundedScores!P70,aRoundedScores!$P70:$AI70)),\"n/a\")","v":"17"},{"$f":"IF(ISNUMBER(aRoundedScores!Q70),CONCATENATE(IF(COUNTIF(aRoundedScores!$P70:$AI70,aRoundedScores!Q70)>1,\"=\",\"\"),RANK(aRoundedScores!Q70,aRoundedScores!$P70:$AI70)),\"n/a\")","v":"=3"},{"$f":"IF(ISNUMBER(aRoundedScores!R70),CONCATENATE(IF(COUNTIF(aRoundedScores!$P70:$AI70,aRoundedScores!R70)>1,\"=\",\"\"),RANK(aRoundedScores!R70,aRoundedScores!$P70:$AI70)),\"n/a\")","v":"12"},{"$f":"IF(ISNUMBER(aRoundedScores!S70),CONCATENATE(IF(COUNTIF(aRoundedScores!$P70:$AI70,aRoundedScores!S70)>1,\"=\",\"\"),RANK(aRoundedScores!S70,aRoundedScores!$P70:$AI70)),\"n/a\")","v":"9"},{"$f":"IF(ISNUMBER(aRoundedScores!T70),CONCATENATE(IF(COUNTIF(aRoundedScores!$P70:$AI70,aRoundedScores!T70)>1,\"=\",\"\"),RANK(aRoundedScores!T70,aRoundedScores!$P70:$AI70)),\"n/a\")","v":"=3"},{"$f":"IF(ISNUMBER(aRoundedScores!U70),CONCATENATE(IF(COUNTIF(aRoundedScores!$P70:$AI70,aRoundedScores!U70)>1,\"=\",\"\"),RANK(aRoundedScores!U70,aRoundedScores!$P70:$AI70)),\"n/a\")","v":"=14"},{"$f":"IF(ISNUMBER(aRoundedScores!V70),CONCATENATE(IF(COUNTIF(aRoundedScores!$P70:$AI70,aRoundedScores!V70)>1,\"=\",\"\"),RANK(aRoundedScores!V70,aRoundedScores!$P70:$AI70)),\"n/a\")","v":"13"},{"$f":"IF(ISNUMBER(aRoundedScores!W70),CONCATENATE(IF(COUNTIF(aRoundedScores!$P70:$AI70,aRoundedScores!W70)>1,\"=\",\"\"),RANK(aRoundedScores!W70,aRoundedScores!$P70:$AI70)),\"n/a\")","v":"11"},{"$f":"IF(ISNUMBER(aRoundedScores!X70),CONCATENATE(IF(COUNTIF(aRoundedScores!$P70:$AI70,aRoundedScores!X70)>1,\"=\",\"\"),RANK(aRoundedScores!X70,aRoundedScores!$P70:$AI70)),\"n/a\")","v":"10"},{"$f":"IF(ISNUMBER(aRoundedScores!Y70),CONCATENATE(IF(COUNTIF(aRoundedScores!$P70:$AI70,aRoundedScores!Y70)>1,\"=\",\"\"),RANK(aRoundedScores!Y70,aRoundedScores!$P70:$AI70)),\"n/a\")","v":"1"},{"$f":"IF(ISNUMBER(aRoundedScores!Z70),CONCATENATE(IF(COUNTIF(aRoundedScores!$P70:$AI70,aRoundedScores!Z70)>1,\"=\",\"\"),RANK(aRoundedScores!Z70,aRoundedScores!$P70:$AI70)),\"n/a\")","v":"19"},{"$f":"IF(ISNUMBER(aRoundedScores!AA70),CONCATENATE(IF(COUNTIF(aRoundedScores!$P70:$AI70,aRoundedScores!AA70)>1,\"=\",\"\"),RANK(aRoundedScores!AA70,aRoundedScores!$P70:$AI70)),\"n/a\")","v":"=7"},{"$f":"IF(ISNUMBER(aRoundedScores!AB70),CONCATENATE(IF(COUNTIF(aRoundedScores!$P70:$AI70,aRoundedScores!AB70)>1,\"=\",\"\"),RANK(aRoundedScores!AB70,aRoundedScores!$P70:$AI70)),\"n/a\")","v":"=7"},{"$f":"IF(ISNUMBER(aRoundedScores!AC70),CONCATENATE(IF(COUNTIF(aRoundedScores!$P70:$AI70,aRoundedScores!AC70)>1,\"=\",\"\"),RANK(aRoundedScores!AC70,aRoundedScores!$P70:$AI70)),\"n/a\")","v":"=14"},{"$f":"IF(ISNUMBER(aRoundedScores!AD70),CONCATENATE(IF(COUNTIF(aRoundedScores!$P70:$AI70,aRoundedScores!AD70)>1,\"=\",\"\"),RANK(aRoundedScores!AD70,aRoundedScores!$P70:$AI70)),\"n/a\")","v":"20"},{"$f":"IF(ISNUMBER(aRoundedScores!AE70),CONCATENATE(IF(COUNTIF(aRoundedScores!$P70:$AI70,aRoundedScores!AE70)>1,\"=\",\"\"),RANK(aRoundedScores!AE70,aRoundedScores!$P70:$AI70)),\"n/a\")","v":"6"},{"$f":"IF(ISNUMBER(aRoundedScores!AF70),CONCATENATE(IF(COUNTIF(aRoundedScores!$P70:$AI70,aRoundedScores!AF70)>1,\"=\",\"\"),RANK(aRoundedScores!AF70,aRoundedScores!$P70:$AI70)),\"n/a\")","v":"=14"},{"$f":"IF(ISNUMBER(aRoundedScores!AG70),CONCATENATE(IF(COUNTIF(aRoundedScores!$P70:$AI70,aRoundedScores!AG70)>1,\"=\",\"\"),RANK(aRoundedScores!AG70,aRoundedScores!$P70:$AI70)),\"n/a\")","v":"2"},{"$f":"IF(ISNUMBER(aRoundedScores!AH70),CONCATENATE(IF(COUNTIF(aRoundedScores!$P70:$AI70,aRoundedScores!AH70)>1,\"=\",\"\"),RANK(aRoundedScores!AH70,aRoundedScores!$P70:$AI70)),\"n/a\")","v":"=3"},{"$f":"IF(ISNUMBER(aRoundedScores!AI70),CONCATENATE(IF(COUNTIF(aRoundedScores!$P70:$AI70,aRoundedScores!AI70)>1,\"=\",\"\"),RANK(aRoundedScores!AI70,aRoundedScores!$P70:$AI70)),\"n/a\")","v":"18"}]
[null,"5.3.1) Sustainability of tourism",null,{"$f":"IF(ISNUMBER(aRoundedScores!P71),CONCATENATE(IF(COUNTIF(aRoundedScores!$P71:$AI71,aRoundedScores!P71)>1,\"=\",\"\"),RANK(aRoundedScores!P71,aRoundedScores!$P71:$AI71)),\"n/a\")","v":"17"},{"$f":"IF(ISNUMBER(aRoundedScores!Q71),CONCATENATE(IF(COUNTIF(aRoundedScores!$P71:$AI71,aRoundedScores!Q71)>1,\"=\",\"\"),RANK(aRoundedScores!Q71,aRoundedScores!$P71:$AI71)),\"n/a\")","v":"=3"},{"$f":"IF(ISNUMBER(aRoundedScores!R71),CONCATENATE(IF(COUNTIF(aRoundedScores!$P71:$AI71,aRoundedScores!R71)>1,\"=\",\"\"),RANK(aRoundedScores!R71,aRoundedScores!$P71:$AI71)),\"n/a\")","v":"12"},{"$f":"IF(ISNUMBER(aRoundedScores!S71),CONCATENATE(IF(COUNTIF(aRoundedScores!$P71:$AI71,aRoundedScores!S71)>1,\"=\",\"\"),RANK(aRoundedScores!S71,aRoundedScores!$P71:$AI71)),\"n/a\")","v":"9"},{"$f":"IF(ISNUMBER(aRoundedScores!T71),CONCATENATE(IF(COUNTIF(aRoundedScores!$P71:$AI71,aRoundedScores!T71)>1,\"=\",\"\"),RANK(aRoundedScores!T71,aRoundedScores!$P71:$AI71)),\"n/a\")","v":"=3"},{"$f":"IF(ISNUMBER(aRoundedScores!U71),CONCATENATE(IF(COUNTIF(aRoundedScores!$P71:$AI71,aRoundedScores!U71)>1,\"=\",\"\"),RANK(aRoundedScores!U71,aRoundedScores!$P71:$AI71)),\"n/a\")","v":"=14"},{"$f":"IF(ISNUMBER(aRoundedScores!V71),CONCATENATE(IF(COUNTIF(aRoundedScores!$P71:$AI71,aRoundedScores!V71)>1,\"=\",\"\"),RANK(aRoundedScores!V71,aRoundedScores!$P71:$AI71)),\"n/a\")","v":"13"},{"$f":"IF(ISNUMBER(aRoundedScores!W71),CONCATENATE(IF(COUNTIF(aRoundedScores!$P71:$AI71,aRoundedScores!W71)>1,\"=\",\"\"),RANK(aRoundedScores!W71,aRoundedScores!$P71:$AI71)),\"n/a\")","v":"11"},{"$f":"IF(ISNUMBER(aRoundedScores!X71),CONCATENATE(IF(COUNTIF(aRoundedScores!$P71:$AI71,aRoundedScores!X71)>1,\"=\",\"\"),RANK(aRoundedScores!X71,aRoundedScores!$P71:$AI71)),\"n/a\")","v":"10"},{"$f":"IF(ISNUMBER(aRoundedScores!Y71),CONCATENATE(IF(COUNTIF(aRoundedScores!$P71:$AI71,aRoundedScores!Y71)>1,\"=\",\"\"),RANK(aRoundedScores!Y71,aRoundedScores!$P71:$AI71)),\"n/a\")","v":"1"},{"$f":"IF(ISNUMBER(aRoundedScores!Z71),CONCATENATE(IF(COUNTIF(aRoundedScores!$P71:$AI71,aRoundedScores!Z71)>1,\"=\",\"\"),RANK(aRoundedScores!Z71,aRoundedScores!$P71:$AI71)),\"n/a\")","v":"19"},{"$f":"IF(ISNUMBER(aRoundedScores!AA71),CONCATENATE(IF(COUNTIF(aRoundedScores!$P71:$AI71,aRoundedScores!AA71)>1,\"=\",\"\"),RANK(aRoundedScores!AA71,aRoundedScores!$P71:$AI71)),\"n/a\")","v":"=7"},{"$f":"IF(ISNUMBER(aRoundedScores!AB71),CONCATENATE(IF(COUNTIF(aRoundedScores!$P71:$AI71,aRoundedScores!AB71)>1,\"=\",\"\"),RANK(aRoundedScores!AB71,aRoundedScores!$P71:$AI71)),\"n/a\")","v":"=7"},{"$f":"IF(ISNUMBER(aRoundedScores!AC71),CONCATENATE(IF(COUNTIF(aRoundedScores!$P71:$AI71,aRoundedScores!AC71)>1,\"=\",\"\"),RANK(aRoundedScores!AC71,aRoundedScores!$P71:$AI71)),\"n/a\")","v":"=14"},{"$f":"IF(ISNUMBER(aRoundedScores!AD71),CONCATENATE(IF(COUNTIF(aRoundedScores!$P71:$AI71,aRoundedScores!AD71)>1,\"=\",\"\"),RANK(aRoundedScores!AD71,aRoundedScores!$P71:$AI71)),\"n/a\")","v":"20"},{"$f":"IF(ISNUMBER(aRoundedScores!AE71),CONCATENATE(IF(COUNTIF(aRoundedScores!$P71:$AI71,aRoundedScores!AE71)>1,\"=\",\"\"),RANK(aRoundedScores!AE71,aRoundedScores!$P71:$AI71)),\"n/a\")","v":"6"},{"$f":"IF(ISNUMBER(aRoundedScores!AF71),CONCATENATE(IF(COUNTIF(aRoundedScores!$P71:$AI71,aRoundedScores!AF71)>1,\"=\",\"\"),RANK(aRoundedScores!AF71,aRoundedScores!$P71:$AI71)),\"n/a\")","v":"=14"},{"$f":"IF(ISNUMBER(aRoundedScores!AG71),CONCATENATE(IF(COUNTIF(aRoundedScores!$P71:$AI71,aRoundedScores!AG71)>1,\"=\",\"\"),RANK(aRoundedScores!AG71,aRoundedScores!$P71:$AI71)),\"n/a\")","v":"2"},{"$f":"IF(ISNUMBER(aRoundedScores!AH71),CONCATENATE(IF(COUNTIF(aRoundedScores!$P71:$AI71,aRoundedScores!AH71)>1,\"=\",\"\"),RANK(aRoundedScores!AH71,aRoundedScores!$P71:$AI71)),\"n/a\")","v":"=3"},{"$f":"IF(ISNUMBER(aRoundedScores!AI71),CONCATENATE(IF(COUNTIF(aRoundedScores!$P71:$AI71,aRoundedScores!AI71)>1,\"=\",\"\"),RANK(aRoundedScores!AI71,aRoundedScores!$P71:$AI71)),\"n/a\")","v":"18"}]
[null,"5.4) Natural disaster risk mitigation",null,{"$f":"IF(ISNUMBER(aRoundedScores!P72),CONCATENATE(IF(COUNTIF(aRoundedScores!$P72:$AI72,aRoundedScores!P72)>1,\"=\",\"\"),RANK(aRoundedScores!P72,aRoundedScores!$P72:$AI72)),\"n/a\")","v":"=16"},{"$f":"IF(ISNUMBER(aRoundedScores!Q72),CONCATENATE(IF(COUNTIF(aRoundedScores!$P72:$AI72,aRoundedScores!Q72)>1,\"=\",\"\"),RANK(aRoundedScores!Q72,aRoundedScores!$P72:$AI72)),\"n/a\")","v":"=1"},{"$f":"IF(ISNUMBER(aRoundedScores!R72),CONCATENATE(IF(COUNTIF(aRoundedScores!$P72:$AI72,aRoundedScores!R72)>1,\"=\",\"\"),RANK(aRoundedScores!R72,aRoundedScores!$P72:$AI72)),\"n/a\")","v":"=16"},{"$f":"IF(ISNUMBER(aRoundedScores!S72),CONCATENATE(IF(COUNTIF(aRoundedScores!$P72:$AI72,aRoundedScores!S72)>1,\"=\",\"\"),RANK(aRoundedScores!S72,aRoundedScores!$P72:$AI72)),\"n/a\")","v":"=1"},{"$f":"IF(ISNUMBER(aRoundedScores!T72),CONCATENATE(IF(COUNTIF(aRoundedScores!$P72:$AI72,aRoundedScores!T72)>1,\"=\",\"\"),RANK(aRoundedScores!T72,aRoundedScores!$P72:$AI72)),\"n/a\")","v":"=1"},{"$f":"IF(ISNUMBER(aRoundedScores!U72),CONCATENATE(IF(COUNTIF(aRoundedScores!$P72:$AI72,aRoundedScores!U72)>1,\"=\",\"\"),RANK(aRoundedScores!U72,aRoundedScores!$P72:$AI72)),\"n/a\")","v":"=1"},{"$f":"IF(ISNUMBER(aRoundedScores!V72),CONCATENATE(IF(COUNTIF(aRoundedScores!$P72:$AI72,aRoundedScores!V72)>1,\"=\",\"\"),RANK(aRoundedScores!V72,aRoundedScores!$P72:$AI72)),\"n/a\")","v":"=1"},{"$f":"IF(ISNUMBER(aRoundedScores!W72),CONCATENATE(IF(COUNTIF(aRoundedScores!$P72:$AI72,aRoundedScores!W72)>1,\"=\",\"\"),RANK(aRoundedScores!W72,aRoundedScores!$P72:$AI72)),\"n/a\")","v":"=1"},{"$f":"IF(ISNUMBER(aRoundedScores!X72),CONCATENATE(IF(COUNTIF(aRoundedScores!$P72:$AI72,aRoundedScores!X72)>1,\"=\",\"\"),RANK(aRoundedScores!X72,aRoundedScores!$P72:$AI72)),\"n/a\")","v":"=16"},{"$f":"IF(ISNUMBER(aRoundedScores!Y72),CONCATENATE(IF(COUNTIF(aRoundedScores!$P72:$AI72,aRoundedScores!Y72)>1,\"=\",\"\"),RANK(aRoundedScores!Y72,aRoundedScores!$P72:$AI72)),\"n/a\")","v":"=1"},{"$f":"IF(ISNUMBER(aRoundedScores!Z72),CONCATENATE(IF(COUNTIF(aRoundedScores!$P72:$AI72,aRoundedScores!Z72)>1,\"=\",\"\"),RANK(aRoundedScores!Z72,aRoundedScores!$P72:$AI72)),\"n/a\")","v":"=1"},{"$f":"IF(ISNUMBER(aRoundedScores!AA72),CONCATENATE(IF(COUNTIF(aRoundedScores!$P72:$AI72,aRoundedScores!AA72)>1,\"=\",\"\"),RANK(aRoundedScores!AA72,aRoundedScores!$P72:$AI72)),\"n/a\")","v":"=16"},{"$f":"IF(ISNUMBER(aRoundedScores!AB72),CONCATENATE(IF(COUNTIF(aRoundedScores!$P72:$AI72,aRoundedScores!AB72)>1,\"=\",\"\"),RANK(aRoundedScores!AB72,aRoundedScores!$P72:$AI72)),\"n/a\")","v":"=1"},{"$f":"IF(ISNUMBER(aRoundedScores!AC72),CONCATENATE(IF(COUNTIF(aRoundedScores!$P72:$AI72,aRoundedScores!AC72)>1,\"=\",\"\"),RANK(aRoundedScores!AC72,aRoundedScores!$P72:$AI72)),\"n/a\")","v":"=1"},{"$f":"IF(ISNUMBER(aRoundedScores!AD72),CONCATENATE(IF(COUNTIF(aRoundedScores!$P72:$AI72,aRoundedScores!AD72)>1,\"=\",\"\"),RANK(aRoundedScores!AD72,aRoundedScores!$P72:$AI72)),\"n/a\")","v":"=16"},{"$f":"IF(ISNUMBER(aRoundedScores!AE72),CONCATENATE(IF(COUNTIF(aRoundedScores!$P72:$AI72,aRoundedScores!AE72)>1,\"=\",\"\"),RANK(aRoundedScores!AE72,aRoundedScores!$P72:$AI72)),\"n/a\")","v":"=1"},{"$f":"IF(ISNUMBER(aRoundedScores!AF72),CONCATENATE(IF(COUNTIF(aRoundedScores!$P72:$AI72,aRoundedScores!AF72)>1,\"=\",\"\"),RANK(aRoundedScores!AF72,aRoundedScores!$P72:$AI72)),\"n/a\")","v":"=1"},{"$f":"IF(ISNUMBER(aRoundedScores!AG72),CONCATENATE(IF(COUNTIF(aRoundedScores!$P72:$AI72,aRoundedScores!AG72)>1,\"=\",\"\"),RANK(aRoundedScores!AG72,aRoundedScores!$P72:$AI72)),\"n/a\")","v":"=1"},{"$f":"IF(ISNUMBER(aRoundedScores!AH72),CONCATENATE(IF(COUNTIF(aRoundedScores!$P72:$AI72,aRoundedScores!AH72)>1,\"=\",\"\"),RANK(aRoundedScores!AH72,aRoundedScores!$P72:$AI72)),\"n/a\")","v":"=1"},{"$f":"IF(ISNUMBER(aRoundedScores!AI72),CONCATENATE(IF(COUNTIF(aRoundedScores!$P72:$AI72,aRoundedScores!AI72)>1,\"=\",\"\"),RANK(aRoundedScores!AI72,aRoundedScores!$P72:$AI72)),\"n/a\")","v":"=1"}]
[null,{"$f":"B73","v":"5.4.1) Strategy for risk mitigation "},null,{"$f":"IF(ISNUMBER(aRoundedScores!P73),CONCATENATE(IF(COUNTIF(aRoundedScores!$P73:$AI73,aRoundedScores!P73)>1,\"=\",\"\"),RANK(aRoundedScores!P73,aRoundedScores!$P73:$AI73)),\"n/a\")","v":"=16"},{"$f":"IF(ISNUMBER(aRoundedScores!Q73),CONCATENATE(IF(COUNTIF(aRoundedScores!$P73:$AI73,aRoundedScores!Q73)>1,\"=\",\"\"),RANK(aRoundedScores!Q73,aRoundedScores!$P73:$AI73)),\"n/a\")","v":"=1"},{"$f":"IF(ISNUMBER(aRoundedScores!R73),CONCATENATE(IF(COUNTIF(aRoundedScores!$P73:$AI73,aRoundedScores!R73)>1,\"=\",\"\"),RANK(aRoundedScores!R73,aRoundedScores!$P73:$AI73)),\"n/a\")","v":"=16"},{"$f":"IF(ISNUMBER(aRoundedScores!S73),CONCATENATE(IF(COUNTIF(aRoundedScores!$P73:$AI73,aRoundedScores!S73)>1,\"=\",\"\"),RANK(aRoundedScores!S73,aRoundedScores!$P73:$AI73)),\"n/a\")","v":"=1"},{"$f":"IF(ISNUMBER(aRoundedScores!T73),CONCATENATE(IF(COUNTIF(aRoundedScores!$P73:$AI73,aRoundedScores!T73)>1,\"=\",\"\"),RANK(aRoundedScores!T73,aRoundedScores!$P73:$AI73)),\"n/a\")","v":"=1"},{"$f":"IF(ISNUMBER(aRoundedScores!U73),CONCATENATE(IF(COUNTIF(aRoundedScores!$P73:$AI73,aRoundedScores!U73)>1,\"=\",\"\"),RANK(aRoundedScores!U73,aRoundedScores!$P73:$AI73)),\"n/a\")","v":"=1"},{"$f":"IF(ISNUMBER(aRoundedScores!V73),CONCATENATE(IF(COUNTIF(aRoundedScores!$P73:$AI73,aRoundedScores!V73)>1,\"=\",\"\"),RANK(aRoundedScores!V73,aRoundedScores!$P73:$AI73)),\"n/a\")","v":"=1"},{"$f":"IF(ISNUMBER(aRoundedScores!W73),CONCATENATE(IF(COUNTIF(aRoundedScores!$P73:$AI73,aRoundedScores!W73)>1,\"=\",\"\"),RANK(aRoundedScores!W73,aRoundedScores!$P73:$AI73)),\"n/a\")","v":"=1"},{"$f":"IF(ISNUMBER(aRoundedScores!X73),CONCATENATE(IF(COUNTIF(aRoundedScores!$P73:$AI73,aRoundedScores!X73)>1,\"=\",\"\"),RANK(aRoundedScores!X73,aRoundedScores!$P73:$AI73)),\"n/a\")","v":"=16"},{"$f":"IF(ISNUMBER(aRoundedScores!Y73),CONCATENATE(IF(COUNTIF(aRoundedScores!$P73:$AI73,aRoundedScores!Y73)>1,\"=\",\"\"),RANK(aRoundedScores!Y73,aRoundedScores!$P73:$AI73)),\"n/a\")","v":"=1"},{"$f":"IF(ISNUMBER(aRoundedScores!Z73),CONCATENATE(IF(COUNTIF(aRoundedScores!$P73:$AI73,aRoundedScores!Z73)>1,\"=\",\"\"),RANK(aRoundedScores!Z73,aRoundedScores!$P73:$AI73)),\"n/a\")","v":"=1"},{"$f":"IF(ISNUMBER(aRoundedScores!AA73),CONCATENATE(IF(COUNTIF(aRoundedScores!$P73:$AI73,aRoundedScores!AA73)>1,\"=\",\"\"),RANK(aRoundedScores!AA73,aRoundedScores!$P73:$AI73)),\"n/a\")","v":"=16"},{"$f":"IF(ISNUMBER(aRoundedScores!AB73),CONCATENATE(IF(COUNTIF(aRoundedScores!$P73:$AI73,aRoundedScores!AB73)>1,\"=\",\"\"),RANK(aRoundedScores!AB73,aRoundedScores!$P73:$AI73)),\"n/a\")","v":"=1"},{"$f":"IF(ISNUMBER(aRoundedScores!AC73),CONCATENATE(IF(COUNTIF(aRoundedScores!$P73:$AI73,aRoundedScores!AC73)>1,\"=\",\"\"),RANK(aRoundedScores!AC73,aRoundedScores!$P73:$AI73)),\"n/a\")","v":"=1"},{"$f":"IF(ISNUMBER(aRoundedScores!AD73),CONCATENATE(IF(COUNTIF(aRoundedScores!$P73:$AI73,aRoundedScores!AD73)>1,\"=\",\"\"),RANK(aRoundedScores!AD73,aRoundedScores!$P73:$AI73)),\"n/a\")","v":"=16"},{"$f":"IF(ISNUMBER(aRoundedScores!AE73),CONCATENATE(IF(COUNTIF(aRoundedScores!$P73:$AI73,aRoundedScores!AE73)>1,\"=\",\"\"),RANK(aRoundedScores!AE73,aRoundedScores!$P73:$AI73)),\"n/a\")","v":"=1"},{"$f":"IF(ISNUMBER(aRoundedScores!AF73),CONCATENATE(IF(COUNTIF(aRoundedScores!$P73:$AI73,aRoundedScores!AF73)>1,\"=\",\"\"),RANK(aRoundedScores!AF73,aRoundedScores!$P73:$AI73)),\"n/a\")","v":"=1"},{"$f":"IF(ISNUMBER(aRoundedScores!AG73),CONCATENATE(IF(COUNTIF(aRoundedScores!$P73:$AI73,aRoundedScores!AG73)>1,\"=\",\"\"),RANK(aRoundedScores!AG73,aRoundedScores!$P73:$AI73)),\"n/a\")","v":"=1"},{"$f":"IF(ISNUMBER(aRoundedScores!AH73),CONCATENATE(IF(COUNTIF(aRoundedScores!$P73:$AI73,aRoundedScores!AH73)>1,\"=\",\"\"),RANK(aRoundedScores!AH73,aRoundedScores!$P73:$AI73)),\"n/a\")","v":"=1"},{"$f":"IF(ISNUMBER(aRoundedScores!AI73),CONCATENATE(IF(COUNTIF(aRoundedScores!$P73:$AI73,aRoundedScores!AI73)>1,\"=\",\"\"),RANK(aRoundedScores!AI73,aRoundedScores!$P73:$AI73)),\"n/a\")","v":"=1"}]
[null,"6) LIVING RESOURCES",null,{"$f":"IF(ISNUMBER(aRoundedScores!P74),CONCATENATE(IF(COUNTIF(aRoundedScores!$P74:$AI74,aRoundedScores!P74)>1,\"=\",\"\"),RANK(aRoundedScores!P74,aRoundedScores!$P74:$AI74)),\"n/a\")","v":"6"},{"$f":"IF(ISNUMBER(aRoundedScores!Q74),CONCATENATE(IF(COUNTIF(aRoundedScores!$P74:$AI74,aRoundedScores!Q74)>1,\"=\",\"\"),RANK(aRoundedScores!Q74,aRoundedScores!$P74:$AI74)),\"n/a\")","v":"7"},{"$f":"IF(ISNUMBER(aRoundedScores!R74),CONCATENATE(IF(COUNTIF(aRoundedScores!$P74:$AI74,aRoundedScores!R74)>1,\"=\",\"\"),RANK(aRoundedScores!R74,aRoundedScores!$P74:$AI74)),\"n/a\")","v":"8"},{"$f":"IF(ISNUMBER(aRoundedScores!S74),CONCATENATE(IF(COUNTIF(aRoundedScores!$P74:$AI74,aRoundedScores!S74)>1,\"=\",\"\"),RANK(aRoundedScores!S74,aRoundedScores!$P74:$AI74)),\"n/a\")","v":"20"},{"$f":"IF(ISNUMBER(aRoundedScores!T74),CONCATENATE(IF(COUNTIF(aRoundedScores!$P74:$AI74,aRoundedScores!T74)>1,\"=\",\"\"),RANK(aRoundedScores!T74,aRoundedScores!$P74:$AI74)),\"n/a\")","v":"3"},{"$f":"IF(ISNUMBER(aRoundedScores!U74),CONCATENATE(IF(COUNTIF(aRoundedScores!$P74:$AI74,aRoundedScores!U74)>1,\"=\",\"\"),RANK(aRoundedScores!U74,aRoundedScores!$P74:$AI74)),\"n/a\")","v":"=17"},{"$f":"IF(ISNUMBER(aRoundedScores!V74),CONCATENATE(IF(COUNTIF(aRoundedScores!$P74:$AI74,aRoundedScores!V74)>1,\"=\",\"\"),RANK(aRoundedScores!V74,aRoundedScores!$P74:$AI74)),\"n/a\")","v":"=14"},{"$f":"IF(ISNUMBER(aRoundedScores!W74),CONCATENATE(IF(COUNTIF(aRoundedScores!$P74:$AI74,aRoundedScores!W74)>1,\"=\",\"\"),RANK(aRoundedScores!W74,aRoundedScores!$P74:$AI74)),\"n/a\")","v":"=10"},{"$f":"IF(ISNUMBER(aRoundedScores!X74),CONCATENATE(IF(COUNTIF(aRoundedScores!$P74:$AI74,aRoundedScores!X74)>1,\"=\",\"\"),RANK(aRoundedScores!X74,aRoundedScores!$P74:$AI74)),\"n/a\")","v":"13"},{"$f":"IF(ISNUMBER(aRoundedScores!Y74),CONCATENATE(IF(COUNTIF(aRoundedScores!$P74:$AI74,aRoundedScores!Y74)>1,\"=\",\"\"),RANK(aRoundedScores!Y74,aRoundedScores!$P74:$AI74)),\"n/a\")","v":"2"},{"$f":"IF(ISNUMBER(aRoundedScores!Z74),CONCATENATE(IF(COUNTIF(aRoundedScores!$P74:$AI74,aRoundedScores!Z74)>1,\"=\",\"\"),RANK(aRoundedScores!Z74,aRoundedScores!$P74:$AI74)),\"n/a\")","v":"=17"},{"$f":"IF(ISNUMBER(aRoundedScores!AA74),CONCATENATE(IF(COUNTIF(aRoundedScores!$P74:$AI74,aRoundedScores!AA74)>1,\"=\",\"\"),RANK(aRoundedScores!AA74,aRoundedScores!$P74:$AI74)),\"n/a\")","v":"5"},{"$f":"IF(ISNUMBER(aRoundedScores!AB74),CONCATENATE(IF(COUNTIF(aRoundedScores!$P74:$AI74,aRoundedScores!AB74)>1,\"=\",\"\"),RANK(aRoundedScores!AB74,aRoundedScores!$P74:$AI74)),\"n/a\")","v":"=14"},{"$f":"IF(ISNUMBER(aRoundedScores!AC74),CONCATENATE(IF(COUNTIF(aRoundedScores!$P74:$AI74,aRoundedScores!AC74)>1,\"=\",\"\"),RANK(aRoundedScores!AC74,aRoundedScores!$P74:$AI74)),\"n/a\")","v":"=17"},{"$f":"IF(ISNUMBER(aRoundedScores!AD74),CONCATENATE(IF(COUNTIF(aRoundedScores!$P74:$AI74,aRoundedScores!AD74)>1,\"=\",\"\"),RANK(aRoundedScores!AD74,aRoundedScores!$P74:$AI74)),\"n/a\")","v":"=10"},{"$f":"IF(ISNUMBER(aRoundedScores!AE74),CONCATENATE(IF(COUNTIF(aRoundedScores!$P74:$AI74,aRoundedScores!AE74)>1,\"=\",\"\"),RANK(aRoundedScores!AE74,aRoundedScores!$P74:$AI74)),\"n/a\")","v":"12"},{"$f":"IF(ISNUMBER(aRoundedScores!AF74),CONCATENATE(IF(COUNTIF(aRoundedScores!$P74:$AI74,aRoundedScores!AF74)>1,\"=\",\"\"),RANK(aRoundedScores!AF74,aRoundedScores!$P74:$AI74)),\"n/a\")","v":"9"},{"$f":"IF(ISNUMBER(aRoundedScores!AG74),CONCATENATE(IF(COUNTIF(aRoundedScores!$P74:$AI74,aRoundedScores!AG74)>1,\"=\",\"\"),RANK(aRoundedScores!AG74,aRoundedScores!$P74:$AI74)),\"n/a\")","v":"4"},{"$f":"IF(ISNUMBER(aRoundedScores!AH74),CONCATENATE(IF(COUNTIF(aRoundedScores!$P74:$AI74,aRoundedScores!AH74)>1,\"=\",\"\"),RANK(aRoundedScores!AH74,aRoundedScores!$P74:$AI74)),\"n/a\")","v":"1"},{"$f":"IF(ISNUMBER(aRoundedScores!AI74),CONCATENATE(IF(COUNTIF(aRoundedScores!$P74:$AI74,aRoundedScores!AI74)>1,\"=\",\"\"),RANK(aRoundedScores!AI74,aRoundedScores!$P74:$AI74)),\"n/a\")","v":"16"}]
[null,"6.1) Fisheries governance and management effectiveness",null,{"$f":"IF(ISNUMBER(aRoundedScores!P75),CONCATENATE(IF(COUNTIF(aRoundedScores!$P75:$AI75,aRoundedScores!P75)>1,\"=\",\"\"),RANK(aRoundedScores!P75,aRoundedScores!$P75:$AI75)),\"n/a\")","v":"19"},{"$f":"IF(ISNUMBER(aRoundedScores!Q75),CONCATENATE(IF(COUNTIF(aRoundedScores!$P75:$AI75,aRoundedScores!Q75)>1,\"=\",\"\"),RANK(aRoundedScores!Q75,aRoundedScores!$P75:$AI75)),\"n/a\")","v":"=4"},{"$f":"IF(ISNUMBER(aRoundedScores!R75),CONCATENATE(IF(COUNTIF(aRoundedScores!$P75:$AI75,aRoundedScores!R75)>1,\"=\",\"\"),RANK(aRoundedScores!R75,aRoundedScores!$P75:$AI75)),\"n/a\")","v":"9"},{"$f":"IF(ISNUMBER(aRoundedScores!S75),CONCATENATE(IF(COUNTIF(aRoundedScores!$P75:$AI75,aRoundedScores!S75)>1,\"=\",\"\"),RANK(aRoundedScores!S75,aRoundedScores!$P75:$AI75)),\"n/a\")","v":"20"},{"$f":"IF(ISNUMBER(aRoundedScores!T75),CONCATENATE(IF(COUNTIF(aRoundedScores!$P75:$AI75,aRoundedScores!T75)>1,\"=\",\"\"),RANK(aRoundedScores!T75,aRoundedScores!$P75:$AI75)),\"n/a\")","v":"=7"},{"$f":"IF(ISNUMBER(aRoundedScores!U75),CONCATENATE(IF(COUNTIF(aRoundedScores!$P75:$AI75,aRoundedScores!U75)>1,\"=\",\"\"),RANK(aRoundedScores!U75,aRoundedScores!$P75:$AI75)),\"n/a\")","v":"=15"},{"$f":"IF(ISNUMBER(aRoundedScores!V75),CONCATENATE(IF(COUNTIF(aRoundedScores!$P75:$AI75,aRoundedScores!V75)>1,\"=\",\"\"),RANK(aRoundedScores!V75,aRoundedScores!$P75:$AI75)),\"n/a\")","v":"18"},{"$f":"IF(ISNUMBER(aRoundedScores!W75),CONCATENATE(IF(COUNTIF(aRoundedScores!$P75:$AI75,aRoundedScores!W75)>1,\"=\",\"\"),RANK(aRoundedScores!W75,aRoundedScores!$P75:$AI75)),\"n/a\")","v":"11"},{"$f":"IF(ISNUMBER(aRoundedScores!X75),CONCATENATE(IF(COUNTIF(aRoundedScores!$P75:$AI75,aRoundedScores!X75)>1,\"=\",\"\"),RANK(aRoundedScores!X75,aRoundedScores!$P75:$AI75)),\"n/a\")","v":"13"},{"$f":"IF(ISNUMBER(aRoundedScores!Y75),CONCATENATE(IF(COUNTIF(aRoundedScores!$P75:$AI75,aRoundedScores!Y75)>1,\"=\",\"\"),RANK(aRoundedScores!Y75,aRoundedScores!$P75:$AI75)),\"n/a\")","v":"=4"},{"$f":"IF(ISNUMBER(aRoundedScores!Z75),CONCATENATE(IF(COUNTIF(aRoundedScores!$P75:$AI75,aRoundedScores!Z75)>1,\"=\",\"\"),RANK(aRoundedScores!Z75,aRoundedScores!$P75:$AI75)),\"n/a\")","v":"=15"},{"$f":"IF(ISNUMBER(aRoundedScores!AA75),CONCATENATE(IF(COUNTIF(aRoundedScores!$P75:$AI75,aRoundedScores!AA75)>1,\"=\",\"\"),RANK(aRoundedScores!AA75,aRoundedScores!$P75:$AI75)),\"n/a\")","v":"2"},{"$f":"IF(ISNUMBER(aRoundedScores!AB75),CONCATENATE(IF(COUNTIF(aRoundedScores!$P75:$AI75,aRoundedScores!AB75)>1,\"=\",\"\"),RANK(aRoundedScores!AB75,aRoundedScores!$P75:$AI75)),\"n/a\")","v":"10"},{"$f":"IF(ISNUMBER(aRoundedScores!AC75),CONCATENATE(IF(COUNTIF(aRoundedScores!$P75:$AI75,aRoundedScores!AC75)>1,\"=\",\"\"),RANK(aRoundedScores!AC75,aRoundedScores!$P75:$AI75)),\"n/a\")","v":"17"},{"$f":"IF(ISNUMBER(aRoundedScores!AD75),CONCATENATE(IF(COUNTIF(aRoundedScores!$P75:$AI75,aRoundedScores!AD75)>1,\"=\",\"\"),RANK(aRoundedScores!AD75,aRoundedScores!$P75:$AI75)),\"n/a\")","v":"3"},{"$f":"IF(ISNUMBER(aRoundedScores!AE75),CONCATENATE(IF(COUNTIF(aRoundedScores!$P75:$AI75,aRoundedScores!AE75)>1,\"=\",\"\"),RANK(aRoundedScores!AE75,aRoundedScores!$P75:$AI75)),\"n/a\")","v":"=4"},{"$f":"IF(ISNUMBER(aRoundedScores!AF75),CONCATENATE(IF(COUNTIF(aRoundedScores!$P75:$AI75,aRoundedScores!AF75)>1,\"=\",\"\"),RANK(aRoundedScores!AF75,aRoundedScores!$P75:$AI75)),\"n/a\")","v":"12"},{"$f":"IF(ISNUMBER(aRoundedScores!AG75),CONCATENATE(IF(COUNTIF(aRoundedScores!$P75:$AI75,aRoundedScores!AG75)>1,\"=\",\"\"),RANK(aRoundedScores!AG75,aRoundedScores!$P75:$AI75)),\"n/a\")","v":"=7"},{"$f":"IF(ISNUMBER(aRoundedScores!AH75),CONCATENATE(IF(COUNTIF(aRoundedScores!$P75:$AI75,aRoundedScores!AH75)>1,\"=\",\"\"),RANK(aRoundedScores!AH75,aRoundedScores!$P75:$AI75)),\"n/a\")","v":"1"},{"$f":"IF(ISNUMBER(aRoundedScores!AI75),CONCATENATE(IF(COUNTIF(aRoundedScores!$P75:$AI75,aRoundedScores!AI75)>1,\"=\",\"\"),RANK(aRoundedScores!AI75,aRoundedScores!$P75:$AI75)),\"n/a\")","v":"14"}]
[null,"6.1.1) Fisheries governance and management effectiveness",null,{"$f":"IF(ISNUMBER(aRoundedScores!P76),CONCATENATE(IF(COUNTIF(aRoundedScores!$P76:$AI76,aRoundedScores!P76)>1,\"=\",\"\"),RANK(aRoundedScores!P76,aRoundedScores!$P76:$AI76)),\"n/a\")","v":"19"},{"$f":"IF(ISNUMBER(aRoundedScores!Q76),CONCATENATE(IF(COUNTIF(aRoundedScores!$P76:$AI76,aRoundedScores!Q76)>1,\"=\",\"\"),RANK(aRoundedScores!Q76,aRoundedScores!$P76:$AI76)),\"n/a\")","v":"=4"},{"$f":"IF(ISNUMBER(aRoundedScores!R76),CONCATENATE(IF(COUNTIF(aRoundedScores!$P76:$AI76,aRoundedScores!R76)>1,\"=\",\"\"),RANK(aRoundedScores!R76,aRoundedScores!$P76:$AI76)),\"n/a\")","v":"9"},{"$f":"IF(ISNUMBER(aRoundedScores!S76),CONCATENATE(IF(COUNTIF(aRoundedScores!$P76:$AI76,aRoundedScores!S76)>1,\"=\",\"\"),RANK(aRoundedScores!S76,aRoundedScores!$P76:$AI76)),\"n/a\")","v":"20"},{"$f":"IF(ISNUMBER(aRoundedScores!T76),CONCATENATE(IF(COUNTIF(aRoundedScores!$P76:$AI76,aRoundedScores!T76)>1,\"=\",\"\"),RANK(aRoundedScores!T76,aRoundedScores!$P76:$AI76)),\"n/a\")","v":"=7"},{"$f":"IF(ISNUMBER(aRoundedScores!U76),CONCATENATE(IF(COUNTIF(aRoundedScores!$P76:$AI76,aRoundedScores!U76)>1,\"=\",\"\"),RANK(aRoundedScores!U76,aRoundedScores!$P76:$AI76)),\"n/a\")","v":"=15"},{"$f":"IF(ISNUMBER(aRoundedScores!V76),CONCATENATE(IF(COUNTIF(aRoundedScores!$P76:$AI76,aRoundedScores!V76)>1,\"=\",\"\"),RANK(aRoundedScores!V76,aRoundedScores!$P76:$AI76)),\"n/a\")","v":"18"},{"$f":"IF(ISNUMBER(aRoundedScores!W76),CONCATENATE(IF(COUNTIF(aRoundedScores!$P76:$AI76,aRoundedScores!W76)>1,\"=\",\"\"),RANK(aRoundedScores!W76,aRoundedScores!$P76:$AI76)),\"n/a\")","v":"11"},{"$f":"IF(ISNUMBER(aRoundedScores!X76),CONCATENATE(IF(COUNTIF(aRoundedScores!$P76:$AI76,aRoundedScores!X76)>1,\"=\",\"\"),RANK(aRoundedScores!X76,aRoundedScores!$P76:$AI76)),\"n/a\")","v":"13"},{"$f":"IF(ISNUMBER(aRoundedScores!Y76),CONCATENATE(IF(COUNTIF(aRoundedScores!$P76:$AI76,aRoundedScores!Y76)>1,\"=\",\"\"),RANK(aRoundedScores!Y76,aRoundedScores!$P76:$AI76)),\"n/a\")","v":"=4"},{"$f":"IF(ISNUMBER(aRoundedScores!Z76),CONCATENATE(IF(COUNTIF(aRoundedScores!$P76:$AI76,aRoundedScores!Z76)>1,\"=\",\"\"),RANK(aRoundedScores!Z76,aRoundedScores!$P76:$AI76)),\"n/a\")","v":"=15"},{"$f":"IF(ISNUMBER(aRoundedScores!AA76),CONCATENATE(IF(COUNTIF(aRoundedScores!$P76:$AI76,aRoundedScores!AA76)>1,\"=\",\"\"),RANK(aRoundedScores!AA76,aRoundedScores!$P76:$AI76)),\"n/a\")","v":"2"},{"$f":"IF(ISNUMBER(aRoundedScores!AB76),CONCATENATE(IF(COUNTIF(aRoundedScores!$P76:$AI76,aRoundedScores!AB76)>1,\"=\",\"\"),RANK(aRoundedScores!AB76,aRoundedScores!$P76:$AI76)),\"n/a\")","v":"10"},{"$f":"IF(ISNUMBER(aRoundedScores!AC76),CONCATENATE(IF(COUNTIF(aRoundedScores!$P76:$AI76,aRoundedScores!AC76)>1,\"=\",\"\"),RANK(aRoundedScores!AC76,aRoundedScores!$P76:$AI76)),\"n/a\")","v":"17"},{"$f":"IF(ISNUMBER(aRoundedScores!AD76),CONCATENATE(IF(COUNTIF(aRoundedScores!$P76:$AI76,aRoundedScores!AD76)>1,\"=\",\"\"),RANK(aRoundedScores!AD76,aRoundedScores!$P76:$AI76)),\"n/a\")","v":"3"},{"$f":"IF(ISNUMBER(aRoundedScores!AE76),CONCATENATE(IF(COUNTIF(aRoundedScores!$P76:$AI76,aRoundedScores!AE76)>1,\"=\",\"\"),RANK(aRoundedScores!AE76,aRoundedScores!$P76:$AI76)),\"n/a\")","v":"=4"},{"$f":"IF(ISNUMBER(aRoundedScores!AF76),CONCATENATE(IF(COUNTIF(aRoundedScores!$P76:$AI76,aRoundedScores!AF76)>1,\"=\",\"\"),RANK(aRoundedScores!AF76,aRoundedScores!$P76:$AI76)),\"n/a\")","v":"12"},{"$f":"IF(ISNUMBER(aRoundedScores!AG76),CONCATENATE(IF(COUNTIF(aRoundedScores!$P76:$AI76,aRoundedScores!AG76)>1,\"=\",\"\"),RANK(aRoundedScores!AG76,aRoundedScores!$P76:$AI76)),\"n/a\")","v":"=7"},{"$f":"IF(ISNUMBER(aRoundedScores!AH76),CONCATENATE(IF(COUNTIF(aRoundedScores!$P76:$AI76,aRoundedScores!AH76)>1,\"=\",\"\"),RANK(aRoundedScores!AH76,aRoundedScores!$P76:$AI76)),\"n/a\")","v":"1"},{"$f":"IF(ISNUMBER(aRoundedScores!AI76),CONCATENATE(IF(COUNTIF(aRoundedScores!$P76:$AI76,aRoundedScores!AI76)>1,\"=\",\"\"),RANK(aRoundedScores!AI76,aRoundedScores!$P76:$AI76)),\"n/a\")","v":"14"}]
[null,"6.2) Protection for marine/coastal species",null,{"$f":"IF(ISNUMBER(aRoundedScores!P77),CONCATENATE(IF(COUNTIF(aRoundedScores!$P77:$AI77,aRoundedScores!P77)>1,\"=\",\"\"),RANK(aRoundedScores!P77,aRoundedScores!$P77:$AI77)),\"n/a\")","v":"=1"},{"$f":"IF(ISNUMBER(aRoundedScores!Q77),CONCATENATE(IF(COUNTIF(aRoundedScores!$P77:$AI77,aRoundedScores!Q77)>1,\"=\",\"\"),RANK(aRoundedScores!Q77,aRoundedScores!$P77:$AI77)),\"n/a\")","v":"=10"},{"$f":"IF(ISNUMBER(aRoundedScores!R77),CONCATENATE(IF(COUNTIF(aRoundedScores!$P77:$AI77,aRoundedScores!R77)>1,\"=\",\"\"),RANK(aRoundedScores!R77,aRoundedScores!$P77:$AI77)),\"n/a\")","v":"=10"},{"$f":"IF(ISNUMBER(aRoundedScores!S77),CONCATENATE(IF(COUNTIF(aRoundedScores!$P77:$AI77,aRoundedScores!S77)>1,\"=\",\"\"),RANK(aRoundedScores!S77,aRoundedScores!$P77:$AI77)),\"n/a\")","v":"=10"},{"$f":"IF(ISNUMBER(aRoundedScores!T77),CONCATENATE(IF(COUNTIF(aRoundedScores!$P77:$AI77,aRoundedScores!T77)>1,\"=\",\"\"),RANK(aRoundedScores!T77,aRoundedScores!$P77:$AI77)),\"n/a\")","v":"=1"},{"$f":"IF(ISNUMBER(aRoundedScores!U77),CONCATENATE(IF(COUNTIF(aRoundedScores!$P77:$AI77,aRoundedScores!U77)>1,\"=\",\"\"),RANK(aRoundedScores!U77,aRoundedScores!$P77:$AI77)),\"n/a\")","v":"=10"},{"$f":"IF(ISNUMBER(aRoundedScores!V77),CONCATENATE(IF(COUNTIF(aRoundedScores!$P77:$AI77,aRoundedScores!V77)>1,\"=\",\"\"),RANK(aRoundedScores!V77,aRoundedScores!$P77:$AI77)),\"n/a\")","v":"=8"},{"$f":"IF(ISNUMBER(aRoundedScores!W77),CONCATENATE(IF(COUNTIF(aRoundedScores!$P77:$AI77,aRoundedScores!W77)>1,\"=\",\"\"),RANK(aRoundedScores!W77,aRoundedScores!$P77:$AI77)),\"n/a\")","v":"20"},{"$f":"IF(ISNUMBER(aRoundedScores!X77),CONCATENATE(IF(COUNTIF(aRoundedScores!$P77:$AI77,aRoundedScores!X77)>1,\"=\",\"\"),RANK(aRoundedScores!X77,aRoundedScores!$P77:$AI77)),\"n/a\")","v":"=1"},{"$f":"IF(ISNUMBER(aRoundedScores!Y77),CONCATENATE(IF(COUNTIF(aRoundedScores!$P77:$AI77,aRoundedScores!Y77)>1,\"=\",\"\"),RANK(aRoundedScores!Y77,aRoundedScores!$P77:$AI77)),\"n/a\")","v":"=1"},{"$f":"IF(ISNUMBER(aRoundedScores!Z77),CONCATENATE(IF(COUNTIF(aRoundedScores!$P77:$AI77,aRoundedScores!Z77)>1,\"=\",\"\"),RANK(aRoundedScores!Z77,aRoundedScores!$P77:$AI77)),\"n/a\")","v":"=10"},{"$f":"IF(ISNUMBER(aRoundedScores!AA77),CONCATENATE(IF(COUNTIF(aRoundedScores!$P77:$AI77,aRoundedScores!AA77)>1,\"=\",\"\"),RANK(aRoundedScores!AA77,aRoundedScores!$P77:$AI77)),\"n/a\")","v":"=10"},{"$f":"IF(ISNUMBER(aRoundedScores!AB77),CONCATENATE(IF(COUNTIF(aRoundedScores!$P77:$AI77,aRoundedScores!AB77)>1,\"=\",\"\"),RANK(aRoundedScores!AB77,aRoundedScores!$P77:$AI77)),\"n/a\")","v":"=10"},{"$f":"IF(ISNUMBER(aRoundedScores!AC77),CONCATENATE(IF(COUNTIF(aRoundedScores!$P77:$AI77,aRoundedScores!AC77)>1,\"=\",\"\"),RANK(aRoundedScores!AC77,aRoundedScores!$P77:$AI77)),\"n/a\")","v":"=10"},{"$f":"IF(ISNUMBER(aRoundedScores!AD77),CONCATENATE(IF(COUNTIF(aRoundedScores!$P77:$AI77,aRoundedScores!AD77)>1,\"=\",\"\"),RANK(aRoundedScores!AD77,aRoundedScores!$P77:$AI77)),\"n/a\")","v":"=1"},{"$f":"IF(ISNUMBER(aRoundedScores!AE77),CONCATENATE(IF(COUNTIF(aRoundedScores!$P77:$AI77,aRoundedScores!AE77)>1,\"=\",\"\"),RANK(aRoundedScores!AE77,aRoundedScores!$P77:$AI77)),\"n/a\")","v":"=1"},{"$f":"IF(ISNUMBER(aRoundedScores!AF77),CONCATENATE(IF(COUNTIF(aRoundedScores!$P77:$AI77,aRoundedScores!AF77)>1,\"=\",\"\"),RANK(aRoundedScores!AF77,aRoundedScores!$P77:$AI77)),\"n/a\")","v":"=10"},{"$f":"IF(ISNUMBER(aRoundedScores!AG77),CONCATENATE(IF(COUNTIF(aRoundedScores!$P77:$AI77,aRoundedScores!AG77)>1,\"=\",\"\"),RANK(aRoundedScores!AG77,aRoundedScores!$P77:$AI77)),\"n/a\")","v":"=8"},{"$f":"IF(ISNUMBER(aRoundedScores!AH77),CONCATENATE(IF(COUNTIF(aRoundedScores!$P77:$AI77,aRoundedScores!AH77)>1,\"=\",\"\"),RANK(aRoundedScores!AH77,aRoundedScores!$P77:$AI77)),\"n/a\")","v":"=1"},{"$f":"IF(ISNUMBER(aRoundedScores!AI77),CONCATENATE(IF(COUNTIF(aRoundedScores!$P77:$AI77,aRoundedScores!AI77)>1,\"=\",\"\"),RANK(aRoundedScores!AI77,aRoundedScores!$P77:$AI77)),\"n/a\")","v":"=10"}]
[null,"6.2.1) Protection of threatened species and populations ",null,{"$f":"IF(ISNUMBER(aRoundedScores!P78),CONCATENATE(IF(COUNTIF(aRoundedScores!$P78:$AI78,aRoundedScores!P78)>1,\"=\",\"\"),RANK(aRoundedScores!P78,aRoundedScores!$P78:$AI78)),\"n/a\")","v":"=1"},{"$f":"IF(ISNUMBER(aRoundedScores!Q78),CONCATENATE(IF(COUNTIF(aRoundedScores!$P78:$AI78,aRoundedScores!Q78)>1,\"=\",\"\"),RANK(aRoundedScores!Q78,aRoundedScores!$P78:$AI78)),\"n/a\")","v":"=1"},{"$f":"IF(ISNUMBER(aRoundedScores!R78),CONCATENATE(IF(COUNTIF(aRoundedScores!$P78:$AI78,aRoundedScores!R78)>1,\"=\",\"\"),RANK(aRoundedScores!R78,aRoundedScores!$P78:$AI78)),\"n/a\")","v":"=1"},{"$f":"IF(ISNUMBER(aRoundedScores!S78),CONCATENATE(IF(COUNTIF(aRoundedScores!$P78:$AI78,aRoundedScores!S78)>1,\"=\",\"\"),RANK(aRoundedScores!S78,aRoundedScores!$P78:$AI78)),\"n/a\")","v":"=1"},{"$f":"IF(ISNUMBER(aRoundedScores!T78),CONCATENATE(IF(COUNTIF(aRoundedScores!$P78:$AI78,aRoundedScores!T78)>1,\"=\",\"\"),RANK(aRoundedScores!T78,aRoundedScores!$P78:$AI78)),\"n/a\")","v":"=1"},{"$f":"IF(ISNUMBER(aRoundedScores!U78),CONCATENATE(IF(COUNTIF(aRoundedScores!$P78:$AI78,aRoundedScores!U78)>1,\"=\",\"\"),RANK(aRoundedScores!U78,aRoundedScores!$P78:$AI78)),\"n/a\")","v":"=1"},{"$f":"IF(ISNUMBER(aRoundedScores!V78),CONCATENATE(IF(COUNTIF(aRoundedScores!$P78:$AI78,aRoundedScores!V78)>1,\"=\",\"\"),RANK(aRoundedScores!V78,aRoundedScores!$P78:$AI78)),\"n/a\")","v":"=1"},{"$f":"IF(ISNUMBER(aRoundedScores!W78),CONCATENATE(IF(COUNTIF(aRoundedScores!$P78:$AI78,aRoundedScores!W78)>1,\"=\",\"\"),RANK(aRoundedScores!W78,aRoundedScores!$P78:$AI78)),\"n/a\")","v":"20"},{"$f":"IF(ISNUMBER(aRoundedScores!X78),CONCATENATE(IF(COUNTIF(aRoundedScores!$P78:$AI78,aRoundedScores!X78)>1,\"=\",\"\"),RANK(aRoundedScores!X78,aRoundedScores!$P78:$AI78)),\"n/a\")","v":"=1"},{"$f":"IF(ISNUMBER(aRoundedScores!Y78),CONCATENATE(IF(COUNTIF(aRoundedScores!$P78:$AI78,aRoundedScores!Y78)>1,\"=\",\"\"),RANK(aRoundedScores!Y78,aRoundedScores!$P78:$AI78)),\"n/a\")","v":"=1"},{"$f":"IF(ISNUMBER(aRoundedScores!Z78),CONCATENATE(IF(COUNTIF(aRoundedScores!$P78:$AI78,aRoundedScores!Z78)>1,\"=\",\"\"),RANK(aRoundedScores!Z78,aRoundedScores!$P78:$AI78)),\"n/a\")","v":"=1"},{"$f":"IF(ISNUMBER(aRoundedScores!AA78),CONCATENATE(IF(COUNTIF(aRoundedScores!$P78:$AI78,aRoundedScores!AA78)>1,\"=\",\"\"),RANK(aRoundedScores!AA78,aRoundedScores!$P78:$AI78)),\"n/a\")","v":"=1"},{"$f":"IF(ISNUMBER(aRoundedScores!AB78),CONCATENATE(IF(COUNTIF(aRoundedScores!$P78:$AI78,aRoundedScores!AB78)>1,\"=\",\"\"),RANK(aRoundedScores!AB78,aRoundedScores!$P78:$AI78)),\"n/a\")","v":"=1"},{"$f":"IF(ISNUMBER(aRoundedScores!AC78),CONCATENATE(IF(COUNTIF(aRoundedScores!$P78:$AI78,aRoundedScores!AC78)>1,\"=\",\"\"),RANK(aRoundedScores!AC78,aRoundedScores!$P78:$AI78)),\"n/a\")","v":"=1"},{"$f":"IF(ISNUMBER(aRoundedScores!AD78),CONCATENATE(IF(COUNTIF(aRoundedScores!$P78:$AI78,aRoundedScores!AD78)>1,\"=\",\"\"),RANK(aRoundedScores!AD78,aRoundedScores!$P78:$AI78)),\"n/a\")","v":"=1"},{"$f":"IF(ISNUMBER(aRoundedScores!AE78),CONCATENATE(IF(COUNTIF(aRoundedScores!$P78:$AI78,aRoundedScores!AE78)>1,\"=\",\"\"),RANK(aRoundedScores!AE78,aRoundedScores!$P78:$AI78)),\"n/a\")","v":"=1"},{"$f":"IF(ISNUMBER(aRoundedScores!AF78),CONCATENATE(IF(COUNTIF(aRoundedScores!$P78:$AI78,aRoundedScores!AF78)>1,\"=\",\"\"),RANK(aRoundedScores!AF78,aRoundedScores!$P78:$AI78)),\"n/a\")","v":"=1"},{"$f":"IF(ISNUMBER(aRoundedScores!AG78),CONCATENATE(IF(COUNTIF(aRoundedScores!$P78:$AI78,aRoundedScores!AG78)>1,\"=\",\"\"),RANK(aRoundedScores!AG78,aRoundedScores!$P78:$AI78)),\"n/a\")","v":"=1"},{"$f":"IF(ISNUMBER(aRoundedScores!AH78),CONCATENATE(IF(COUNTIF(aRoundedScores!$P78:$AI78,aRoundedScores!AH78)>1,\"=\",\"\"),RANK(aRoundedScores!AH78,aRoundedScores!$P78:$AI78)),\"n/a\")","v":"=1"},{"$f":"IF(ISNUMBER(aRoundedScores!AI78),CONCATENATE(IF(COUNTIF(aRoundedScores!$P78:$AI78,aRoundedScores!AI78)>1,\"=\",\"\"),RANK(aRoundedScores!AI78,aRoundedScores!$P78:$AI78)),\"n/a\")","v":"=1"}]
[null,"6.2.2) Prevalence of marine protected areas",null,{"$f":"IF(ISNUMBER(aRoundedScores!P79),CONCATENATE(IF(COUNTIF(aRoundedScores!$P79:$AI79,aRoundedScores!P79)>1,\"=\",\"\"),RANK(aRoundedScores!P79,aRoundedScores!$P79:$AI79)),\"n/a\")","v":"=1"},{"$f":"IF(ISNUMBER(aRoundedScores!Q79),CONCATENATE(IF(COUNTIF(aRoundedScores!$P79:$AI79,aRoundedScores!Q79)>1,\"=\",\"\"),RANK(aRoundedScores!Q79,aRoundedScores!$P79:$AI79)),\"n/a\")","v":"=11"},{"$f":"IF(ISNUMBER(aRoundedScores!R79),CONCATENATE(IF(COUNTIF(aRoundedScores!$P79:$AI79,aRoundedScores!R79)>1,\"=\",\"\"),RANK(aRoundedScores!R79,aRoundedScores!$P79:$AI79)),\"n/a\")","v":"=11"},{"$f":"IF(ISNUMBER(aRoundedScores!S79),CONCATENATE(IF(COUNTIF(aRoundedScores!$P79:$AI79,aRoundedScores!S79)>1,\"=\",\"\"),RANK(aRoundedScores!S79,aRoundedScores!$P79:$AI79)),\"n/a\")","v":"=11"},{"$f":"IF(ISNUMBER(aRoundedScores!T79),CONCATENATE(IF(COUNTIF(aRoundedScores!$P79:$AI79,aRoundedScores!T79)>1,\"=\",\"\"),RANK(aRoundedScores!T79,aRoundedScores!$P79:$AI79)),\"n/a\")","v":"=1"},{"$f":"IF(ISNUMBER(aRoundedScores!U79),CONCATENATE(IF(COUNTIF(aRoundedScores!$P79:$AI79,aRoundedScores!U79)>1,\"=\",\"\"),RANK(aRoundedScores!U79,aRoundedScores!$P79:$AI79)),\"n/a\")","v":"=11"},{"$f":"IF(ISNUMBER(aRoundedScores!V79),CONCATENATE(IF(COUNTIF(aRoundedScores!$P79:$AI79,aRoundedScores!V79)>1,\"=\",\"\"),RANK(aRoundedScores!V79,aRoundedScores!$P79:$AI79)),\"n/a\")","v":"=8"},{"$f":"IF(ISNUMBER(aRoundedScores!W79),CONCATENATE(IF(COUNTIF(aRoundedScores!$P79:$AI79,aRoundedScores!W79)>1,\"=\",\"\"),RANK(aRoundedScores!W79,aRoundedScores!$P79:$AI79)),\"n/a\")","v":"=8"},{"$f":"IF(ISNUMBER(aRoundedScores!X79),CONCATENATE(IF(COUNTIF(aRoundedScores!$P79:$AI79,aRoundedScores!X79)>1,\"=\",\"\"),RANK(aRoundedScores!X79,aRoundedScores!$P79:$AI79)),\"n/a\")","v":"=1"},{"$f":"IF(ISNUMBER(aRoundedScores!Y79),CONCATENATE(IF(COUNTIF(aRoundedScores!$P79:$AI79,aRoundedScores!Y79)>1,\"=\",\"\"),RANK(aRoundedScores!Y79,aRoundedScores!$P79:$AI79)),\"n/a\")","v":"=1"},{"$f":"IF(ISNUMBER(aRoundedScores!Z79),CONCATENATE(IF(COUNTIF(aRoundedScores!$P79:$AI79,aRoundedScores!Z79)>1,\"=\",\"\"),RANK(aRoundedScores!Z79,aRoundedScores!$P79:$AI79)),\"n/a\")","v":"=11"},{"$f":"IF(ISNUMBER(aRoundedScores!AA79),CONCATENATE(IF(COUNTIF(aRoundedScores!$P79:$AI79,aRoundedScores!AA79)>1,\"=\",\"\"),RANK(aRoundedScores!AA79,aRoundedScores!$P79:$AI79)),\"n/a\")","v":"=11"},{"$f":"IF(ISNUMBER(aRoundedScores!AB79),CONCATENATE(IF(COUNTIF(aRoundedScores!$P79:$AI79,aRoundedScores!AB79)>1,\"=\",\"\"),RANK(aRoundedScores!AB79,aRoundedScores!$P79:$AI79)),\"n/a\")","v":"=11"},{"$f":"IF(ISNUMBER(aRoundedScores!AC79),CONCATENATE(IF(COUNTIF(aRoundedScores!$P79:$AI79,aRoundedScores!AC79)>1,\"=\",\"\"),RANK(aRoundedScores!AC79,aRoundedScores!$P79:$AI79)),\"n/a\")","v":"=11"},{"$f":"IF(ISNUMBER(aRoundedScores!AD79),CONCATENATE(IF(COUNTIF(aRoundedScores!$P79:$AI79,aRoundedScores!AD79)>1,\"=\",\"\"),RANK(aRoundedScores!AD79,aRoundedScores!$P79:$AI79)),\"n/a\")","v":"=1"},{"$f":"IF(ISNUMBER(aRoundedScores!AE79),CONCATENATE(IF(COUNTIF(aRoundedScores!$P79:$AI79,aRoundedScores!AE79)>1,\"=\",\"\"),RANK(aRoundedScores!AE79,aRoundedScores!$P79:$AI79)),\"n/a\")","v":"=1"},{"$f":"IF(ISNUMBER(aRoundedScores!AF79),CONCATENATE(IF(COUNTIF(aRoundedScores!$P79:$AI79,aRoundedScores!AF79)>1,\"=\",\"\"),RANK(aRoundedScores!AF79,aRoundedScores!$P79:$AI79)),\"n/a\")","v":"=11"},{"$f":"IF(ISNUMBER(aRoundedScores!AG79),CONCATENATE(IF(COUNTIF(aRoundedScores!$P79:$AI79,aRoundedScores!AG79)>1,\"=\",\"\"),RANK(aRoundedScores!AG79,aRoundedScores!$P79:$AI79)),\"n/a\")","v":"=8"},{"$f":"IF(ISNUMBER(aRoundedScores!AH79),CONCATENATE(IF(COUNTIF(aRoundedScores!$P79:$AI79,aRoundedScores!AH79)>1,\"=\",\"\"),RANK(aRoundedScores!AH79,aRoundedScores!$P79:$AI79)),\"n/a\")","v":"=1"},{"$f":"IF(ISNUMBER(aRoundedScores!AI79),CONCATENATE(IF(COUNTIF(aRoundedScores!$P79:$AI79,aRoundedScores!AI79)>1,\"=\",\"\"),RANK(aRoundedScores!AI79,aRoundedScores!$P79:$AI79)),\"n/a\")","v":"=11"}]
[null,"6.3) Ballast water treatment",null,{"$f":"IF(ISNUMBER(aRoundedScores!P80),CONCATENATE(IF(COUNTIF(aRoundedScores!$P80:$AI80,aRoundedScores!P80)>1,\"=\",\"\"),RANK(aRoundedScores!P80,aRoundedScores!$P80:$AI80)),\"n/a\")","v":"=1"},{"$f":"IF(ISNUMBER(aRoundedScores!Q80),CONCATENATE(IF(COUNTIF(aRoundedScores!$P80:$AI80,aRoundedScores!Q80)>1,\"=\",\"\"),RANK(aRoundedScores!Q80,aRoundedScores!$P80:$AI80)),\"n/a\")","v":"=1"},{"$f":"IF(ISNUMBER(aRoundedScores!R80),CONCATENATE(IF(COUNTIF(aRoundedScores!$P80:$AI80,aRoundedScores!R80)>1,\"=\",\"\"),RANK(aRoundedScores!R80,aRoundedScores!$P80:$AI80)),\"n/a\")","v":"=1"},{"$f":"IF(ISNUMBER(aRoundedScores!S80),CONCATENATE(IF(COUNTIF(aRoundedScores!$P80:$AI80,aRoundedScores!S80)>1,\"=\",\"\"),RANK(aRoundedScores!S80,aRoundedScores!$P80:$AI80)),\"n/a\")","v":"=11"},{"$f":"IF(ISNUMBER(aRoundedScores!T80),CONCATENATE(IF(COUNTIF(aRoundedScores!$P80:$AI80,aRoundedScores!T80)>1,\"=\",\"\"),RANK(aRoundedScores!T80,aRoundedScores!$P80:$AI80)),\"n/a\")","v":"=1"},{"$f":"IF(ISNUMBER(aRoundedScores!U80),CONCATENATE(IF(COUNTIF(aRoundedScores!$P80:$AI80,aRoundedScores!U80)>1,\"=\",\"\"),RANK(aRoundedScores!U80,aRoundedScores!$P80:$AI80)),\"n/a\")","v":"=11"},{"$f":"IF(ISNUMBER(aRoundedScores!V80),CONCATENATE(IF(COUNTIF(aRoundedScores!$P80:$AI80,aRoundedScores!V80)>1,\"=\",\"\"),RANK(aRoundedScores!V80,aRoundedScores!$P80:$AI80)),\"n/a\")","v":"=11"},{"$f":"IF(ISNUMBER(aRoundedScores!W80),CONCATENATE(IF(COUNTIF(aRoundedScores!$P80:$AI80,aRoundedScores!W80)>1,\"=\",\"\"),RANK(aRoundedScores!W80,aRoundedScores!$P80:$AI80)),\"n/a\")","v":"=1"},{"$f":"IF(ISNUMBER(aRoundedScores!X80),CONCATENATE(IF(COUNTIF(aRoundedScores!$P80:$AI80,aRoundedScores!X80)>1,\"=\",\"\"),RANK(aRoundedScores!X80,aRoundedScores!$P80:$AI80)),\"n/a\")","v":"=11"},{"$f":"IF(ISNUMBER(aRoundedScores!Y80),CONCATENATE(IF(COUNTIF(aRoundedScores!$P80:$AI80,aRoundedScores!Y80)>1,\"=\",\"\"),RANK(aRoundedScores!Y80,aRoundedScores!$P80:$AI80)),\"n/a\")","v":"=1"},{"$f":"IF(ISNUMBER(aRoundedScores!Z80),CONCATENATE(IF(COUNTIF(aRoundedScores!$P80:$AI80,aRoundedScores!Z80)>1,\"=\",\"\"),RANK(aRoundedScores!Z80,aRoundedScores!$P80:$AI80)),\"n/a\")","v":"=11"},{"$f":"IF(ISNUMBER(aRoundedScores!AA80),CONCATENATE(IF(COUNTIF(aRoundedScores!$P80:$AI80,aRoundedScores!AA80)>1,\"=\",\"\"),RANK(aRoundedScores!AA80,aRoundedScores!$P80:$AI80)),\"n/a\")","v":"=1"},{"$f":"IF(ISNUMBER(aRoundedScores!AB80),CONCATENATE(IF(COUNTIF(aRoundedScores!$P80:$AI80,aRoundedScores!AB80)>1,\"=\",\"\"),RANK(aRoundedScores!AB80,aRoundedScores!$P80:$AI80)),\"n/a\")","v":"=11"},{"$f":"IF(ISNUMBER(aRoundedScores!AC80),CONCATENATE(IF(COUNTIF(aRoundedScores!$P80:$AI80,aRoundedScores!AC80)>1,\"=\",\"\"),RANK(aRoundedScores!AC80,aRoundedScores!$P80:$AI80)),\"n/a\")","v":"=11"},{"$f":"IF(ISNUMBER(aRoundedScores!AD80),CONCATENATE(IF(COUNTIF(aRoundedScores!$P80:$AI80,aRoundedScores!AD80)>1,\"=\",\"\"),RANK(aRoundedScores!AD80,aRoundedScores!$P80:$AI80)),\"n/a\")","v":"=11"},{"$f":"IF(ISNUMBER(aRoundedScores!AE80),CONCATENATE(IF(COUNTIF(aRoundedScores!$P80:$AI80,aRoundedScores!AE80)>1,\"=\",\"\"),RANK(aRoundedScores!AE80,aRoundedScores!$P80:$AI80)),\"n/a\")","v":"=11"},{"$f":"IF(ISNUMBER(aRoundedScores!AF80),CONCATENATE(IF(COUNTIF(aRoundedScores!$P80:$AI80,aRoundedScores!AF80)>1,\"=\",\"\"),RANK(aRoundedScores!AF80,aRoundedScores!$P80:$AI80)),\"n/a\")","v":"=1"},{"$f":"IF(ISNUMBER(aRoundedScores!AG80),CONCATENATE(IF(COUNTIF(aRoundedScores!$P80:$AI80,aRoundedScores!AG80)>1,\"=\",\"\"),RANK(aRoundedScores!AG80,aRoundedScores!$P80:$AI80)),\"n/a\")","v":"=1"},{"$f":"IF(ISNUMBER(aRoundedScores!AH80),CONCATENATE(IF(COUNTIF(aRoundedScores!$P80:$AI80,aRoundedScores!AH80)>1,\"=\",\"\"),RANK(aRoundedScores!AH80,aRoundedScores!$P80:$AI80)),\"n/a\")","v":"=1"},{"$f":"IF(ISNUMBER(aRoundedScores!AI80),CONCATENATE(IF(COUNTIF(aRoundedScores!$P80:$AI80,aRoundedScores!AI80)>1,\"=\",\"\"),RANK(aRoundedScores!AI80,aRoundedScores!$P80:$AI80)),\"n/a\")","v":"=11"}]
[null,"6.3.1) Mechanisms to control pathways of introduction ",null,{"$f":"IF(ISNUMBER(aRoundedScores!P81),CONCATENATE(IF(COUNTIF(aRoundedScores!$P81:$AI81,aRoundedScores!P81)>1,\"=\",\"\"),RANK(aRoundedScores!P81,aRoundedScores!$P81:$AI81)),\"n/a\")","v":"=1"},{"$f":"IF(ISNUMBER(aRoundedScores!Q81),CONCATENATE(IF(COUNTIF(aRoundedScores!$P81:$AI81,aRoundedScores!Q81)>1,\"=\",\"\"),RANK(aRoundedScores!Q81,aRoundedScores!$P81:$AI81)),\"n/a\")","v":"=1"},{"$f":"IF(ISNUMBER(aRoundedScores!R81),CONCATENATE(IF(COUNTIF(aRoundedScores!$P81:$AI81,aRoundedScores!R81)>1,\"=\",\"\"),RANK(aRoundedScores!R81,aRoundedScores!$P81:$AI81)),\"n/a\")","v":"=1"},{"$f":"IF(ISNUMBER(aRoundedScores!S81),CONCATENATE(IF(COUNTIF(aRoundedScores!$P81:$AI81,aRoundedScores!S81)>1,\"=\",\"\"),RANK(aRoundedScores!S81,aRoundedScores!$P81:$AI81)),\"n/a\")","v":"=11"},{"$f":"IF(ISNUMBER(aRoundedScores!T81),CONCATENATE(IF(COUNTIF(aRoundedScores!$P81:$AI81,aRoundedScores!T81)>1,\"=\",\"\"),RANK(aRoundedScores!T81,aRoundedScores!$P81:$AI81)),\"n/a\")","v":"=1"},{"$f":"IF(ISNUMBER(aRoundedScores!U81),CONCATENATE(IF(COUNTIF(aRoundedScores!$P81:$AI81,aRoundedScores!U81)>1,\"=\",\"\"),RANK(aRoundedScores!U81,aRoundedScores!$P81:$AI81)),\"n/a\")","v":"=11"},{"$f":"IF(ISNUMBER(aRoundedScores!V81),CONCATENATE(IF(COUNTIF(aRoundedScores!$P81:$AI81,aRoundedScores!V81)>1,\"=\",\"\"),RANK(aRoundedScores!V81,aRoundedScores!$P81:$AI81)),\"n/a\")","v":"=11"},{"$f":"IF(ISNUMBER(aRoundedScores!W81),CONCATENATE(IF(COUNTIF(aRoundedScores!$P81:$AI81,aRoundedScores!W81)>1,\"=\",\"\"),RANK(aRoundedScores!W81,aRoundedScores!$P81:$AI81)),\"n/a\")","v":"=1"},{"$f":"IF(ISNUMBER(aRoundedScores!X81),CONCATENATE(IF(COUNTIF(aRoundedScores!$P81:$AI81,aRoundedScores!X81)>1,\"=\",\"\"),RANK(aRoundedScores!X81,aRoundedScores!$P81:$AI81)),\"n/a\")","v":"=11"},{"$f":"IF(ISNUMBER(aRoundedScores!Y81),CONCATENATE(IF(COUNTIF(aRoundedScores!$P81:$AI81,aRoundedScores!Y81)>1,\"=\",\"\"),RANK(aRoundedScores!Y81,aRoundedScores!$P81:$AI81)),\"n/a\")","v":"=1"},{"$f":"IF(ISNUMBER(aRoundedScores!Z81),CONCATENATE(IF(COUNTIF(aRoundedScores!$P81:$AI81,aRoundedScores!Z81)>1,\"=\",\"\"),RANK(aRoundedScores!Z81,aRoundedScores!$P81:$AI81)),\"n/a\")","v":"=11"},{"$f":"IF(ISNUMBER(aRoundedScores!AA81),CONCATENATE(IF(COUNTIF(aRoundedScores!$P81:$AI81,aRoundedScores!AA81)>1,\"=\",\"\"),RANK(aRoundedScores!AA81,aRoundedScores!$P81:$AI81)),\"n/a\")","v":"=1"},{"$f":"IF(ISNUMBER(aRoundedScores!AB81),CONCATENATE(IF(COUNTIF(aRoundedScores!$P81:$AI81,aRoundedScores!AB81)>1,\"=\",\"\"),RANK(aRoundedScores!AB81,aRoundedScores!$P81:$AI81)),\"n/a\")","v":"=11"},{"$f":"IF(ISNUMBER(aRoundedScores!AC81),CONCATENATE(IF(COUNTIF(aRoundedScores!$P81:$AI81,aRoundedScores!AC81)>1,\"=\",\"\"),RANK(aRoundedScores!AC81,aRoundedScores!$P81:$AI81)),\"n/a\")","v":"=11"},{"$f":"IF(ISNUMBER(aRoundedScores!AD81),CONCATENATE(IF(COUNTIF(aRoundedScores!$P81:$AI81,aRoundedScores!AD81)>1,\"=\",\"\"),RANK(aRoundedScores!AD81,aRoundedScores!$P81:$AI81)),\"n/a\")","v":"=11"},{"$f":"IF(ISNUMBER(aRoundedScores!AE81),CONCATENATE(IF(COUNTIF(aRoundedScores!$P81:$AI81,aRoundedScores!AE81)>1,\"=\",\"\"),RANK(aRoundedScores!AE81,aRoundedScores!$P81:$AI81)),\"n/a\")","v":"=11"},{"$f":"IF(ISNUMBER(aRoundedScores!AF81),CONCATENATE(IF(COUNTIF(aRoundedScores!$P81:$AI81,aRoundedScores!AF81)>1,\"=\",\"\"),RANK(aRoundedScores!AF81,aRoundedScores!$P81:$AI81)),\"n/a\")","v":"=1"},{"$f":"IF(ISNUMBER(aRoundedScores!AG81),CONCATENATE(IF(COUNTIF(aRoundedScores!$P81:$AI81,aRoundedScores!AG81)>1,\"=\",\"\"),RANK(aRoundedScores!AG81,aRoundedScores!$P81:$AI81)),\"n/a\")","v":"=1"},{"$f":"IF(ISNUMBER(aRoundedScores!AH81),CONCATENATE(IF(COUNTIF(aRoundedScores!$P81:$AI81,aRoundedScores!AH81)>1,\"=\",\"\"),RANK(aRoundedScores!AH81,aRoundedScores!$P81:$AI81)),\"n/a\")","v":"=1"},{"$f":"IF(ISNUMBER(aRoundedScores!AI81),CONCATENATE(IF(COUNTIF(aRoundedScores!$P81:$AI81,aRoundedScores!AI81)>1,\"=\",\"\"),RANK(aRoundedScores!AI81,aRoundedScores!$P81:$AI81)),\"n/a\")","v":"=11"}]

{"sheet":"iCountry","index":13,"n_rows":91,"n_cols":66,"rows_kept":91,"cut":false,"hidden":true,"merged":[]}
["COUNTRY1_ID",{"$f":"iWorks!$B$36","v":11},{"$f":"iWorks!$C$36","v":"Nigeria"}]
["COUNTRY2_ID",{"$f":"iWorks!$B$37","v":18},{"$f":"iWorks!$C$37","v":"Spain"}]
["REGION1_ID",{"$f":"iWorks!$B$38","v":1},{"$f":"iWorks!$C$38","v":"All Countries"}]
["REGION2_ID",{"$f":"iWorks!$B$39","v":2},{"$f":"iWorks!$C$39","v":"UN: Africa"}]
[]
["TOTAL_COUNTRY_COUNT",{"$f":"iWorks!$B$9","v":20}]
[{"$f":"iWorks!A3","v":"ABOVE_AVERAGE_DOR"},{"$f":"iWorks!B3","v":"●"}]
[]
["CATEGORY SCORES",null,null,null,null,null,null,null,null,null,null,null,"REGION#1 WILL ALWAYS BE \"ALL COUNTRIES\"",null,null,null,null,null,null,null,null,null,null,null,null,null,"COUNTRY_SUMMARY RADAR#1",null,null,null,null,null,"COUNTRY_SUMMARY RADAR#2",null,null,null,null,null,"DUMMY RADAR FOR LEGEND",null,null,null,null,null,"COUNTRY_COMP RADAR: 2014"]
[null,null,null,null,null,"COUNTRY 1",null,null,"COUNTRY 2",null,null,null,"COMPARISON REGION#1",null,null,null,"COMPARISON REGION#2",null,null,null,"MAX (ALL)",null,null,"MIN (ALL)"]
[null,null,null,null,null,2014,{"$f":"iWorks!$C$9","v":"Rank / 20"},null,2014,null,{"$f":"iWorks!$C$9","v":"Rank / 20"},2012,"# Members",2014,2012,null,"# Members",2014,2012,null,2014,2012,null,2014,2012]
[{"$f":"tblIndiSets!A3","v":"OVERALL"},{"$f":"tblIndiSets!B3","v":1},{"$f":"tblIndiSets!C3","v":"OVERALL SCORE"},null,null,{"$f":"INDEX(aScores,$B12,$B$1)","v":50.075062285380596},{"$f":"INDEX(aRanks,$B12,$B$1)","v":"19"},null,{"$f":"INDEX(aScores,$B12,$B$2)","v":79.820005731403398},null,{"$f":"INDEX(aRanks,$B12,$B$2)","v":"4"},null,{"$f":"$B$6","v":20},{"$f":"MMULT(OFFSET(aScores,$B12-1,0,1,$B$6),OFFSET(tblCountries!$Q$3,0,$B$3-1,$B$6,1))/M12","v":66.880547052956061},{"$f":"MMULT(OFFSET(aScores2012,$B12-1,0,1,$B$6),OFFSET(tblCountries!$Q$3,0,$B$3-1,$B$6,1))/M12","v":{"$error":"#NAME?"}},null,{"$f":"SUM(OFFSET(tblCountries!$Q$3,0,$B$4-1,$B$6,1))","v":0},{"$f":"MMULT(OFFSET(aScores,$B12-1,0,1,$B$6),OFFSET(tblCountries!$Q$3,0,$B$4-1,$B$6,1))/Q12","v":{"$error":"#DIV/0!"}},{"$f":"MMULT(OFFSET(aScores2012,$B12-1,0,1,$B$6),OFFSET(tblCountries!$Q$3,0,$B$4-1,$B$6,1))/Q12","v":{"$error":"#NAME?"}},null,{"$f":"MAX(OFFSET(aScores,$B12-1,0,1,$B$6))","v":86.163366424857784},{"$f":"MAX(OFFSET(aScores2012,$B12-1,0,1,$B$6))","v":{"$error":"#NAME?"}},null,{"$f":"MIN(OFFSET(aScores,$B12-1,0,1,$B$6))","v":42.268904992589576},{"$f":"MIN(OFFSET(aScores2012,$B12-1,0,1,$B$6))","v":{"$error":"#NAME?"}},null,null,null,"All-countries average","Index Average, 2014",{"$f":"C1","v":"Nigeria"},"MIN",null,null,"MAX",{"$f":"CONCATENATE($C$1,\" 2014\")","v":"Nigeria 2014"},{"$f":"CONCATENATE($C$1,\" 2012\")","v":"Nigeria 2012"},"MIN",null,null,"Range across all countries","Index Average",{"$f":"$C$1","v":"Nigeria"},"MIN",null,null,"MAX",{"$f":"$C$1","v":"Nigeria"},{"$f":"$C$2","v":"Spain"},"Index Average","MIN"]
[{"$f":"tblIndiSets!A4","v":"PLCAP"},{"$f":"tblIndiSets!B4","v":2},{"$f":"tblIndiSets!C4","v":"1) POLICY AND INSTITUTIONAL CAPACITY"},null,null,42.857142857142854,"17",null,85.714285714285694,null,"=1",null,20,{"$f":"MMULT(OFFSET(aScores,$B13-1,0,1,$B$6),OFFSET(tblCountries!$Q$3,0,$B$3-1,$B$6,1))/M13","v":64.226190476190467},{"$f":"MMULT(OFFSET(aScores2012,$B13-1,0,1,$B$6),OFFSET(tblCountries!$Q$3,0,$B$3-1,$B$6,1))/M13","v":{"$error":"#NAME?"}},null,{"$f":"SUM(OFFSET(tblCountries!$Q$3,0,$B$4-1,$B$6,1))","v":0},{"$f":"MMULT(OFFSET(aScores,$B13-1,0,1,$B$6),OFFSET(tblCountries!$Q$3,0,$B$4-1,$B$6,1))/Q13","v":{"$error":"#DIV/0!"}},{"$f":"MMULT(OFFSET(aScores2012,$B13-1,0,1,$B$6),OFFSET(tblCountries!$Q$3,0,$B$4-1,$B$6,1))/Q13","v":{"$error":"#NAME?"}},null,85.714285714285694,{"$error":"#NAME?"},null,14.285714285714285,{"$error":"#NAME?"},null,null,{"$f":"$C13","v":"1) POLICY AND INSTITUTIONAL CAPACITY"},{"$f":"N13","v":64.226190476190467},{"$f":"O13","v":{"$error":"#NAME?"}},{"$f":"F13","v":42.857142857142854},{"$f":"X13","v":14.285714285714285},null,{"$f":"$C13","v":"1) POLICY AND INSTITUTIONAL CAPACITY"},{"$f":"W13","v":0},{"$f":"F13","v":42.857142857142854},{"$f":"I13","v":85.714285714285694},{"$f":"Z13","v":0},null," ",{"$f":"NA()","v":{"$error":"#N/A"}},{"$f":"NA()","v":{"$error":"#N/A"}},{"$f":"NA()","v":{"$error":"#N/A"}},{"$f":"NA()","v":{"$error":"#N/A"}},null,{"$f":"$C13","v":"1) POLICY AND INSTITUTIONAL CAPACITY"},{"$f":"V13","v":{"$error":"#NAME?"}},{"$f":"F13","v":42.857142857142854},{"$f":"J13","v":0},{"$f":"O13","v":{"$error":"#NAME?"}},{"$f":"Y13","v":{"$error":"#NAME?"}}]
[{"$f":"tblIndiSets!A5","v":"BUSENV"},{"$f":"tblIndiSets!B5","v":20},{"$f":"tblIndiSets!C5","v":"2) BUSINESS ENVIRONMENT FOR COASTAL ACTIVITIES"},null,null,16.787856041666668,"20",null,79.536700188888886,null,"6",null,20,{"$f":"MMULT(OFFSET(aScores,$B14-1,0,1,$B$6),OFFSET(tblCountries!$Q$3,0,$B$3-1,$B$6,1))/M14","v":60.08176199902779},{"$f":"MMULT(OFFSET(aScores2012,$B14-1,0,1,$B$6),OFFSET(tblCountries!$Q$3,0,$B$3-1,$B$6,1))/M14","v":{"$error":"#NAME?"}},null,{"$f":"SUM(OFFSET(tblCountries!$Q$3,0,$B$4-1,$B$6,1))","v":0},{"$f":"MMULT(OFFSET(aScores,$B14-1,0,1,$B$6),OFFSET(tblCountries!$Q$3,0,$B$4-1,$B$6,1))/Q14","v":{"$error":"#DIV/0!"}},{"$f":"MMULT(OFFSET(aScores2012,$B14-1,0,1,$B$6),OFFSET(tblCountries!$Q$3,0,$B$4-1,$B$6,1))/Q14","v":{"$error":"#NAME?"}},null,89.016442202777782,{"$error":"#NAME?"},null,16.787856041666668,{"$error":"#NAME?"},null,null,{"$f":"$C14","v":"2) BUSINESS ENVIRONMENT FOR COASTAL ACTIVITIES"},{"$f":"N14","v":60.08176199902779},{"$f":"O14","v":{"$error":"#NAME?"}},{"$f":"F14","v":16.787856041666668},{"$f":"X14","v":16.787856041666668},null,{"$f":"$C14","v":"2) BUSINESS ENVIRONMENT FOR COASTAL ACTIVITIES"},{"$f":"W14","v":0},{"$f":"F14","v":16.787856041666668},{"$f":"I14","v":79.536700188888886},{"$f":"Z14","v":0},null," ",{"$f":"NA()","v":{"$error":"#N/A"}},{"$f":"NA()","v":{"$error":"#N/A"}},{"$f":"NA()","v":{"$error":"#N/A"}},{"$f":"NA()","v":{"$error":"#N/A"}},null,{"$f":"$C14","v":"2) BUSINESS ENVIRONMENT FOR COASTAL ACTIVITIES"},{"$f":"V14","v":{"$error":"#NAME?"}},{"$f":"F14","v":16.787856041666668},{"$f":"J14","v":0},{"$f":"O14","v":{"$error":"#NAME?"}},{"$f":"Y14","v":{"$error":"#NAME?"}}]
[{"$f":"tblIndiSets!A6","v":"WATQUAL"},{"$f":"tblIndiSets!B6","v":34},{"$f":"tblIndiSets!C6","v":"3) WATER QUALITY"},null,null,62.231111111111105,"18",null,78.86999999999999,null,"6",null,20,{"$f":"MMULT(OFFSET(aScores,$B15-1,0,1,$B$6),OFFSET(tblCountries!$Q$3,0,$B$3-1,$B$6,1))/M15","v":73.86977777777777},{"$f":"MMULT(OFFSET(aScores2012,$B15-1,0,1,$B$6),OFFSET(tblCountries!$Q$3,0,$B$3-1,$B$6,1))/M15","v":{"$error":"#NAME?"}},null,{"$f":"SUM(OFFSET(tblCountries!$Q$3,0,$B$4-1,$B$6,1))","v":0},{"$f":"MMULT(OFFSET(aScores,$B15-1,0,1,$B$6),OFFSET(tblCountries!$Q$3,0,$B$4-1,$B$6,1))/Q15","v":{"$error":"#DIV/0!"}},{"$f":"MMULT(OFFSET(aScores2012,$B15-1,0,1,$B$6),OFFSET(tblCountries!$Q$3,0,$B$4-1,$B$6,1))/Q15","v":{"$error":"#NAME?"}},null,83.422222222222217,{"$error":"#NAME?"},null,56.499999999999986,{"$error":"#NAME?"},null,null,{"$f":"$C15","v":"3) WATER QUALITY"},73.86977777777777,{"$f":"O15","v":{"$error":"#NAME?"}},{"$f":"F15","v":62.231111111111105},56.499999999999986,null,{"$f":"$C15","v":"3) WATER QUALITY"},{"$f":"W15","v":0},{"$f":"F15","v":62.231111111111105},{"$f":"I15","v":78.86999999999999},{"$f":"Z15","v":0},null," ",{"$f":"NA()","v":{"$error":"#N/A"}},{"$f":"NA()","v":{"$error":"#N/A"}},{"$f":"NA()","v":{"$error":"#N/A"}},{"$f":"NA()","v":{"$error":"#N/A"}},null,{"$f":"$C15","v":"3) WATER QUALITY"},{"$f":"V15","v":{"$error":"#NAME?"}},{"$f":"F15","v":62.231111111111105},{"$f":"J15","v":0},{"$f":"O15","v":{"$error":"#NAME?"}},{"$f":"Y15","v":{"$error":"#NAME?"}}]
[{"$f":"tblIndiSets!A7","v":"MINENG"},{"$f":"tblIndiSets!B7","v":44},{"$f":"tblIndiSets!C7","v":"4) MINERALS AND ENERGY"},null,null,86.1111111111111,"=3",null,72.222222222222214,null,"13",null,20,{"$f":"MMULT(OFFSET(aScores,$B16-1,0,1,$B$6),OFFSET(tblCountries!$Q$3,0,$B$3-1,$B$6,1))/M16","v":75.208333333333314},{"$f":"MMULT(OFFSET(aScores2012,$B16-1,0,1,$B$6),OFFSET(tblCountries!$Q$3,0,$B$3-1,$B$6,1))/M16","v":{"$error":"#NAME?"}},null,{"$f":"SUM(OFFSET(tblCountries!$Q$3,0,$B$4-1,$B$6,1))","v":0},{"$f":"MMULT(OFFSET(aScores,$B16-1,0,1,$B$6),OFFSET(tblCountries!$Q$3,0,$B$4-1,$B$6,1))/Q16","v":{"$error":"#DIV/0!"}},{"$f":"MMULT(OFFSET(aScores2012,$B16-1,0,1,$B$6),OFFSET(tblCountries!$Q$3,0,$B$4-1,$B$6,1))/Q16","v":{"$error":"#NAME?"}},null,91.666666666666657,{"$error":"#NAME?"},null,47.222222222222214,{"$error":"#NAME?"},null,null,{"$f":"$C16","v":"4) MINERALS AND ENERGY"},75.208333333333314,{"$f":"O16","v":{"$error":"#NAME?"}},{"$f":"F16","v":86.1111111111111},47.222222222222214,null,{"$f":"$C16","v":"4) MINERALS AND ENERGY"},{"$f":"W16","v":0},{"$f":"F16","v":86.1111111111111},{"$f":"I16","v":72.222222222222214},{"$f":"Z16","v":0},null," ",{"$f":"NA()","v":{"$error":"#N/A"}},{"$f":"NA()","v":{"$error":"#N/A"}},{"$f":"NA()","v":{"$error":"#N/A"}},{"$f":"NA()","v":{"$error":"#N/A"}},null,{"$f":"$C16","v":"4) MINERALS AND ENERGY"},{"$f":"V16","v":{"$error":"#NAME?"}},{"$f":"F16","v":86.1111111111111},{"$f":"J16","v":0},{"$f":"O16","v":{"$error":"#NAME?"}},{"$f":"Y16","v":{"$error":"#NAME?"}}]
[{"$f":"tblIndiSets!A8","v":"LAND"},{"$f":"tblIndiSets!B8","v":57},{"$f":"tblIndiSets!C8","v":"5) LAND"},null,null,61.041666666666664,"16",null,79.5,null,"3",null,20,{"$f":"MMULT(OFFSET(aScores,$B17-1,0,1,$B$6),OFFSET(tblCountries!$Q$3,0,$B$3-1,$B$6,1))/M17","v":67.731250000000017},{"$f":"MMULT(OFFSET(aScores2012,$B17-1,0,1,$B$6),OFFSET(tblCountries!$Q$3,0,$B$3-1,$B$6,1))/M17","v":{"$error":"#NAME?"}},null,{"$f":"SUM(OFFSET(tblCountries!$Q$3,0,$B$4-1,$B$6,1))","v":0},{"$f":"MMULT(OFFSET(aScores,$B17-1,0,1,$B$6),OFFSET(tblCountries!$Q$3,0,$B$4-1,$B$6,1))/Q17","v":{"$error":"#DIV/0!"}},{"$f":"MMULT(OFFSET(aScores2012,$B17-1,0,1,$B$6),OFFSET(tblCountries!$Q$3,0,$B$4-1,$B$6,1))/Q17","v":{"$error":"#NAME?"}},null,96.083333333333329,{"$error":"#NAME?"},null,21.666666666666668,{"$error":"#NAME?"},null,null,"5) LAND",67.731250000000017,{"$error":"#NAME?"},61.041666666666664,21.666666666666668,null,"5) LAND",0,61.041666666666664,79.5,0,null," ",{"$f":"NA()","v":{"$error":"#N/A"}},{"$f":"NA()","v":{"$error":"#N/A"}},{"$f":"NA()","v":{"$error":"#N/A"}},{"$f":"NA()","v":{"$error":"#N/A"}},null,"5) LAND",{"$error":"#NAME?"},61.041666666666664,0,{"$error":"#NAME?"},{"$error":"#NAME?"}]
[{"$f":"tblIndiSets!A9","v":"LIVRES"},{"$f":"tblIndiSets!B9","v":67},{"$f":"tblIndiSets!C9","v":"6) LIVING RESOURCES"},null,null,31.421485924585198,"=17",null,83.076826263023662,null,"4",null,20,{"$f":"MMULT(OFFSET(aScores,$B18-1,0,1,$B$6),OFFSET(tblCountries!$Q$3,0,$B$3-1,$B$6,1))/M18","v":60.165968731407041},{"$f":"MMULT(OFFSET(aScores2012,$B18-1,0,1,$B$6),OFFSET(tblCountries!$Q$3,0,$B$3-1,$B$6,1))/M18","v":{"$error":"#NAME?"}},null,{"$f":"SUM(OFFSET(tblCountries!$Q$3,0,$B$4-1,$B$6,1))","v":0},{"$f":"MMULT(OFFSET(aScores,$B18-1,0,1,$B$6),OFFSET(tblCountries!$Q$3,0,$B$4-1,$B$6,1))/Q18","v":{"$error":"#DIV/0!"}},{"$f":"MMULT(OFFSET(aScores2012,$B18-1,0,1,$B$6),OFFSET(tblCountries!$Q$3,0,$B$4-1,$B$6,1))/Q18","v":{"$error":"#NAME?"}},null,96.839399573270043,{"$error":"#NAME?"},null,24.917515758358782,{"$error":"#NAME?"},null,null,"6) LIVING RESOURCES",60.165968731407041,{"$error":"#NAME?"},31.421485924585198,24.917515758358782,null,"6) LIVING RESOURCES",0,31.421485924585198,83.076826263023662,0,null," ",{"$f":"NA()","v":{"$error":"#N/A"}},{"$f":"NA()","v":{"$error":"#N/A"}},{"$f":"NA()","v":{"$error":"#N/A"}},{"$f":"NA()","v":{"$error":"#N/A"}},null,"6) LIVING RESOURCES",{"$error":"#NAME?"},31.421485924585198,0,{"$error":"#NAME?"},{"$error":"#NAME?"}]
[]
[]
[]
[]
[]
["INDICATORS AND ABOVE",null,null,null,null,null,null,null,null,null,null,null,null,null,null,null,null,null,null,null,null,null,null,null,"BEST",null,null,null,null,null,null,null,null,null,null,null,null,null,null,null,null,null,null,null,null,null,null,null,null,null,null,"1 better than 2",null,{"$f":"CONCATENATE(UPPER($C$1),\" more favorable than \",UPPER($C2))","v":"NIGERIA more favorable than SPAIN"},null,null,"2 better than 1",null,{"$f":"CONCATENATE(UPPER($C$2),\" more favorable than \",UPPER($C1))","v":"SPAIN more favorable than NIGERIA"},null,null,"Equal"]
[null,null,null,null,null,"COUNTRY 1",null,null,null,null,"COUNTRY 2",null,null,null,"COMP REGION#1 (ALL COUNTRIES)",null,"GROUPING FOR COUNTRY PROFILE",null,null,null,null,null,null,null,1,null,null,null,null,2,null,null,null,null,3,null,null,null,null,null,null,null,null,"TWO COUNTRY COMPARE",null,null,null,null,null,null,null,1,null,null,null,null,2,null,null,null,null,3]
[null,null,null,"Depth","Max",2014,{"$f":"iWorks!$C$9","v":"Rank / 20"},"2014 normalised","Delta / 100","Above Avg?",2014,"Delta",{"$f":"iWorks!$C$9","v":"Rank / 20"},"2014 normalised","2014 normalised",null,"RANK VALUE","HC",null,null,"INDI_ID","DEPTH","VALUE","GROUP",0,"INDI_ID","INDI",2014,"Delta",0,"INDI_ID","INDI",2014,"Delta",0,"INDI_ID","INDI",2014,"Delta",null,null,null,"DIFF","RANK VALUE","HC",null,null,"INDI_ID","DEPTH","VALUE","GROUP",0,"INDI_ID","INDI","Country1","Country2",0,"INDI_ID","INDI","Country1","Country2",0,"INDI_ID","INDI","Country1","Country2"]
[{"$f":"tblIndiSets!A12","v":"OVERALL"},{"$f":"tblIndiSets!B12","v":1},{"$f":"tblIndiSets!C12","v":"OVERALL SCORE"},{"$f":"tblIndiSets!D12","v":0},{"$f":"tblIndiSets!E12","v":100},{"$f":"INDEX(aScores,$B27,$B$1)","v":50.075062285380596},{"$f":"INDEX(aRanks,$B27,$B$1)","v":"19"},{"$f":"INDEX(aScores,$B27,$B$1)","v":50.075062285380596},{"$f":"ROUND(H27,0)-ROUND(INDEX(aNormalisedScores2012,$B27,$B$1),0)","v":{"$error":"#NAME?"}},{"$f":"IF(H27>O27,$B$7,\"\")","v":""},{"$f":"INDEX(aScores,$B27,$B$2)","v":79.820005731403398},{"$f":"INDEX(aDeltas,$B27,$B$2)","v":{"$error":"#NAME?"}},{"$f":"INDEX(aRanks,$B27,$B$2)","v":"4"},{"$f":"INDEX(aScores,$B27,$B$2)","v":79.820005731403398},{"$f":"MMULT(OFFSET(aScores,$B27-1,0,1,$B$6),OFFSET(tblCountries!$Q$3,0,$B$3-1,$B$6,1))/$B$6","v":66.880547052956061},null,{"$f":"ROUND(F27,0)*(100/$E27)","v":50},1,{"$f":"RANK(Q27,Q$27:Q$57)+COUNTIF(Q$27:Q27,Q27)-1","v":12},{"$f":"MATCH($R27,S$27:S$57,0)","v":5},{"$f":"INDEX($B$27:$B$57,T27)","v":8},{"$f":"INDEX($D$27:$D$57,T27)","v":2},{"$f":"INDEX(Q$27:Q$57,T27)","v":100},{"$f":"IF(V27<2,0,IF(W27>=67,1,IF(W27>=34,2,3)))","v":1},{"$f":"Y26+MATCH(Y$25,OFFSET($X$27:$X$57,Y26,0),0)","v":1},{"$f":"IF(ISNUMBER(Y27),INDEX($U$27:$U$57,Y27),\"\")","v":8},{"$f":"IF(ISNUMBER(Z27),INDEX(tblIndicators!$AE$2:$AE$75,Z27),\"\")","v":"1.3) National strategy to adapt to climate change"},{"$f":"IF(ISNUMBER(Z27),ROUND(INDEX(aScores,Z27,$B$1),0),\"\")","v":100},{"$f":"IF(ISNUMBER(Z27),AB27-ROUND(INDEX(aNormalisedScores2012,Z27,$B$1),0),\"\")","v":{"$error":"#NAME?"}},{"$f":"AD26+MATCH(AD$25,OFFSET($X$27:$X$57,AD26,0),0)","v":13},{"$f":"IF(ISNUMBER(AD27),INDEX($U$27:$U$57,AD27),\"\")","v":58},{"$f":"IF(ISNUMBER(AE27),INDEX(tblIndicators!$AE$2:$AE$75,AE27),\"\")","v":"5.1) Prevalence of coastal protected areas"},{"$f":"IF(ISNUMBER(AE27),ROUND(INDEX(aScores,AE27,$B$1),0),\"\")","v":50},{"$f":"IF(ISNUMBER(AE27),AG27-ROUND(INDEX(aNormalisedScores2012,AE27,$B$1),0),\"\")","v":{"$error":"#NAME?"}},{"$f":"AI26+MATCH(AI$25,OFFSET($X$27:$X$57,AI26,0),0)","v":23},{"$f":"IF(ISNUMBER(AI27),INDEX($U$27:$U$57,AI27),\"\")","v":28},{"$f":"IF(ISNUMBER(AJ27),INDEX(tblIndicators!$AE$2:$AE$75,AJ27),\"\")","v":"2.4) Quality of coastal infrastructure"},{"$f":"IF(ISNUMBER(AJ27),ROUND(INDEX(aScores,AJ27,$B$1),0),\"\")","v":18},{"$f":"IF(ISNUMBER(AJ27),AL27-ROUND(INDEX(aNormalisedScores2012,AJ27,$B$1),0),\"\")","v":{"$error":"#NAME?"}},null,null,null,{"$f":"(ROUND(H27,0)-ROUND(N27,0))","v":-30},{"$f":"ABS(ROUND(H27,0)-ROUND(N27,0))","v":30},1,{"$f":"RANK(AR27,AR$27:AR$57)+COUNTIF(AR$27:AR27,AR27)-1","v":15},{"$f":"MATCH($R27,AT$27:AT$57,0)","v":3},{"$f":"INDEX($B$27:$B$57,AU27)","v":3},{"$f":"INDEX($D$27:$D$57,AU27)","v":2},{"$f":"INDEX(AQ$27:AQ$57,AU27)","v":-100},{"$f":"IF(AW27<2,0,IF(AX27>0,1,IF(AX27<0,2,3)))","v":2},{"$f":"AZ26+MATCH(AZ$25,OFFSET($AY$27:$AY$57,AZ26,0),0)","v":5},{"$f":"IF(ISNUMBER(AZ27),INDEX($AV$27:$AV$57,AZ27),\"\")","v":16},{"$f":"IF(ISNUMBER(BA27),INDEX(tblIndicators!$AE$2:$AE$75,BA27),\"\")","v":"1.6) Extractive industries transparency"},{"$f":"IF(ISNUMBER(BA27),INDEX(aScores,BA27,$B$1),\"\")","v":100},{"$f":"IF(ISNUMBER(BA27),INDEX(aScores,BA27,$B$2),\"\")","v":0},{"$f":"BE26+MATCH(BE$25,OFFSET($AY$27:$AY$57,BE26,0),0)","v":1},{"$f":"IF(ISNUMBER(BE27),INDEX($AV$27:$AV$57,BE27),\"\")","v":3},{"$f":"IF(ISNUMBER(BF27),INDEX(tblIndicators!$AE$2:$AE$75,BF27),\"\")","v":"1.1) Coastal management policy and strategy"},{"$f":"IF(ISNUMBER(BF27),INDEX(aScores,BF27,$B$1),\"\")","v":0},{"$f":"IF(ISNUMBER(BF27),INDEX(aScores,BF27,$B$2),\"\")","v":100},{"$f":"BJ26+MATCH(BJ$25,OFFSET($AY$27:$AY$57,BJ26,0),0)","v":26},{"$f":"IF(ISNUMBER(BJ27),INDEX($AV$27:$AV$57,BJ27),\"\")","v":8},{"$f":"IF(ISNUMBER(BK27),INDEX(tblIndicators!$AE$2:$AE$75,BK27),\"\")","v":"1.3) National strategy to adapt to climate change"},{"$f":"IF(ISNUMBER(BK27),INDEX(aScores,BK27,$B$1),\"\")","v":100},{"$f":"IF(ISNUMBER(BK27),INDEX(aScores,BK27,$B$2),\"\")","v":100}]
[{"$f":"tblIndiSets!A13","v":"PLCAP"},{"$f":"tblIndiSets!B13","v":2},{"$f":"tblIndiSets!C13","v":"1) POLICY AND INSTITUTIONAL CAPACITY"},{"$f":"tblIndiSets!D13","v":1},{"$f":"tblIndiSets!E13","v":100},42.857142857142854,"17",42.857142857142854,{"$error":"#NAME?"},"",85.714285714285694,{"$error":"#NAME?"},"=1",85.714285714285694,{"$f":"MMULT(OFFSET(aScores,$B28-1,0,1,$B$6),OFFSET(tblCountries!$Q$3,0,$B$3-1,$B$6,1))/$B$6","v":64.226190476190467},null,{"$f":"ROUND(F28,0)*(100/$E28)","v":43},2,{"$f":"RANK(Q28,Q$27:Q$57)+COUNTIF(Q$27:Q28,Q28)-1","v":19},{"$f":"MATCH($R28,S$27:S$57,0)","v":8},16,2,100,{"$f":"IF(V28<2,0,IF(W28>=67,1,IF(W28>=34,2,3)))","v":1},2,16,{"$f":"IF(ISNUMBER(Y28),INDEX(tblIndicators!$AE$2:$AE$75,Z28),\"\")","v":"1.6) Extractive industries transparency"},100,{"$error":"#NAME?"},14,60,{"$f":"IF(ISNUMBER(AE28),INDEX(tblIndicators!$AE$2:$AE$75,AE28),\"\")","v":"5.2) Environmental impact of coastal development"},50,{"$error":"#NAME?"},25,23,{"$f":"IF(ISNUMBER(AJ28),INDEX(tblIndicators!$AE$2:$AE$75,AJ28),\"\")","v":"2.2) Corruption perception"},9,{"$error":"#NAME?"},null,null,null,{"$f":"(ROUND(H28,0)-ROUND(N28,0))","v":-43},{"$f":"ABS(ROUND(H28,0)-ROUND(N28,0))","v":43},2,{"$f":"RANK(AR28,AR$27:AR$57)+COUNTIF(AR$27:AR28,AR28)-1","v":13},4,6,2,-100,{"$f":"IF(AW28<2,0,IF(AX28>0,1,IF(AX28<0,2,3)))","v":2},18,48,{"$f":"IF(ISNUMBER(AZ28),INDEX(tblIndicators!$AE$2:$AE$75,BA28),\"\")","v":"4.2) Monitoring and enforcement"},75,50,2,6,{"$f":"IF(ISNUMBER(BF28),INDEX(tblIndicators!$AE$2:$AE$75,BF28),\"\")","v":"1.2) Presence of established institution(s)"},0,100,27,18,{"$f":"IF(ISNUMBER(BK28),INDEX(tblIndicators!$AE$2:$AE$75,BK28),\"\")","v":"1.7) Adoption of the United Nations Convention on the Law of the Sea (UNCLOS)"},100,100]
[{"$f":"tblIndiSets!A14","v":"PLCAP_1"},{"$f":"tblIndiSets!B14","v":3},{"$f":"tblIndiSets!C14","v":"1.1) Coastal management policy and strategy"},{"$f":"tblIndiSets!D14","v":2},{"$f":"tblIndiSets!E14","v":100},0,"=18",0,{"$error":"#NAME?"},"",100,{"$error":"#NAME?"},"=1",100,{"$f":"MMULT(OFFSET(aScores,$B29-1,0,1,$B$6),OFFSET(tblCountries!$Q$3,0,$B$3-1,$B$6,1))/$B$6","v":75},null,0,3,{"$f":"RANK(Q29,Q$27:Q$57)+COUNTIF(Q$27:Q29,Q29)-1","v":26},9,18,2,100,1,3,18,{"$f":"IF(ISNUMBER(Y29),INDEX(tblIndicators!$AE$2:$AE$75,Z29),\"\")","v":"1.7) Adoption of the United Nations Convention on the Law of the Sea (UNCLOS)"},100,{"$error":"#NAME?"},15,70,{"$f":"IF(ISNUMBER(AE29),INDEX(tblIndicators!$AE$2:$AE$75,AE29),\"\")","v":"6.2) Protection for marine/coastal species"},50,{"$error":"#NAME?"},26,3,{"$f":"IF(ISNUMBER(AJ29),INDEX(tblIndicators!$AE$2:$AE$75,AJ29),\"\")","v":"1.1) Coastal management policy and strategy"},0,{"$error":"#NAME?"},null,null,null,-100,100,3,{"$f":"RANK(AR29,AR$27:AR$57)+COUNTIF(AR$27:AR29,AR29)-1","v":1},6,10,2,-100,2,24,53,{"$f":"IF(ISNUMBER(AZ29),INDEX(tblIndicators!$AE$2:$AE$75,BA29),\"\")","v":"4.3) Risk mitigation"},83.333333333333314,66.666666666666657,3,10,{"$f":"IF(ISNUMBER(BF29),INDEX(tblIndicators!$AE$2:$AE$75,BF29),\"\")","v":"1.4) Maritime Spatial Planning"},0,100,28,35,{"$f":"IF(ISNUMBER(BK29),INDEX(tblIndicators!$AE$2:$AE$75,BK29),\"\")","v":"3.1) Agency"},100,100]
[{"$f":"tblIndiSets!A15","v":"PLCAP_2"},{"$f":"tblIndiSets!B15","v":6},{"$f":"tblIndiSets!C15","v":"1.2) Presence of established institution(s)"},{"$f":"tblIndiSets!D15","v":2},{"$f":"tblIndiSets!E15","v":100},0,"=18",0,{"$error":"#NAME?"},"",100,{"$error":"#NAME?"},"=1",100,{"$f":"MMULT(OFFSET(aScores,$B30-1,0,1,$B$6),OFFSET(tblCountries!$Q$3,0,$B$3-1,$B$6,1))/$B$6","v":65},null,0,4,{"$f":"RANK(Q30,Q$27:Q$57)+COUNTIF(Q$27:Q30,Q30)-1","v":27},16,35,2,100,1,4,35,{"$f":"IF(ISNUMBER(Y30),INDEX(tblIndicators!$AE$2:$AE$75,Z30),\"\")","v":"3.1) Agency"},100,{"$error":"#NAME?"},16,37,{"$f":"IF(ISNUMBER(AE30),INDEX(tblIndicators!$AE$2:$AE$75,AE30),\"\")","v":"3.2) Regulatory standards for water pollution"},45,{"$error":"#NAME?"},27,6,{"$f":"IF(ISNUMBER(AJ30),INDEX(tblIndicators!$AE$2:$AE$75,AJ30),\"\")","v":"1.2) Presence of established institution(s)"},0,{"$error":"#NAME?"},null,null,null,-100,100,4,{"$f":"RANK(AR30,AR$27:AR$57)+COUNTIF(AR$27:AR30,AR30)-1","v":2},7,13,2,-100,2,{"$error":"#N/A"},"",{"$f":"IF(ISNUMBER(AZ30),INDEX(tblIndicators!$AE$2:$AE$75,BA30),\"\")","v":""},"","",4,13,{"$f":"IF(ISNUMBER(BF30),INDEX(tblIndicators!$AE$2:$AE$75,BF30),\"\")","v":"1.5) Stakeholder engagement"},0,100,29,45,{"$f":"IF(ISNUMBER(BK30),INDEX(tblIndicators!$AE$2:$AE$75,BK30),\"\")","v":"4.1) Permitting and licensing"},100,100]
[{"$f":"tblIndiSets!A16","v":"PLCAP_3"},{"$f":"tblIndiSets!B16","v":8},{"$f":"tblIndiSets!C16","v":"1.3) National strategy to adapt to climate change"},{"$f":"tblIndiSets!D16","v":2},{"$f":"tblIndiSets!E16","v":100},100,"=1",100,{"$error":"#NAME?"},"●",100,{"$error":"#NAME?"},"=1",100,{"$f":"MMULT(OFFSET(aScores,$B31-1,0,1,$B$6),OFFSET(tblCountries!$Q$3,0,$B$3-1,$B$6,1))/$B$6","v":72.5},null,100,5,{"$f":"RANK(Q31,Q$27:Q$57)+COUNTIF(Q$27:Q31,Q31)-1","v":1},20,45,2,100,1,5,45,{"$f":"IF(ISNUMBER(Y31),INDEX(tblIndicators!$AE$2:$AE$75,Z31),\"\")","v":"4.1) Permitting and licensing"},100,{"$error":"#NAME?"},17,63,{"$f":"IF(ISNUMBER(AE31),INDEX(tblIndicators!$AE$2:$AE$75,AE31),\"\")","v":"5.3) Government commitment to sustainability in coastal tourism development"},44,{"$error":"#NAME?"},28,10,{"$f":"IF(ISNUMBER(AJ31),INDEX(tblIndicators!$AE$2:$AE$75,AJ31),\"\")","v":"1.4) Maritime Spatial Planning"},0,{"$error":"#NAME?"},null,null,null,0,0,5,{"$f":"RANK(AR31,AR$27:AR$57)+COUNTIF(AR$27:AR31,AR31)-1","v":26},8,16,2,100,1,{"$error":"#N/A"},"",{"$f":"IF(ISNUMBER(AZ31),INDEX(tblIndicators!$AE$2:$AE$75,BA31),\"\")","v":""},"","",6,73,{"$f":"IF(ISNUMBER(BF31),INDEX(tblIndicators!$AE$2:$AE$75,BF31),\"\")","v":"6.3) Ballast water treatment"},0,100,30,60,{"$f":"IF(ISNUMBER(BK31),INDEX(tblIndicators!$AE$2:$AE$75,BK31),\"\")","v":"5.2) Environmental impact of coastal development"},50,50]
[{"$f":"tblIndiSets!A17","v":"PLCAP_4"},{"$f":"tblIndiSets!B17","v":10},{"$f":"tblIndiSets!C17","v":"1.4) Maritime Spatial Planning"},{"$f":"tblIndiSets!D17","v":2},{"$f":"tblIndiSets!E17","v":100},0,"=13",0,{"$error":"#NAME?"},"",100,{"$error":"#NAME?"},"=1",100,{"$f":"MMULT(OFFSET(aScores,$B32-1,0,1,$B$6),OFFSET(tblCountries!$Q$3,0,$B$3-1,$B$6,1))/$B$6","v":41.25},null,0,6,{"$f":"RANK(Q32,Q$27:Q$57)+COUNTIF(Q$27:Q32,Q32)-1","v":28},27,65,2,100,1,6,65,{"$f":"IF(ISNUMBER(Y32),INDEX(tblIndicators!$AE$2:$AE$75,Z32),\"\")","v":"5.4) Natural disaster risk mitigation"},100,{"$error":"#NAME?"},18,68,{"$f":"IF(ISNUMBER(AE32),INDEX(tblIndicators!$AE$2:$AE$75,AE32),\"\")","v":"6.1) Fisheries governance and management effectiveness"},44,{"$error":"#NAME?"},29,13,{"$f":"IF(ISNUMBER(AJ32),INDEX(tblIndicators!$AE$2:$AE$75,AJ32),\"\")","v":"1.5) Stakeholder engagement"},0,{"$error":"#NAME?"},null,null,null,-100,100,6,{"$f":"RANK(AR32,AR$27:AR$57)+COUNTIF(AR$27:AR32,AR32)-1","v":3},31,73,2,-100,2,{"$error":"#N/A"},"",{"$f":"IF(ISNUMBER(AZ32),INDEX(tblIndicators!$AE$2:$AE$75,BA32),\"\")","v":""},"","",7,25,{"$f":"IF(ISNUMBER(BF32),INDEX(tblIndicators!$AE$2:$AE$75,BF32),\"\")","v":"2.3) Effectiveness of dispute resolution mechanisms"},0,87.5,31,65,{"$f":"IF(ISNUMBER(BK32),INDEX(tblIndicators!$AE$2:$AE$75,BK32),\"\")","v":"5.4) Natural disaster risk mitigation"},100,100]
[{"$f":"tblIndiSets!A18","v":"PLCAP_5"},{"$f":"tblIndiSets!B18","v":13},{"$f":"tblIndiSets!C18","v":"1.5) Stakeholder engagement"},{"$f":"tblIndiSets!D18","v":2},{"$f":"tblIndiSets!E18","v":100},0,"=18",0,{"$error":"#NAME?"},"",100,{"$error":"#NAME?"},"=1",100,{"$f":"MMULT(OFFSET(aScores,$B33-1,0,1,$B$6),OFFSET(tblCountries!$Q$3,0,$B$3-1,$B$6,1))/$B$6","v":60},null,0,7,{"$f":"RANK(Q33,Q$27:Q$57)+COUNTIF(Q$27:Q33,Q33)-1","v":29},19,44,1,86,0,8,53,{"$f":"IF(ISNUMBER(Y33),INDEX(tblIndicators!$AE$2:$AE$75,Z33),\"\")","v":"4.3) Risk mitigation"},83,{"$error":"#NAME?"},20,41,{"$f":"IF(ISNUMBER(AE33),INDEX(tblIndicators!$AE$2:$AE$75,AE33),\"\")","v":"3.3) Monitoring and enforcement"},42,{"$error":"#NAME?"},30,25,{"$f":"IF(ISNUMBER(AJ33),INDEX(tblIndicators!$AE$2:$AE$75,AJ33),\"\")","v":"2.3) Effectiveness of dispute resolution mechanisms"},0,{"$error":"#NAME?"},null,null,null,-100,100,7,{"$f":"RANK(AR33,AR$27:AR$57)+COUNTIF(AR$27:AR33,AR33)-1","v":4},13,25,2,-88,2,{"$error":"#N/A"},"",{"$f":"IF(ISNUMBER(AZ33),INDEX(tblIndicators!$AE$2:$AE$75,BA33),\"\")","v":""},"","",8,28,{"$f":"IF(ISNUMBER(BF33),INDEX(tblIndicators!$AE$2:$AE$75,BF33),\"\")","v":"2.4) Quality of coastal infrastructure"},18.060514166666668,86.638301866666666,{"$error":"#N/A"},"",{"$f":"IF(ISNUMBER(BK33),INDEX(tblIndicators!$AE$2:$AE$75,BK33),\"\")","v":""},"",""]
[{"$f":"tblIndiSets!A19","v":"PLCAP_6"},{"$f":"tblIndiSets!B19","v":16},{"$f":"tblIndiSets!C19","v":"1.6) Extractive industries transparency"},{"$f":"tblIndiSets!D19","v":2},{"$f":"tblIndiSets!E19","v":100},100,"=1",100,{"$error":"#NAME?"},"●",0,{"$error":"#NAME?"},"=11",0,{"$f":"MMULT(OFFSET(aScores,$B34-1,0,1,$B$6),OFFSET(tblCountries!$Q$3,0,$B$3-1,$B$6,1))/$B$6","v":43.333333333333329},null,100,8,{"$f":"RANK(Q34,Q$27:Q$57)+COUNTIF(Q$27:Q34,Q34)-1","v":2},22,53,2,83,1,9,48,{"$f":"IF(ISNUMBER(Y34),INDEX(tblIndicators!$AE$2:$AE$75,Z34),\"\")","v":"4.2) Monitoring and enforcement"},75,{"$error":"#NAME?"},21,21,{"$f":"IF(ISNUMBER(AE34),INDEX(tblIndicators!$AE$2:$AE$75,AE34),\"\")","v":"2.1) Ease of doing business"},40,{"$error":"#NAME?"},31,73,{"$f":"IF(ISNUMBER(AJ34),INDEX(tblIndicators!$AE$2:$AE$75,AJ34),\"\")","v":"6.3) Ballast water treatment"},0,{"$error":"#NAME?"},null,null,null,100,100,8,{"$f":"RANK(AR34,AR$27:AR$57)+COUNTIF(AR$27:AR34,AR34)-1","v":5},14,28,2,-69,2,{"$error":"#N/A"},"",{"$f":"IF(ISNUMBER(AZ34),INDEX(tblIndicators!$AE$2:$AE$75,BA34),\"\")","v":""},"","",9,23,{"$f":"IF(ISNUMBER(BF34),INDEX(tblIndicators!$AE$2:$AE$75,BF34),\"\")","v":"2.2) Corruption perception"},9.0909099999999992,75.119609999999994,{"$error":"#N/A"},"",{"$f":"IF(ISNUMBER(BK34),INDEX(tblIndicators!$AE$2:$AE$75,BK34),\"\")","v":""},"",""]
[{"$f":"tblIndiSets!A20","v":"PLCAP_7"},{"$f":"tblIndiSets!B20","v":18},{"$f":"tblIndiSets!C20","v":"1.7) Adoption of the United Nations Convention on the Law of the Sea (UNCLOS)"},{"$f":"tblIndiSets!D20","v":2},{"$f":"tblIndiSets!E20","v":100},100,"=1",100,{"$error":"#NAME?"},"●",100,{"$error":"#NAME?"},"=1",100,{"$f":"MMULT(OFFSET(aScores,$B35-1,0,1,$B$6),OFFSET(tblCountries!$Q$3,0,$B$3-1,$B$6,1))/$B$6","v":92.5},null,100,9,{"$f":"RANK(Q35,Q$27:Q$57)+COUNTIF(Q$27:Q35,Q35)-1","v":3},21,48,2,75,1,{"$error":"#N/A"},"",{"$f":"IF(ISNUMBER(Y35),INDEX(tblIndicators!$AE$2:$AE$75,Z35),\"\")","v":""},"","",35,{"$error":"#REF!"},{"$f":"IF(ISNUMBER(AE35),INDEX(tblIndicators!$AE$2:$AE$75,AE35),\"\")","v":""},"","",{"$error":"#N/A"},"",{"$f":"IF(ISNUMBER(AJ35),INDEX(tblIndicators!$AE$2:$AE$75,AJ35),\"\")","v":""},"","",null,null,null,0,0,9,{"$f":"RANK(AR35,AR$27:AR$57)+COUNTIF(AR$27:AR35,AR35)-1","v":27},12,23,2,-66,2,{"$error":"#N/A"},"",{"$f":"IF(ISNUMBER(AZ35),INDEX(tblIndicators!$AE$2:$AE$75,BA35),\"\")","v":""},"","",12,58,{"$f":"IF(ISNUMBER(BF35),INDEX(tblIndicators!$AE$2:$AE$75,BF35),\"\")","v":"5.1) Prevalence of coastal protected areas"},50,100,{"$error":"#N/A"},"",{"$f":"IF(ISNUMBER(BK35),INDEX(tblIndicators!$AE$2:$AE$75,BK35),\"\")","v":""},"",""]
[{"$f":"tblIndiSets!A21","v":"BUSENV"},{"$f":"tblIndiSets!B21","v":20},{"$f":"tblIndiSets!C21","v":"2) BUSINESS ENVIRONMENT FOR COASTAL ACTIVITIES"},{"$f":"tblIndiSets!D21","v":1},{"$f":"tblIndiSets!E21","v":100},16.787856041666668,"20",16.787856041666668,{"$error":"#NAME?"},"",79.536700188888886,{"$error":"#NAME?"},"6",79.536700188888886,{"$f":"MMULT(OFFSET(aScores,$B36-1,0,1,$B$6),OFFSET(tblCountries!$Q$3,0,$B$3-1,$B$6,1))/$B$6","v":60.08176199902779},null,17,10,{"$f":"RANK(Q36,Q$27:Q$57)+COUNTIF(Q$27:Q36,Q36)-1","v":24},15,34,1,62,0,{"$error":"#N/A"},"",{"$f":"IF(ISNUMBER(Y36),INDEX(tblIndicators!$AE$2:$AE$75,Z36),\"\")","v":""},"","",{"$error":"#N/A"},"",{"$f":"IF(ISNUMBER(AE36),INDEX(tblIndicators!$AE$2:$AE$75,AE36),\"\")","v":""},"","",{"$error":"#N/A"},"",{"$f":"IF(ISNUMBER(AJ36),INDEX(tblIndicators!$AE$2:$AE$75,AJ36),\"\")","v":""},"","",null,null,null,-63,63,10,{"$f":"RANK(AR36,AR$27:AR$57)+COUNTIF(AR$27:AR36,AR36)-1","v":10},10,20,1,-63,0,{"$error":"#N/A"},"",{"$f":"IF(ISNUMBER(AZ36),INDEX(tblIndicators!$AE$2:$AE$75,BA36),\"\")","v":""},"","",14,37,{"$f":"IF(ISNUMBER(BF36),INDEX(tblIndicators!$AE$2:$AE$75,BF36),\"\")","v":"3.2) Regulatory standards for water pollution"},45.026666666666664,78.276666666666657,{"$error":"#N/A"},"",{"$f":"IF(ISNUMBER(BK36),INDEX(tblIndicators!$AE$2:$AE$75,BK36),\"\")","v":""},"",""]
[{"$f":"tblIndiSets!A22","v":"BUSENV_1"},{"$f":"tblIndiSets!B22","v":21},{"$f":"tblIndiSets!C22","v":"2.1) Ease of doing business"},{"$f":"tblIndiSets!D22","v":2},{"$f":"tblIndiSets!E22","v":100},40,"20",40,{"$error":"#NAME?"},"",68.888888888888886,{"$error":"#NAME?"},"=8",68.888888888888886,{"$f":"MMULT(OFFSET(aScores,$B37-1,0,1,$B$6),OFFSET(tblCountries!$Q$3,0,$B$3-1,$B$6,1))/$B$6","v":64.111111111111114},null,40,11,{"$f":"RANK(Q37,Q$27:Q$57)+COUNTIF(Q$27:Q37,Q37)-1","v":21},23,57,1,61,0,{"$error":"#N/A"},"",{"$f":"IF(ISNUMBER(Y37),INDEX(tblIndicators!$AE$2:$AE$75,Z37),\"\")","v":""},"","",{"$error":"#N/A"},"",{"$f":"IF(ISNUMBER(AE37),INDEX(tblIndicators!$AE$2:$AE$75,AE37),\"\")","v":""},"","",{"$error":"#N/A"},"",{"$f":"IF(ISNUMBER(AJ37),INDEX(tblIndicators!$AE$2:$AE$75,AJ37),\"\")","v":""},"","",null,null,null,-29,29,11,{"$f":"RANK(AR37,AR$27:AR$57)+COUNTIF(AR$27:AR37,AR37)-1","v":17},28,67,1,-52,0,{"$error":"#N/A"},"",{"$f":"IF(ISNUMBER(AZ37),INDEX(tblIndicators!$AE$2:$AE$75,BA37),\"\")","v":""},"","",16,68,{"$f":"IF(ISNUMBER(BF37),INDEX(tblIndicators!$AE$2:$AE$75,BF37),\"\")","v":"6.1) Fisheries governance and management effectiveness"},44.264457773755609,74.230478789071029,{"$error":"#N/A"},"",{"$f":"IF(ISNUMBER(BK37),INDEX(tblIndicators!$AE$2:$AE$75,BK37),\"\")","v":""},"",""]
[{"$f":"tblIndiSets!A23","v":"BUSENV_2"},{"$f":"tblIndiSets!B23","v":23},{"$f":"tblIndiSets!C23","v":"2.2) Corruption perception"},{"$f":"tblIndiSets!D23","v":2},{"$f":"tblIndiSets!E23","v":100},9.0909099999999992,"20",9.0909099999999992,{"$error":"#NAME?"},"",75.119609999999994,{"$error":"#NAME?"},"8",75.119609999999994,{"$f":"MMULT(OFFSET(aScores,$B38-1,0,1,$B$6),OFFSET(tblCountries!$Q$3,0,$B$3-1,$B$6,1))/$B$6","v":60.334928500000011},null,9,12,{"$f":"RANK(Q38,Q$27:Q$57)+COUNTIF(Q$27:Q38,Q38)-1","v":25},1,1,0,50,0,{"$error":"#N/A"},"",{"$f":"IF(ISNUMBER(Y38),INDEX(tblIndicators!$AE$2:$AE$75,Z38),\"\")","v":""},"","",{"$error":"#N/A"},"",{"$f":"IF(ISNUMBER(AE38),INDEX(tblIndicators!$AE$2:$AE$75,AE38),\"\")","v":""},"","",{"$error":"#N/A"},"",{"$f":"IF(ISNUMBER(AJ38),INDEX(tblIndicators!$AE$2:$AE$75,AJ38),\"\")","v":""},"","",null,null,null,-66,66,12,{"$f":"RANK(AR38,AR$27:AR$57)+COUNTIF(AR$27:AR38,AR38)-1","v":9},24,58,2,-50,2,{"$error":"#N/A"},"",{"$f":"IF(ISNUMBER(AZ38),INDEX(tblIndicators!$AE$2:$AE$75,BA38),\"\")","v":""},"","",17,21,{"$f":"IF(ISNUMBER(BF38),INDEX(tblIndicators!$AE$2:$AE$75,BF38),\"\")","v":"2.1) Ease of doing business"},40,68.888888888888886,{"$error":"#N/A"},"",{"$f":"IF(ISNUMBER(BK38),INDEX(tblIndicators!$AE$2:$AE$75,BK38),\"\")","v":""},"",""]
[{"$f":"tblIndiSets!A24","v":"BUSENV_3"},{"$f":"tblIndiSets!B24","v":25},{"$f":"tblIndiSets!C24","v":"2.3) Effectiveness of dispute resolution mechanisms"},{"$f":"tblIndiSets!D24","v":2},{"$f":"tblIndiSets!E24","v":100},0,"20",0,{"$error":"#NAME?"},"",87.5,{"$error":"#NAME?"},"=5",87.5,{"$f":"MMULT(OFFSET(aScores,$B39-1,0,1,$B$6),OFFSET(tblCountries!$Q$3,0,$B$3-1,$B$6,1))/$B$6","v":57.5},null,0,13,{"$f":"RANK(Q39,Q$27:Q$57)+COUNTIF(Q$27:Q39,Q39)-1","v":30},24,58,2,50,2,{"$error":"#N/A"},"",{"$f":"IF(ISNUMBER(Y39),INDEX(tblIndicators!$AE$2:$AE$75,Z39),\"\")","v":""},"","",{"$error":"#N/A"},"",{"$f":"IF(ISNUMBER(AE39),INDEX(tblIndicators!$AE$2:$AE$75,AE39),\"\")","v":""},"","",{"$error":"#N/A"},"",{"$f":"IF(ISNUMBER(AJ39),INDEX(tblIndicators!$AE$2:$AE$75,AJ39),\"\")","v":""},"","",null,null,null,-88,88,13,{"$f":"RANK(AR39,AR$27:AR$57)+COUNTIF(AR$27:AR39,AR39)-1","v":7},2,2,1,-43,0,{"$error":"#N/A"},"",{"$f":"IF(ISNUMBER(AZ39),INDEX(tblIndicators!$AE$2:$AE$75,BA39),\"\")","v":""},"","",19,70,{"$f":"IF(ISNUMBER(BF39),INDEX(tblIndicators!$AE$2:$AE$75,BF39),\"\")","v":"6.2) Protection for marine/coastal species"},50,75,{"$error":"#N/A"},"",{"$f":"IF(ISNUMBER(BK39),INDEX(tblIndicators!$AE$2:$AE$75,BK39),\"\")","v":""},"",""]
[{"$f":"tblIndiSets!A25","v":"BUSENV_4"},{"$f":"tblIndiSets!B25","v":28},{"$f":"tblIndiSets!C25","v":"2.4) Quality of coastal infrastructure"},{"$f":"tblIndiSets!D25","v":2},{"$f":"tblIndiSets!E25","v":100},18.060514166666668,"20",18.060514166666668,{"$error":"#NAME?"},"",86.638301866666666,{"$error":"#NAME?"},"=1",86.638301866666666,{"$f":"MMULT(OFFSET(aScores,$B40-1,0,1,$B$6),OFFSET(tblCountries!$Q$3,0,$B$3-1,$B$6,1))/$B$6","v":58.381008384999994},null,18,14,{"$f":"RANK(Q40,Q$27:Q$57)+COUNTIF(Q$27:Q40,Q40)-1","v":23},25,60,2,50,2,{"$error":"#N/A"},"",{"$f":"IF(ISNUMBER(Y40),INDEX(tblIndicators!$AE$2:$AE$75,Z40),\"\")","v":""},"","",{"$error":"#N/A"},"",{"$f":"IF(ISNUMBER(AE40),INDEX(tblIndicators!$AE$2:$AE$75,AE40),\"\")","v":""},"","",{"$error":"#N/A"},"",{"$f":"IF(ISNUMBER(AJ40),INDEX(tblIndicators!$AE$2:$AE$75,AJ40),\"\")","v":""},"","",null,null,null,-69,69,14,{"$f":"RANK(AR40,AR$27:AR$57)+COUNTIF(AR$27:AR40,AR40)-1","v":8},17,37,2,-33,2,{"$error":"#N/A"},"",{"$f":"IF(ISNUMBER(AZ40),INDEX(tblIndicators!$AE$2:$AE$75,BA40),\"\")","v":""},"","",20,63,{"$f":"IF(ISNUMBER(BF40),INDEX(tblIndicators!$AE$2:$AE$75,BF40),\"\")","v":"5.3) Government commitment to sustainability in coastal tourism development"},44.166666666666664,68,{"$error":"#N/A"},"",{"$f":"IF(ISNUMBER(BK40),INDEX(tblIndicators!$AE$2:$AE$75,BK40),\"\")","v":""},"",""]
[{"$f":"tblIndiSets!A26","v":"WATQUAL"},{"$f":"tblIndiSets!B26","v":34},{"$f":"tblIndiSets!C26","v":"3) WATER QUALITY"},{"$f":"tblIndiSets!D26","v":1},{"$f":"tblIndiSets!E26","v":100},62.231111111111105,"18",62.231111111111105,{"$error":"#NAME?"},"",78.86999999999999,{"$error":"#NAME?"},"6",78.86999999999999,{"$f":"MMULT(OFFSET(aScores,$B41-1,0,1,$B$6),OFFSET(tblCountries!$Q$3,0,$B$3-1,$B$6,1))/$B$6","v":73.86977777777777},null,62,15,{"$f":"RANK(Q41,Q$27:Q$57)+COUNTIF(Q$27:Q41,Q41)-1","v":10},30,70,2,50,2,{"$error":"#N/A"},"",{"$f":"IF(ISNUMBER(Y41),INDEX(tblIndicators!$AE$2:$AE$75,Z41),\"\")","v":""},"","",{"$error":"#N/A"},"",{"$f":"IF(ISNUMBER(AE41),INDEX(tblIndicators!$AE$2:$AE$75,AE41),\"\")","v":""},"","",{"$error":"#N/A"},"",{"$f":"IF(ISNUMBER(AJ41),INDEX(tblIndicators!$AE$2:$AE$75,AJ41),\"\")","v":""},"","",null,null,null,-17,17,15,{"$f":"RANK(AR41,AR$27:AR$57)+COUNTIF(AR$27:AR41,AR41)-1","v":22},1,1,0,-30,0,{"$error":"#N/A"},"",{"$f":"IF(ISNUMBER(AZ41),INDEX(tblIndicators!$AE$2:$AE$75,BA41),\"\")","v":""},"","",23,41,{"$f":"IF(ISNUMBER(BF41),INDEX(tblIndicators!$AE$2:$AE$75,BF41),\"\")","v":"3.3) Monitoring and enforcement"},41.666666666666664,58.333333333333329,{"$error":"#N/A"},"",{"$f":"IF(ISNUMBER(BK41),INDEX(tblIndicators!$AE$2:$AE$75,BK41),\"\")","v":""},"",""]
[{"$f":"tblIndiSets!A27","v":"WATQUAL_1"},{"$f":"tblIndiSets!B27","v":35},{"$f":"tblIndiSets!C27","v":"3.1) Agency"},{"$f":"tblIndiSets!D27","v":2},{"$f":"tblIndiSets!E27","v":100},100,"=1",100,{"$error":"#NAME?"},"●",100,{"$error":"#NAME?"},"=1",100,{"$f":"MMULT(OFFSET(aScores,$B42-1,0,1,$B$6),OFFSET(tblCountries!$Q$3,0,$B$3-1,$B$6,1))/$B$6","v":97.5},null,100,16,{"$f":"RANK(Q42,Q$27:Q$57)+COUNTIF(Q$27:Q42,Q42)-1","v":4},17,37,2,45,2,{"$error":"#N/A"},"",{"$f":"IF(ISNUMBER(Y42),INDEX(tblIndicators!$AE$2:$AE$75,Z42),\"\")","v":""},"","",{"$error":"#N/A"},"",{"$f":"IF(ISNUMBER(AE42),INDEX(tblIndicators!$AE$2:$AE$75,AE42),\"\")","v":""},"","",{"$error":"#N/A"},"",{"$f":"IF(ISNUMBER(AJ42),INDEX(tblIndicators!$AE$2:$AE$75,AJ42),\"\")","v":""},"","",null,null,null,0,0,16,{"$f":"RANK(AR42,AR$27:AR$57)+COUNTIF(AR$27:AR42,AR42)-1","v":28},29,68,2,-30,2,{"$error":"#N/A"},"",{"$f":"IF(ISNUMBER(AZ42),INDEX(tblIndicators!$AE$2:$AE$75,BA42),\"\")","v":""},"","",{"$error":"#N/A"},"",{"$f":"IF(ISNUMBER(BF42),INDEX(tblIndicators!$AE$2:$AE$75,BF42),\"\")","v":""},"","",{"$error":"#N/A"},"",{"$f":"IF(ISNUMBER(BK42),INDEX(tblIndicators!$AE$2:$AE$75,BK42),\"\")","v":""},"",""]
[{"$f":"tblIndiSets!A28","v":"WATQUAL_2"},{"$f":"tblIndiSets!B28","v":37},{"$f":"tblIndiSets!C28","v":"3.2) Regulatory standards for water pollution"},{"$f":"tblIndiSets!D28","v":2},{"$f":"tblIndiSets!E28","v":100},45.026666666666664,"=16",45.026666666666664,{"$error":"#NAME?"},"",78.276666666666657,{"$error":"#NAME?"},"1",78.276666666666657,{"$f":"MMULT(OFFSET(aScores,$B43-1,0,1,$B$6),OFFSET(tblCountries!$Q$3,0,$B$3-1,$B$6,1))/$B$6","v":58.275999999999989},null,45,17,{"$f":"RANK(Q43,Q$27:Q$57)+COUNTIF(Q$27:Q43,Q43)-1","v":16},26,63,2,44,2,{"$error":"#N/A"},"",{"$f":"IF(ISNUMBER(Y43),INDEX(tblIndicators!$AE$2:$AE$75,Z43),\"\")","v":""},"","",{"$error":"#N/A"},"",{"$f":"IF(ISNUMBER(AE43),INDEX(tblIndicators!$AE$2:$AE$75,AE43),\"\")","v":""},"","",{"$error":"#N/A"},"",{"$f":"IF(ISNUMBER(AJ43),INDEX(tblIndicators!$AE$2:$AE$75,AJ43),\"\")","v":""},"","",null,null,null,-33,33,17,{"$f":"RANK(AR43,AR$27:AR$57)+COUNTIF(AR$27:AR43,AR43)-1","v":14},11,21,2,-29,2,{"$error":"#N/A"},"",{"$f":"IF(ISNUMBER(AZ43),INDEX(tblIndicators!$AE$2:$AE$75,BA43),\"\")","v":""},"","",{"$error":"#N/A"},"",{"$f":"IF(ISNUMBER(BF43),INDEX(tblIndicators!$AE$2:$AE$75,BF43),\"\")","v":""},"","",{"$error":"#N/A"},"",{"$f":"IF(ISNUMBER(BK43),INDEX(tblIndicators!$AE$2:$AE$75,BK43),\"\")","v":""},"",""]
[{"$f":"tblIndiSets!A29","v":"WATQUAL_3"},{"$f":"tblIndiSets!B29","v":41},{"$f":"tblIndiSets!C29","v":"3.3) Monitoring and enforcement"},{"$f":"tblIndiSets!D29","v":2},{"$f":"tblIndiSets!E29","v":100},41.666666666666664,"=18",41.666666666666664,{"$error":"#NAME?"},"",58.333333333333329,{"$error":"#NAME?"},"=13",58.333333333333329,{"$f":"MMULT(OFFSET(aScores,$B44-1,0,1,$B$6),OFFSET(tblCountries!$Q$3,0,$B$3-1,$B$6,1))/$B$6","v":65.833333333333314},null,42,18,{"$f":"RANK(Q44,Q$27:Q$57)+COUNTIF(Q$27:Q44,Q44)-1","v":20},29,68,2,44,2,{"$error":"#N/A"},"",{"$f":"IF(ISNUMBER(Y44),INDEX(tblIndicators!$AE$2:$AE$75,Z44),\"\")","v":""},"","",{"$error":"#N/A"},"",{"$f":"IF(ISNUMBER(AE44),INDEX(tblIndicators!$AE$2:$AE$75,AE44),\"\")","v":""},"","",{"$error":"#N/A"},"",{"$f":"IF(ISNUMBER(AJ44),INDEX(tblIndicators!$AE$2:$AE$75,AJ44),\"\")","v":""},"","",null,null,null,-16,16,18,{"$f":"RANK(AR44,AR$27:AR$57)+COUNTIF(AR$27:AR44,AR44)-1","v":23},21,48,2,25,1,{"$error":"#N/A"},"",{"$f":"IF(ISNUMBER(AZ44),INDEX(tblIndicators!$AE$2:$AE$75,BA44),\"\")","v":""},"","",{"$error":"#N/A"},"",{"$f":"IF(ISNUMBER(BF44),INDEX(tblIndicators!$AE$2:$AE$75,BF44),\"\")","v":""},"","",{"$error":"#N/A"},"",{"$f":"IF(ISNUMBER(BK44),INDEX(tblIndicators!$AE$2:$AE$75,BK44),\"\")","v":""},"",""]
[{"$f":"tblIndiSets!A30","v":"MINENG"},{"$f":"tblIndiSets!B30","v":44},{"$f":"tblIndiSets!C30","v":"4) MINERALS AND ENERGY"},{"$f":"tblIndiSets!D30","v":1},{"$f":"tblIndiSets!E30","v":100},86.1111111111111,"=3",86.1111111111111,{"$error":"#NAME?"},"●",72.222222222222214,{"$error":"#NAME?"},"13",72.222222222222214,{"$f":"MMULT(OFFSET(aScores,$B45-1,0,1,$B$6),OFFSET(tblCountries!$Q$3,0,$B$3-1,$B$6,1))/$B$6","v":75.208333333333314},null,86,19,{"$f":"RANK(Q45,Q$27:Q$57)+COUNTIF(Q$27:Q45,Q45)-1","v":7},2,2,1,43,0,{"$error":"#N/A"},"",{"$f":"IF(ISNUMBER(Y45),INDEX(tblIndicators!$AE$2:$AE$75,Z45),\"\")","v":""},"","",{"$error":"#N/A"},"",{"$f":"IF(ISNUMBER(AE45),INDEX(tblIndicators!$AE$2:$AE$75,AE45),\"\")","v":""},"","",{"$error":"#N/A"},"",{"$f":"IF(ISNUMBER(AJ45),INDEX(tblIndicators!$AE$2:$AE$75,AJ45),\"\")","v":""},"","",null,null,null,14,14,19,{"$f":"RANK(AR45,AR$27:AR$57)+COUNTIF(AR$27:AR45,AR45)-1","v":25},30,70,2,-25,2,{"$error":"#N/A"},"",{"$f":"IF(ISNUMBER(AZ45),INDEX(tblIndicators!$AE$2:$AE$75,BA45),\"\")","v":""},"","",{"$error":"#N/A"},"",{"$f":"IF(ISNUMBER(BF45),INDEX(tblIndicators!$AE$2:$AE$75,BF45),\"\")","v":""},"","",{"$error":"#N/A"},"",{"$f":"IF(ISNUMBER(BK45),INDEX(tblIndicators!$AE$2:$AE$75,BK45),\"\")","v":""},"",""]
[{"$f":"tblIndiSets!A31","v":"MINENG_1"},{"$f":"tblIndiSets!B31","v":45},{"$f":"tblIndiSets!C31","v":"4.1) Permitting and licensing"},{"$f":"tblIndiSets!D31","v":2},{"$f":"tblIndiSets!E31","v":100},100,"=1",100,{"$error":"#NAME?"},"●",100,{"$error":"#NAME?"},"=1",100,{"$f":"MMULT(OFFSET(aScores,$B46-1,0,1,$B$6),OFFSET(tblCountries!$Q$3,0,$B$3-1,$B$6,1))/$B$6","v":90},null,100,20,{"$f":"RANK(Q46,Q$27:Q$57)+COUNTIF(Q$27:Q46,Q46)-1","v":5},18,41,2,42,2,{"$error":"#N/A"},"",{"$f":"IF(ISNUMBER(Y46),INDEX(tblIndicators!$AE$2:$AE$75,Z46),\"\")","v":""},"","",{"$error":"#N/A"},"",{"$f":"IF(ISNUMBER(AE46),INDEX(tblIndicators!$AE$2:$AE$75,AE46),\"\")","v":""},"","",{"$error":"#N/A"},"",{"$f":"IF(ISNUMBER(AJ46),INDEX(tblIndicators!$AE$2:$AE$75,AJ46),\"\")","v":""},"","",null,null,null,0,0,20,{"$f":"RANK(AR46,AR$27:AR$57)+COUNTIF(AR$27:AR46,AR46)-1","v":29},26,63,2,-24,2,{"$error":"#N/A"},"",{"$f":"IF(ISNUMBER(AZ46),INDEX(tblIndicators!$AE$2:$AE$75,BA46),\"\")","v":""},"","",{"$error":"#N/A"},"",{"$f":"IF(ISNUMBER(BF46),INDEX(tblIndicators!$AE$2:$AE$75,BF46),\"\")","v":""},"","",{"$error":"#N/A"},"",{"$f":"IF(ISNUMBER(BK46),INDEX(tblIndicators!$AE$2:$AE$75,BK46),\"\")","v":""},"",""]
[{"$f":"tblIndiSets!A32","v":"MINENG_2"},{"$f":"tblIndiSets!B32","v":48},{"$f":"tblIndiSets!C32","v":"4.2) Monitoring and enforcement"},{"$f":"tblIndiSets!D32","v":2},{"$f":"tblIndiSets!E32","v":100},75,"=1",75,{"$f":"ROUND(H47,0)-ROUND(INDEX(aNormalisedScores2012,$B47,$B$1),0)","v":{"$error":"#NAME?"}},{"$f":"IF(H47>O47,$B$7,\"\")","v":"●"},50,{"$error":"#NAME?"},"=16",50,{"$f":"MMULT(OFFSET(aScores,$B47-1,0,1,$B$6),OFFSET(tblCountries!$Q$3,0,$B$3-1,$B$6,1))/$B$6","v":63.125},null,75,21,{"$f":"RANK(Q47,Q$27:Q$57)+COUNTIF(Q$27:Q47,Q47)-1","v":9},11,21,2,40,{"$f":"IF(V47<2,0,IF(W47>=67,1,IF(W47>=34,2,3)))","v":2},{"$error":"#N/A"},"",{"$f":"IF(ISNUMBER(Y47),INDEX(tblIndicators!$AE$2:$AE$75,Z47),\"\")","v":""},"",{"$f":"IF(ISNUMBER(Z47),AB47-ROUND(INDEX(aNormalisedScores2012,Z47,$B$1),0),\"\")","v":""},{"$error":"#N/A"},"",{"$f":"IF(ISNUMBER(AE47),INDEX(tblIndicators!$AE$2:$AE$75,AE47),\"\")","v":""},"",{"$f":"IF(ISNUMBER(AE47),AG47-ROUND(INDEX(aNormalisedScores2012,AE47,$B$1),0),\"\")","v":""},{"$error":"#N/A"},"",{"$f":"IF(ISNUMBER(AJ47),INDEX(tblIndicators!$AE$2:$AE$75,AJ47),\"\")","v":""},"",{"$f":"IF(ISNUMBER(AJ47),AL47-ROUND(INDEX(aNormalisedScores2012,AJ47,$B$1),0),\"\")","v":""},null,null,null,{"$f":"(ROUND(H47,0)-ROUND(N47,0))","v":25},{"$f":"ABS(ROUND(H47,0)-ROUND(N47,0))","v":25},20,{"$f":"RANK(AR47,AR$27:AR$57)+COUNTIF(AR$27:AR47,AR47)-1","v":18},23,57,1,-19,{"$f":"IF(AW47<2,0,IF(AX47>0,1,IF(AX47<0,2,3)))","v":0},{"$error":"#N/A"},"",{"$f":"IF(ISNUMBER(AZ47),INDEX(tblIndicators!$AE$2:$AE$75,BA47),\"\")","v":""},"","",{"$error":"#N/A"},"",{"$f":"IF(ISNUMBER(BF47),INDEX(tblIndicators!$AE$2:$AE$75,BF47),\"\")","v":""},"","",{"$error":"#N/A"},"",{"$f":"IF(ISNUMBER(BK47),INDEX(tblIndicators!$AE$2:$AE$75,BK47),\"\")","v":""},"",""]
[{"$f":"tblIndiSets!A33","v":"MINENG_3"},{"$f":"tblIndiSets!B33","v":53},{"$f":"tblIndiSets!C33","v":"4.3) Risk mitigation"},{"$f":"tblIndiSets!D33","v":2},{"$f":"tblIndiSets!E33","v":100},83.333333333333314,"=4",83.333333333333314,{"$error":"#NAME?"},"●",66.666666666666657,{"$error":"#NAME?"},"=11",66.666666666666657,{"$f":"MMULT(OFFSET(aScores,$B48-1,0,1,$B$6),OFFSET(tblCountries!$Q$3,0,$B$3-1,$B$6,1))/$B$6","v":72.499999999999986},null,83,22,{"$f":"RANK(Q48,Q$27:Q$57)+COUNTIF(Q$27:Q48,Q48)-1","v":8},28,67,1,31,0,{"$error":"#N/A"},"",{"$f":"IF(ISNUMBER(Y48),INDEX(tblIndicators!$AE$2:$AE$75,Z48),\"\")","v":""},"","",{"$error":"#N/A"},"",{"$f":"IF(ISNUMBER(AE48),INDEX(tblIndicators!$AE$2:$AE$75,AE48),\"\")","v":""},"","",{"$error":"#N/A"},"",{"$f":"IF(ISNUMBER(AJ48),INDEX(tblIndicators!$AE$2:$AE$75,AJ48),\"\")","v":""},"","",null,null,null,16,16,20,{"$f":"RANK(AR48,AR$27:AR$57)+COUNTIF(AR$27:AR48,AR48)-1","v":24},15,34,1,-17,0,{"$error":"#N/A"},"",{"$f":"IF(ISNUMBER(AZ48),INDEX(tblIndicators!$AE$2:$AE$75,BA48),\"\")","v":""},"","",{"$error":"#N/A"},"",{"$f":"IF(ISNUMBER(BF48),INDEX(tblIndicators!$AE$2:$AE$75,BF48),\"\")","v":""},"","",{"$error":"#N/A"},"",{"$f":"IF(ISNUMBER(BK48),INDEX(tblIndicators!$AE$2:$AE$75,BK48),\"\")","v":""},"",""]
[{"$f":"tblIndiSets!A34","v":"LAND"},{"$f":"tblIndiSets!B34","v":57},{"$f":"tblIndiSets!C34","v":"5) LAND"},{"$f":"tblIndiSets!D34","v":1},{"$f":"tblIndiSets!E34","v":100},61.041666666666664,"16",61.041666666666664,{"$error":"#NAME?"},"",79.5,{"$error":"#NAME?"},"3",79.5,{"$f":"MMULT(OFFSET(aScores,$B49-1,0,1,$B$6),OFFSET(tblCountries!$Q$3,0,$B$3-1,$B$6,1))/$B$6","v":67.731250000000017},null,61,23,{"$f":"RANK(Q49,Q$27:Q$57)+COUNTIF(Q$27:Q49,Q49)-1","v":11},14,28,2,18,3,{"$error":"#N/A"},"",{"$f":"IF(ISNUMBER(Y49),INDEX(tblIndicators!$AE$2:$AE$75,Z49),\"\")","v":""},"","",{"$error":"#N/A"},"",{"$f":"IF(ISNUMBER(AE49),INDEX(tblIndicators!$AE$2:$AE$75,AE49),\"\")","v":""},"","",{"$error":"#N/A"},"",{"$f":"IF(ISNUMBER(AJ49),INDEX(tblIndicators!$AE$2:$AE$75,AJ49),\"\")","v":""},"","",null,null,null,-19,19,20,{"$f":"RANK(AR49,AR$27:AR$57)+COUNTIF(AR$27:AR49,AR49)-1","v":21},18,41,2,-16,2,{"$error":"#N/A"},"",{"$f":"IF(ISNUMBER(AZ49),INDEX(tblIndicators!$AE$2:$AE$75,BA49),\"\")","v":""},"","",{"$error":"#N/A"},"",{"$f":"IF(ISNUMBER(BF49),INDEX(tblIndicators!$AE$2:$AE$75,BF49),\"\")","v":""},"","",{"$error":"#N/A"},"",{"$f":"IF(ISNUMBER(BK49),INDEX(tblIndicators!$AE$2:$AE$75,BK49),\"\")","v":""},"",""]
[{"$f":"tblIndiSets!A35","v":"LAND_1"},{"$f":"tblIndiSets!B35","v":58},{"$f":"tblIndiSets!C35","v":"5.1) Prevalence of coastal protected areas"},{"$f":"tblIndiSets!D35","v":2},{"$f":"tblIndiSets!E35","v":100},50,"=7",50,{"$error":"#NAME?"},"",100,{"$error":"#NAME?"},"=1",100,{"$f":"MMULT(OFFSET(aScores,$B50-1,0,1,$B$6),OFFSET(tblCountries!$Q$3,0,$B$3-1,$B$6,1))/$B$6","v":52.5},null,50,24,{"$f":"RANK(Q50,Q$27:Q$57)+COUNTIF(Q$27:Q50,Q50)-1","v":13},10,20,1,17,0,{"$error":"#N/A"},"",{"$f":"IF(ISNUMBER(Y50),INDEX(tblIndicators!$AE$2:$AE$75,Z50),\"\")","v":""},"","",{"$error":"#N/A"},"",{"$f":"IF(ISNUMBER(AE50),INDEX(tblIndicators!$AE$2:$AE$75,AE50),\"\")","v":""},"","",{"$error":"#N/A"},"",{"$f":"IF(ISNUMBER(AJ50),INDEX(tblIndicators!$AE$2:$AE$75,AJ50),\"\")","v":""},"","",null,null,null,-50,50,20,{"$f":"RANK(AR50,AR$27:AR$57)+COUNTIF(AR$27:AR50,AR50)-1","v":12},22,53,2,16,1,{"$error":"#N/A"},"",{"$f":"IF(ISNUMBER(AZ50),INDEX(tblIndicators!$AE$2:$AE$75,BA50),\"\")","v":""},"","",{"$error":"#N/A"},"",{"$f":"IF(ISNUMBER(BF50),INDEX(tblIndicators!$AE$2:$AE$75,BF50),\"\")","v":""},"","",{"$error":"#N/A"},"",{"$f":"IF(ISNUMBER(BK50),INDEX(tblIndicators!$AE$2:$AE$75,BK50),\"\")","v":""},"",""]
[{"$f":"tblIndiSets!A36","v":"LAND_2"},{"$f":"tblIndiSets!B36","v":60},{"$f":"tblIndiSets!C36","v":"5.2) Environmental impact of coastal development"},{"$f":"tblIndiSets!D36","v":2},{"$f":"tblIndiSets!E36","v":100},50,"=16",50,{"$error":"#NAME?"},"",50,{"$error":"#NAME?"},"=16",50,{"$f":"MMULT(OFFSET(aScores,$B51-1,0,1,$B$6),OFFSET(tblCountries!$Q$3,0,$B$3-1,$B$6,1))/$B$6","v":85},null,50,25,{"$f":"RANK(Q51,Q$27:Q$57)+COUNTIF(Q$27:Q51,Q51)-1","v":14},12,23,2,9,3,{"$error":"#N/A"},"",{"$f":"IF(ISNUMBER(Y51),INDEX(tblIndicators!$AE$2:$AE$75,Z51),\"\")","v":""},"","",{"$error":"#N/A"},"",{"$f":"IF(ISNUMBER(AE51),INDEX(tblIndicators!$AE$2:$AE$75,AE51),\"\")","v":""},"","",{"$error":"#N/A"},"",{"$f":"IF(ISNUMBER(AJ51),INDEX(tblIndicators!$AE$2:$AE$75,AJ51),\"\")","v":""},"","",null,null,null,0,0,20,{"$f":"RANK(AR51,AR$27:AR$57)+COUNTIF(AR$27:AR51,AR51)-1","v":30},19,44,1,14,0,{"$error":"#N/A"},"",{"$f":"IF(ISNUMBER(AZ51),INDEX(tblIndicators!$AE$2:$AE$75,BA51),\"\")","v":""},"","",{"$error":"#N/A"},"",{"$f":"IF(ISNUMBER(BF51),INDEX(tblIndicators!$AE$2:$AE$75,BF51),\"\")","v":""},"","",{"$error":"#N/A"},"",{"$f":"IF(ISNUMBER(BK51),INDEX(tblIndicators!$AE$2:$AE$75,BK51),\"\")","v":""},"",""]
[{"$f":"tblIndiSets!A37","v":"LAND_3"},{"$f":"tblIndiSets!B37","v":63},{"$f":"tblIndiSets!C37","v":"5.3) Government commitment to sustainability in coastal tourism development"},{"$f":"tblIndiSets!D37","v":2},{"$f":"tblIndiSets!E37","v":100},44.166666666666664,"19",44.166666666666664,{"$error":"#NAME?"},"",68,{"$error":"#NAME?"},"2",68,{"$f":"MMULT(OFFSET(aScores,$B52-1,0,1,$B$6),OFFSET(tblCountries!$Q$3,0,$B$3-1,$B$6,1))/$B$6","v":58.424999999999997},null,44,26,{"$f":"RANK(Q52,Q$27:Q$57)+COUNTIF(Q$27:Q52,Q52)-1","v":17},3,3,2,0,3,{"$error":"#N/A"},"",{"$f":"IF(ISNUMBER(Y52),INDEX(tblIndicators!$AE$2:$AE$75,Z52),\"\")","v":""},"","",{"$error":"#N/A"},"",{"$f":"IF(ISNUMBER(AE52),INDEX(tblIndicators!$AE$2:$AE$75,AE52),\"\")","v":""},"","",{"$error":"#N/A"},"",{"$f":"IF(ISNUMBER(AJ52),INDEX(tblIndicators!$AE$2:$AE$75,AJ52),\"\")","v":""},"","",null,null,null,-24,24,20,{"$f":"RANK(AR52,AR$27:AR$57)+COUNTIF(AR$27:AR52,AR52)-1","v":20},5,8,2,0,3,{"$error":"#N/A"},"",{"$f":"IF(ISNUMBER(AZ52),INDEX(tblIndicators!$AE$2:$AE$75,BA52),\"\")","v":""},"","",{"$error":"#N/A"},"",{"$f":"IF(ISNUMBER(BF52),INDEX(tblIndicators!$AE$2:$AE$75,BF52),\"\")","v":""},"","",{"$error":"#N/A"},"",{"$f":"IF(ISNUMBER(BK52),INDEX(tblIndicators!$AE$2:$AE$75,BK52),\"\")","v":""},"",""]
[{"$f":"tblIndiSets!A38","v":"LAND_4"},{"$f":"tblIndiSets!B38","v":65},{"$f":"tblIndiSets!C38","v":"5.4) Natural disaster risk mitigation"},{"$f":"tblIndiSets!D38","v":2},{"$f":"tblIndiSets!E38","v":100},100,"=1",100,{"$error":"#NAME?"},"●",100,{"$error":"#NAME?"},"=1",100,{"$f":"MMULT(OFFSET(aScores,$B53-1,0,1,$B$6),OFFSET(tblCountries!$Q$3,0,$B$3-1,$B$6,1))/$B$6","v":75},null,100,27,{"$f":"RANK(Q53,Q$27:Q$57)+COUNTIF(Q$27:Q53,Q53)-1","v":6},4,6,2,0,3,{"$error":"#N/A"},"",{"$f":"IF(ISNUMBER(Y53),INDEX(tblIndicators!$AE$2:$AE$75,Z53),\"\")","v":""},"","",{"$error":"#N/A"},"",{"$f":"IF(ISNUMBER(AE53),INDEX(tblIndicators!$AE$2:$AE$75,AE53),\"\")","v":""},"","",{"$error":"#N/A"},"",{"$f":"IF(ISNUMBER(AJ53),INDEX(tblIndicators!$AE$2:$AE$75,AJ53),\"\")","v":""},"","",null,null,null,0,0,20,{"$f":"RANK(AR53,AR$27:AR$57)+COUNTIF(AR$27:AR53,AR53)-1","v":31},9,18,2,0,3,{"$error":"#N/A"},"",{"$f":"IF(ISNUMBER(AZ53),INDEX(tblIndicators!$AE$2:$AE$75,BA53),\"\")","v":""},"","",{"$error":"#N/A"},"",{"$f":"IF(ISNUMBER(BF53),INDEX(tblIndicators!$AE$2:$AE$75,BF53),\"\")","v":""},"","",{"$error":"#N/A"},"",{"$f":"IF(ISNUMBER(BK53),INDEX(tblIndicators!$AE$2:$AE$75,BK53),\"\")","v":""},"",""]
[{"$f":"tblIndiSets!A39","v":"LIVRES"},{"$f":"tblIndiSets!B39","v":67},{"$f":"tblIndiSets!C39","v":"6) LIVING RESOURCES"},{"$f":"tblIndiSets!D39","v":1},{"$f":"tblIndiSets!E39","v":100},31.421485924585198,"=17",31.421485924585198,{"$error":"#NAME?"},"",83.076826263023662,{"$error":"#NAME?"},"4",83.076826263023662,{"$f":"MMULT(OFFSET(aScores,$B54-1,0,1,$B$6),OFFSET(tblCountries!$Q$3,0,$B$3-1,$B$6,1))/$B$6","v":60.165968731407041},null,31,28,{"$f":"RANK(Q54,Q$27:Q$57)+COUNTIF(Q$27:Q54,Q54)-1","v":22},6,10,2,0,3,{"$f":"#REF!+MATCH(Y$25,OFFSET($X$27:$X$57,#REF!,0),0)","v":{"$error":"#REF!"}},"",{"$f":"IF(ISNUMBER(Y54),INDEX(tblIndicators!$AE$2:$AE$75,Z54),\"\")","v":""},"","",{"$f":"#REF!+MATCH(AD$25,OFFSET($X$27:$X$57,#REF!,0),0)","v":{"$error":"#REF!"}},"",{"$f":"IF(ISNUMBER(AE54),INDEX(tblIndicators!$AE$2:$AE$75,AE54),\"\")","v":""},"","",{"$f":"#REF!+MATCH(AI$25,OFFSET($X$27:$X$57,#REF!,0),0)","v":{"$error":"#REF!"}},"",{"$f":"IF(ISNUMBER(AJ54),INDEX(tblIndicators!$AE$2:$AE$75,AJ54),\"\")","v":""},"","",null,null,null,-52,52,20,{"$f":"RANK(AR54,AR$27:AR$57)+COUNTIF(AR$27:AR54,AR54)-1","v":11},16,35,2,0,3,{"$f":"#REF!+MATCH(AZ$25,OFFSET($AY$27:$AY$57,#REF!,0),0)","v":{"$error":"#REF!"}},"",{"$f":"IF(ISNUMBER(AZ54),INDEX(tblIndicators!$AE$2:$AE$75,BA54),\"\")","v":""},"","",{"$f":"#REF!+MATCH(BE$25,OFFSET($AY$27:$AY$57,#REF!,0),0)","v":{"$error":"#REF!"}},"",{"$f":"IF(ISNUMBER(BF54),INDEX(tblIndicators!$AE$2:$AE$75,BF54),\"\")","v":""},"","",{"$f":"#REF!+MATCH(BJ$25,OFFSET($AY$27:$AY$57,#REF!,0),0)","v":{"$error":"#REF!"}},"",{"$f":"IF(ISNUMBER(BK54),INDEX(tblIndicators!$AE$2:$AE$75,BK54),\"\")","v":""},"",""]
[{"$f":"tblIndiSets!A40","v":"LIVRES_1"},{"$f":"tblIndiSets!B40","v":68},{"$f":"tblIndiSets!C40","v":"6.1) Fisheries governance and management effectiveness"},{"$f":"tblIndiSets!D40","v":2},{"$f":"tblIndiSets!E40","v":100},44.264457773755609,"=15",44.264457773755609,{"$error":"#NAME?"},"",74.230478789071029,{"$error":"#NAME?"},"=7",74.230478789071029,{"$f":"MMULT(OFFSET(aScores,$B55-1,0,1,$B$6),OFFSET(tblCountries!$Q$3,0,$B$3-1,$B$6,1))/$B$6","v":61.747906194221102},null,44,29,{"$f":"RANK(Q55,Q$27:Q$57)+COUNTIF(Q$27:Q55,Q55)-1","v":18},7,13,2,0,3,{"$f":"Y54+MATCH(Y$25,OFFSET($X$27:$X$57,Y54,0),0)","v":{"$error":"#REF!"}},"",{"$f":"IF(ISNUMBER(Y55),INDEX(tblIndicators!$AE$2:$AE$75,Z55),\"\")","v":""},"","",{"$f":"AD54+MATCH(AD$25,OFFSET($X$27:$X$57,AD54,0),0)","v":{"$error":"#REF!"}},"",{"$f":"IF(ISNUMBER(AE55),INDEX(tblIndicators!$AE$2:$AE$75,AE55),\"\")","v":""},"","",{"$f":"AI54+MATCH(AI$25,OFFSET($X$27:$X$57,AI54,0),0)","v":{"$error":"#REF!"}},"",{"$f":"IF(ISNUMBER(AJ55),INDEX(tblIndicators!$AE$2:$AE$75,AJ55),\"\")","v":""},"","",null,null,null,-30,30,20,{"$f":"RANK(AR55,AR$27:AR$57)+COUNTIF(AR$27:AR55,AR55)-1","v":16},20,45,2,0,3,{"$f":"AZ54+MATCH(AZ$25,OFFSET($AY$27:$AY$57,AZ54,0),0)","v":{"$error":"#REF!"}},"",{"$f":"IF(ISNUMBER(AZ55),INDEX(tblIndicators!$AE$2:$AE$75,BA55),\"\")","v":""},"","",{"$f":"BE54+MATCH(BE$25,OFFSET($AY$27:$AY$57,BE54,0),0)","v":{"$error":"#REF!"}},"",{"$f":"IF(ISNUMBER(BF55),INDEX(tblIndicators!$AE$2:$AE$75,BF55),\"\")","v":""},"","",{"$f":"BJ54+MATCH(BJ$25,OFFSET($AY$27:$AY$57,BJ54,0),0)","v":{"$error":"#REF!"}},"",{"$f":"IF(ISNUMBER(BK55),INDEX(tblIndicators!$AE$2:$AE$75,BK55),\"\")","v":""},"",""]
[{"$f":"tblIndiSets!A41","v":"LIVRES_2"},{"$f":"tblIndiSets!B41","v":70},{"$f":"tblIndiSets!C41","v":"6.2) Protection for marine/coastal species"},{"$f":"tblIndiSets!D41","v":2},{"$f":"tblIndiSets!E41","v":100},50,"=10",50,{"$error":"#NAME?"},"",75,{"$error":"#NAME?"},"=8",75,{"$f":"MMULT(OFFSET(aScores,$B56-1,0,1,$B$6),OFFSET(tblCountries!$Q$3,0,$B$3-1,$B$6,1))/$B$6","v":68.75},null,50,30,{"$f":"RANK(Q56,Q$27:Q$57)+COUNTIF(Q$27:Q56,Q56)-1","v":15},13,25,2,0,3,{"$f":"Y55+MATCH(Y$25,OFFSET($X$27:$X$57,Y55,0),0)","v":{"$error":"#REF!"}},"",{"$f":"IF(ISNUMBER(Y56),INDEX(tblIndicators!$AE$2:$AE$75,Z56),\"\")","v":""},"","",{"$f":"AD55+MATCH(AD$25,OFFSET($X$27:$X$57,AD55,0),0)","v":{"$error":"#REF!"}},"",{"$f":"IF(ISNUMBER(AE56),INDEX(tblIndicators!$AE$2:$AE$75,AE56),\"\")","v":""},"","",{"$f":"AI55+MATCH(AI$25,OFFSET($X$27:$X$57,AI55,0),0)","v":{"$error":"#REF!"}},"",{"$f":"IF(ISNUMBER(AJ56),INDEX(tblIndicators!$AE$2:$AE$75,AJ56),\"\")","v":""},"","",null,null,null,-25,25,20,{"$f":"RANK(AR56,AR$27:AR$57)+COUNTIF(AR$27:AR56,AR56)-1","v":19},25,60,2,0,3,{"$f":"AZ55+MATCH(AZ$25,OFFSET($AY$27:$AY$57,AZ55,0),0)","v":{"$error":"#REF!"}},"",{"$f":"IF(ISNUMBER(AZ56),INDEX(tblIndicators!$AE$2:$AE$75,BA56),\"\")","v":""},"","",{"$f":"BE55+MATCH(BE$25,OFFSET($AY$27:$AY$57,BE55,0),0)","v":{"$error":"#REF!"}},"",{"$f":"IF(ISNUMBER(BF56),INDEX(tblIndicators!$AE$2:$AE$75,BF56),\"\")","v":""},"","",{"$f":"BJ55+MATCH(BJ$25,OFFSET($AY$27:$AY$57,BJ55,0),0)","v":{"$error":"#REF!"}},"",{"$f":"IF(ISNUMBER(BK56),INDEX(tblIndicators!$AE$2:$AE$75,BK56),\"\")","v":""},"",""]
[{"$f":"tblIndiSets!A42","v":"LIVRES_3"},{"$f":"tblIndiSets!B42","v":73},{"$f":"tblIndiSets!C42","v":"6.3) Ballast water treatment"},{"$f":"tblIndiSets!D42","v":2},{"$f":"tblIndiSets!E42","v":100},0,"=11",0,{"$error":"#NAME?"},"",100,{"$error":"#NAME?"},"=1",100,{"$f":"MMULT(OFFSET(aScores,$B57-1,0,1,$B$6),OFFSET(tblCountries!$Q$3,0,$B$3-1,$B$6,1))/$B$6","v":50},null,0,31,{"$f":"RANK(Q57,Q$27:Q$57)+COUNTIF(Q$27:Q57,Q57)-1","v":31},31,73,2,0,3,{"$f":"Y56+MATCH(Y$25,OFFSET($X$27:$X$57,Y56,0),0)","v":{"$error":"#REF!"}},"",{"$f":"IF(ISNUMBER(Y57),INDEX(tblIndicators!$AE$2:$AE$75,Z57),\"\")","v":""},"","",{"$f":"AD56+MATCH(AD$25,OFFSET($X$27:$X$57,AD56,0),0)","v":{"$error":"#REF!"}},"",{"$f":"IF(ISNUMBER(AE57),INDEX(tblIndicators!$AE$2:$AE$75,AE57),\"\")","v":""},"","",{"$f":"AI56+MATCH(AI$25,OFFSET($X$27:$X$57,AI56,0),0)","v":{"$error":"#REF!"}},"",{"$f":"IF(ISNUMBER(AJ57),INDEX(tblIndicators!$AE$2:$AE$75,AJ57),\"\")","v":""},"","",null,null,null,-100,100,20,{"$f":"RANK(AR57,AR$27:AR$57)+COUNTIF(AR$27:AR57,AR57)-1","v":6},27,65,2,0,3,{"$f":"AZ56+MATCH(AZ$25,OFFSET($AY$27:$AY$57,AZ56,0),0)","v":{"$error":"#REF!"}},"",{"$f":"IF(ISNUMBER(AZ57),INDEX(tblIndicators!$AE$2:$AE$75,BA57),\"\")","v":""},"","",{"$f":"BE56+MATCH(BE$25,OFFSET($AY$27:$AY$57,BE56,0),0)","v":{"$error":"#REF!"}},"",{"$f":"IF(ISNUMBER(BF57),INDEX(tblIndicators!$AE$2:$AE$75,BF57),\"\")","v":""},"","",{"$f":"BJ56+MATCH(BJ$25,OFFSET($AY$27:$AY$57,BJ56,0),0)","v":{"$error":"#REF!"}},"",{"$f":"IF(ISNUMBER(BK57),INDEX(tblIndicators!$AE$2:$AE$75,BK57),\"\")","v":""},"",""]
[]
[null,null,null,null,null,null,null,null,null,null,1,2,3]
[null,null,null,null,null,null,"GROUP","SECTION","CONCAT_GROUP",null,0]
[{"$f":"tblIndiSets!A12","v":"OVERALL"},{"$f":"tblIndiSets!B12","v":1},{"$f":"tblIndiSets!C12","v":"OVERALL SCORE"},{"$f":"tblIndiSets!D12","v":0},{"$f":"tblIndiSets!E12","v":100},{"$f":"ROUND(INDEX(aScores,$B61,$B$1),0)","v":50},{"$f":"IF(D61<2,0,IF(F61>=67,1,IF(F61>=34,2,3)))","v":0},0,{"$f":"CONCATENATE(H61,\"_\",G61)","v":"0_0"},null,0,null,null,null,null,null,null,null,null,null,null,null,1,2,3]
[{"$f":"tblIndiSets!A13","v":"PLCAP"},{"$f":"tblIndiSets!B13","v":2},{"$f":"tblIndiSets!C13","v":"1) POLICY AND INSTITUTIONAL CAPACITY"},{"$f":"tblIndiSets!D13","v":1},{"$f":"tblIndiSets!E13","v":100},43,0,1,{"$f":"CONCATENATE(H62,\"_\",G62)","v":"1_0"},null,0,0,0,null,{"$f":"B62","v":2},null,null,null,{"$f":"IF(SUM(O62:Q62)=0,0,1)","v":1},{"$f":"RANK(S62,S$62:S$91)+COUNTIF(S$62:S62,S62)-1","v":1},1,{"$f":"MATCH(U62,T$62:T$91,0)","v":1},{"$f":"INDEX(O$62:O$91,$V62)","v":2},{"$f":"INDEX(P$62:P$91,$V62)","v":0},{"$f":"INDEX(Q$62:Q$91,$V62)","v":0}]
[{"$f":"tblIndiSets!A14","v":"PLCAP_1"},{"$f":"tblIndiSets!B14","v":3},{"$f":"tblIndiSets!C14","v":"1.1) Coastal management policy and strategy"},{"$f":"tblIndiSets!D14","v":2},{"$f":"tblIndiSets!E14","v":100},0,3,1,"1_3",null,{"$f":"K62+MATCH(CONCATENATE($H63,\"_\",K$59),OFFSET($I$63:$I$69,K62,0),0)","v":3},{"$f":"L62+MATCH(CONCATENATE($H63,\"_\",L$59),OFFSET($I$63:$I$69,L62,0),0)","v":{"$error":"#N/A"}},{"$f":"M62+MATCH(CONCATENATE($H63,\"_\",M$59),OFFSET($I$63:$I$69,M62,0),0)","v":1},null,{"$f":"IF(ISNUMBER(K63),INDEX($B$63:$B$69,K63),0)","v":8},{"$f":"IF(ISNUMBER(L63),INDEX($B$63:$B$69,L63),0)","v":0},3,null,{"$f":"IF(SUM(O63:Q63)=0,0,1)","v":1},{"$f":"RANK(S63,S$62:S$91)+COUNTIF(S$62:S63,S63)-1","v":2},2,2,8,0,3]
[{"$f":"tblIndiSets!A15","v":"PLCAP_2"},{"$f":"tblIndiSets!B15","v":6},{"$f":"tblIndiSets!C15","v":"1.2) Presence of established institution(s)"},{"$f":"tblIndiSets!D15","v":2},{"$f":"tblIndiSets!E15","v":100},0,3,1,"1_3",null,{"$f":"K63+MATCH(CONCATENATE($H64,\"_\",K$59),OFFSET($I$63:$I$69,K63,0),0)","v":6},{"$f":"L63+MATCH(CONCATENATE($H64,\"_\",L$59),OFFSET($I$63:$I$69,L63,0),0)","v":{"$error":"#N/A"}},{"$f":"M63+MATCH(CONCATENATE($H64,\"_\",M$59),OFFSET($I$63:$I$69,M63,0),0)","v":2},null,{"$f":"IF(ISNUMBER(K64),INDEX($B$63:$B$69,K64),0)","v":16},{"$f":"IF(ISNUMBER(L64),INDEX($B$63:$B$69,L64),0)","v":0},{"$f":"IF(ISNUMBER(M64),INDEX($B$63:$B$69,M64),0)","v":6},null,1,{"$f":"RANK(S64,S$62:S$91)+COUNTIF(S$62:S64,S64)-1","v":3},3,3,16,0,6]
[{"$f":"tblIndiSets!A16","v":"PLCAP_3"},{"$f":"tblIndiSets!B16","v":8},{"$f":"tblIndiSets!C16","v":"1.3) National strategy to adapt to climate change"},{"$f":"tblIndiSets!D16","v":2},{"$f":"tblIndiSets!E16","v":100},100,1,1,"1_1",null,7,{"$error":"#N/A"},4,null,18,0,10,null,1,{"$f":"RANK(S65,S$62:S$91)+COUNTIF(S$62:S65,S65)-1","v":4},4,4,18,0,10]
[{"$f":"tblIndiSets!A17","v":"PLCAP_4"},{"$f":"tblIndiSets!B17","v":10},{"$f":"tblIndiSets!C17","v":"1.4) Maritime Spatial Planning"},{"$f":"tblIndiSets!D17","v":2},{"$f":"tblIndiSets!E17","v":100},0,3,1,"1_3",null,{"$error":"#N/A"},{"$error":"#N/A"},5,null,0,0,13,null,1,{"$f":"RANK(S66,S$62:S$91)+COUNTIF(S$62:S66,S66)-1","v":5},5,5,0,0,13]
[{"$f":"tblIndiSets!A18","v":"PLCAP_5"},{"$f":"tblIndiSets!B18","v":13},{"$f":"tblIndiSets!C18","v":"1.5) Stakeholder engagement"},{"$f":"tblIndiSets!D18","v":2},{"$f":"tblIndiSets!E18","v":100},0,3,1,"1_3",null,{"$error":"#N/A"},{"$error":"#N/A"},{"$error":"#N/A"},null,0,0,0,null,0,{"$f":"RANK(S67,S$62:S$91)+COUNTIF(S$62:S67,S67)-1","v":24},6,9,20,0,0]
[{"$f":"tblIndiSets!A19","v":"PLCAP_6"},{"$f":"tblIndiSets!B19","v":16},{"$f":"tblIndiSets!C19","v":"1.6) Extractive industries transparency"},{"$f":"tblIndiSets!D19","v":2},{"$f":"tblIndiSets!E19","v":100},100,1,1,"1_1",null,{"$error":"#N/A"},{"$error":"#N/A"},{"$error":"#N/A"},null,0,0,0,null,0,{"$f":"RANK(S68,S$62:S$91)+COUNTIF(S$62:S68,S68)-1","v":25},7,10,0,21,23]
[{"$f":"tblIndiSets!A20","v":"PLCAP_7"},{"$f":"tblIndiSets!B20","v":18},{"$f":"tblIndiSets!C20","v":"1.7) Adoption of the United Nations Convention on the Law of the Sea (UNCLOS)"},{"$f":"tblIndiSets!D20","v":2},{"$f":"tblIndiSets!E20","v":100},100,1,1,"1_1",null,{"$error":"#N/A"},{"$error":"#N/A"},{"$error":"#N/A"},null,0,0,0,null,0,{"$f":"RANK(S69,S$62:S$91)+COUNTIF(S$62:S69,S69)-1","v":26},8,11,0,0,25]
[{"$f":"tblIndiSets!A21","v":"BUSENV"},{"$f":"tblIndiSets!B21","v":20},{"$f":"tblIndiSets!C21","v":"2) BUSINESS ENVIRONMENT FOR COASTAL ACTIVITIES"},{"$f":"tblIndiSets!D21","v":1},{"$f":"tblIndiSets!E21","v":100},17,0,2,"2_0",null,0,0,0,null,{"$f":"B70","v":20},null,null,null,1,{"$f":"RANK(S70,S$62:S$91)+COUNTIF(S$62:S70,S70)-1","v":6},9,12,0,0,28]
[{"$f":"tblIndiSets!A22","v":"BUSENV_1"},{"$f":"tblIndiSets!B22","v":21},{"$f":"tblIndiSets!C22","v":"2.1) Ease of doing business"},{"$f":"tblIndiSets!D22","v":2},{"$f":"tblIndiSets!E22","v":100},40,2,2,"2_2",null,{"$f":"K70+MATCH(CONCATENATE($H71,\"_\",K$59),OFFSET($I$71:$I$74,K70,0),0)","v":{"$error":"#N/A"}},{"$f":"L70+MATCH(CONCATENATE($H71,\"_\",L$59),OFFSET($I$71:$I$74,L70,0),0)","v":1},2,null,{"$f":"IF(ISNUMBER(K71),INDEX($B$71:$B$74,K71),0)","v":0},{"$f":"IF(ISNUMBER(L71),INDEX($B$71:$B$74,L71),0)","v":21},23,null,1,{"$f":"RANK(S71,S$62:S$91)+COUNTIF(S$62:S71,S71)-1","v":7},10,14,34,0,0]
[{"$f":"tblIndiSets!A23","v":"BUSENV_2"},{"$f":"tblIndiSets!B23","v":23},{"$f":"tblIndiSets!C23","v":"2.2) Corruption perception"},{"$f":"tblIndiSets!D23","v":2},{"$f":"tblIndiSets!E23","v":100},9,3,2,"2_3",null,{"$f":"K71+MATCH(CONCATENATE($H72,\"_\",K$59),OFFSET($I$71:$I$74,K71,0),0)","v":{"$error":"#N/A"}},{"$f":"L71+MATCH(CONCATENATE($H72,\"_\",L$59),OFFSET($I$71:$I$74,L71,0),0)","v":{"$error":"#N/A"}},{"$f":"M71+MATCH(CONCATENATE($H72,\"_\",M$59),OFFSET($I$71:$I$74,M71,0),0)","v":3},null,{"$f":"IF(ISNUMBER(K72),INDEX($B$71:$B$74,K72),0)","v":0},{"$f":"IF(ISNUMBER(L72),INDEX($B$71:$B$74,L72),0)","v":0},{"$f":"IF(ISNUMBER(M72),INDEX($B$71:$B$74,M72),0)","v":25},null,1,{"$f":"RANK(S72,S$62:S$91)+COUNTIF(S$62:S72,S72)-1","v":8},11,15,35,37,0]
[{"$f":"tblIndiSets!A24","v":"BUSENV_3"},{"$f":"tblIndiSets!B24","v":25},{"$f":"tblIndiSets!C24","v":"2.3) Effectiveness of dispute resolution mechanisms"},{"$f":"tblIndiSets!D24","v":2},{"$f":"tblIndiSets!E24","v":100},0,3,2,"2_3",null,{"$error":"#N/A"},{"$error":"#N/A"},4,null,0,0,28,null,1,{"$f":"RANK(S73,S$62:S$91)+COUNTIF(S$62:S73,S73)-1","v":9},12,16,0,41,0]
[{"$f":"tblIndiSets!A25","v":"BUSENV_4"},{"$f":"tblIndiSets!B25","v":28},{"$f":"tblIndiSets!C25","v":"2.4) Quality of coastal infrastructure"},{"$f":"tblIndiSets!D25","v":2},{"$f":"tblIndiSets!E25","v":100},18,3,2,"2_3",null,{"$error":"#N/A"},{"$error":"#N/A"},{"$error":"#N/A"},null,0,0,0,null,0,{"$f":"RANK(S74,S$62:S$91)+COUNTIF(S$62:S74,S74)-1","v":27},13,18,44,0,0]
[{"$f":"tblIndiSets!A26","v":"WATQUAL"},{"$f":"tblIndiSets!B26","v":34},{"$f":"tblIndiSets!C26","v":"3) WATER QUALITY"},{"$f":"tblIndiSets!D26","v":1},{"$f":"tblIndiSets!E26","v":100},62,0,3,"3_0",null,0,0,0,null,{"$f":"B75","v":34},null,null,null,1,{"$f":"RANK(S75,S$62:S$91)+COUNTIF(S$62:S75,S75)-1","v":10},14,19,45,0,0]
[{"$f":"tblIndiSets!A27","v":"WATQUAL_1"},{"$f":"tblIndiSets!B27","v":35},{"$f":"tblIndiSets!C27","v":"3.1) Agency"},{"$f":"tblIndiSets!D27","v":2},{"$f":"tblIndiSets!E27","v":100},100,1,3,"3_1",null,{"$f":"K75+MATCH(CONCATENATE($H76,\"_\",K$59),OFFSET($I$76:$I$78,K75,0),0)","v":1},{"$f":"L75+MATCH(CONCATENATE($H76,\"_\",L$59),OFFSET($I$76:$I$78,L75,0),0)","v":2},{"$error":"#N/A"},null,{"$f":"IF(ISNUMBER(K76),INDEX($B$76:$B$78,K76),0)","v":35},{"$f":"IF(ISNUMBER(L76),INDEX($B$76:$B$78,L76),0)","v":37},0,null,1,{"$f":"RANK(S76,S$62:S$91)+COUNTIF(S$62:S76,S76)-1","v":11},15,20,48,0,0]
[{"$f":"tblIndiSets!A28","v":"WATQUAL_2"},{"$f":"tblIndiSets!B28","v":37},{"$f":"tblIndiSets!C28","v":"3.2) Regulatory standards for water pollution"},{"$f":"tblIndiSets!D28","v":2},{"$f":"tblIndiSets!E28","v":100},45,2,3,"3_2",null,{"$f":"K76+MATCH(CONCATENATE($H77,\"_\",K$59),OFFSET($I$76:$I$78,K76,0),0)","v":{"$error":"#N/A"}},3,{"$error":"#N/A"},null,{"$f":"IF(ISNUMBER(K77),INDEX($B$76:$B$78,K77),0)","v":0},41,0,null,1,{"$f":"RANK(S77,S$62:S$91)+COUNTIF(S$62:S77,S77)-1","v":12},16,21,53,0,0]
[{"$f":"tblIndiSets!A29","v":"WATQUAL_3"},{"$f":"tblIndiSets!B29","v":41},{"$f":"tblIndiSets!C29","v":"3.3) Monitoring and enforcement"},{"$f":"tblIndiSets!D29","v":2},{"$f":"tblIndiSets!E29","v":100},42,2,3,"3_2",null,{"$error":"#N/A"},{"$error":"#N/A"},{"$error":"#N/A"},null,0,0,0,null,0,{"$f":"RANK(S78,S$62:S$91)+COUNTIF(S$62:S78,S78)-1","v":28},17,22,57,0,0]
[{"$f":"tblIndiSets!A30","v":"MINENG"},{"$f":"tblIndiSets!B30","v":44},{"$f":"tblIndiSets!C30","v":"4) MINERALS AND ENERGY"},{"$f":"tblIndiSets!D30","v":1},{"$f":"tblIndiSets!E30","v":100},86,0,4,"4_0",null,0,0,0,null,{"$f":"B79","v":44},null,null,null,1,{"$f":"RANK(S79,S$62:S$91)+COUNTIF(S$62:S79,S79)-1","v":13},18,23,65,58,0]
[{"$f":"tblIndiSets!A31","v":"MINENG_1"},{"$f":"tblIndiSets!B31","v":45},{"$f":"tblIndiSets!C31","v":"4.1) Permitting and licensing"},{"$f":"tblIndiSets!D31","v":2},{"$f":"tblIndiSets!E31","v":100},100,1,4,"4_1",null,{"$f":"K79+MATCH(CONCATENATE($H80,\"_\",K$59),OFFSET($I$80:$I$82,K79,0),0)","v":1},{"$f":"L79+MATCH(CONCATENATE($H80,\"_\",L$59),OFFSET($I$80:$I$82,L79,0),0)","v":{"$error":"#N/A"}},{"$error":"#N/A"},null,{"$f":"IF(ISNUMBER(K80),INDEX($B$80:$B$82,K80),0)","v":45},{"$f":"IF(ISNUMBER(L80),INDEX($B$80:$B$82,L80),0)","v":0},0,null,1,{"$f":"RANK(S80,S$62:S$91)+COUNTIF(S$62:S80,S80)-1","v":14},19,24,0,60,0]
[{"$f":"tblIndiSets!A32","v":"MINENG_2"},{"$f":"tblIndiSets!B32","v":48},{"$f":"tblIndiSets!C32","v":"4.2) Monitoring and enforcement"},{"$f":"tblIndiSets!D32","v":2},{"$f":"tblIndiSets!E32","v":100},75,1,4,"4_1",null,{"$f":"K80+MATCH(CONCATENATE($H81,\"_\",K$59),OFFSET($I$80:$I$82,K80,0),0)","v":2},{"$error":"#N/A"},{"$error":"#N/A"},null,{"$f":"IF(ISNUMBER(K81),INDEX($B$80:$B$82,K81),0)","v":48},{"$f":"IF(ISNUMBER(L81),INDEX($B$80:$B$82,L81),0)","v":0},{"$f":"IF(ISNUMBER(M81),INDEX($B$80:$B$82,M81),0)","v":0},null,1,{"$f":"RANK(S81,S$62:S$91)+COUNTIF(S$62:S81,S81)-1","v":15},20,25,0,63,0]
[{"$f":"tblIndiSets!A33","v":"MINENG_3"},{"$f":"tblIndiSets!B33","v":53},{"$f":"tblIndiSets!C33","v":"4.3) Risk mitigation"},{"$f":"tblIndiSets!D33","v":2},{"$f":"tblIndiSets!E33","v":100},83,1,4,"4_1",null,3,{"$error":"#N/A"},{"$error":"#N/A"},null,53,0,0,null,1,{"$f":"RANK(S82,S$62:S$91)+COUNTIF(S$62:S82,S82)-1","v":16},21,27,67,0,0]
[{"$f":"tblIndiSets!A34","v":"LAND"},{"$f":"tblIndiSets!B34","v":57},{"$f":"tblIndiSets!C34","v":"5) LAND"},{"$f":"tblIndiSets!D34","v":1},{"$f":"tblIndiSets!E34","v":100},61,0,5,{"$f":"CONCATENATE(H83,\"_\",G83)","v":"5_0"},null,0,0,0,null,{"$f":"B83","v":57},null,null,null,{"$f":"IF(SUM(O83:Q83)=0,0,1)","v":1},{"$f":"RANK(S83,S$62:S$91)+COUNTIF(S$62:S83,S83)-1","v":17},22,28,0,68,73]
[{"$f":"tblIndiSets!A35","v":"LAND_1"},{"$f":"tblIndiSets!B35","v":58},{"$f":"tblIndiSets!C35","v":"5.1) Prevalence of coastal protected areas"},{"$f":"tblIndiSets!D35","v":2},{"$f":"tblIndiSets!E35","v":100},50,2,5,"5_2",null,{"$f":"K83+MATCH(CONCATENATE($H84,\"_\",K$59),OFFSET($I$84:$I$87,K83,0),0)","v":4},1,{"$error":"#N/A"},null,{"$f":"IF(ISNUMBER(K84),INDEX($B$84:$B$87,K84),0)","v":65},58,0,null,1,{"$f":"RANK(S84,S$62:S$91)+COUNTIF(S$62:S84,S84)-1","v":18},23,29,0,70,0]
[{"$f":"tblIndiSets!A36","v":"LAND_2"},{"$f":"tblIndiSets!B36","v":60},{"$f":"tblIndiSets!C36","v":"5.2) Environmental impact of coastal development"},{"$f":"tblIndiSets!D36","v":2},{"$f":"tblIndiSets!E36","v":100},50,2,5,"5_2",null,{"$error":"#N/A"},2,{"$error":"#N/A"},null,0,60,0,null,1,{"$f":"RANK(S85,S$62:S$91)+COUNTIF(S$62:S85,S85)-1","v":19},24,6,0,0,0]
[{"$f":"tblIndiSets!A37","v":"LAND_3"},{"$f":"tblIndiSets!B37","v":63},{"$f":"tblIndiSets!C37","v":"5.3) Government commitment to sustainability in coastal tourism development"},{"$f":"tblIndiSets!D37","v":2},{"$f":"tblIndiSets!E37","v":100},44,2,5,"5_2",null,{"$error":"#N/A"},3,{"$error":"#N/A"},null,0,63,0,null,1,{"$f":"RANK(S86,S$62:S$91)+COUNTIF(S$62:S86,S86)-1","v":20},25,7,0,0,0]
[{"$f":"tblIndiSets!A38","v":"LAND_4"},{"$f":"tblIndiSets!B38","v":65},{"$f":"tblIndiSets!C38","v":"5.4) Natural disaster risk mitigation"},{"$f":"tblIndiSets!D38","v":2},{"$f":"tblIndiSets!E38","v":100},100,1,5,"5_1",null,{"$error":"#N/A"},{"$error":"#N/A"},{"$error":"#N/A"},null,0,0,0,null,0,{"$f":"RANK(S87,S$62:S$91)+COUNTIF(S$62:S87,S87)-1","v":29},26,8,0,0,0]
[{"$f":"tblIndiSets!A39","v":"LIVRES"},{"$f":"tblIndiSets!B39","v":67},{"$f":"tblIndiSets!C39","v":"6) LIVING RESOURCES"},{"$f":"tblIndiSets!D39","v":1},{"$f":"tblIndiSets!E39","v":100},31,0,6,"6_0",null,0,0,0,null,{"$f":"B88","v":67},null,null,null,1,{"$f":"RANK(S88,S$62:S$91)+COUNTIF(S$62:S88,S88)-1","v":21},27,13,0,0,0]
[{"$f":"tblIndiSets!A40","v":"LIVRES_1"},{"$f":"tblIndiSets!B40","v":68},{"$f":"tblIndiSets!C40","v":"6.1) Fisheries governance and management effectiveness"},{"$f":"tblIndiSets!D40","v":2},{"$f":"tblIndiSets!E40","v":100},44,2,6,"6_2",null,{"$f":"K88+MATCH(CONCATENATE($H89,\"_\",K$59),OFFSET($I$89:$I$91,K88,0),0)","v":{"$error":"#N/A"}},1,3,null,{"$f":"IF(ISNUMBER(K89),INDEX($B$89:$B$91,K89),0)","v":0},{"$f":"IF(ISNUMBER(L89),INDEX($B$89:$B$91,L89),0)","v":68},73,null,1,{"$f":"RANK(S89,S$62:S$91)+COUNTIF(S$62:S89,S89)-1","v":22},28,17,0,0,0]
[{"$f":"tblIndiSets!A41","v":"LIVRES_2"},{"$f":"tblIndiSets!B41","v":70},{"$f":"tblIndiSets!C41","v":"6.2) Protection for marine/coastal species"},{"$f":"tblIndiSets!D41","v":2},{"$f":"tblIndiSets!E41","v":100},50,2,6,"6_2",null,{"$error":"#N/A"},2,{"$error":"#N/A"},null,{"$f":"IF(ISNUMBER(K90),INDEX($B$89:$B$91,K90),0)","v":0},70,0,null,1,{"$f":"RANK(S90,S$62:S$91)+COUNTIF(S$62:S90,S90)-1","v":23},29,26,0,0,0]
[{"$f":"tblIndiSets!A42","v":"LIVRES_3"},{"$f":"tblIndiSets!B42","v":73},{"$f":"tblIndiSets!C42","v":"6.3) Ballast water treatment"},{"$f":"tblIndiSets!D42","v":2},{"$f":"tblIndiSets!E42","v":100},0,3,6,"6_3",null,{"$error":"#N/A"},{"$error":"#N/A"},{"$error":"#N/A"},null,0,0,0,null,0,{"$f":"RANK(S91,S$62:S$91)+COUNTIF(S$62:S91,S91)-1","v":30},30,30,0,0,0]

{"sheet":"Country_Summary","index":14,"n_rows":53,"n_cols":13,"rows_kept":53,"cut":false,"hidden":false,"merged":[]}
["COUNTRY SUMMARY",null,null,null,"WEIGHT PROFILE"]
[null,null,null,"    SELECT COUNTRY"]
[]
[null,null,null,{"$f":"UPPER(iWorks!$C$36)","v":"NIGERIA"}]
[]
[null,null,null,null,"Score / 100",{"$f":"iWorks!$C$9","v":"Rank / 20"}]
[null,null,null,{"$f":"iCountry!C12","v":"OVERALL SCORE"},{"$f":"iCountry!F12","v":50.075062285380596},{"$f":"iCountry!G12","v":"19"}]
[null,null,null,{"$f":"iCountry!C13","v":"1) POLICY AND INSTITUTIONAL CAPACITY"},{"$f":"iCountry!F13","v":42.857142857142854},{"$f":"iCountry!G13","v":"17"}]
[null,null,null,{"$f":"iCountry!C14","v":"2) BUSINESS ENVIRONMENT FOR COASTAL ACTIVITIES"},{"$f":"iCountry!F14","v":16.787856041666668},{"$f":"iCountry!G14","v":"20"}]
[null,null,null,{"$f":"iCountry!C15","v":"3) WATER QUALITY"},{"$f":"iCountry!F15","v":62.231111111111105},{"$f":"iCountry!G15","v":"18"}]
[null,null,null,{"$f":"iCountry!C16","v":"4) MINERALS AND ENERGY"},{"$f":"iCountry!F16","v":86.1111111111111},{"$f":"iCountry!G16","v":"=3"}]
[null,null,null,{"$f":"iCountry!C17","v":"5) LAND"},{"$f":"iCountry!F17","v":61.041666666666664},{"$f":"iCountry!G17","v":"16"}]
[null,null,null,{"$f":"iCountry!C18","v":"6) LIVING RESOURCES"},{"$f":"iCountry!F18","v":31.421485924585198},{"$f":"iCountry!G18","v":"=17"}]
[]
[null,null,null,{"$f":"iWorks!$B$10","v":"= denotes tie in rank"}]
[null,null,null,{"$f":"iWorks!$B$12","v":"Scores are normalized (0-100, where 100=most favorable)"}]
[]
[]
[null,null,null,"ABOVE AVERAGE (Scores greater than 66)",null,null,null,"AVERAGE (Scores between 34 and 66)",null,null,null,"BELOW AVERAGE (Scores less than 34)"]
[null,{"$f":"IF(C20=0,FALSE,IF(INDEX(tblIndicators!$D$2:$D$75,C20)=1,TRUE,FALSE))","v":true},{"$f":"iCountry!W62","v":2},{"$f":"IF(C20=0,\"\",IF(AND($B20=TRUE,D21=\"\"),\"\",INDEX(tblIndicators!$AE$2:$AE$75,C20)))","v":"1) POLICY AND INSTITUTIONAL CAPACITY"},{"$f":"IF(OR(C20=0,$B20),\"\",ROUND(INDEX(aScores,C20,iCountry!$B$1),0))","v":""},null,{"$f":"iCountry!X62","v":0},{"$f":"IF(AND($B20=TRUE,H21=\"\"),\"\",IF($B20,INDEX(tblIndicators!$AE$2:$AE$75,C20),IF(G20=0,\"\",INDEX(tblIndicators!$AE$2:$AE$75,G20))))","v":""},{"$f":"IF(OR(G20=0,$B20),\"\",ROUND(INDEX(aScores,G20,iCountry!$B$1),0))","v":""},null,{"$f":"iCountry!Y62","v":0},{"$f":"IF(AND($B20=TRUE,L21=\"\"),\"\",IF($B20,INDEX(tblIndicators!$AE$2:$AE$75,C20),IF(K20=0,\"\",INDEX(tblIndicators!$AE$2:$AE$75,K20))))","v":"1) POLICY AND INSTITUTIONAL CAPACITY"},{"$f":"IF(OR(K20=0,$B20),\"\",ROUND(INDEX(aScores,K20,iCountry!$B$1),0))","v":""}]
[null,{"$f":"IF(C21=0,FALSE,IF(INDEX(tblIndicators!$D$2:$D$75,C21)=1,TRUE,FALSE))","v":false},{"$f":"iCountry!W63","v":8},{"$f":"IF(C21=0,\"\",IF(AND($B21=TRUE,D22=\"\"),\"\",INDEX(tblIndicators!$AE$2:$AE$75,C21)))","v":"1.3) National strategy to adapt to climate change"},{"$f":"IF(OR(C21=0,$B21),\"\",ROUND(INDEX(aScores,C21,iCountry!$B$1),0))","v":100},null,{"$f":"iCountry!X63","v":0},{"$f":"IF(AND($B21=TRUE,H22=\"\"),\"\",IF($B21,INDEX(tblIndicators!$AE$2:$AE$75,C21),IF(G21=0,\"\",INDEX(tblIndicators!$AE$2:$AE$75,G21))))","v":""},{"$f":"IF(OR(G21=0,$B21),\"\",ROUND(INDEX(aScores,G21,iCountry!$B$1),0))","v":""},null,{"$f":"iCountry!Y63","v":3},{"$f":"IF(AND($B21=TRUE,L22=\"\"),\"\",IF($B21,INDEX(tblIndicators!$AE$2:$AE$75,C21),IF(K21=0,\"\",INDEX(tblIndicators!$AE$2:$AE$75,K21))))","v":"1.1) Coastal management policy and strategy"},{"$f":"IF(OR(K21=0,$B21),\"\",ROUND(INDEX(aScores,K21,iCountry!$B$1),0))","v":0}]
[null,{"$f":"IF(C22=0,FALSE,IF(INDEX(tblIndicators!$D$2:$D$75,C22)=1,TRUE,FALSE))","v":false},{"$f":"iCountry!W64","v":16},{"$f":"IF(C22=0,\"\",IF(AND($B22=TRUE,D23=\"\"),\"\",INDEX(tblIndicators!$AE$2:$AE$75,C22)))","v":"1.6) Extractive industries transparency"},{"$f":"IF(OR(C22=0,$B22),\"\",ROUND(INDEX(aScores,C22,iCountry!$B$1),0))","v":100},null,{"$f":"iCountry!X64","v":0},{"$f":"IF(AND($B22=TRUE,H23=\"\"),\"\",IF($B22,INDEX(tblIndicators!$AE$2:$AE$75,C22),IF(G22=0,\"\",INDEX(tblIndicators!$AE$2:$AE$75,G22))))","v":""},{"$f":"IF(OR(G22=0,$B22),\"\",ROUND(INDEX(aScores,G22,iCountry!$B$1),0))","v":""},null,{"$f":"iCountry!Y64","v":6},{"$f":"IF(AND($B22=TRUE,L23=\"\"),\"\",IF($B22,INDEX(tblIndicators!$AE$2:$AE$75,C22),IF(K22=0,\"\",INDEX(tblIndicators!$AE$2:$AE$75,K22))))","v":"1.2) Presence of established institution(s)"},{"$f":"IF(OR(K22=0,$B22),\"\",ROUND(INDEX(aScores,K22,iCountry!$B$1),0))","v":0}]
[null,{"$f":"IF(C23=0,FALSE,IF(INDEX(tblIndicators!$D$2:$D$75,C23)=1,TRUE,FALSE))","v":false},{"$f":"iCountry!W65","v":18},{"$f":"IF(C23=0,\"\",IF(AND($B23=TRUE,D24=\"\"),\"\",INDEX(tblIndicators!$AE$2:$AE$75,C23)))","v":"1.7) Adoption of the United Nations Convention on the Law of the Sea (UNCLOS)"},{"$f":"IF(OR(C23=0,$B23),\"\",ROUND(INDEX(aScores,C23,iCountry!$B$1),0))","v":100},null,{"$f":"iCountry!X65","v":0},{"$f":"IF(AND($B23=TRUE,H24=\"\"),\"\",IF($B23,INDEX(tblIndicators!$AE$2:$AE$75,C23),IF(G23=0,\"\",INDEX(tblIndicators!$AE$2:$AE$75,G23))))","v":""},{"$f":"IF(OR(G23=0,$B23),\"\",ROUND(INDEX(aScores,G23,iCountry!$B$1),0))","v":""},null,{"$f":"iCountry!Y65","v":10},{"$f":"IF(AND($B23=TRUE,L24=\"\"),\"\",IF($B23,INDEX(tblIndicators!$AE$2:$AE$75,C23),IF(K23=0,\"\",INDEX(tblIndicators!$AE$2:$AE$75,K23))))","v":"1.4) Maritime Spatial Planning"},{"$f":"IF(OR(K23=0,$B23),\"\",ROUND(INDEX(aScores,K23,iCountry!$B$1),0))","v":0}]
[null,{"$f":"IF(C24=0,FALSE,IF(INDEX(tblIndicators!$D$2:$D$75,C24)=1,TRUE,FALSE))","v":false},{"$f":"iCountry!W66","v":0},{"$f":"IF(C24=0,\"\",IF(AND($B24=TRUE,D25=\"\"),\"\",INDEX(tblIndicators!$AE$2:$AE$75,C24)))","v":""},{"$f":"IF(OR(C24=0,$B24),\"\",ROUND(INDEX(aScores,C24,iCountry!$B$1),0))","v":""},null,{"$f":"iCountry!X66","v":0},{"$f":"IF(AND($B24=TRUE,H25=\"\"),\"\",IF($B24,INDEX(tblIndicators!$AE$2:$AE$75,C24),IF(G24=0,\"\",INDEX(tblIndicators!$AE$2:$AE$75,G24))))","v":""},{"$f":"IF(OR(G24=0,$B24),\"\",ROUND(INDEX(aScores,G24,iCountry!$B$1),0))","v":""},null,{"$f":"iCountry!Y66","v":13},{"$f":"IF(AND($B24=TRUE,L25=\"\"),\"\",IF($B24,INDEX(tblIndicators!$AE$2:$AE$75,C24),IF(K24=0,\"\",INDEX(tblIndicators!$AE$2:$AE$75,K24))))","v":"1.5) Stakeholder engagement"},{"$f":"IF(OR(K24=0,$B24),\"\",ROUND(INDEX(aScores,K24,iCountry!$B$1),0))","v":0}]
[null,{"$f":"IF(C25=0,FALSE,IF(INDEX(tblIndicators!$D$2:$D$75,C25)=1,TRUE,FALSE))","v":true},{"$f":"iCountry!W67","v":20},{"$f":"IF(C25=0,\"\",IF(AND($B25=TRUE,D26=\"\"),\"\",INDEX(tblIndicators!$AE$2:$AE$75,C25)))","v":""},{"$f":"IF(OR(C25=0,$B25),\"\",ROUND(INDEX(aScores,C25,iCountry!$B$1),0))","v":""},null,{"$f":"iCountry!X67","v":0},{"$f":"IF(AND($B25=TRUE,H26=\"\"),\"\",IF($B25,INDEX(tblIndicators!$AE$2:$AE$75,C25),IF(G25=0,\"\",INDEX(tblIndicators!$AE$2:$AE$75,G25))))","v":"2) BUSINESS ENVIRONMENT FOR COASTAL ACTIVITIES"},{"$f":"IF(OR(G25=0,$B25),\"\",ROUND(INDEX(aScores,G25,iCountry!$B$1),0))","v":""},null,{"$f":"iCountry!Y67","v":0},{"$f":"IF(AND($B25=TRUE,L26=\"\"),\"\",IF($B25,INDEX(tblIndicators!$AE$2:$AE$75,C25),IF(K25=0,\"\",INDEX(tblIndicators!$AE$2:$AE$75,K25))))","v":"2) BUSINESS ENVIRONMENT FOR COASTAL ACTIVITIES"},{"$f":"IF(OR(K25=0,$B25),\"\",ROUND(INDEX(aScores,K25,iCountry!$B$1),0))","v":""}]
[null,{"$f":"IF(C26=0,FALSE,IF(INDEX(tblIndicators!$D$2:$D$75,C26)=1,TRUE,FALSE))","v":false},{"$f":"iCountry!W68","v":0},{"$f":"IF(C26=0,\"\",IF(AND($B26=TRUE,D27=\"\"),\"\",INDEX(tblIndicators!$AE$2:$AE$75,C26)))","v":""},{"$f":"IF(OR(C26=0,$B26),\"\",ROUND(INDEX(aScores,C26,iCountry!$B$1),0))","v":""},null,{"$f":"iCountry!X68","v":21},{"$f":"IF(AND($B26=TRUE,H27=\"\"),\"\",IF($B26,INDEX(tblIndicators!$AE$2:$AE$75,C26),IF(G26=0,\"\",INDEX(tblIndicators!$AE$2:$AE$75,G26))))","v":"2.1) Ease of doing business"},{"$f":"IF(OR(G26=0,$B26),\"\",ROUND(INDEX(aScores,G26,iCountry!$B$1),0))","v":40},null,{"$f":"iCountry!Y68","v":23},{"$f":"IF(AND($B26=TRUE,L27=\"\"),\"\",IF($B26,INDEX(tblIndicators!$AE$2:$AE$75,C26),IF(K26=0,\"\",INDEX(tblIndicators!$AE$2:$AE$75,K26))))","v":"2.2) Corruption perception"},{"$f":"IF(OR(K26=0,$B26),\"\",ROUND(INDEX(aScores,K26,iCountry!$B$1),0))","v":9}]
[null,{"$f":"IF(C27=0,FALSE,IF(INDEX(tblIndicators!$D$2:$D$75,C27)=1,TRUE,FALSE))","v":false},{"$f":"iCountry!W69","v":0},{"$f":"IF(C27=0,\"\",IF(AND($B27=TRUE,D28=\"\"),\"\",INDEX(tblIndicators!$AE$2:$AE$75,C27)))","v":""},{"$f":"IF(OR(C27=0,$B27),\"\",ROUND(INDEX(aScores,C27,iCountry!$B$1),0))","v":""},null,{"$f":"iCountry!X69","v":0},{"$f":"IF(AND($B27=TRUE,H28=\"\"),\"\",IF($B27,INDEX(tblIndicators!$AE$2:$AE$75,C27),IF(G27=0,\"\",INDEX(tblIndicators!$AE$2:$AE$75,G27))))","v":""},{"$f":"IF(OR(G27=0,$B27),\"\",ROUND(INDEX(aScores,G27,iCountry!$B$1),0))","v":""},null,{"$f":"iCountry!Y69","v":25},{"$f":"IF(AND($B27=TRUE,L28=\"\"),\"\",IF($B27,INDEX(tblIndicators!$AE$2:$AE$75,C27),IF(K27=0,\"\",INDEX(tblIndicators!$AE$2:$AE$75,K27))))","v":"2.3) Effectiveness of dispute resolution mechanisms"},{"$f":"IF(OR(K27=0,$B27),\"\",ROUND(INDEX(aScores,K27,iCountry!$B$1),0))","v":0}]
[null,{"$f":"IF(C28=0,FALSE,IF(INDEX(tblIndicators!$D$2:$D$75,C28)=1,TRUE,FALSE))","v":false},{"$f":"iCountry!W70","v":0},{"$f":"IF(C28=0,\"\",IF(AND($B28=TRUE,D29=\"\"),\"\",INDEX(tblIndicators!$AE$2:$AE$75,C28)))","v":""},{"$f":"IF(OR(C28=0,$B28),\"\",ROUND(INDEX(aScores,C28,iCountry!$B$1),0))","v":""},null,{"$f":"iCountry!X70","v":0},{"$f":"IF(AND($B28=TRUE,H29=\"\"),\"\",IF($B28,INDEX(tblIndicators!$AE$2:$AE$75,C28),IF(G28=0,\"\",INDEX(tblIndicators!$AE$2:$AE$75,G28))))","v":""},{"$f":"IF(OR(G28=0,$B28),\"\",ROUND(INDEX(aScores,G28,iCountry!$B$1),0))","v":""},null,{"$f":"iCountry!Y70","v":28},{"$f":"IF(AND($B28=TRUE,L29=\"\"),\"\",IF($B28,INDEX(tblIndicators!$AE$2:$AE$75,C28),IF(K28=0,\"\",INDEX(tblIndicators!$AE$2:$AE$75,K28))))","v":"2.4) Quality of coastal infrastructure"},{"$f":"IF(OR(K28=0,$B28),\"\",ROUND(INDEX(aScores,K28,iCountry!$B$1),0))","v":18}]
[null,{"$f":"IF(C29=0,FALSE,IF(INDEX(tblIndicators!$D$2:$D$75,C29)=1,TRUE,FALSE))","v":true},{"$f":"iCountry!W71","v":34},{"$f":"IF(C29=0,\"\",IF(AND($B29=TRUE,D30=\"\"),\"\",INDEX(tblIndicators!$AE$2:$AE$75,C29)))","v":"3) WATER QUALITY"},{"$f":"IF(OR(C29=0,$B29),\"\",ROUND(INDEX(aScores,C29,iCountry!$B$1),0))","v":""},null,{"$f":"iCountry!X71","v":0},{"$f":"IF(AND($B29=TRUE,H30=\"\"),\"\",IF($B29,INDEX(tblIndicators!$AE$2:$AE$75,C29),IF(G29=0,\"\",INDEX(tblIndicators!$AE$2:$AE$75,G29))))","v":"3) WATER QUALITY"},{"$f":"IF(OR(G29=0,$B29),\"\",ROUND(INDEX(aScores,G29,iCountry!$B$1),0))","v":""},null,{"$f":"iCountry!Y71","v":0},{"$f":"IF(AND($B29=TRUE,L30=\"\"),\"\",IF($B29,INDEX(tblIndicators!$AE$2:$AE$75,C29),IF(K29=0,\"\",INDEX(tblIndicators!$AE$2:$AE$75,K29))))","v":""},{"$f":"IF(OR(K29=0,$B29),\"\",ROUND(INDEX(aScores,K29,iCountry!$B$1),0))","v":""}]
[null,{"$f":"IF(C30=0,FALSE,IF(INDEX(tblIndicators!$D$2:$D$75,C30)=1,TRUE,FALSE))","v":false},{"$f":"iCountry!W72","v":35},{"$f":"IF(C30=0,\"\",IF(AND($B30=TRUE,D31=\"\"),\"\",INDEX(tblIndicators!$AE$2:$AE$75,C30)))","v":"3.1) Agency"},{"$f":"IF(OR(C30=0,$B30),\"\",ROUND(INDEX(aScores,C30,iCountry!$B$1),0))","v":100},null,{"$f":"iCountry!X72","v":37},{"$f":"IF(AND($B30=TRUE,H31=\"\"),\"\",IF($B30,INDEX(tblIndicators!$AE$2:$AE$75,C30),IF(G30=0,\"\",INDEX(tblIndicators!$AE$2:$AE$75,G30))))","v":"3.2) Regulatory standards for water pollution"},{"$f":"IF(OR(G30=0,$B30),\"\",ROUND(INDEX(aScores,G30,iCountry!$B$1),0))","v":45},null,{"$f":"iCountry!Y72","v":0},{"$f":"IF(AND($B30=TRUE,L31=\"\"),\"\",IF($B30,INDEX(tblIndicators!$AE$2:$AE$75,C30),IF(K30=0,\"\",INDEX(tblIndicators!$AE$2:$AE$75,K30))))","v":""},{"$f":"IF(OR(K30=0,$B30),\"\",ROUND(INDEX(aScores,K30,iCountry!$B$1),0))","v":""}]
[null,{"$f":"IF(C31=0,FALSE,IF(INDEX(tblIndicators!$D$2:$D$75,C31)=1,TRUE,FALSE))","v":false},{"$f":"iCountry!W73","v":0},{"$f":"IF(C31=0,\"\",IF(AND($B31=TRUE,D32=\"\"),\"\",INDEX(tblIndicators!$AE$2:$AE$75,C31)))","v":""},{"$f":"IF(OR(C31=0,$B31),\"\",ROUND(INDEX(aScores,C31,iCountry!$B$1),0))","v":""},null,{"$f":"iCountry!X73","v":41},{"$f":"IF(AND($B31=TRUE,H32=\"\"),\"\",IF($B31,INDEX(tblIndicators!$AE$2:$AE$75,C31),IF(G31=0,\"\",INDEX(tblIndicators!$AE$2:$AE$75,G31))))","v":"3.3) Monitoring and enforcement"},{"$f":"IF(OR(G31=0,$B31),\"\",ROUND(INDEX(aScores,G31,iCountry!$B$1),0))","v":42},null,{"$f":"iCountry!Y73","v":0},{"$f":"IF(AND($B31=TRUE,L32=\"\"),\"\",IF($B31,INDEX(tblIndicators!$AE$2:$AE$75,C31),IF(K31=0,\"\",INDEX(tblIndicators!$AE$2:$AE$75,K31))))","v":""},{"$f":"IF(OR(K31=0,$B31),\"\",ROUND(INDEX(aScores,K31,iCountry!$B$1),0))","v":""}]
[null,{"$f":"IF(C32=0,FALSE,IF(INDEX(tblIndicators!$D$2:$D$75,C32)=1,TRUE,FALSE))","v":true},{"$f":"iCountry!W74","v":44},{"$f":"IF(C32=0,\"\",IF(AND($B32=TRUE,D33=\"\"),\"\",INDEX(tblIndicators!$AE$2:$AE$75,C32)))","v":"4) MINERALS AND ENERGY"},{"$f":"IF(OR(C32=0,$B32),\"\",ROUND(INDEX(aScores,C32,iCountry!$B$1),0))","v":""},null,{"$f":"iCountry!X74","v":0},{"$f":"IF(AND($B32=TRUE,H33=\"\"),\"\",IF($B32,INDEX(tblIndicators!$AE$2:$AE$75,C32),IF(G32=0,\"\",INDEX(tblIndicators!$AE$2:$AE$75,G32))))","v":""},{"$f":"IF(OR(G32=0,$B32),\"\",ROUND(INDEX(aScores,G32,iCountry!$B$1),0))","v":""},null,{"$f":"iCountry!Y74","v":0},{"$f":"IF(AND($B32=TRUE,L33=\"\"),\"\",IF($B32,INDEX(tblIndicators!$AE$2:$AE$75,C32),IF(K32=0,\"\",INDEX(tblIndicators!$AE$2:$AE$75,K32))))","v":""},{"$f":"IF(OR(K32=0,$B32),\"\",ROUND(INDEX(aScores,K32,iCountry!$B$1),0))","v":""}]
[null,{"$f":"IF(C33=0,FALSE,IF(INDEX(tblIndicators!$D$2:$D$75,C33)=1,TRUE,FALSE))","v":false},{"$f":"iCountry!W75","v":45},{"$f":"IF(C33=0,\"\",IF(AND($B33=TRUE,D34=\"\"),\"\",INDEX(tblIndicators!$AE$2:$AE$75,C33)))","v":"4.1) Permitting and licensing"},{"$f":"IF(OR(C33=0,$B33),\"\",ROUND(INDEX(aScores,C33,iCountry!$B$1),0))","v":100},null,{"$f":"iCountry!X75","v":0},{"$f":"IF(AND($B33=TRUE,H34=\"\"),\"\",IF($B33,INDEX(tblIndicators!$AE$2:$AE$75,C33),IF(G33=0,\"\",INDEX(tblIndicators!$AE$2:$AE$75,G33))))","v":""},{"$f":"IF(OR(G33=0,$B33),\"\",ROUND(INDEX(aScores,G33,iCountry!$B$1),0))","v":""},null,{"$f":"iCountry!Y75","v":0},{"$f":"IF(AND($B33=TRUE,L34=\"\"),\"\",IF($B33,INDEX(tblIndicators!$AE$2:$AE$75,C33),IF(K33=0,\"\",INDEX(tblIndicators!$AE$2:$AE$75,K33))))","v":""},{"$f":"IF(OR(K33=0,$B33),\"\",ROUND(INDEX(aScores,K33,iCountry!$B$1),0))","v":""}]
[null,{"$f":"IF(C34=0,FALSE,IF(INDEX(tblIndicators!$D$2:$D$75,C34)=1,TRUE,FALSE))","v":false},{"$f":"iCountry!W76","v":48},{"$f":"IF(C34=0,\"\",IF(AND($B34=TRUE,D35=\"\"),\"\",INDEX(tblIndicators!$AE$2:$AE$75,C34)))","v":"4.2) Monitoring and enforcement"},{"$f":"IF(OR(C34=0,$B34),\"\",ROUND(INDEX(aScores,C34,iCountry!$B$1),0))","v":75},null,{"$f":"iCountry!X76","v":0},{"$f":"IF(AND($B34=TRUE,H35=\"\"),\"\",IF($B34,INDEX(tblIndicators!$AE$2:$AE$75,C34),IF(G34=0,\"\",INDEX(tblIndicators!$AE$2:$AE$75,G34))))","v":""},{"$f":"IF(OR(G34=0,$B34),\"\",ROUND(INDEX(aScores,G34,iCountry!$B$1),0))","v":""},null,{"$f":"iCountry!Y76","v":0},{"$f":"IF(AND($B34=TRUE,L35=\"\"),\"\",IF($B34,INDEX(tblIndicators!$AE$2:$AE$75,C34),IF(K34=0,\"\",INDEX(tblIndicators!$AE$2:$AE$75,K34))))","v":""},{"$f":"IF(OR(K34=0,$B34),\"\",ROUND(INDEX(aScores,K34,iCountry!$B$1),0))","v":""}]
[null,{"$f":"IF(C35=0,FALSE,IF(INDEX(tblIndicators!$D$2:$D$75,C35)=1,TRUE,FALSE))","v":false},{"$f":"iCountry!W77","v":53},{"$f":"IF(C35=0,\"\",IF(AND($B35=TRUE,D36=\"\"),\"\",INDEX(tblIndicators!$AE$2:$AE$75,C35)))","v":"4.3) Risk mitigation"},{"$f":"IF(OR(C35=0,$B35),\"\",ROUND(INDEX(aScores,C35,iCountry!$B$1),0))","v":83},null,{"$f":"iCountry!X77","v":0},{"$f":"IF(AND($B35=TRUE,H36=\"\"),\"\",IF($B35,INDEX(tblIndicators!$AE$2:$AE$75,C35),IF(G35=0,\"\",INDEX(tblIndicators!$AE$2:$AE$75,G35))))","v":""},{"$f":"IF(OR(G35=0,$B35),\"\",ROUND(INDEX(aScores,G35,iCountry!$B$1),0))","v":""},null,{"$f":"iCountry!Y77","v":0},{"$f":"IF(AND($B35=TRUE,L36=\"\"),\"\",IF($B35,INDEX(tblIndicators!$AE$2:$AE$75,C35),IF(K35=0,\"\",INDEX(tblIndicators!$AE$2:$AE$75,K35))))","v":""},{"$f":"IF(OR(K35=0,$B35),\"\",ROUND(INDEX(aScores,K35,iCountry!$B$1),0))","v":""}]
[null,{"$f":"IF(C36=0,FALSE,IF(INDEX(tblIndicators!$D$2:$D$75,C36)=1,TRUE,FALSE))","v":true},{"$f":"iCountry!W78","v":57},{"$f":"IF(C36=0,\"\",IF(AND($B36=TRUE,D37=\"\"),\"\",INDEX(tblIndicators!$AE$2:$AE$75,C36)))","v":"5) LAND"},{"$f":"IF(OR(C36=0,$B36),\"\",ROUND(INDEX(aScores,C36,iCountry!$B$1),0))","v":""},null,{"$f":"iCountry!X78","v":0},{"$f":"IF(AND($B36=TRUE,H37=\"\"),\"\",IF($B36,INDEX(tblIndicators!$AE$2:$AE$75,C36),IF(G36=0,\"\",INDEX(tblIndicators!$AE$2:$AE$75,G36))))","v":"5) LAND"},{"$f":"IF(OR(G36=0,$B36),\"\",ROUND(INDEX(aScores,G36,iCountry!$B$1),0))","v":""},null,{"$f":"iCountry!Y78","v":0},{"$f":"IF(AND($B36=TRUE,L37=\"\"),\"\",IF($B36,INDEX(tblIndicators!$AE$2:$AE$75,C36),IF(K36=0,\"\",INDEX(tblIndicators!$AE$2:$AE$75,K36))))","v":""},{"$f":"IF(OR(K36=0,$B36),\"\",ROUND(INDEX(aScores,K36,iCountry!$B$1),0))","v":""}]
[null,{"$f":"IF(C37=0,FALSE,IF(INDEX(tblIndicators!$D$2:$D$75,C37)=1,TRUE,FALSE))","v":false},{"$f":"iCountry!W79","v":65},{"$f":"IF(C37=0,\"\",IF(AND($B37=TRUE,D38=\"\"),\"\",INDEX(tblIndicators!$AE$2:$AE$75,C37)))","v":"5.4) Natural disaster risk mitigation"},{"$f":"IF(OR(C37=0,$B37),\"\",ROUND(INDEX(aScores,C37,iCountry!$B$1),0))","v":100},null,{"$f":"iCountry!X79","v":58},{"$f":"IF(AND($B37=TRUE,H38=\"\"),\"\",IF($B37,INDEX(tblIndicators!$AE$2:$AE$75,C37),IF(G37=0,\"\",INDEX(tblIndicators!$AE$2:$AE$75,G37))))","v":"5.1) Prevalence of coastal protected areas"},{"$f":"IF(OR(G37=0,$B37),\"\",ROUND(INDEX(aScores,G37,iCountry!$B$1),0))","v":50},null,{"$f":"iCountry!Y79","v":0},{"$f":"IF(AND($B37=TRUE,L38=\"\"),\"\",IF($B37,INDEX(tblIndicators!$AE$2:$AE$75,C37),IF(K37=0,\"\",INDEX(tblIndicators!$AE$2:$AE$75,K37))))","v":""},{"$f":"IF(OR(K37=0,$B37),\"\",ROUND(INDEX(aScores,K37,iCountry!$B$1),0))","v":""}]
[null,{"$f":"IF(C38=0,FALSE,IF(INDEX(tblIndicators!$D$2:$D$75,C38)=1,TRUE,FALSE))","v":false},{"$f":"iCountry!W80","v":0},{"$f":"IF(C38=0,\"\",IF(AND($B38=TRUE,D39=\"\"),\"\",INDEX(tblIndicators!$AE$2:$AE$75,C38)))","v":""},{"$f":"IF(OR(C38=0,$B38),\"\",ROUND(INDEX(aScores,C38,iCountry!$B$1),0))","v":""},null,{"$f":"iCountry!X80","v":60},{"$f":"IF(AND($B38=TRUE,H39=\"\"),\"\",IF($B38,INDEX(tblIndicators!$AE$2:$AE$75,C38),IF(G38=0,\"\",INDEX(tblIndicators!$AE$2:$AE$75,G38))))","v":"5.2) Environmental impact of coastal development"},{"$f":"IF(OR(G38=0,$B38),\"\",ROUND(INDEX(aScores,G38,iCountry!$B$1),0))","v":50},null,{"$f":"iCountry!Y80","v":0},{"$f":"IF(AND($B38=TRUE,L39=\"\"),\"\",IF($B38,INDEX(tblIndicators!$AE$2:$AE$75,C38),IF(K38=0,\"\",INDEX(tblIndicators!$AE$2:$AE$75,K38))))","v":""},{"$f":"IF(OR(K38=0,$B38),\"\",ROUND(INDEX(aScores,K38,iCountry!$B$1),0))","v":""}]
[null,{"$f":"IF(C39=0,FALSE,IF(INDEX(tblIndicators!$D$2:$D$75,C39)=1,TRUE,FALSE))","v":false},{"$f":"iCountry!W81","v":0},{"$f":"IF(C39=0,\"\",IF(AND($B39=TRUE,D40=\"\"),\"\",INDEX(tblIndicators!$AE$2:$AE$75,C39)))","v":""},{"$f":"IF(OR(C39=0,$B39),\"\",ROUND(INDEX(aScores,C39,iCountry!$B$1),0))","v":""},null,{"$f":"iCountry!X81","v":63},{"$f":"IF(AND($B39=TRUE,H40=\"\"),\"\",IF($B39,INDEX(tblIndicators!$AE$2:$AE$75,C39),IF(G39=0,\"\",INDEX(tblIndicators!$AE$2:$AE$75,G39))))","v":"5.3) Government commitment to sustainability in coastal tourism development"},{"$f":"IF(OR(G39=0,$B39),\"\",ROUND(INDEX(aScores,G39,iCountry!$B$1),0))","v":44},null,{"$f":"iCountry!Y81","v":0},{"$f":"IF(AND($B39=TRUE,L40=\"\"),\"\",IF($B39,INDEX(tblIndicators!$AE$2:$AE$75,C39),IF(K39=0,\"\",INDEX(tblIndicators!$AE$2:$AE$75,K39))))","v":""},{"$f":"IF(OR(K39=0,$B39),\"\",ROUND(INDEX(aScores,K39,iCountry!$B$1),0))","v":""}]
[null,{"$f":"IF(C40=0,FALSE,IF(INDEX(tblIndicators!$D$2:$D$75,C40)=1,TRUE,FALSE))","v":true},{"$f":"iCountry!W82","v":67},{"$f":"IF(C40=0,\"\",IF(AND($B40=TRUE,D41=\"\"),\"\",INDEX(tblIndicators!$AE$2:$AE$75,C40)))","v":""},{"$f":"IF(OR(C40=0,$B40),\"\",ROUND(INDEX(aScores,C40,iCountry!$B$1),0))","v":""},null,{"$f":"iCountry!X82","v":0},{"$f":"IF(AND($B40=TRUE,H41=\"\"),\"\",IF($B40,INDEX(tblIndicators!$AE$2:$AE$75,C40),IF(G40=0,\"\",INDEX(tblIndicators!$AE$2:$AE$75,G40))))","v":"6) LIVING RESOURCES"},{"$f":"IF(OR(G40=0,$B40),\"\",ROUND(INDEX(aScores,G40,iCountry!$B$1),0))","v":""},null,{"$f":"iCountry!Y82","v":0},{"$f":"IF(AND($B40=TRUE,L41=\"\"),\"\",IF($B40,INDEX(tblIndicators!$AE$2:$AE$75,C40),IF(K40=0,\"\",INDEX(tblIndicators!$AE$2:$AE$75,K40))))","v":"6) LIVING RESOURCES"},{"$f":"IF(OR(K40=0,$B40),\"\",ROUND(INDEX(aScores,K40,iCountry!$B$1),0))","v":""}]
[null,{"$f":"IF(C41=0,FALSE,IF(INDEX(tblIndicators!$D$2:$D$75,C41)=1,TRUE,FALSE))","v":false},{"$f":"iCountry!W83","v":0},{"$f":"IF(C41=0,\"\",IF(AND($B41=TRUE,D42=\"\"),\"\",INDEX(tblIndicators!$AE$2:$AE$75,C41)))","v":""},{"$f":"IF(OR(C41=0,$B41),\"\",ROUND(INDEX(aScores,C41,iCountry!$B$1),0))","v":""},null,{"$f":"iCountry!X83","v":68},{"$f":"IF(AND($B41=TRUE,H42=\"\"),\"\",IF($B41,INDEX(tblIndicators!$AE$2:$AE$75,C41),IF(G41=0,\"\",INDEX(tblIndicators!$AE$2:$AE$75,G41))))","v":"6.1) Fisheries governance and management effectiveness"},{"$f":"IF(OR(G41=0,$B41),\"\",ROUND(INDEX(aScores,G41,iCountry!$B$1),0))","v":44},null,{"$f":"iCountry!Y83","v":73},{"$f":"IF(AND($B41=TRUE,L42=\"\"),\"\",IF($B41,INDEX(tblIndicators!$AE$2:$AE$75,C41),IF(K41=0,\"\",INDEX(tblIndicators!$AE$2:$AE$75,K41))))","v":"6.3) Ballast water treatment"},{"$f":"IF(OR(K41=0,$B41),\"\",ROUND(INDEX(aScores,K41,iCountry!$B$1),0))","v":0}]
[null,{"$f":"IF(C42=0,FALSE,IF(INDEX(tblIndicators!$D$2:$D$75,C42)=1,TRUE,FALSE))","v":false},{"$f":"iCountry!W84","v":0},{"$f":"IF(C42=0,\"\",IF(AND($B42=TRUE,D43=\"\"),\"\",INDEX(tblIndicators!$AE$2:$AE$75,C42)))","v":""},{"$f":"IF(OR(C42=0,$B42),\"\",ROUND(INDEX(aScores,C42,iCountry!$B$1),0))","v":""},null,{"$f":"iCountry!X84","v":70},{"$f":"IF(AND($B42=TRUE,H43=\"\"),\"\",IF($B42,INDEX(tblIndicators!$AE$2:$AE$75,C42),IF(G42=0,\"\",INDEX(tblIndicators!$AE$2:$AE$75,G42))))","v":"6.2) Protection for marine/coastal species"},{"$f":"IF(OR(G42=0,$B42),\"\",ROUND(INDEX(aScores,G42,iCountry!$B$1),0))","v":50},null,{"$f":"iCountry!Y84","v":0},{"$f":"IF(AND($B42=TRUE,L43=\"\"),\"\",IF($B42,INDEX(tblIndicators!$AE$2:$AE$75,C42),IF(K42=0,\"\",INDEX(tblIndicators!$AE$2:$AE$75,K42))))","v":""},{"$f":"IF(OR(K42=0,$B42),\"\",ROUND(INDEX(aScores,K42,iCountry!$B$1),0))","v":""}]
[null,{"$f":"IF(C43=0,FALSE,IF(INDEX(tblIndicators!$D$2:$D$75,C43)=1,TRUE,FALSE))","v":false},{"$f":"iCountry!W85","v":0},{"$f":"IF(C43=0,\"\",IF(AND($B43=TRUE,D44=\"\"),\"\",INDEX(tblIndicators!$AE$2:$AE$75,C43)))","v":""},{"$f":"IF(OR(C43=0,$B43),\"\",ROUND(INDEX(aScores,C43,iCountry!$B$1),0))","v":""},null,{"$f":"iCountry!X85","v":0},{"$f":"IF(AND($B43=TRUE,H44=\"\"),\"\",IF($B43,INDEX(tblIndicators!$AE$2:$AE$75,C43),IF(G43=0,\"\",INDEX(tblIndicators!$AE$2:$AE$75,G43))))","v":""},{"$f":"IF(OR(G43=0,$B43),\"\",ROUND(INDEX(aScores,G43,iCountry!$B$1),0))","v":""},null,{"$f":"iCountry!Y85","v":0},{"$f":"IF(AND($B43=TRUE,L44=\"\"),\"\",IF($B43,INDEX(tblIndicators!$AE$2:$AE$75,C43),IF(K43=0,\"\",INDEX(tblIndicators!$AE$2:$AE$75,K43))))","v":""},{"$f":"IF(OR(K43=0,$B43),\"\",ROUND(INDEX(aScores,K43,iCountry!$B$1),0))","v":""}]
[null,{"$f":"IF(C44=0,FALSE,IF(INDEX(tblIndicators!$D$2:$D$75,C44)=1,TRUE,FALSE))","v":false},{"$f":"iCountry!W86","v":0},{"$f":"IF(C44=0,\"\",IF(AND($B44=TRUE,D45=\"\"),\"\",INDEX(tblIndicators!$AE$2:$AE$75,C44)))","v":""},{"$f":"IF(OR(C44=0,$B44),\"\",ROUND(INDEX(aScores,C44,iCountry!$B$1),0))","v":""},null,{"$f":"iCountry!X86","v":0},{"$f":"IF(AND($B44=TRUE,H45=\"\"),\"\",IF($B44,INDEX(tblIndicators!$AE$2:$AE$75,C44),IF(G44=0,\"\",INDEX(tblIndicators!$AE$2:$AE$75,G44))))","v":""},{"$f":"IF(OR(G44=0,$B44),\"\",ROUND(INDEX(aScores,G44,iCountry!$B$1),0))","v":""},null,{"$f":"iCountry!Y86","v":0},{"$f":"IF(AND($B44=TRUE,L45=\"\"),\"\",IF($B44,INDEX(tblIndicators!$AE$2:$AE$75,C44),IF(K44=0,\"\",INDEX(tblIndicators!$AE$2:$AE$75,K44))))","v":""},{"$f":"IF(OR(K44=0,$B44),\"\",ROUND(INDEX(aScores,K44,iCountry!$B$1),0))","v":""}]
[null,{"$f":"IF(C45=0,FALSE,IF(INDEX(tblIndicators!$D$2:$D$75,C45)=1,TRUE,FALSE))","v":false},{"$f":"iCountry!W87","v":0},{"$f":"IF(C45=0,\"\",IF(AND($B45=TRUE,D46=\"\"),\"\",INDEX(tblIndicators!$AE$2:$AE$75,C45)))","v":""},{"$f":"IF(OR(C45=0,$B45),\"\",ROUND(INDEX(aScores,C45,iCountry!$B$1),0))","v":""},null,{"$f":"iCountry!X87","v":0},{"$f":"IF(AND($B45=TRUE,H46=\"\"),\"\",IF($B45,INDEX(tblIndicators!$AE$2:$AE$75,C45),IF(G45=0,\"\",INDEX(tblIndicators!$AE$2:$AE$75,G45))))","v":""},{"$f":"IF(OR(G45=0,$B45),\"\",ROUND(INDEX(aScores,G45,iCountry!$B$1),0))","v":""},null,{"$f":"iCountry!Y87","v":0},{"$f":"IF(AND($B45=TRUE,L46=\"\"),\"\",IF($B45,INDEX(tblIndicators!$AE$2:$AE$75,C45),IF(K45=0,\"\",INDEX(tblIndicators!$AE$2:$AE$75,K45))))","v":""},{"$f":"IF(OR(K45=0,$B45),\"\",ROUND(INDEX(aScores,K45,iCountry!$B$1),0))","v":""}]
[null,{"$f":"IF(C46=0,FALSE,IF(INDEX(tblIndicators!$D$2:$D$75,C46)=1,TRUE,FALSE))","v":false},{"$f":"iCountry!W88","v":0},{"$f":"IF(C46=0,\"\",IF(AND($B46=TRUE,D47=\"\"),\"\",INDEX(tblIndicators!$AE$2:$AE$75,C46)))","v":""},{"$f":"IF(OR(C46=0,$B46),\"\",ROUND(INDEX(aScores,C46,iCountry!$B$1),0))","v":""},null,{"$f":"iCountry!X88","v":0},{"$f":"IF(AND($B46=TRUE,H47=\"\"),\"\",IF($B46,INDEX(tblIndicators!$AE$2:$AE$75,C46),IF(G46=0,\"\",INDEX(tblIndicators!$AE$2:$AE$75,G46))))","v":""},{"$f":"IF(OR(G46=0,$B46),\"\",ROUND(INDEX(aScores,G46,iCountry!$B$1),0))","v":""},null,{"$f":"iCountry!Y88","v":0},{"$f":"IF(AND($B46=TRUE,L47=\"\"),\"\",IF($B46,INDEX(tblIndicators!$AE$2:$AE$75,C46),IF(K46=0,\"\",INDEX(tblIndicators!$AE$2:$AE$75,K46))))","v":""},{"$f":"IF(OR(K46=0,$B46),\"\",ROUND(INDEX(aScores,K46,iCountry!$B$1),0))","v":""}]
[null,{"$f":"IF(C47=0,FALSE,IF(INDEX(tblIndicators!$D$2:$D$75,C47)=1,TRUE,FALSE))","v":false},{"$f":"iCountry!W89","v":0},{"$f":"IF(C47=0,\"\",IF(AND($B47=TRUE,D48=\"\"),\"\",INDEX(tblIndicators!$AE$2:$AE$75,C47)))","v":""},{"$f":"IF(OR(C47=0,$B47),\"\",ROUND(INDEX(aScores,C47,iCountry!$B$1),0))","v":""},null,{"$f":"iCountry!X89","v":0},{"$f":"IF(AND($B47=TRUE,H48=\"\"),\"\",IF($B47,INDEX(tblIndicators!$AE$2:$AE$75,C47),IF(G47=0,\"\",INDEX(tblIndicators!$AE$2:$AE$75,G47))))","v":""},{"$f":"IF(OR(G47=0,$B47),\"\",ROUND(INDEX(aScores,G47,iCountry!$B$1),0))","v":""},null,{"$f":"iCountry!Y89","v":0},{"$f":"IF(AND($B47=TRUE,L48=\"\"),\"\",IF($B47,INDEX(tblIndicators!$AE$2:$AE$75,C47),IF(K47=0,\"\",INDEX(tblIndicators!$AE$2:$AE$75,K47))))","v":""},{"$f":"IF(OR(K47=0,$B47),\"\",ROUND(INDEX(aScores,K47,iCountry!$B$1),0))","v":""}]
[null,{"$f":"IF(C48=0,FALSE,IF(INDEX(tblIndicators!$D$2:$D$75,C48)=1,TRUE,FALSE))","v":false},{"$f":"iCountry!W90","v":0},{"$f":"IF(C48=0,\"\",IF(AND($B48=TRUE,D49=\"\"),\"\",INDEX(tblIndicators!$AE$2:$AE$75,C48)))","v":""},{"$f":"IF(OR(C48=0,$B48),\"\",ROUND(INDEX(aScores,C48,iCountry!$B$1),0))","v":""},null,{"$f":"iCountry!X90","v":0},{"$f":"IF(AND($B48=TRUE,H49=\"\"),\"\",IF($B48,INDEX(tblIndicators!$AE$2:$AE$75,C48),IF(G48=0,\"\",INDEX(tblIndicators!$AE$2:$AE$75,G48))))","v":""},{"$f":"IF(OR(G48=0,$B48),\"\",ROUND(INDEX(aScores,G48,iCountry!$B$1),0))","v":""},null,{"$f":"iCountry!Y90","v":0},{"$f":"IF(AND($B48=TRUE,L49=\"\"),\"\",IF($B48,INDEX(tblIndicators!$AE$2:$AE$75,C48),IF(K48=0,\"\",INDEX(tblIndicators!$AE$2:$AE$75,K48))))","v":""},{"$f":"IF(OR(K48=0,$B48),\"\",ROUND(INDEX(aScores,K48,iCountry!$B$1),0))","v":""}]
[null,{"$f":"IF(C49=0,FALSE,IF(INDEX(tblIndicators!$D$2:$D$75,C49)=1,TRUE,FALSE))","v":false},{"$f":"iCountry!W91","v":0},{"$f":"IF(C49=0,\"\",IF(AND($B49=TRUE,D50=\"\"),\"\",INDEX(tblIndicators!$AE$2:$AE$75,C49)))","v":""},{"$f":"IF(OR(C49=0,$B49),\"\",ROUND(INDEX(aScores,C49,iCountry!$B$1),0))","v":""},null,{"$f":"iCountry!X91","v":0},{"$f":"IF(AND($B49=TRUE,H50=\"\"),\"\",IF($B49,INDEX(tblIndicators!$AE$2:$AE$75,C49),IF(G49=0,\"\",INDEX(tblIndicators!$AE$2:$AE$75,G49))))","v":""},{"$f":"IF(OR(G49=0,$B49),\"\",ROUND(INDEX(aScores,G49,iCountry!$B$1),0))","v":""},null,{"$f":"iCountry!Y91","v":0},{"$f":"IF(AND($B49=TRUE,L50=\"\"),\"\",IF($B49,INDEX(tblIndicators!$AE$2:$AE$75,C49),IF(K49=0,\"\",INDEX(tblIndicators!$AE$2:$AE$75,K49))))","v":""},{"$f":"IF(OR(K49=0,$B49),\"\",ROUND(INDEX(aScores,K49,iCountry!$B$1),0))","v":""}]
[null,{"$f":"IF(C50=0,FALSE,IF(INDEX(tblIndicators!$D$2:$D$75,C50)=1,TRUE,FALSE))","v":false},{"$f":"iCountry!W92","v":0},{"$f":"IF(C50=0,\"\",IF(AND($B50=TRUE,D51=\"\"),\"\",INDEX(tblIndicators!$AE$2:$AE$75,C50)))","v":""},{"$f":"IF(OR(C50=0,$B50),\"\",ROUND(INDEX(aScores,C50,iCountry!$B$1),0))","v":""},null,{"$f":"iCountry!X92","v":0},{"$f":"IF(AND($B50=TRUE,H51=\"\"),\"\",IF($B50,INDEX(tblIndicators!$AE$2:$AE$75,C50),IF(G50=0,\"\",INDEX(tblIndicators!$AE$2:$AE$75,G50))))","v":""},{"$f":"IF(OR(G50=0,$B50),\"\",ROUND(INDEX(aScores,G50,iCountry!$B$1),0))","v":""},null,{"$f":"iCountry!Y92","v":0},{"$f":"IF(AND($B50=TRUE,L51=\"\"),\"\",IF($B50,INDEX(tblIndicators!$AE$2:$AE$75,C50),IF(K50=0,\"\",INDEX(tblIndicators!$AE$2:$AE$75,K50))))","v":""},{"$f":"IF(OR(K50=0,$B50),\"\",ROUND(INDEX(aScores,K50,iCountry!$B$1),0))","v":""}]
[null,{"$f":"IF(C51=0,FALSE,IF(INDEX(tblIndicators!$D$2:$D$75,C51)=1,TRUE,FALSE))","v":false},{"$f":"iCountry!W93","v":0},{"$f":"IF(C51=0,\"\",IF(AND($B51=TRUE,D52=\"\"),\"\",INDEX(tblIndicators!$AE$2:$AE$75,C51)))","v":""},{"$f":"IF(OR(C51=0,$B51),\"\",ROUND(INDEX(aScores,C51,iCountry!$B$1),0))","v":""},null,{"$f":"iCountry!X93","v":0},{"$f":"IF($B51,INDEX(tblIndicators!$AE$2:$AE$75,C51),IF(G51=0,\"\",INDEX(tblIndicators!$AE$2:$AE$75,G51)))","v":""},{"$f":"IF(OR(G51=0,$B51),\"\",ROUND(INDEX(aScores,G51,iCountry!$B$1),0))","v":""},null,{"$f":"iCountry!Y93","v":0},{"$f":"IF($B51,INDEX(tblIndicators!$AE$2:$AE$75,C51),IF(K51=0,\"\",INDEX(tblIndicators!$AE$2:$AE$75,K51)))","v":""},{"$f":"IF(OR(K51=0,$B51),\"\",ROUND(INDEX(aScores,K51,iCountry!$B$1),0))","v":""}]
[null,{"$f":"IF(C52=0,FALSE,IF(INDEX(tblIndicators!$D$2:$D$75,C52)=1,TRUE,FALSE))","v":false},{"$f":"iCountry!W94","v":0},{"$f":"IF(C52=0,\"\",IF(AND($B52=TRUE,D53=\"\"),\"\",INDEX(tblIndicators!$AE$2:$AE$75,C52)))","v":""},{"$f":"IF(OR(C52=0,$B52),\"\",ROUND(INDEX(aScores,C52,iCountry!$B$1),0))","v":""},null,{"$f":"iCountry!X94","v":0},{"$f":"IF($B52,INDEX(tblIndicators!$AE$2:$AE$75,C52),IF(G52=0,\"\",INDEX(tblIndicators!$AE$2:$AE$75,G52)))","v":""},{"$f":"IF(OR(G52=0,$B52),\"\",ROUND(INDEX(aScores,G52,iCountry!$B$1),0))","v":""},null,{"$f":"iCountry!Y94","v":0},{"$f":"IF($B52,INDEX(tblIndicators!$AE$2:$AE$75,C52),IF(K52=0,\"\",INDEX(tblIndicators!$AE$2:$AE$75,K52)))","v":""},{"$f":"IF(OR(K52=0,$B52),\"\",ROUND(INDEX(aScores,K52,iCountry!$B$1),0))","v":""}]
[null,{"$f":"IF(C53=0,FALSE,IF(INDEX(tblIndicators!$D$2:$D$75,C53)=1,TRUE,FALSE))","v":false},{"$f":"iCountry!W95","v":0},{"$f":"IF(C53=0,\"\",IF(AND($B53=TRUE,D54=\"\"),\"\",INDEX(tblIndicators!$AE$2:$AE$75,C53)))","v":""},{"$f":"IF(OR(C53=0,$B53),\"\",ROUND(INDEX(aScores,C53,iCountry!$B$1),0))","v":""},null,{"$f":"iCountry!X95","v":0},{"$f":"IF($B53,INDEX(tblIndicators!$AE$2:$AE$75,C53),IF(G53=0,\"\",INDEX(tblIndicators!$AE$2:$AE$75,G53)))","v":""},{"$f":"IF(OR(G53=0,$B53),\"\",ROUND(INDEX(aScores,G53,iCountry!$B$1),0))","v":""},null,{"$f":"iCountry!Y95","v":0},{"$f":"IF($B53,INDEX(tblIndicators!$AE$2:$AE$75,C53),IF(K53=0,\"\",INDEX(tblIndicators!$AE$2:$AE$75,K53)))","v":""},{"$f":"IF(OR(K53=0,$B53),\"\",ROUND(INDEX(aScores,K53,iCountry!$B$1),0))","v":""}]

{"sheet":"Country_Scores","index":15,"n_rows":41,"n_cols":10,"rows_kept":41,"cut":false,"hidden":false,"merged":[]}
["COUNTRY SCORES",null,null,null,null,null,null,null,null,"WEIGHT PROFILE"]
[null,"SELECT COUNTRY"]
[]
[null,{"$f":"UPPER(iWorks!$C$36)","v":"NIGERIA"}]
[null,"2015 scores and ranks"]
[null,{"$f":"iWorks!$B$12","v":"Scores are normalized (0-100, where 100=most favorable)"}]
[]
[null,null,"Score / 100",{"$f":"iWorks!$C$9","v":"Rank / 20"}]
[null,{"$f":"iCountry!C27","v":"OVERALL SCORE"},{"$f":"iCountry!H27","v":50.075062285380596},{"$f":"iCountry!G27","v":"19"}]
[null,{"$f":"iCountry!C28","v":"1) POLICY AND INSTITUTIONAL CAPACITY"},{"$f":"iCountry!H28","v":42.857142857142854},{"$f":"iCountry!G28","v":"17"}]
[null,{"$f":"iCountry!C29","v":"1.1) Coastal management policy and strategy"},{"$f":"iCountry!H29","v":0},{"$f":"iCountry!G29","v":"=18"}]
[null,{"$f":"iCountry!C30","v":"1.2) Presence of established institution(s)"},{"$f":"iCountry!H30","v":0},{"$f":"iCountry!G30","v":"=18"}]
[null,{"$f":"iCountry!C31","v":"1.3) National strategy to adapt to climate change"},{"$f":"iCountry!H31","v":100},{"$f":"iCountry!G31","v":"=1"}]
[null,{"$f":"iCountry!C32","v":"1.4) Maritime Spatial Planning"},{"$f":"iCountry!H32","v":0},{"$f":"iCountry!G32","v":"=13"}]
[null,{"$f":"iCountry!C33","v":"1.5) Stakeholder engagement"},{"$f":"iCountry!H33","v":0},{"$f":"iCountry!G33","v":"=18"}]
[null,{"$f":"iCountry!C34","v":"1.6) Extractive industries transparency"},{"$f":"iCountry!H34","v":100},{"$f":"iCountry!G34","v":"=1"}]
[null,{"$f":"iCountry!C35","v":"1.7) Adoption of the United Nations Convention on the Law of the Sea (UNCLOS)"},{"$f":"iCountry!H35","v":100},{"$f":"iCountry!G35","v":"=1"}]
[null,{"$f":"iCountry!C36","v":"2) BUSINESS ENVIRONMENT FOR COASTAL ACTIVITIES"},{"$f":"iCountry!H36","v":16.787856041666668},{"$f":"iCountry!G36","v":"20"}]
[null,{"$f":"iCountry!C37","v":"2.1) Ease of doing business"},{"$f":"iCountry!H37","v":40},{"$f":"iCountry!G37","v":"20"}]
[null,{"$f":"iCountry!C38","v":"2.2) Corruption perception"},{"$f":"iCountry!H38","v":9.0909099999999992},{"$f":"iCountry!G38","v":"20"}]
[null,{"$f":"iCountry!C39","v":"2.3) Effectiveness of dispute resolution mechanisms"},{"$f":"iCountry!H39","v":0},{"$f":"iCountry!G39","v":"20"}]
[null,{"$f":"iCountry!C40","v":"2.4) Quality of coastal infrastructure"},{"$f":"iCountry!H40","v":18.060514166666668},{"$f":"iCountry!G40","v":"20"}]
[null,{"$f":"iCountry!C41","v":"3) WATER QUALITY"},{"$f":"iCountry!H41","v":62.231111111111105},{"$f":"iCountry!G41","v":"18"}]
[null,{"$f":"iCountry!C42","v":"3.1) Agency"},{"$f":"iCountry!H42","v":100},{"$f":"iCountry!G42","v":"=1"}]
[null,{"$f":"iCountry!C43","v":"3.2) Regulatory standards for water pollution"},{"$f":"iCountry!H43","v":45.026666666666664},{"$f":"iCountry!G43","v":"=16"}]
[null,{"$f":"iCountry!C44","v":"3.3) Monitoring and enforcement"},{"$f":"iCountry!H44","v":41.666666666666664},{"$f":"iCountry!G44","v":"=18"}]
[null,{"$f":"iCountry!C45","v":"4) MINERALS AND ENERGY"},{"$f":"iCountry!H45","v":86.1111111111111},{"$f":"iCountry!G45","v":"=3"}]
[null,{"$f":"iCountry!C46","v":"4.1) Permitting and licensing"},{"$f":"iCountry!H46","v":100},{"$f":"iCountry!G46","v":"=1"}]
[null,{"$f":"iCountry!C47","v":"4.2) Monitoring and enforcement"},{"$f":"iCountry!H47","v":75},{"$f":"iCountry!G47","v":"=1"}]
[null,{"$f":"iCountry!C48","v":"4.3) Risk mitigation"},{"$f":"iCountry!H48","v":83.333333333333314},{"$f":"iCountry!G48","v":"=4"}]
[null,{"$f":"iCountry!C49","v":"5) LAND"},{"$f":"iCountry!H49","v":61.041666666666664},{"$f":"iCountry!G49","v":"16"}]
[null,{"$f":"iCountry!C50","v":"5.1) Prevalence of coastal protected areas"},{"$f":"iCountry!H50","v":50},{"$f":"iCountry!G50","v":"=7"}]
[null,{"$f":"iCountry!C51","v":"5.2) Environmental impact of coastal development"},{"$f":"iCountry!H51","v":50},{"$f":"iCountry!G51","v":"=16"}]
[null,{"$f":"iCountry!C52","v":"5.3) Government commitment to sustainability in coastal tourism development"},{"$f":"iCountry!H52","v":44.166666666666664},{"$f":"iCountry!G52","v":"19"}]
[null,{"$f":"iCountry!C53","v":"5.4) Natural disaster risk mitigation"},{"$f":"iCountry!H53","v":100},{"$f":"iCountry!G53","v":"=1"}]
[null,{"$f":"iCountry!C54","v":"6) LIVING RESOURCES"},{"$f":"iCountry!H54","v":31.421485924585198},{"$f":"iCountry!G54","v":"=17"}]
[null,{"$f":"iCountry!C55","v":"6.1) Fisheries governance and management effectiveness"},{"$f":"iCountry!H55","v":44.264457773755609},{"$f":"iCountry!G55","v":"=15"}]
[null,{"$f":"iCountry!C56","v":"6.2) Protection for marine/coastal species"},{"$f":"iCountry!H56","v":50},{"$f":"iCountry!G56","v":"=10"}]
[null,{"$f":"iCountry!C57","v":"6.3) Ballast water treatment"},{"$f":"iCountry!H57","v":0},{"$f":"iCountry!G57","v":"=11"}]
[]
[null,{"$f":"iWorks!$B$10","v":"= denotes tie in rank"}]

{"sheet":"iSixComp","index":16,"n_rows":77,"n_cols":26,"rows_kept":77,"cut":false,"hidden":true,"merged":[]}
["COUNTRY_COUNT",{"$f":"6-COUNTIF(D4:I4,-1)","v":6}]
["TOTAL_COUNTRIES",{"$f":"iWorks!$B$9","v":20}]
["SHOW_AVERAGE",{"$f":"iWorks!$B$106","v":true},null,1,2,3,4,5,6,{"$f":"SUM(OFFSET(tblCountries!$Q$3,0,$B$4-1,$B$2,1))","v":20}]
["REGION_FILTER_ID",{"$f":"iWorks!B83","v":1},{"$f":"iWorks!C83","v":"All Countries"},{"$f":"INDEX(iWorks!$B$99:$B$104,D3)","v":1},{"$f":"INDEX(iWorks!$B$99:$B$104,E3)","v":7},{"$f":"INDEX(iWorks!$B$99:$B$104,F3)","v":20},{"$f":"INDEX(iWorks!$B$99:$B$104,G3)","v":13},{"$f":"INDEX(iWorks!$B$99:$B$104,H3)","v":14},{"$f":"INDEX(iWorks!$B$99:$B$104,I3)","v":16},{"$f":"IF(B3,0,-1)","v":0},null,"RANK",null,null,null,null,null,null,null,"MATCHRANK"]
[]
[null,null,"RowLU",{"$f":"INDEX(luCountries,D4)","v":"Brazil"},"Indonesia","Vietnam","Peru","Philippines","South Africa",{"$f":"C4","v":"All Countries"},null,null,null,null,null,null,null,null,null,1,2,3,4,5,6,7]
[{"$f":"tblIndiSets!A3","v":"OVERALL"},{"$f":"tblIndiSets!C3","v":"OVERALL SCORE"},{"$f":"tblIndiSets!B3","v":1},{"$f":"IF(D$4=-1,\"\",INDEX(aScores,$C7,D$4))","v":66.512663123204533},56.953006340747656,56.704826834920624,55.138376508516096,59.344767032375628,67.871569791374654,{"$f":"IF(J$4=-1,\"\",MMULT(OFFSET(aScores,$C7-1,0,1,$B$2),OFFSET(tblCountries!$Q$3,0,$B$4-1,$B$2,1))/$J$3)","v":66.880547052956061},null,{"$f":"RANK(D7,$D7:$J7)+COUNTIF(D7:$J7,D7)-1","v":3},{"$f":"RANK(E7,$D7:$J7)+COUNTIF(E7:$J7,E7)-1","v":5},{"$f":"RANK(F7,$D7:$J7)+COUNTIF(F7:$J7,F7)-1","v":6},{"$f":"RANK(G7,$D7:$J7)+COUNTIF(G7:$J7,G7)-1","v":7},{"$f":"RANK(H7,$D7:$J7)+COUNTIF(H7:$J7,H7)-1","v":4},{"$f":"RANK(I7,$D7:$J7)+COUNTIF(I7:$J7,I7)-1","v":1},{"$f":"RANK(J7,$D7:$J7)+COUNTIF(J7:$J7,J7)-1","v":2},null,{"$f":"MATCH(T$6,$L7:$R7,0)","v":6},7,1,5,2,3,4]
[{"$f":"tblIndiSets!A4","v":"PLCAP"},{"$f":"tblIndiSets!C4","v":"1) POLICY AND INSTITUTIONAL CAPACITY"},{"$f":"tblIndiSets!B4","v":2},64.285714285714278,69.047619047619037,71.428571428571416,32.142857142857139,73.809523809523796,71.428571428571416,{"$f":"IF(J$4=-1,\"\",MMULT(OFFSET(aScores,$C8-1,0,1,$B$2),OFFSET(tblCountries!$Q$3,0,$B$4-1,$B$2,1))/$J$3)","v":64.226190476190467},null,{"$f":"RANK(D8,$D8:$J8)+COUNTIF(D8:$J8,D8)-1","v":5},{"$f":"RANK(E8,$D8:$J8)+COUNTIF(E8:$J8,E8)-1","v":4},{"$f":"RANK(F8,$D8:$J8)+COUNTIF(F8:$J8,F8)-1","v":3},{"$f":"RANK(G8,$D8:$J8)+COUNTIF(G8:$J8,G8)-1","v":7},{"$f":"RANK(H8,$D8:$J8)+COUNTIF(H8:$J8,H8)-1","v":1},{"$f":"RANK(I8,$D8:$J8)+COUNTIF(I8:$J8,I8)-1","v":2},{"$f":"RANK(J8,$D8:$J8)+COUNTIF(J8:$J8,J8)-1","v":6},null,5,6,3,2,1,7,4]
[{"$f":"tblIndiSets!A5","v":"BUSENV"},{"$f":"tblIndiSets!C5","v":"2) BUSINESS ENVIRONMENT FOR COASTAL ACTIVITIES"},{"$f":"tblIndiSets!B5","v":20},50.119397661111115,38.632764408333337,42.257180255555554,40.76830487777778,44.222056658333329,55.898709916666668,{"$f":"IF(J$4=-1,\"\",MMULT(OFFSET(aScores,$C9-1,0,1,$B$2),OFFSET(tblCountries!$Q$3,0,$B$4-1,$B$2,1))/$J$3)","v":60.08176199902779},null,{"$f":"RANK(D9,$D9:$J9)+COUNTIF(D9:$J9,D9)-1","v":3},{"$f":"RANK(E9,$D9:$J9)+COUNTIF(E9:$J9,E9)-1","v":7},{"$f":"RANK(F9,$D9:$J9)+COUNTIF(F9:$J9,F9)-1","v":5},{"$f":"RANK(G9,$D9:$J9)+COUNTIF(G9:$J9,G9)-1","v":6},{"$f":"RANK(H9,$D9:$J9)+COUNTIF(H9:$J9,H9)-1","v":4},{"$f":"RANK(I9,$D9:$J9)+COUNTIF(I9:$J9,I9)-1","v":2},{"$f":"RANK(J9,$D9:$J9)+COUNTIF(J9:$J9,J9)-1","v":1},null,7,6,1,5,3,4,2]
[{"$f":"tblIndiSets!A6","v":"WATQUAL"},{"$f":"tblIndiSets!C6","v":"3) WATER QUALITY"},{"$f":"tblIndiSets!B6","v":34},74.874444444444435,73.22444444444443,73.682222222222208,75.553333333333327,60.836666666666659,71.206666666666663,{"$f":"IF(J$4=-1,\"\",MMULT(OFFSET(aScores,$C10-1,0,1,$B$2),OFFSET(tblCountries!$Q$3,0,$B$4-1,$B$2,1))/$J$3)","v":73.86977777777777},null,{"$f":"RANK(D10,$D10:$J10)+COUNTIF(D10:$J10,D10)-1","v":2},{"$f":"RANK(E10,$D10:$J10)+COUNTIF(E10:$J10,E10)-1","v":5},{"$f":"RANK(F10,$D10:$J10)+COUNTIF(F10:$J10,F10)-1","v":4},{"$f":"RANK(G10,$D10:$J10)+COUNTIF(G10:$J10,G10)-1","v":1},{"$f":"RANK(H10,$D10:$J10)+COUNTIF(H10:$J10,H10)-1","v":7},{"$f":"RANK(I10,$D10:$J10)+COUNTIF(I10:$J10,I10)-1","v":6},{"$f":"RANK(J10,$D10:$J10)+COUNTIF(J10:$J10,J10)-1","v":3},null,4,1,7,3,2,6,5]
[{"$f":"tblIndiSets!A7","v":"MINENG"},{"$f":"tblIndiSets!C7","v":"4) MINERALS AND ENERGY"},{"$f":"tblIndiSets!B7","v":44},81.944444444444429,47.222222222222214,56.944444444444436,66.666666666666657,70.833333333333314,81.944444444444429,{"$f":"IF(J$4=-1,\"\",MMULT(OFFSET(aScores,$C11-1,0,1,$B$2),OFFSET(tblCountries!$Q$3,0,$B$4-1,$B$2,1))/$J$3)","v":75.208333333333314},null,{"$f":"RANK(D11,$D11:$J11)+COUNTIF(D11:$J11,D11)-1","v":2},{"$f":"RANK(E11,$D11:$J11)+COUNTIF(E11:$J11,E11)-1","v":7},{"$f":"RANK(F11,$D11:$J11)+COUNTIF(F11:$J11,F11)-1","v":6},{"$f":"RANK(G11,$D11:$J11)+COUNTIF(G11:$J11,G11)-1","v":5},{"$f":"RANK(H11,$D11:$J11)+COUNTIF(H11:$J11,H11)-1","v":4},{"$f":"RANK(I11,$D11:$J11)+COUNTIF(I11:$J11,I11)-1","v":1},{"$f":"RANK(J11,$D11:$J11)+COUNTIF(J11:$J11,J11)-1","v":3},null,6,1,7,5,4,3,2]
[{"$f":"tblIndiSets!A8","v":"LAND"},{"$f":"tblIndiSets!C8","v":"5) LAND"},{"$f":"tblIndiSets!B8","v":57},49.791666666666671,76.333333333333343,61.541666666666664,78.208333333333329,75.541666666666657,66.5,{"$f":"IF(J$4=-1,\"\",MMULT(OFFSET(aScores,$C12-1,0,1,$B$2),OFFSET(tblCountries!$Q$3,0,$B$4-1,$B$2,1))/$J$3)","v":67.731250000000017},null,{"$f":"RANK(D12,$D12:$J12)+COUNTIF(D12:$J12,D12)-1","v":7},{"$f":"RANK(E12,$D12:$J12)+COUNTIF(E12:$J12,E12)-1","v":2},{"$f":"RANK(F12,$D12:$J12)+COUNTIF(F12:$J12,F12)-1","v":6},{"$f":"RANK(G12,$D12:$J12)+COUNTIF(G12:$J12,G12)-1","v":1},{"$f":"RANK(H12,$D12:$J12)+COUNTIF(H12:$J12,H12)-1","v":3},{"$f":"RANK(I12,$D12:$J12)+COUNTIF(I12:$J12,I12)-1","v":5},{"$f":"RANK(J12,$D12:$J12)+COUNTIF(J12:$J12,J12)-1","v":4},null,4,2,5,7,6,3,1]
[{"$f":"tblIndiSets!A9","v":"LIVRES"},{"$f":"tblIndiSets!C9","v":"6) LIVING RESOURCES"},{"$f":"tblIndiSets!B9","v":67},78.060311236846303,37.257654588533597,34.374875992063494,37.490763697128386,30.825355059730057,60.251026291898782,{"$f":"IF(J$4=-1,\"\",MMULT(OFFSET(aScores,$C13-1,0,1,$B$2),OFFSET(tblCountries!$Q$3,0,$B$4-1,$B$2,1))/$J$3)","v":60.165968731407041},null,{"$f":"RANK(D13,$D13:$J13)+COUNTIF(D13:$J13,D13)-1","v":1},{"$f":"RANK(E13,$D13:$J13)+COUNTIF(E13:$J13,E13)-1","v":5},{"$f":"RANK(F13,$D13:$J13)+COUNTIF(F13:$J13,F13)-1","v":6},{"$f":"RANK(G13,$D13:$J13)+COUNTIF(G13:$J13,G13)-1","v":4},{"$f":"RANK(H13,$D13:$J13)+COUNTIF(H13:$J13,H13)-1","v":7},{"$f":"RANK(I13,$D13:$J13)+COUNTIF(I13:$J13,I13)-1","v":2},{"$f":"RANK(J13,$D13:$J13)+COUNTIF(J13:$J13,J13)-1","v":3},null,1,6,7,4,2,3,5]
[]
[]
[null,1,null,{"$f":"INDEX($B$7:$B$14,B16,0)","v":"OVERALL SCORE"},null,null,1,null,{"$f":"D16","v":"OVERALL SCORE"}]
[1,{"$f":"OFFSET($T$7,B$16-1,$A17-1)","v":6},{"$f":"IF(D17=$D$6,3,1)","v":1},{"$f":"INDEX($D$6:$J$6,B17)","v":"South Africa"},{"$f":"INDEX($D$7:$J$13,B16,B17)","v":67.871569791374654},null,{"$f":"G16","v":1},{"$f":"IF(ISERROR(C17),0,IF(D17=$J$6,2,C17))","v":1},{"$f":"IF(ISERROR(D17),\"\",D17)","v":"South Africa"},{"$f":"IF(ISERROR(E17),\"\",E17)","v":67.871569791374654}]
[2,7,{"$f":"IF(D18=$D$6,3,1)","v":1},{"$f":"INDEX($D$6:$J$6,B18)","v":"All Countries"},{"$f":"INDEX($D$7:$J$14,B16,B18)","v":66.880547052956061},null,{"$f":"G17","v":1},{"$f":"IF(ISERROR(C18),0,IF(D18=$J$6,2,C18))","v":2},{"$f":"IF(ISERROR(D18),\"\",D18)","v":"All Countries"},66.880547052956061]
[3,1,3,"Brazil",{"$f":"INDEX($D$7:$J$14,B16,B19)","v":66.512663123204533},null,1,3,"Brazil",66.512663123204533]
[4,5,1,"Philippines",{"$f":"INDEX($D$7:$J$14,B16,B20)","v":59.344767032375628},null,1,1,"Philippines",59.344767032375628]
[5,2,1,"Indonesia",{"$f":"INDEX($D$7:$J$14,B16,B21)","v":56.953006340747656},null,1,1,"Indonesia",56.953006340747656]
[6,3,1,"Vietnam",{"$f":"INDEX($D$7:$J$14,B16,B22)","v":56.704826834920624},null,1,1,"Vietnam",56.704826834920624]
[7,4,1,"Peru",{"$f":"INDEX($D$7:$J$14,B16,B23)","v":55.138376508516096},null,1,1,{"$f":"IF(ISERROR(D23),\"\",D23)","v":"Peru"},55.138376508516096]
[]
[null,2,null,{"$f":"INDEX($B$7:$B$14,B25,0)","v":"1) POLICY AND INSTITUTIONAL CAPACITY"},null,null,2,null,"1) POLICY AND INSTITUTIONAL CAPACITY"]
[1,{"$f":"OFFSET($T$7,B25-1,$A26-1)","v":5},{"$f":"IF(D26=$D$6,3,1)","v":1},{"$f":"INDEX($D$6:$J$6,B26)","v":"Philippines"},{"$f":"INDEX($D$7:$J$14,B25,B26)","v":73.809523809523796},null,{"$f":"G25","v":2},{"$f":"IF(ISERROR(C26),0,IF(D26=$J$6,2,C26))","v":1},"Philippines",73.809523809523796]
[2,{"$f":"OFFSET($T$7,B25-1,$A27-1)","v":6},{"$f":"IF(D27=$D$6,3,1)","v":1},{"$f":"INDEX($D$6:$J$6,B27)","v":"South Africa"},{"$f":"INDEX($D$7:$J$14,B25,B27)","v":71.428571428571416},null,{"$f":"G26","v":2},{"$f":"IF(ISERROR(C27),0,IF(D27=$J$6,2,C27))","v":1},"South Africa",71.428571428571416]
[3,{"$f":"OFFSET($T$7,B25-1,$A28-1)","v":3},1,"Vietnam",{"$f":"INDEX($D$7:$J$14,B25,B28)","v":71.428571428571416},null,2,1,"Vietnam",71.428571428571416]
[4,{"$f":"OFFSET($T$7,B25-1,$A29-1)","v":2},1,"Indonesia",{"$f":"INDEX($D$7:$J$14,B25,B29)","v":69.047619047619037},null,2,1,"Indonesia",69.047619047619037]
[5,{"$f":"OFFSET($T$7,B25-1,$A30-1)","v":1},3,"Brazil",{"$f":"INDEX($D$7:$J$14,B25,B30)","v":64.285714285714278},null,2,3,"Brazil",64.285714285714278]
[6,{"$f":"OFFSET($T$7,B25-1,$A31-1)","v":7},1,"All Countries",{"$f":"INDEX($D$7:$J$14,B25,B31)","v":64.226190476190467},null,2,2,"All Countries",64.226190476190467]
[7,{"$f":"OFFSET($T$7,B25-1,$A32-1)","v":4},1,"Peru",{"$f":"INDEX($D$7:$J$14,B25,B32)","v":32.142857142857139},null,2,1,{"$f":"IF(ISERROR(D32),\"\",D32)","v":"Peru"},32.142857142857139]
[]
[null,3,null,{"$f":"INDEX($B$7:$B$14,B34,0)","v":"2) BUSINESS ENVIRONMENT FOR COASTAL ACTIVITIES"},null,null,3,{"$f":"IF(ISERROR(C34),0,C34)","v":0},"2) BUSINESS ENVIRONMENT FOR COASTAL ACTIVITIES",0]
[1,{"$f":"OFFSET($T$7,B34-1,$A35-1)","v":7},{"$f":"IF(D35=$D$6,3,1)","v":1},{"$f":"INDEX($D$6:$J$6,B35)","v":"All Countries"},{"$f":"INDEX($D$7:$J$14,B34,B35)","v":60.08176199902779},null,{"$f":"G34","v":3},{"$f":"IF(ISERROR(C35),0,IF(D35=$J$6,2,C35))","v":2},"All Countries",60.08176199902779]
[2,{"$f":"OFFSET($T$7,B34-1,$A36-1)","v":6},{"$f":"IF(D36=$D$6,3,1)","v":1},{"$f":"INDEX($D$6:$J$6,B36)","v":"South Africa"},{"$f":"INDEX($D$7:$J$14,B34,B36)","v":55.898709916666668},null,{"$f":"G35","v":3},{"$f":"IF(ISERROR(C36),0,IF(D36=$J$6,2,C36))","v":1},"South Africa",55.898709916666668]
[3,{"$f":"OFFSET($T$7,B34-1,$A37-1)","v":1},3,"Brazil",{"$f":"INDEX($D$7:$J$14,B34,B37)","v":50.119397661111115},null,3,3,"Brazil",50.119397661111115]
[4,{"$f":"OFFSET($T$7,B34-1,$A38-1)","v":5},1,"Philippines",{"$f":"INDEX($D$7:$J$14,B34,B38)","v":44.222056658333329},null,3,1,"Philippines",44.222056658333329]
[5,{"$f":"OFFSET($T$7,B34-1,$A39-1)","v":3},1,"Vietnam",{"$f":"INDEX($D$7:$J$14,B34,B39)","v":42.257180255555554},null,3,1,"Vietnam",42.257180255555554]
[6,{"$f":"OFFSET($T$7,B34-1,$A40-1)","v":4},1,"Peru",{"$f":"INDEX($D$7:$J$14,B34,B40)","v":40.76830487777778},null,3,1,"Peru",40.76830487777778]
[7,{"$f":"OFFSET($T$7,B34-1,$A41-1)","v":2},1,"Indonesia",{"$f":"INDEX($D$7:$J$14,B34,B41)","v":38.632764408333337},null,3,1,{"$f":"IF(ISERROR(D41),\"\",D41)","v":"Indonesia"},38.632764408333337]
[]
[null,4,null,{"$f":"INDEX($B$7:$B$14,B43,0)","v":"3) WATER QUALITY"},null,null,4,{"$f":"IF(ISERROR(C43),0,C43)","v":0},"3) WATER QUALITY",0]
[1,{"$f":"OFFSET($T$7,B43-1,$A44-1)","v":4},{"$f":"IF(D44=$D$6,3,1)","v":1},{"$f":"INDEX($D$6:$J$6,B44)","v":"Peru"},{"$f":"INDEX($D$7:$J$14,B43,B44)","v":75.553333333333327},null,{"$f":"G43","v":4},{"$f":"IF(ISERROR(C44),0,IF(D44=$J$6,2,C44))","v":1},"Peru",75.553333333333327]
[2,{"$f":"OFFSET($T$7,B43-1,$A45-1)","v":1},{"$f":"IF(D45=$D$6,3,1)","v":3},{"$f":"INDEX($D$6:$J$6,B45)","v":"Brazil"},{"$f":"INDEX($D$7:$J$14,B43,B45)","v":74.874444444444435},null,{"$f":"G44","v":4},{"$f":"IF(ISERROR(C45),0,IF(D45=$J$6,2,C45))","v":3},"Brazil",74.874444444444435]
[3,{"$f":"OFFSET($T$7,B43-1,$A46-1)","v":7},1,"All Countries",{"$f":"INDEX($D$7:$J$14,B43,B46)","v":73.86977777777777},null,4,2,"All Countries",73.86977777777777]
[4,{"$f":"OFFSET($T$7,B43-1,$A47-1)","v":3},1,"Vietnam",{"$f":"INDEX($D$7:$J$14,B43,B47)","v":73.682222222222208},null,4,1,"Vietnam",73.682222222222208]
[5,{"$f":"OFFSET($T$7,B43-1,$A48-1)","v":2},1,"Indonesia",{"$f":"INDEX($D$7:$J$14,B43,B48)","v":73.22444444444443},null,4,1,"Indonesia",73.22444444444443]
[6,{"$f":"OFFSET($T$7,B43-1,$A49-1)","v":6},1,"South Africa",{"$f":"INDEX($D$7:$J$14,B43,B49)","v":71.206666666666663},null,4,1,"South Africa",71.206666666666663]
[7,{"$f":"OFFSET($T$7,B43-1,$A50-1)","v":5},1,"Philippines",{"$f":"INDEX($D$7:$J$14,B43,B50)","v":60.836666666666659},null,4,1,{"$f":"IF(ISERROR(D50),\"\",D50)","v":"Philippines"},60.836666666666659]
[]
[null,5,null,{"$f":"INDEX($B$7:$B$14,B52,0)","v":"4) MINERALS AND ENERGY"},null,null,5,{"$f":"IF(ISERROR(C52),0,C52)","v":0},"4) MINERALS AND ENERGY",0]
[1,{"$f":"OFFSET($T$7,B52-1,$A53-1)","v":6},{"$f":"IF(D53=$D$6,3,1)","v":1},{"$f":"INDEX($D$6:$J$6,B53)","v":"South Africa"},{"$f":"INDEX($D$7:$J$14,B52,B53)","v":81.944444444444429},null,{"$f":"G52","v":5},{"$f":"IF(ISERROR(C53),0,IF(D53=$J$6,2,C53))","v":1},"South Africa",81.944444444444429]
[2,{"$f":"OFFSET($T$7,B52-1,$A54-1)","v":1},{"$f":"IF(D54=$D$6,3,1)","v":3},{"$f":"INDEX($D$6:$J$6,B54)","v":"Brazil"},{"$f":"INDEX($D$7:$J$14,B52,B54)","v":81.944444444444429},null,{"$f":"G53","v":5},{"$f":"IF(ISERROR(C54),0,IF(D54=$J$6,2,C54))","v":3},"Brazil",81.944444444444429]
[3,{"$f":"OFFSET($T$7,B52-1,$A55-1)","v":7},1,"All Countries",{"$f":"INDEX($D$7:$J$14,B52,B55)","v":75.208333333333314},null,5,2,"All Countries",75.208333333333314]
[4,{"$f":"OFFSET($T$7,B52-1,$A56-1)","v":5},1,"Philippines",{"$f":"INDEX($D$7:$J$14,B52,B56)","v":70.833333333333314},null,5,1,"Philippines",70.833333333333314]
[5,{"$f":"OFFSET($T$7,B52-1,$A57-1)","v":4},1,"Peru",{"$f":"INDEX($D$7:$J$14,B52,B57)","v":66.666666666666657},null,5,1,"Peru",66.666666666666657]
[6,{"$f":"OFFSET($T$7,B52-1,$A58-1)","v":3},1,"Vietnam",{"$f":"INDEX($D$7:$J$14,B52,B58)","v":56.944444444444436},null,5,1,"Vietnam",56.944444444444436]
[7,{"$f":"OFFSET($T$7,B52-1,$A59-1)","v":2},1,"Indonesia",{"$f":"INDEX($D$7:$J$14,B52,B59)","v":47.222222222222214},null,5,1,{"$f":"IF(ISERROR(D59),\"\",D59)","v":"Indonesia"},47.222222222222214]
[]
[null,6,null,{"$f":"INDEX($B$7:$B$14,B61,0)","v":"5) LAND"},null,null,6,{"$f":"IF(ISERROR(C61),0,C61)","v":0},"5) LAND",0]
[1,{"$f":"OFFSET($T$7,B61-1,$A62-1)","v":4},{"$f":"IF(D62=$D$6,3,1)","v":1},{"$f":"INDEX($D$6:$J$6,B62)","v":"Peru"},{"$f":"INDEX($D$7:$J$14,B61,B62)","v":78.208333333333329},null,{"$f":"G61","v":6},{"$f":"IF(ISERROR(C62),0,IF(D62=$J$6,2,C62))","v":1},"Peru",78.208333333333329]
[2,{"$f":"OFFSET($T$7,B61-1,$A63-1)","v":2},{"$f":"IF(D63=$D$6,3,1)","v":1},{"$f":"INDEX($D$6:$J$6,B63)","v":"Indonesia"},{"$f":"INDEX($D$7:$J$14,B61,B63)","v":76.333333333333343},null,{"$f":"G62","v":6},{"$f":"IF(ISERROR(C63),0,IF(D63=$J$6,2,C63))","v":1},"Indonesia",76.333333333333343]
[3,{"$f":"OFFSET($T$7,B61-1,$A64-1)","v":5},1,"Philippines",{"$f":"INDEX($D$7:$J$14,B61,B64)","v":75.541666666666657},null,6,1,"Philippines",75.541666666666657]
[4,{"$f":"OFFSET($T$7,B61-1,$A65-1)","v":7},1,"All Countries",{"$f":"INDEX($D$7:$J$14,B61,B65)","v":67.731250000000017},null,6,2,"All Countries",67.731250000000017]
[5,{"$f":"OFFSET($T$7,B61-1,$A66-1)","v":6},1,"South Africa",{"$f":"INDEX($D$7:$J$14,B61,B66)","v":66.5},null,6,1,"South Africa",66.5]
[6,{"$f":"OFFSET($T$7,B61-1,$A67-1)","v":3},1,"Vietnam",{"$f":"INDEX($D$7:$J$14,B61,B67)","v":61.541666666666664},null,6,1,"Vietnam",61.541666666666664]
[7,{"$f":"OFFSET($T$7,B61-1,$A68-1)","v":1},3,"Brazil",{"$f":"INDEX($D$7:$J$14,B61,B68)","v":49.791666666666671},null,6,3,"Brazil",49.791666666666671]
[]
[null,7,null,{"$f":"INDEX($B$7:$B$14,B70,0)","v":"6) LIVING RESOURCES"},null,null,6,{"$f":"IF(ISERROR(C70),0,C70)","v":0},{"$f":"IF(ISERROR(D70),\"\",D70)","v":"6) LIVING RESOURCES"},{"$f":"IF(ISERROR(E70),\"\",E70)","v":0}]
[1,{"$f":"OFFSET($T$7,B70-1,$A71-1)","v":1},{"$f":"IF(D71=$D$6,3,1)","v":3},{"$f":"INDEX($D$6:$J$6,B71)","v":"Brazil"},{"$f":"INDEX($D$7:$J$14,B70,B71)","v":78.060311236846303},null,{"$f":"G70","v":6},{"$f":"IF(ISERROR(C71),0,IF(D71=$J$6,2,C71))","v":3},"Brazil",78.060311236846303]
[2,{"$f":"OFFSET($T$7,B70-1,$A72-1)","v":6},{"$f":"IF(D72=$D$6,3,1)","v":1},{"$f":"INDEX($D$6:$J$6,B72)","v":"South Africa"},{"$f":"INDEX($D$7:$J$14,B70,B72)","v":60.251026291898782},null,{"$f":"G71","v":6},{"$f":"IF(ISERROR(C72),0,IF(D72=$J$6,2,C72))","v":1},"South Africa",60.251026291898782]
[3,{"$f":"OFFSET($T$7,B70-1,$A73-1)","v":7},1,"All Countries",{"$f":"INDEX($D$7:$J$14,B70,B73)","v":60.165968731407041},null,6,2,"All Countries",60.165968731407041]
[4,{"$f":"OFFSET($T$7,B70-1,$A74-1)","v":4},1,"Peru",{"$f":"INDEX($D$7:$J$14,B70,B74)","v":37.490763697128386},null,6,1,"Peru",37.490763697128386]
[5,{"$f":"OFFSET($T$7,B70-1,$A75-1)","v":2},1,"Indonesia",{"$f":"INDEX($D$7:$J$14,B70,B75)","v":37.257654588533597},null,6,1,"Indonesia",37.257654588533597]
[6,{"$f":"OFFSET($T$7,B70-1,$A76-1)","v":3},1,"Vietnam",{"$f":"INDEX($D$7:$J$14,B70,B76)","v":34.374875992063494},null,6,1,"Vietnam",34.374875992063494]
[7,{"$f":"OFFSET($T$7,B70-1,$A77-1)","v":5},1,"Philippines",{"$f":"INDEX($D$7:$J$14,B70,B77)","v":30.825355059730057},null,6,1,"Philippines",30.825355059730057]

{"sheet":"Six_Country_Comparison","index":17,"n_rows":31,"n_cols":18,"rows_kept":31,"cut":false,"hidden":false,"merged":[[14,5,14,6],[14,10,14,11],[14,15,14,16],[23,5,23,6],[23,10,23,11],[23,15,23,16]]}
["SIX COUNTRY COMPARISON",null,null,null,null,"WEIGHT PROFILE"]
[null,"COUNTRY 1"]
[null,null,null,null,null,{"$f":"iWorks!$B$12","v":"Scores are normalized (0-100, where 100=most favorable)"}]
[]
[]
[null,null,null,null,null,null,null,null,null,{"$f":"iSixComp!H16","v":0},{"$f":"iSixComp!I16","v":"OVERALL SCORE"}]
[null,null,null,null,null,null,null,null,null,{"$f":"iSixComp!H17","v":1},{"$f":"iSixComp!I17","v":"South Africa"},{"$f":"iSixComp!J17","v":67.871569791374654},{"$f":"IF(ISNUMBER(L7),REPT(\"|\",L7*(4/10)),\"\")","v":"|||||||||||||||||||||||||||"}]
[null,null,null,null,null,null,null,null,null,{"$f":"iSixComp!H18","v":2},{"$f":"iSixComp!I18","v":"All Countries"},{"$f":"iSixComp!J18","v":66.880547052956061},"||||||||||||||||||||||||||"]
[null,null,null,null,null,null,null,null,null,{"$f":"iSixComp!H19","v":3},{"$f":"iSixComp!I19","v":"Brazil"},{"$f":"iSixComp!J19","v":66.512663123204533},"||||||||||||||||||||||||||"]
[null,null,null,null,null,null,null,null,null,{"$f":"iSixComp!H20","v":1},{"$f":"iSixComp!I20","v":"Philippines"},{"$f":"iSixComp!J20","v":59.344767032375628},"|||||||||||||||||||||||"]
[null,null,null,null,null,null,null,null,null,{"$f":"iSixComp!H21","v":1},{"$f":"iSixComp!I21","v":"Indonesia"},{"$f":"iSixComp!J21","v":56.953006340747656},"||||||||||||||||||||||"]
[null,null,null,null,null,null,null,null,null,{"$f":"iSixComp!H22","v":1},{"$f":"iSixComp!I22","v":"Vietnam"},{"$f":"iSixComp!J22","v":56.704826834920624},"||||||||||||||||||||||"]
[null,null,null,null,null,null,null,null,null,{"$f":"iSixComp!H23","v":1},{"$f":"iSixComp!I23","v":"Peru"},{"$f":"iSixComp!J23","v":55.138376508516096},"||||||||||||||||||||||"]
[]
[null,null,null,null,{"$f":"iSixComp!H25","v":0},{"$f":"iSixComp!I25","v":"1) POLICY AND INSTITUTIONAL CAPACITY"},null,null,null,{"$f":"iSixComp!H34","v":0},{"$f":"iSixComp!I34","v":"2) BUSINESS ENVIRONMENT FOR COASTAL ACTIVITIES"},null,null,null,{"$f":"iSixComp!H43","v":0},{"$f":"iSixComp!I43","v":"3) WATER QUALITY"}]
[null,null,null,null,{"$f":"iSixComp!H26","v":1},{"$f":"iSixComp!I26","v":"Philippines"},{"$f":"iSixComp!J26","v":73.809523809523796},{"$f":"IF(ISNUMBER(G16),REPT(\"|\",G16*(4/10)),\"\")","v":"|||||||||||||||||||||||||||||"},null,{"$f":"iSixComp!H35","v":2},{"$f":"iSixComp!I35","v":"All Countries"},{"$f":"iSixComp!J35","v":60.08176199902779},{"$f":"IF(ISNUMBER(L16),REPT(\"|\",L16*(4/10)),\"\")","v":"||||||||||||||||||||||||"},null,{"$f":"iSixComp!H44","v":1},{"$f":"iSixComp!I44","v":"Peru"},{"$f":"iSixComp!J44","v":75.553333333333327},{"$f":"IF(ISNUMBER(Q16),REPT(\"|\",Q16*(4/10)),\"\")","v":"||||||||||||||||||||||||||||||"}]
[null,"COMPARISON COUNTRIES",null,null,{"$f":"iSixComp!H27","v":1},{"$f":"iSixComp!I27","v":"South Africa"},{"$f":"iSixComp!J27","v":71.428571428571416},"||||||||||||||||||||||||||||",null,{"$f":"iSixComp!H36","v":1},{"$f":"iSixComp!I36","v":"South Africa"},{"$f":"iSixComp!J36","v":55.898709916666668},"||||||||||||||||||||||",null,{"$f":"iSixComp!H45","v":3},{"$f":"iSixComp!I45","v":"Brazil"},{"$f":"iSixComp!J45","v":74.874444444444435},"|||||||||||||||||||||||||||||"]
[null,null,null,null,{"$f":"iSixComp!H28","v":1},{"$f":"iSixComp!I28","v":"Vietnam"},{"$f":"iSixComp!J28","v":71.428571428571416},"||||||||||||||||||||||||||||",null,{"$f":"iSixComp!H37","v":3},{"$f":"iSixComp!I37","v":"Brazil"},{"$f":"iSixComp!J37","v":50.119397661111115},"||||||||||||||||||||",null,{"$f":"iSixComp!H46","v":2},{"$f":"iSixComp!I46","v":"All Countries"},{"$f":"iSixComp!J46","v":73.86977777777777},"|||||||||||||||||||||||||||||"]
[null,null,null,null,{"$f":"iSixComp!H29","v":1},{"$f":"iSixComp!I29","v":"Indonesia"},{"$f":"iSixComp!J29","v":69.047619047619037},"|||||||||||||||||||||||||||",null,{"$f":"iSixComp!H38","v":1},{"$f":"iSixComp!I38","v":"Philippines"},{"$f":"iSixComp!J38","v":44.222056658333329},"|||||||||||||||||",null,{"$f":"iSixComp!H47","v":1},{"$f":"iSixComp!I47","v":"Vietnam"},{"$f":"iSixComp!J47","v":73.682222222222208},"|||||||||||||||||||||||||||||"]
[null,null,null,null,{"$f":"iSixComp!H30","v":3},{"$f":"iSixComp!I30","v":"Brazil"},{"$f":"iSixComp!J30","v":64.285714285714278},"|||||||||||||||||||||||||",null,{"$f":"iSixComp!H39","v":1},{"$f":"iSixComp!I39","v":"Vietnam"},{"$f":"iSixComp!J39","v":42.257180255555554},"||||||||||||||||",null,{"$f":"iSixComp!H48","v":1},{"$f":"iSixComp!I48","v":"Indonesia"},{"$f":"iSixComp!J48","v":73.22444444444443},"|||||||||||||||||||||||||||||"]
[null,null,null,null,{"$f":"iSixComp!H31","v":2},{"$f":"iSixComp!I31","v":"All Countries"},{"$f":"iSixComp!J31","v":64.226190476190467},"|||||||||||||||||||||||||",null,{"$f":"iSixComp!H40","v":1},{"$f":"iSixComp!I40","v":"Peru"},{"$f":"iSixComp!J40","v":40.76830487777778},"||||||||||||||||",null,{"$f":"iSixComp!H49","v":1},{"$f":"iSixComp!I49","v":"South Africa"},{"$f":"iSixComp!J49","v":71.206666666666663},"||||||||||||||||||||||||||||"]
[null,null,null,null,{"$f":"iSixComp!H32","v":1},{"$f":"iSixComp!I32","v":"Peru"},{"$f":"iSixComp!J32","v":32.142857142857139},"||||||||||||",null,{"$f":"iSixComp!H41","v":1},{"$f":"iSixComp!I41","v":"Indonesia"},{"$f":"iSixComp!J41","v":38.632764408333337},"|||||||||||||||",null,{"$f":"iSixComp!H50","v":1},{"$f":"iSixComp!I50","v":"Philippines"},{"$f":"iSixComp!J50","v":60.836666666666659},"||||||||||||||||||||||||"]
[]
[null,null,null,null,{"$f":"iSixComp!H52","v":0},{"$f":"iSixComp!I52","v":"4) MINERALS AND ENERGY"},null,null,null,{"$f":"iSixComp!H61","v":0},{"$f":"iSixComp!I61","v":"5) LAND"},null,null,null,{"$f":"iSixComp!H70","v":0},{"$f":"iSixComp!I70","v":"6) LIVING RESOURCES"}]
[null,null,null,null,{"$f":"iSixComp!H53","v":1},{"$f":"iSixComp!I53","v":"South Africa"},{"$f":"iSixComp!J53","v":81.944444444444429},{"$f":"IF(ISNUMBER(G25),REPT(\"|\",G25*(4/10)),\"\")","v":"||||||||||||||||||||||||||||||||"},null,{"$f":"iSixComp!H62","v":1},{"$f":"iSixComp!I62","v":"Peru"},{"$f":"iSixComp!J62","v":78.208333333333329},{"$f":"IF(ISNUMBER(L25),REPT(\"|\",L25*(4/10)),\"\")","v":"|||||||||||||||||||||||||||||||"},null,{"$f":"iSixComp!H71","v":3},{"$f":"iSixComp!I71","v":"Brazil"},{"$f":"iSixComp!J71","v":78.060311236846303},{"$f":"IF(ISNUMBER(Q25),REPT(\"|\",Q25*(4/10)),\"\")","v":"|||||||||||||||||||||||||||||||"}]
[null,null,null,null,{"$f":"iSixComp!H54","v":3},{"$f":"iSixComp!I54","v":"Brazil"},{"$f":"iSixComp!J54","v":81.944444444444429},"||||||||||||||||||||||||||||||||",null,{"$f":"iSixComp!H63","v":1},{"$f":"iSixComp!I63","v":"Indonesia"},{"$f":"iSixComp!J63","v":76.333333333333343},"||||||||||||||||||||||||||||||",null,{"$f":"iSixComp!H72","v":1},{"$f":"iSixComp!I72","v":"South Africa"},{"$f":"iSixComp!J72","v":60.251026291898782},"||||||||||||||||||||||||"]
[null,null,null,null,{"$f":"iSixComp!H55","v":2},{"$f":"iSixComp!I55","v":"All Countries"},{"$f":"iSixComp!J55","v":75.208333333333314},"||||||||||||||||||||||||||||||",null,{"$f":"iSixComp!H64","v":1},{"$f":"iSixComp!I64","v":"Philippines"},{"$f":"iSixComp!J64","v":75.541666666666657},"||||||||||||||||||||||||||||||",null,{"$f":"iSixComp!H73","v":2},{"$f":"iSixComp!I73","v":"All Countries"},{"$f":"iSixComp!J73","v":60.165968731407041},"||||||||||||||||||||||||"]
[null,null,null,null,{"$f":"iSixComp!H56","v":1},{"$f":"iSixComp!I56","v":"Philippines"},{"$f":"iSixComp!J56","v":70.833333333333314},"||||||||||||||||||||||||||||",null,{"$f":"iSixComp!H65","v":2},{"$f":"iSixComp!I65","v":"All Countries"},{"$f":"iSixComp!J65","v":67.731250000000017},"|||||||||||||||||||||||||||",null,{"$f":"iSixComp!H74","v":1},{"$f":"iSixComp!I74","v":"Peru"},{"$f":"iSixComp!J74","v":37.490763697128386},"||||||||||||||"]
[null,null,null,null,{"$f":"iSixComp!H57","v":1},{"$f":"iSixComp!I57","v":"Peru"},{"$f":"iSixComp!J57","v":66.666666666666657},"||||||||||||||||||||||||||",null,{"$f":"iSixComp!H66","v":1},{"$f":"iSixComp!I66","v":"South Africa"},{"$f":"iSixComp!J66","v":66.5},"||||||||||||||||||||||||||",null,{"$f":"iSixComp!H75","v":1},{"$f":"iSixComp!I75","v":"Indonesia"},{"$f":"iSixComp!J75","v":37.257654588533597},"||||||||||||||"]
[null,null,null,null,{"$f":"iSixComp!H58","v":1},{"$f":"iSixComp!I58","v":"Vietnam"},{"$f":"iSixComp!J58","v":56.944444444444436},"||||||||||||||||||||||",null,{"$f":"iSixComp!H67","v":1},{"$f":"iSixComp!I67","v":"Vietnam"},{"$f":"iSixComp!J67","v":61.541666666666664},"||||||||||||||||||||||||",null,{"$f":"iSixComp!H76","v":1},{"$f":"iSixComp!I76","v":"Vietnam"},{"$f":"iSixComp!J76","v":34.374875992063494},"|||||||||||||"]
[null,null,null,null,{"$f":"iSixComp!H59","v":1},{"$f":"iSixComp!I59","v":"Indonesia"},{"$f":"iSixComp!J59","v":47.222222222222214},"||||||||||||||||||",null,{"$f":"iSixComp!H68","v":3},{"$f":"iSixComp!I68","v":"Brazil"},{"$f":"iSixComp!J68","v":49.791666666666671},"|||||||||||||||||||",null,{"$f":"iSixComp!H77","v":1},{"$f":"iSixComp!I77","v":"Philippines"},{"$f":"iSixComp!J77","v":30.825355059730057},"||||||||||||"]

{"sheet":"iScatter","index":18,"n_rows":38,"n_cols":27,"rows_kept":38,"cut":false,"hidden":true,"merged":[]}
[{"$f":"iWorks!A68","v":"INDI_X_ID"},{"$f":"iWorks!B68","v":1},{"$f":"iWorks!C68","v":"OVERALL"},{"$f":"iWorks!D68","v":0},{"$f":"iWorks!E68","v":0},{"$f":"iWorks!F68","v":0},{"$f":"iWorks!G68","v":"OVERALL SCORE"},{"$f":"iWorks!H68","v":"Scored 0-100 where 100=most favorable coastal governance environment"},{"$f":"iWorks!I68","v":"Calculated from category scores"},{"$f":"iWorks!J68","v":"Weighted total of the following six categories:\\n1) Policy and Institutional Capacity \\n2) Business Environment for Coastal Activities \\n3) Water Quality \\n4) Minerals and Energy \\n5) Land \\n6) Living Resources"},{"$f":"iWorks!K68","v":0},{"$f":"iWorks!L68","v":"The OVERALL SCORE is the combination of the six category scores, as determined by the weighting profile (see Scoring Notes)."},{"$f":"iWorks!M68","v":0},{"$f":"iWorks!N68","v":0},{"$f":"iWorks!O68","v":0},{"$f":"iWorks!P68","v":0},{"$f":"iWorks!Q68","v":0},{"$f":"iWorks!R68","v":0},{"$f":"iWorks!S68","v":0}]
[{"$f":"iWorks!A71","v":"INDI_Y_ID"},{"$f":"iWorks!B71","v":1},{"$f":"iWorks!C71","v":"BG_01"},{"$f":"iWorks!D71","v":"BG"},{"$f":"iWorks!E71","v":"-"},{"$f":"iWorks!F71","v":7.1},{"$f":"iWorks!G71","v":"GDP per head (PPP, $, 2014)"},{"$f":"iWorks!H71","v":0},{"$f":"iWorks!I71","v":"Economist Intelligence Unit"},{"$f":"iWorks!J71","v":0},{"$f":"iWorks!K71","v":0},{"$f":"iWorks!L71","v":0},{"$f":"iWorks!M71","v":0},{"$f":"iWorks!N71","v":0},{"$f":"iWorks!O71","v":0},{"$f":"iWorks!P71","v":0},{"$f":"iWorks!Q71","v":0},{"$f":"iWorks!R71","v":0},{"$f":"iWorks!S71","v":0}]
["City_HIGHLIGHT_ID",{"$f":"iWorks!B30-1","v":0}]
["SHOW_LABELS",{"$f":"iWorks!B73","v":false}]
["SHOW_OUTLIERS",{"$f":"iWorks!B74","v":false}]
[]
[]
["TITLE"]
["X-LABEL",{"$f":"G1","v":"OVERALL SCORE"}]
["Y-LABEL",{"$f":"G2","v":"GDP per head (PPP, $, 2014)"}]
[]
["SLOPE",{"$f":"SLOPE(H19:H38,G19:G38)","v":1092.1479217182218}]
["INTERCEPT",{"$f":"INTERCEPT(H19:H38,G19:G38)","v":-48082.075467263712}]
["CORREL",{"$f":"CORREL(G19:G38,H19:H38)","v":0.77142350322007724}]
["ERROR CORREL",{"$f":"IF(ISERROR(B14),FALSE,TRUE)","v":true}]
[]
[null,null,null,"Raw data",null,"Allowable?","Don't allow blanks or errors",null,null,"Anticipated",null,null,"CityHighlight",null,null,null,null,null,"Labels",null,null,null,"Base (unhighlighted)",null,null,"Highlighted"]
["City_ID","City","STATUS","X","Y",null,"X","Y",null,"Y","Diff",null,null,"CityID","Label","X","Y",null,"Include?","X","Y",null,"X","Y",null,"X","Y"]
[1,{"$f":"tblCountries!D3","v":"Brazil"},{"$f":"tblCountries!E3","v":1},{"$f":"IF($C19=0,NA(),INDEX(aScores,$B$1,$A19))","v":66.512663123204533},{"$f":"IF($C19=0,NA(),INDEX(Data!$N$83:$AG$86,$B$2,$A19))","v":16050},{"$f":"AND(ISNUMBER(D19),ISNUMBER(E19))","v":true},{"$f":"IF($F19,D19,\"\")","v":66.512663123204533},{"$f":"IF($F19,E19,\"\")","v":16050},null,{"$f":"IF(G19=\"\",\"\",(G19*$B$12)+$B$13)","v":24559.59133068833},{"$f":"IF(J19=\"\",\"\",H19-J19)","v":-8509.5913306883303},null,null,{"$f":"B3","v":0},{"$f":"IF($B$3=0,\"<none>\",INDEX(luCountries,$B$3))","v":"<none>"},{"$f":"IF($B$3=0,NA(),INDEX(G19:G38,$B$3))","v":{"$error":"#N/A"}},{"$f":"IF($B$3=0,NA(),INDEX(H19:H38,$B$3))","v":{"$error":"#N/A"}},null,{"$f":"IF(NOT($B$4),0,IF(OR(A19=$N$19,A19=$N$23,A19=$N$27),0,IF(AND(C19<3,F19),1,0)))","v":0},{"$f":"IF($S19=0,NA(),G19)","v":{"$error":"#N/A"}},{"$error":"#N/A"},null,{"$f":"IF(AND($C19>0,$F19),G19,NA())","v":66.512663123204533},16050,null,{"$f":"IF(AND($C19=2,$F19),G19,NA())","v":{"$error":"#N/A"}},{"$error":"#N/A"}]
[2,{"$f":"tblCountries!D4","v":"Canada"},{"$f":"tblCountries!E4","v":1},76.203113504321877,{"$f":"IF($C20=0,NA(),INDEX(Data!$N$83:$AG$86,$B$2,$A20))","v":44295.9},{"$f":"AND(ISNUMBER(D20),ISNUMBER(E20))","v":true},{"$f":"IF($F20,D20,\"\")","v":76.203113504321877},44295.9,null,{"$f":"IF(G20=\"\",\"\",(G20*$B$12)+$B$13)","v":35142.996574939185},{"$f":"IF(J20=\"\",\"\",H20-J20)","v":9152.9034250608165},null,null,null,null,null,null,null,0,{"$error":"#N/A"},{"$error":"#N/A"},null,76.203113504321877,44295.9,null,{"$error":"#N/A"},{"$error":"#N/A"}]
[3,{"$f":"tblCountries!D5","v":"Chile"},{"$f":"tblCountries!E5","v":1},67.326099454897474,{"$f":"IF($C21=0,NA(),INDEX(Data!$N$83:$AG$86,$B$2,$A21))","v":22450},true,67.326099454897474,22450,null,25447.984129796867,-2997.9841297968669,null,"Max Outlier",null,null,null,null,null,0,{"$error":"#N/A"},{"$error":"#N/A"},null,67.326099454897474,22450,null,{"$error":"#N/A"},{"$error":"#N/A"}]
[4,{"$f":"tblCountries!D6","v":"China"},{"$f":"tblCountries!E6","v":1},60.654296618192063,{"$f":"IF($C22=0,NA(),INDEX(Data!$N$83:$AG$86,$B$2,$A22))","v":13390},true,60.654296618192063,13390,null,18161.388527575313,-4771.3885275753128,null,"Target","CityID","Label","X","Y",null,0,{"$error":"#N/A"},{"$error":"#N/A"},null,60.654296618192063,13390,null,{"$error":"#N/A"},{"$error":"#N/A"}]
[5,{"$f":"tblCountries!D7","v":"France"},{"$f":"tblCountries!E7","v":1},81.988128793868668,{"$f":"IF($C23=0,NA(),INDEX(Data!$N$83:$AG$86,$B$2,$A23))","v":39000},true,81.988128793868668,39000,null,41461.089000525855,-2461.0890005258552,null,{"$f":"MAX(K19:K38)","v":29765.257331654109},{"$f":"IF(B15,IF($B$5,MATCH(M23,K19:K38,0),0),0)","v":0},{"$f":"IF(AND($B$15,$B$5,N23<>N19),INDEX(B19:B38,$N23),NA())","v":{"$error":"#N/A"}},{"$f":"IF(AND($B$15,$B$5,N23<>N19),INDEX(G19:G38,$N23),NA())","v":{"$error":"#N/A"}},{"$f":"IF(AND($B$15,$B$5,N23<>N19),INDEX(H19:H38,$N23),NA())","v":{"$error":"#N/A"}},null,0,{"$error":"#N/A"},{"$error":"#N/A"},null,81.988128793868668,39000,null,{"$error":"#N/A"},{"$error":"#N/A"}]
[6,{"$f":"tblCountries!D8","v":"India"},{"$f":"tblCountries!E8","v":1},56.073805389192202,{"$f":"IF($C24=0,NA(),INDEX(Data!$N$83:$AG$86,$B$2,$A24))","v":5850},true,56.073805389192202,5850,null,13158.814551374577,-7308.8145513745767,null,null,null,null,null,null,null,0,{"$error":"#N/A"},{"$error":"#N/A"},null,56.073805389192202,5850,null,{"$error":"#N/A"},{"$error":"#N/A"}]
[7,{"$f":"tblCountries!D9","v":"Indonesia"},{"$f":"tblCountries!E9","v":1},56.953006340747656,{"$f":"IF($C25=0,NA(),INDEX(Data!$N$83:$AG$86,$B$2,$A25))","v":10540},true,56.953006340747656,10540,null,14119.03204338855,-3579.0320433885499,null,"Min Outlier",null,null,null,null,null,0,{"$error":"#N/A"},{"$error":"#N/A"},null,56.953006340747656,10540,null,{"$error":"#N/A"},{"$error":"#N/A"}]
[8,{"$f":"tblCountries!D10","v":"Japan"},{"$f":"tblCountries!E10","v":1},78.164155255545907,{"$f":"IF($C26=0,NA(),INDEX(Data!$N$83:$AG$86,$B$2,$A26))","v":36820},true,78.164155255545907,36820,null,37284.744247941169,-464.74424794116931,null,"Target","CityID","Label","X","Y",null,0,{"$error":"#N/A"},{"$error":"#N/A"},null,78.164155255545907,36820,null,{"$error":"#N/A"},{"$error":"#N/A"}]
[9,{"$f":"tblCountries!D11","v":"Mexico"},{"$f":"tblCountries!E11","v":1},59.80011143170686,{"$f":"IF($C27=0,NA(),INDEX(Data!$N$83:$AG$86,$B$2,$A27))","v":16773.099999999999},true,59.80011143170686,16773.099999999999,null,17228.491951393014,-455.39195139301592,null,{"$f":"MIN(K19:K38)","v":-12639.118424139355},{"$f":"IF(B15,IF($B$5,MATCH(M27,K19:K38,0),0),0)","v":0},{"$f":"IF(AND($B$15,$B$5,N27<>N19),INDEX(B19:B38,$N27),NA())","v":{"$error":"#N/A"}},{"$f":"IF(AND($B$5,$B$15,N27<>N19),INDEX(G19:G38,$N27),NA())","v":{"$error":"#N/A"}},{"$f":"IF(AND($B$5,$B$15,N27<>N19),INDEX(H19:H38,$N27),NA())","v":{"$error":"#N/A"}},null,0,{"$error":"#N/A"},{"$error":"#N/A"},null,59.80011143170686,16773.099999999999,null,{"$error":"#N/A"},{"$error":"#N/A"}]
[10,{"$f":"tblCountries!D12","v":"New Zealand"},{"$f":"tblCountries!E12","v":1},86.163366424857784,{"$f":"IF($C28=0,NA(),INDEX(Data!$N$83:$AG$86,$B$2,$A28))","v":35360},true,86.163366424857784,35360,null,46021.066101890334,-10661.066101890334,null,null,null,null,null,null,null,0,{"$error":"#N/A"},{"$error":"#N/A"},null,86.163366424857784,35360,null,{"$error":"#N/A"},{"$error":"#N/A"}]
[11,{"$f":"tblCountries!D13","v":"Nigeria"},{"$f":"tblCountries!E13","v":1},50.075062285380596,{"$f":"IF($C29=0,NA(),INDEX(Data!$N$83:$AG$86,$B$2,$A29))","v":5880},true,50.075062285380596,5880,null,6607.2997376252169,-727.29973762521695,null,null,null,null,null,null,null,0,{"$error":"#N/A"},{"$error":"#N/A"},null,50.075062285380596,5880,null,{"$error":"#N/A"},{"$error":"#N/A"}]
[12,{"$f":"tblCountries!D14","v":"Norway"},{"$f":"tblCountries!E14","v":1},79.098093232372349,{"$f":"IF($C30=0,NA(),INDEX(Data!$N$83:$AG$86,$B$2,$A30))","v":68070},true,79.098093232372349,68070,null,38304.742668345891,29765.257331654109,null,null,null,null,null,null,null,0,{"$error":"#N/A"},{"$error":"#N/A"},null,79.098093232372349,68070,null,{"$error":"#N/A"},{"$error":"#N/A"}]
[13,{"$f":"tblCountries!D15","v":"Peru"},{"$f":"tblCountries!E15","v":1},55.138376508516096,{"$f":"IF($C31=0,NA(),INDEX(Data!$N$83:$AG$86,$B$2,$A31))","v":10840},true,55.138376508516096,10840,null,12137.187843428968,-1297.1878434289683,null,null,null,null,null,null,null,0,{"$error":"#N/A"},{"$error":"#N/A"},null,55.138376508516096,10840,null,{"$error":"#N/A"},{"$error":"#N/A"}]
[14,{"$f":"tblCountries!D16","v":"Philippines"},{"$f":"tblCountries!E16","v":1},59.344767032375628,{"$f":"IF($C32=0,NA(),INDEX(Data!$N$83:$AG$86,$B$2,$A32))","v":6910},true,59.344767032375628,6910,null,16731.188511997374,-9821.188511997374,null,null,null,null,null,null,null,0,{"$error":"#N/A"},{"$error":"#N/A"},null,59.344767032375628,6910,null,{"$error":"#N/A"},{"$error":"#N/A"}]
[15,{"$f":"tblCountries!D17","v":"Russia"},{"$f":"tblCountries!E17","v":1},42.268904992589576,{"$f":"IF($C33=0,NA(),INDEX(Data!$N$83:$AG$86,$B$2,$A33))","v":24590},true,42.268904992589576,24590,null,-1918.1787263020378,26508.178726302038,null,null,null,null,null,null,null,0,{"$error":"#N/A"},{"$error":"#N/A"},null,42.268904992589576,24590,null,{"$error":"#N/A"},{"$error":"#N/A"}]
[16,{"$f":"tblCountries!D18","v":"South Africa"},{"$f":"tblCountries!E18","v":1},67.871569791374654,{"$f":"IF($C34=0,NA(),INDEX(Data!$N$83:$AG$86,$B$2,$A34))","v":13404.6},true,67.871569791374654,13404.6,null,26043.718424139355,-12639.118424139355,null,null,null,null,null,null,null,0,{"$error":"#N/A"},{"$error":"#N/A"},null,67.871569791374654,13404.6,null,{"$error":"#N/A"},{"$error":"#N/A"}]
[17,{"$f":"tblCountries!D19","v":"South Korea"},{"$f":"tblCountries!E19","v":1},72.027699919695479,{"$f":"IF($C35=0,NA(),INDEX(Data!$N$83:$AG$86,$B$2,$A35))","v":35140},true,72.027699919695479,35140,null,30582.827306175444,4557.1726938245556,null,null,null,null,null,null,null,0,{"$f":"IF($S35=0,NA(),G35)","v":{"$error":"#N/A"}},{"$error":"#N/A"},null,{"$f":"IF(AND($C35>0,$F35),G35,NA())","v":72.027699919695479},35140,null,{"$f":"IF(AND($C35=2,$F35),G35,NA())","v":{"$error":"#N/A"}},{"$error":"#N/A"}]
[18,{"$f":"tblCountries!D20","v":"Spain"},{"$f":"tblCountries!E20","v":1},79.820005731403398,{"$f":"IF($C36=0,NA(),INDEX(Data!$N$83:$AG$86,$B$2,$A36))","v":33710},true,{"$f":"IF($F36,D36,\"\")","v":79.820005731403398},33710,null,39093.177903825068,-5383.1779038250679,null,null,null,null,null,null,null,0,{"$error":"#N/A"},{"$error":"#N/A"},null,79.820005731403398,33710,null,{"$error":"#N/A"},{"$error":"#N/A"}]
[19,{"$f":"tblCountries!D21","v":"United States"},{"$f":"tblCountries!E21","v":1},85.422888393957692,{"$f":"IF($C37=0,NA(),INDEX(Data!$N$83:$AG$86,$B$2,$A37))","v":54633.9},true,85.422888393957692,54633.9,null,45212.354559364787,9421.5454406352146,null,null,null,null,null,null,null,0,{"$error":"#N/A"},{"$error":"#N/A"},null,85.422888393957692,54633.9,null,{"$error":"#N/A"},{"$error":"#N/A"}]
[20,{"$f":"tblCountries!D22","v":"Vietnam"},{"$f":"tblCountries!E22","v":1},56.704826834920624,{"$f":"IF($C38=0,NA(),INDEX(Data!$N$83:$AG$86,$B$2,$A38))","v":5520},true,56.704826834920624,5520,null,13847.983311886499,-8327.983311886499,null,null,null,null,null,null,null,0,{"$error":"#N/A"},{"$error":"#N/A"},null,56.704826834920624,5520,null,{"$error":"#N/A"},{"$error":"#N/A"}]

{"sheet":"Scatter_Plot","index":19,"n_rows":17,"n_cols":17,"rows_kept":17,"cut":false,"hidden":false,"merged":[]}
["    SCATTER PLOT"]
[null,"X INDICATOR",null,null,null,{"$f":"B2","v":"X INDICATOR"},null,null,null,null,null,null,null,null,null,null,{"$f":"B9","v":"Y BACKGROUND INDICATOR "}]
[null,null,null,null,null,{"$f":"iScatter!G1","v":"OVERALL SCORE"},null,null,null,null,null,null,null,null,null,null,{"$f":"iScatter!$G$2","v":"GDP per head (PPP, $, 2014)"}]
[null,null,null,null,null,{"$f":"iScatter!H1","v":"Scored 0-100 where 100=most favorable coastal governance environment"}]
[]
[null,null,null,null,null,"CORRELATION(X,Y)",{"$f":"IF(ISERROR(iScatter!B14),\"n/a\",iScatter!B14)","v":0.77142350322007724}]
[]
[]
[null,"Y BACKGROUND INDICATOR "]
[]
[]
[]
[]
[null,"COUNTRY HIGHLIGHT"]
[]
[]
[null,"WEIGHTS"]

{"sheet":"iWeights","index":20,"n_rows":48,"n_cols":19,"rows_kept":48,"cut":false,"hidden":true,"merged":[]}
[]
["Weight Profile Names",null,null,null,null,null,null,1,2,3,4,5,6,7]
["Neutral (each category equal)",null,"Code","Row","Level","Indicator/Category Name",null,{"$f":"INDEX($A$3:$A$9,H2)","v":"Neutral (each category equal)"},{"$f":"INDEX($A$3:$A$9,I2)","v":"Equal Weights"},"Custom Setting","User defined#3","User defined#4","User defined#5","User defined#6",null,"ACTIVE","IS_DIRTY"]
["Equal Weights"]
["Custom Setting"]
["User defined#3"]
["User defined#4",null,{"$f":"tblIndiSets!A4","v":"PLCAP"},{"$f":"MATCH(C7,lu_indicode,0)","v":2},{"$f":"INDEX(OFFSET(lu_indicode,0,2),D7)","v":1},{"$f":"tblIndiSets!C4","v":"1) POLICY AND INSTITUTIONAL CAPACITY"},{"$f":"IF(E7=1,UPPER(F7),F7)","v":"1) POLICY AND INSTITUTIONAL CAPACITY"},1,29.2,20,1,1,1,1,null,{"$f":"Weights!G7","v":1},{"$f":"IF(P7=INDEX(H7:N7,iWorks!$B$5),0,1)","v":0},null,1]
["User defined#5",null,{"$f":"tblIndiSets!A5","v":"BUSENV"},20,1,{"$f":"tblIndiSets!C5","v":"2) BUSINESS ENVIRONMENT FOR COASTAL ACTIVITIES"},{"$f":"IF(E8=1,UPPER(F8),F8)","v":"2) BUSINESS ENVIRONMENT FOR COASTAL ACTIVITIES"},1,16.7,20,1,1,1,1,null,{"$f":"Weights!G8","v":1},{"$f":"IF(P8=INDEX(H8:N8,iWorks!$B$5),0,1)","v":0},null,2]
["User defined#6",null,{"$f":"tblIndiSets!A6","v":"WATQUAL"},34,1,{"$f":"tblIndiSets!C6","v":"3) WATER QUALITY"},"3) WATER QUALITY",1,12.5,15,1,1,1,1,null,{"$f":"Weights!G9","v":1},{"$f":"IF(P9=INDEX(H9:N9,iWorks!$B$5),0,1)","v":0},null,3]
[null,null,{"$f":"tblIndiSets!A7","v":"MINENG"},44,1,{"$f":"tblIndiSets!C7","v":"4) MINERALS AND ENERGY"},"4) MINERALS AND ENERGY",1,12.5,15,1,1,1,1,null,{"$f":"Weights!G10","v":1},{"$f":"IF(P10=INDEX(H10:N10,iWorks!$B$5),0,1)","v":0},null,4]
[null,null,{"$f":"tblIndiSets!A8","v":"LAND"},57,1,{"$f":"tblIndiSets!C8","v":"5) LAND"},"5) LAND",1,16.7,15,1,1,1,1,null,{"$f":"Weights!G11","v":1},{"$f":"IF(P11=INDEX(H11:N11,iWorks!$B$5),0,1)","v":0},null,5]
[null,null,{"$f":"tblIndiSets!A9","v":"LIVRES"},67,1,{"$f":"tblIndiSets!C9","v":"6) LIVING RESOURCES"},"6) LIVING RESOURCES",1,12.5,15,1,1,1,1,null,{"$f":"Weights!G12","v":1},{"$f":"IF(P12=INDEX(H12:N12,iWorks!$B$5),0,1)","v":0},null,6]
[null,null,null,null,null,null,null,null,null,null,null,null,null,null,null,{"$f":"IF(INDEX($H$7:$N$45,S13,iWorks!$B$5)=\"\",\"\",INDEX($H$7:$N$45,S13,iWorks!$B$5))","v":""},{"$f":"IF(P13=INDEX(H13:N13,iWorks!$B$5),0,1)","v":0},null,7]
[null,null,null,null,null,null,null,null,null,null,null,null,null,null,null,{"$f":"IF(INDEX($H$7:$N$45,S14,iWorks!$B$5)=\"\",\"\",INDEX($H$7:$N$45,S14,iWorks!$B$5))","v":""},{"$f":"IF(P14=INDEX(H14:N14,iWorks!$B$5),0,1)","v":0},null,8]
[null,null,null,null,null,null,null,null,null,null,null,null,null,null,null,{"$f":"IF(INDEX($H$7:$N$45,S15,iWorks!$B$5)=\"\",\"\",INDEX($H$7:$N$45,S15,iWorks!$B$5))","v":""},{"$f":"IF(P15=INDEX(H15:N15,iWorks!$B$5),0,1)","v":0},null,9]
[null,null,{"$f":"tblIndiSets!A13","v":"PLCAP"},{"$f":"MATCH(C16,lu_indicode,0)","v":2},{"$f":"INDEX(OFFSET(lu_indicode,0,2),D16)","v":1},{"$f":"tblIndiSets!C13","v":"1) POLICY AND INSTITUTIONAL CAPACITY"},{"$f":"IF(E16=1,UPPER(F16),F16)","v":"1) POLICY AND INSTITUTIONAL CAPACITY"},null,null,null,null,null,null,null,null,{"$f":"IF(INDEX($H$7:$N$45,S16,iWorks!$B$5)=\"\",\"\",INDEX($H$7:$N$45,S16,iWorks!$B$5))","v":""},{"$f":"IF(P16=INDEX(H16:N16,iWorks!$B$5),0,1)","v":0},null,10]
[null,null,{"$f":"tblIndiSets!A14","v":"PLCAP_1"},3,2,{"$f":"tblIndiSets!C14","v":"1.1) Coastal management policy and strategy"},{"$f":"IF(E17=1,UPPER(F17),F17)","v":"1.1) Coastal management policy and strategy"},1,1,1,1,1,1,1,null,{"$f":"Weights!G17","v":1},{"$f":"IF(P17=INDEX(H17:N17,iWorks!$B$5),0,1)","v":0},null,11]
[null,null,{"$f":"tblIndiSets!A15","v":"PLCAP_2"},6,2,{"$f":"tblIndiSets!C15","v":"1.2) Presence of established institution(s)"},"1.2) Presence of established institution(s)",1,1,1,1,1,1,1,null,{"$f":"Weights!G18","v":1},{"$f":"IF(P18=INDEX(H18:N18,iWorks!$B$5),0,1)","v":0},null,12]
[null,null,{"$f":"tblIndiSets!A16","v":"PLCAP_3"},8,2,{"$f":"tblIndiSets!C16","v":"1.3) National strategy to adapt to climate change"},"1.3) National strategy to adapt to climate change",1,1,1,1,1,1,1,null,{"$f":"Weights!G19","v":1},{"$f":"IF(P19=INDEX(H19:N19,iWorks!$B$5),0,1)","v":0},null,13]
[null,null,{"$f":"tblIndiSets!A17","v":"PLCAP_4"},10,2,{"$f":"tblIndiSets!C17","v":"1.4) Maritime Spatial Planning"},"1.4) Maritime Spatial Planning",1,1,1,1,1,1,1,null,{"$f":"Weights!G20","v":1},{"$f":"IF(P20=INDEX(H20:N20,iWorks!$B$5),0,1)","v":0},null,14]
[null,null,{"$f":"tblIndiSets!A18","v":"PLCAP_5"},13,2,{"$f":"tblIndiSets!C18","v":"1.5) Stakeholder engagement"},"1.5) Stakeholder engagement",1,1,1,1,1,1,1,null,{"$f":"Weights!G21","v":1},{"$f":"IF(P21=INDEX(H21:N21,iWorks!$B$5),0,1)","v":0},null,15]
[null,null,{"$f":"tblIndiSets!A19","v":"PLCAP_6"},16,2,{"$f":"tblIndiSets!C19","v":"1.6) Extractive industries transparency"},"1.6) Extractive industries transparency",1,1,1,1,1,1,1,null,{"$f":"Weights!G22","v":1},{"$f":"IF(P22=INDEX(H22:N22,iWorks!$B$5),0,1)","v":0},null,16]
[null,null,{"$f":"tblIndiSets!A20","v":"PLCAP_7"},18,2,{"$f":"tblIndiSets!C20","v":"1.7) Adoption of the United Nations Convention on the Law of the Sea (UNCLOS)"},"1.7) Adoption of the United Nations Convention on the Law of the Sea (UNCLOS)",1,1,1,1,1,1,1,null,{"$f":"Weights!G23","v":1},{"$f":"IF(P23=INDEX(H23:N23,iWorks!$B$5),0,1)","v":0},null,17]
[null,null,{"$f":"tblIndiSets!A21","v":"BUSENV"},20,1,{"$f":"tblIndiSets!C21","v":"2) BUSINESS ENVIRONMENT FOR COASTAL ACTIVITIES"},"2) BUSINESS ENVIRONMENT FOR COASTAL ACTIVITIES",null,null,null,null,null,null,null,null,null,{"$f":"IF(P24=INDEX(H24:N24,iWorks!$B$5),0,1)","v":0},null,18]
[null,null,{"$f":"tblIndiSets!A22","v":"BUSENV_1"},21,2,{"$f":"tblIndiSets!C22","v":"2.1) Ease of doing business"},"2.1) Ease of doing business",1,1,1,1,1,1,1,null,{"$f":"Weights!G25","v":1},{"$f":"IF(P25=INDEX(H25:N25,iWorks!$B$5),0,1)","v":0},null,19]
[null,null,{"$f":"tblIndiSets!A23","v":"BUSENV_2"},23,2,{"$f":"tblIndiSets!C23","v":"2.2) Corruption perception"},"2.2) Corruption perception",1,1,1,1,1,1,1,null,{"$f":"Weights!G26","v":1},{"$f":"IF(P26=INDEX(H26:N26,iWorks!$B$5),0,1)","v":0},null,20]
[null,null,{"$f":"tblIndiSets!A24","v":"BUSENV_3"},25,2,{"$f":"tblIndiSets!C24","v":"2.3) Effectiveness of dispute resolution mechanisms"},"2.3) Effectiveness of dispute resolution mechanisms",1,1,1,1,1,1,1,null,{"$f":"Weights!G27","v":1},{"$f":"IF(P27=INDEX(H27:N27,iWorks!$B$5),0,1)","v":0},null,21]
[null,null,{"$f":"tblIndiSets!A25","v":"BUSENV_4"},28,2,{"$f":"tblIndiSets!C25","v":"2.4) Quality of coastal infrastructure"},"2.4) Quality of coastal infrastructure",1,1,1,1,1,1,1,null,{"$f":"Weights!G28","v":1},{"$f":"IF(P28=INDEX(H28:N28,iWorks!$B$5),0,1)","v":0},null,22]
[null,null,{"$f":"tblIndiSets!A26","v":"WATQUAL"},34,1,{"$f":"tblIndiSets!C26","v":"3) WATER QUALITY"},"3) WATER QUALITY",null,null,null,null,null,null,null,null,null,{"$f":"IF(P29=INDEX(H29:N29,iWorks!$B$5),0,1)","v":0},null,23]
[null,null,{"$f":"tblIndiSets!A27","v":"WATQUAL_1"},35,2,{"$f":"tblIndiSets!C27","v":"3.1) Agency"},"3.1) Agency",1,1,1,1,1,1,1,null,{"$f":"Weights!G30","v":1},{"$f":"IF(P30=INDEX(H30:N30,iWorks!$B$5),0,1)","v":0},null,24]
[null,null,{"$f":"tblIndiSets!A28","v":"WATQUAL_2"},37,2,{"$f":"tblIndiSets!C28","v":"3.2) Regulatory standards for water pollution"},"3.2) Regulatory standards for water pollution",1,1,1,1,1,1,1,null,{"$f":"Weights!G31","v":1},{"$f":"IF(P31=INDEX(H31:N31,iWorks!$B$5),0,1)","v":0},null,25]
[null,null,{"$f":"tblIndiSets!A29","v":"WATQUAL_3"},41,2,{"$f":"tblIndiSets!C29","v":"3.3) Monitoring and enforcement"},"3.3) Monitoring and enforcement",1,1,1,1,1,1,1,null,{"$f":"Weights!G32","v":1},{"$f":"IF(P32=INDEX(H32:N32,iWorks!$B$5),0,1)","v":0},null,26]
[null,null,{"$f":"tblIndiSets!A30","v":"MINENG"},44,1,{"$f":"tblIndiSets!C30","v":"4) MINERALS AND ENERGY"},"4) MINERALS AND ENERGY",null,null,null,null,null,null,null,null,null,{"$f":"IF(P33=INDEX(H33:N33,iWorks!$B$5),0,1)","v":0},null,27]
[null,null,{"$f":"tblIndiSets!A31","v":"MINENG_1"},45,2,{"$f":"tblIndiSets!C31","v":"4.1) Permitting and licensing"},"4.1) Permitting and licensing",1,1,1,1,1,1,1,null,{"$f":"Weights!G34","v":1},{"$f":"IF(P34=INDEX(H34:N34,iWorks!$B$5),0,1)","v":0},null,28]
[null,null,{"$f":"tblIndiSets!A32","v":"MINENG_2"},48,2,{"$f":"tblIndiSets!C32","v":"4.2) Monitoring and enforcement"},"4.2) Monitoring and enforcement",1,1,1,1,1,1,1,null,{"$f":"Weights!G35","v":1},{"$f":"IF(P35=INDEX(H35:N35,iWorks!$B$5),0,1)","v":0},null,29]
[null,null,{"$f":"tblIndiSets!A33","v":"MINENG_3"},53,2,{"$f":"tblIndiSets!C33","v":"4.3) Risk mitigation"},"4.3) Risk mitigation",1,1,1,1,1,1,1,null,{"$f":"Weights!G36","v":1},{"$f":"IF(P36=INDEX(H36:N36,iWorks!$B$5),0,1)","v":0},null,30]
[null,null,{"$f":"tblIndiSets!A34","v":"LAND"},57,1,{"$f":"tblIndiSets!C34","v":"5) LAND"},"5) LAND",null,null,null,null,null,null,null,null,null,{"$f":"IF(P37=INDEX(H37:N37,iWorks!$B$5),0,1)","v":0},null,31]
[null,null,{"$f":"tblIndiSets!A35","v":"LAND_1"},58,2,{"$f":"tblIndiSets!C35","v":"5.1) Prevalence of coastal protected areas"},"5.1) Prevalence of coastal protected areas",1,1,1,1,1,1,1,null,{"$f":"Weights!G38","v":1},{"$f":"IF(P38=INDEX(H38:N38,iWorks!$B$5),0,1)","v":0},null,32]
[null,null,{"$f":"tblIndiSets!A36","v":"LAND_2"},60,2,{"$f":"tblIndiSets!C36","v":"5.2) Environmental impact of coastal development"},"5.2) Environmental impact of coastal development",1,1,1,1,1,1,1,null,{"$f":"Weights!G39","v":1},{"$f":"IF(P39=INDEX(H39:N39,iWorks!$B$5),0,1)","v":0},null,33]
[null,null,{"$f":"tblIndiSets!A37","v":"LAND_3"},63,2,{"$f":"tblIndiSets!C37","v":"5.3) Government commitment to sustainability in coastal tourism development"},"5.3) Government commitment to sustainability in coastal tourism development",1,1,1,1,1,1,1,null,{"$f":"Weights!G40","v":1},{"$f":"IF(P40=INDEX(H40:N40,iWorks!$B$5),0,1)","v":0},null,34]
[null,null,{"$f":"tblIndiSets!A38","v":"LAND_4"},65,2,{"$f":"tblIndiSets!C38","v":"5.4) Natural disaster risk mitigation"},"5.4) Natural disaster risk mitigation",1,1,1,1,1,1,1,null,{"$f":"Weights!G41","v":1},{"$f":"IF(P41=INDEX(H41:N41,iWorks!$B$5),0,1)","v":0},null,35]
[null,null,{"$f":"tblIndiSets!A39","v":"LIVRES"},67,1,{"$f":"tblIndiSets!C39","v":"6) LIVING RESOURCES"},"6) LIVING RESOURCES",null,null,null,null,null,null,null,null,null,{"$f":"IF(P42=INDEX(H42:N42,iWorks!$B$5),0,1)","v":0},null,37]
[null,null,{"$f":"tblIndiSets!A40","v":"LIVRES_1"},68,2,{"$f":"tblIndiSets!C40","v":"6.1) Fisheries governance and management effectiveness"},"6.1) Fisheries governance and management effectiveness",1,1,1,1,1,1,1,null,{"$f":"Weights!G43","v":1},{"$f":"IF(P43=INDEX(H43:N43,iWorks!$B$5),0,1)","v":0},null,38]
[null,null,{"$f":"tblIndiSets!A41","v":"LIVRES_2"},70,2,{"$f":"tblIndiSets!C41","v":"6.2) Protection for marine/coastal species"},"6.2) Protection for marine/coastal species",1,1,1,1,1,1,1,null,{"$f":"Weights!G44","v":1},{"$f":"IF(P44=INDEX(H44:N44,iWorks!$B$5),0,1)","v":0},null,39]
[null,null,{"$f":"tblIndiSets!A42","v":"LIVRES_3"},73,2,{"$f":"tblIndiSets!C42","v":"6.3) Ballast water treatment"},"6.3) Ballast water treatment",1,1,1,1,1,1,1,null,{"$f":"Weights!G45","v":1},{"$f":"IF(P45=INDEX(H45:N45,iWorks!$B$5),0,1)","v":0},null,40]
[]
[]
[null,null,null,null,null,null,null,null,null,null,null,null,null,null,null,"DIRTY WEIGHT PROFILE (1=YES)",{"$f":"IF(SUM(Q7:Q45)>0,1,0)","v":0}]

{"sheet":"Weights","index":21,"n_rows":45,"n_cols":10,"rows_kept":45,"cut":false,"hidden":false,"merged":[]}
["WEIGHTS",null,null,null,null,null,"WEIGHT PROFILE"]
[]
[]
[]
[]
[null,null,null,null,null,"MAIN CATEGORIES",null,"Weight %"]
[null,null,{"$f":"iWeights!C7","v":"PLCAP"},{"$f":"iWeights!D7","v":2},{"$f":"iWeights!E7","v":1},{"$f":"iWeights!G7","v":"1) POLICY AND INSTITUTIONAL CAPACITY"},1,{"$f":"INDEX(tblIndicators!$AJ$2:$AJ$75,D7)","v":0.16666666666666666},null,{"$f":"REPT(\"|\",H7*50)","v":"||||||||"}]
[null,null,{"$f":"iWeights!C8","v":"BUSENV"},{"$f":"iWeights!D8","v":20},{"$f":"iWeights!E8","v":1},{"$f":"iWeights!G8","v":"2) BUSINESS ENVIRONMENT FOR COASTAL ACTIVITIES"},1,{"$f":"INDEX(tblIndicators!$AJ$2:$AJ$75,D8)","v":0.16666666666666666},null,{"$f":"REPT(\"|\",H8*50)","v":"||||||||"}]
[null,null,{"$f":"iWeights!C9","v":"WATQUAL"},{"$f":"iWeights!D9","v":34},{"$f":"iWeights!E9","v":1},{"$f":"iWeights!G9","v":"3) WATER QUALITY"},1,{"$f":"INDEX(tblIndicators!$AJ$2:$AJ$75,D9)","v":0.16666666666666666},null,"||||||||"]
[null,null,{"$f":"iWeights!C10","v":"MINENG"},{"$f":"iWeights!D10","v":44},{"$f":"iWeights!E10","v":1},{"$f":"iWeights!G10","v":"4) MINERALS AND ENERGY"},1,{"$f":"INDEX(tblIndicators!$AJ$2:$AJ$75,D10)","v":0.16666666666666666},null,"||||||||"]
[null,null,{"$f":"iWeights!C11","v":"LAND"},{"$f":"iWeights!D11","v":57},{"$f":"iWeights!E11","v":1},{"$f":"iWeights!G11","v":"5) LAND"},1,{"$f":"INDEX(tblIndicators!$AJ$2:$AJ$75,D11)","v":0.16666666666666666},null,"||||||||"]
[null,null,{"$f":"iWeights!C12","v":"LIVRES"},{"$f":"iWeights!D12","v":67},{"$f":"iWeights!E12","v":1},{"$f":"iWeights!G12","v":"6) LIVING RESOURCES"},1,{"$f":"INDEX(tblIndicators!$AJ$2:$AJ$75,D12)","v":0.16666666666666666},null,"||||||||"]
[null,null,null,null,null,null,null,null,null,""]
[]
[null,null,null,null,null,"INDICATORS",null,"Weight %"]
[null,null,{"$f":"iWeights!C16","v":"PLCAP"},{"$f":"iWeights!D16","v":2},{"$f":"iWeights!E16","v":1},{"$f":"iWeights!G16","v":"1) POLICY AND INSTITUTIONAL CAPACITY"}]
[null,null,{"$f":"iWeights!C17","v":"PLCAP_1"},{"$f":"iWeights!D17","v":3},{"$f":"iWeights!E17","v":2},{"$f":"iWeights!G17","v":"1.1) Coastal management policy and strategy"},1,{"$f":"INDEX(tblIndicators!$AJ$2:$AJ$75,D17)","v":0.14285714285714285},null,{"$f":"REPT(\"|\",H17*50)","v":"|||||||"}]
[null,null,{"$f":"iWeights!C18","v":"PLCAP_2"},{"$f":"iWeights!D18","v":6},{"$f":"iWeights!E18","v":2},{"$f":"iWeights!G18","v":"1.2) Presence of established institution(s)"},1,{"$f":"INDEX(tblIndicators!$AJ$2:$AJ$75,D18)","v":0.14285714285714285},null,{"$f":"REPT(\"|\",H18*50)","v":"|||||||"}]
[null,null,{"$f":"iWeights!C19","v":"PLCAP_3"},{"$f":"iWeights!D19","v":8},{"$f":"iWeights!E19","v":2},{"$f":"iWeights!G19","v":"1.3) National strategy to adapt to climate change"},1,{"$f":"INDEX(tblIndicators!$AJ$2:$AJ$75,D19)","v":0.14285714285714285},null,"|||||||"]
[null,null,{"$f":"iWeights!C20","v":"PLCAP_4"},{"$f":"iWeights!D20","v":10},{"$f":"iWeights!E20","v":2},{"$f":"iWeights!G20","v":"1.4) Maritime Spatial Planning"},1,{"$f":"INDEX(tblIndicators!$AJ$2:$AJ$75,D20)","v":0.14285714285714285},null,"|||||||"]
[null,null,{"$f":"iWeights!C21","v":"PLCAP_5"},{"$f":"iWeights!D21","v":13},{"$f":"iWeights!E21","v":2},{"$f":"iWeights!G21","v":"1.5) Stakeholder engagement"},1,{"$f":"INDEX(tblIndicators!$AJ$2:$AJ$75,D21)","v":0.14285714285714285},null,"|||||||"]
[null,null,{"$f":"iWeights!C22","v":"PLCAP_6"},{"$f":"iWeights!D22","v":16},{"$f":"iWeights!E22","v":2},{"$f":"iWeights!G22","v":"1.6) Extractive industries transparency"},1,{"$f":"INDEX(tblIndicators!$AJ$2:$AJ$75,D22)","v":0.14285714285714285},null,"|||||||"]
[null,null,{"$f":"iWeights!C23","v":"PLCAP_7"},{"$f":"iWeights!D23","v":18},{"$f":"iWeights!E23","v":2},{"$f":"iWeights!G23","v":"1.7) Adoption of the United Nations Convention on the Law of the Sea (UNCLOS)"},1,{"$f":"INDEX(tblIndicators!$AJ$2:$AJ$75,D23)","v":0.14285714285714285},null,"|||||||"]
[null,null,{"$f":"iWeights!C24","v":"BUSENV"},{"$f":"iWeights!D24","v":20},{"$f":"iWeights!E24","v":1},{"$f":"iWeights!G24","v":"2) BUSINESS ENVIRONMENT FOR COASTAL ACTIVITIES"}]
[null,null,{"$f":"iWeights!C25","v":"BUSENV_1"},{"$f":"iWeights!D25","v":21},{"$f":"iWeights!E25","v":2},{"$f":"iWeights!G25","v":"2.1) Ease of doing business"},1,{"$f":"INDEX(tblIndicators!$AJ$2:$AJ$75,D25)","v":0.25},null,"||||||||||||"]
[null,null,{"$f":"iWeights!C26","v":"BUSENV_2"},{"$f":"iWeights!D26","v":23},{"$f":"iWeights!E26","v":2},{"$f":"iWeights!G26","v":"2.2) Corruption perception"},1,{"$f":"INDEX(tblIndicators!$AJ$2:$AJ$75,D26)","v":0.25},null,"||||||||||||"]
[null,null,{"$f":"iWeights!C27","v":"BUSENV_3"},{"$f":"iWeights!D27","v":25},{"$f":"iWeights!E27","v":2},{"$f":"iWeights!G27","v":"2.3) Effectiveness of dispute resolution mechanisms"},1,{"$f":"INDEX(tblIndicators!$AJ$2:$AJ$75,D27)","v":0.25},null,"||||||||||||"]
[null,null,{"$f":"iWeights!C28","v":"BUSENV_4"},{"$f":"iWeights!D28","v":28},{"$f":"iWeights!E28","v":2},{"$f":"iWeights!G28","v":"2.4) Quality of coastal infrastructure"},1,{"$f":"INDEX(tblIndicators!$AJ$2:$AJ$75,D28)","v":0.25},null,"||||||||||||"]
[null,null,{"$f":"iWeights!C29","v":"WATQUAL"},{"$f":"iWeights!D29","v":34},{"$f":"iWeights!E29","v":1},{"$f":"iWeights!G29","v":"3) WATER QUALITY"}]
[null,null,{"$f":"iWeights!C30","v":"WATQUAL_1"},{"$f":"iWeights!D30","v":35},{"$f":"iWeights!E30","v":2},{"$f":"iWeights!G30","v":"3.1) Agency"},1,{"$f":"INDEX(tblIndicators!$AJ$2:$AJ$75,D30)","v":0.33333333333333331},null,"||||||||||||||||"]
[null,null,{"$f":"iWeights!C31","v":"WATQUAL_2"},{"$f":"iWeights!D31","v":37},{"$f":"iWeights!E31","v":2},{"$f":"iWeights!G31","v":"3.2) Regulatory standards for water pollution"},1,{"$f":"INDEX(tblIndicators!$AJ$2:$AJ$75,D31)","v":0.33333333333333331},null,"||||||||||||||||"]
[null,null,{"$f":"iWeights!C32","v":"WATQUAL_3"},{"$f":"iWeights!D32","v":41},{"$f":"iWeights!E32","v":2},{"$f":"iWeights!G32","v":"3.3) Monitoring and enforcement"},1,{"$f":"INDEX(tblIndicators!$AJ$2:$AJ$75,D32)","v":0.33333333333333331},null,"||||||||||||||||"]
[null,null,{"$f":"iWeights!C33","v":"MINENG"},{"$f":"iWeights!D33","v":44},{"$f":"iWeights!E33","v":1},{"$f":"iWeights!G33","v":"4) MINERALS AND ENERGY"}]
[null,null,{"$f":"iWeights!C34","v":"MINENG_1"},{"$f":"iWeights!D34","v":45},{"$f":"iWeights!E34","v":2},{"$f":"iWeights!G34","v":"4.1) Permitting and licensing"},1,{"$f":"INDEX(tblIndicators!$AJ$2:$AJ$75,D34)","v":0.33333333333333331},null,"||||||||||||||||"]
[null,null,{"$f":"iWeights!C35","v":"MINENG_2"},{"$f":"iWeights!D35","v":48},{"$f":"iWeights!E35","v":2},{"$f":"iWeights!G35","v":"4.2) Monitoring and enforcement"},1,{"$f":"INDEX(tblIndicators!$AJ$2:$AJ$75,D35)","v":0.33333333333333331},null,"||||||||||||||||"]
[null,null,{"$f":"iWeights!C36","v":"MINENG_3"},{"$f":"iWeights!D36","v":53},{"$f":"iWeights!E36","v":2},{"$f":"iWeights!G36","v":"4.3) Risk mitigation"},1,{"$f":"INDEX(tblIndicators!$AJ$2:$AJ$75,D36)","v":0.33333333333333331},null,"||||||||||||||||"]
[null,null,{"$f":"iWeights!C37","v":"LAND"},{"$f":"iWeights!D37","v":57},{"$f":"iWeights!E37","v":1},{"$f":"iWeights!G37","v":"5) LAND"}]
[null,null,{"$f":"iWeights!C38","v":"LAND_1"},{"$f":"iWeights!D38","v":58},{"$f":"iWeights!E38","v":2},{"$f":"iWeights!G38","v":"5.1) Prevalence of coastal protected areas"},1,{"$f":"INDEX(tblIndicators!$AJ$2:$AJ$75,D38)","v":0.25},null,"||||||||||||"]
[null,null,{"$f":"iWeights!C39","v":"LAND_2"},{"$f":"iWeights!D39","v":60},{"$f":"iWeights!E39","v":2},{"$f":"iWeights!G39","v":"5.2) Environmental impact of coastal development"},1,{"$f":"INDEX(tblIndicators!$AJ$2:$AJ$75,D39)","v":0.25},null,"||||||||||||"]
[null,null,{"$f":"iWeights!C40","v":"LAND_3"},{"$f":"iWeights!D40","v":63},{"$f":"iWeights!E40","v":2},{"$f":"iWeights!G40","v":"5.3) Government commitment to sustainability in coastal tourism development"},1,{"$f":"INDEX(tblIndicators!$AJ$2:$AJ$75,D40)","v":0.25},null,"||||||||||||"]
[null,null,{"$f":"iWeights!C41","v":"LAND_4"},{"$f":"iWeights!D41","v":65},{"$f":"iWeights!E41","v":2},{"$f":"iWeights!G41","v":"5.4) Natural disaster risk mitigation"},1,{"$f":"INDEX(tblIndicators!$AJ$2:$AJ$75,D41)","v":0.25},null,"||||||||||||"]
[null,null,{"$f":"iWeights!C42","v":"LIVRES"},{"$f":"iWeights!D42","v":67},{"$f":"iWeights!E42","v":1},{"$f":"iWeights!G42","v":"6) LIVING RESOURCES"}]
[null,null,{"$f":"iWeights!C43","v":"LIVRES_1"},{"$f":"iWeights!D43","v":68},{"$f":"iWeights!E43","v":2},{"$f":"iWeights!G43","v":"6.1) Fisheries governance and management effectiveness"},1,{"$f":"INDEX(tblIndicators!$AJ$2:$AJ$75,D43)","v":0.33333333333333331},null,"||||||||||||||||"]
[null,null,{"$f":"iWeights!C44","v":"LIVRES_2"},{"$f":"iWeights!D44","v":70},{"$f":"iWeights!E44","v":2},{"$f":"iWeights!G44","v":"6.2) Protection for marine/coastal species"},1,{"$f":"INDEX(tblIndicators!$AJ$2:$AJ$75,D44)","v":0.33333333333333331},null,"||||||||||||||||"]
[null,null,{"$f":"iWeights!C45","v":"LIVRES_3"},{"$f":"iWeights!D45","v":73},{"$f":"iWeights!E45","v":2},{"$f":"iWeights!G45","v":"6.3) Ballast water treatment"},1,{"$f":"INDEX(tblIndicators!$AJ$2:$AJ$75,D45)","v":0.33333333333333331},null,"||||||||||||||||"]

{"sheet":"Weights_Information","index":22,"n_rows":1,"n_cols":1,"rows_kept":1,"cut":false,"hidden":false,"merged":[[17,1,17,2],[19,1,19,2],[21,1,21,2],[5,1,5,2],[7,1,7,2],[9,1,9,2],[11,1,11,2],[13,1,13,2],[15,1,15,2]]}
["WEIGHTING METHODOLOGY"]

{"sheet":"Data","index":23,"n_rows":86,"n_cols":35,"rows_kept":86,"cut":false,"hidden":false,"merged":[]}
["DATA TABLE, 2015",null,null,null,null,null,null,null,null,null,"DATA TABLE"]
[]
[]
[]
[]
[null,null,null,null,null,null,null,null,null,null,null,null,null,1,2,3,4,5,6,7,8,9,10,11,12,13,14,15,16,17,18,19,20]
[null,null,null,null,null,null,"Depth","Min","Max","Number",null,null,null,{"$f":"INDEX(luCountries,N6)","v":"Brazil"},"Canada","Chile","China","France","India","Indonesia","Japan","Mexico","New Zealand","Nigeria","Norway","Peru","Philippines","Russia","South Africa","South Korea","Spain","United States","Vietnam"]
[null,{"$f":"tblIndicators!B2","v":"OVERALL"},{"$f":"tblIndicators!C2","v":0},{"$f":"tblIndicators!D2","v":0},null,{"$f":"tblIndicators!X2","v":100},{"$f":"tblIndicators!D2","v":0},{"$f":"IF(G8=3,MIN($N8:$AG8),\"\")","v":""},{"$f":"IF(G8=3,MAX($N8:$AG8),\"\")","v":""},{"$f":"tblIndicators!E2","v":0},null,{"$f":"tblIndicators!AE2","v":"OVERALL SCORE"},{"$f":"IF(tblIndicators!G2=\"\",\"\",IF(G8=3,tblIndicators!G2,\"\"))","v":""},null,null,null,null,null,null,null,null,null,null,null,null,null,null,null,null,null,null,null,null,null,{"$f":"IF(AND(ISNUMBER(N8),N8=O8,O8=P8,P8=Q8,Q8=R8,R8=S8,S8=T8,T8=U8,U8=V8,V8=W8,W8=X8,X8=Y8,Y8=Z8,Z8=AA8,AA8=AB8,AB8=AC8,AC8=AD8,AD8=AE8,AE8=AF8,AF8=AG8:AG8),1,0)","v":0}]
[null,{"$f":"tblIndicators!B3","v":"PLCAP"},{"$f":"tblIndicators!C3","v":"OVERALL"},{"$f":"tblIndicators!D3","v":1},null,{"$f":"tblIndicators!X3","v":100},{"$f":"tblIndicators!D3","v":1},{"$f":"IF(G9=3,MIN($N9:$AG9),\"\")","v":""},{"$f":"IF(G9=3,MAX($N9:$AG9),\"\")","v":""},{"$f":"tblIndicators!E3","v":1},null,{"$f":"tblIndicators!AE3","v":"1) POLICY AND INSTITUTIONAL CAPACITY"},{"$f":"IF(tblIndicators!G3=\"\",\"\",IF(G9=3,tblIndicators!G3,\"\"))","v":""},null,null,null,null,null,null,null,null,null,null,null,null,null,null,null,null,null,null,null,null,null,{"$f":"IF(AND(ISNUMBER(N9),N9=O9,O9=P9,P9=Q9,Q9=R9,R9=S9,S9=T9,T9=U9,U9=V9,V9=W9,W9=X9,X9=Y9,Y9=Z9,Z9=AA9,AA9=AB9,AB9=AC9,AC9=AD9,AD9=AE9,AE9=AF9,AF9=AG9:AG9),1,0)","v":0}]
[null,{"$f":"tblIndicators!B4","v":"PLCAP_1"},{"$f":"tblIndicators!C4","v":"PLCAP"},{"$f":"tblIndicators!D4","v":2},null,{"$f":"tblIndicators!X4","v":100},{"$f":"tblIndicators!D4","v":2},"","",{"$f":"tblIndicators!E4","v":1.1000000000000001},null,{"$f":"tblIndicators!AE4","v":"1.1) Coastal management policy and strategy"},{"$f":"IF(tblIndicators!G4=\"\",\"\",IF(G10=3,tblIndicators!G4,\"\"))","v":""},null,null,null,null,null,null,null,null,null,null,null,null,null,null,null,null,null,null,null,null,null,0]
[null,{"$f":"tblIndicators!B5","v":"PLCAP_1_1"},{"$f":"tblIndicators!C5","v":"PLCAP_1"},{"$f":"tblIndicators!D5","v":3},null,{"$f":"tblIndicators!X5","v":1},{"$f":"tblIndicators!D5","v":3},0,1,{"$f":"tblIndicators!E5","v":"1.1.1"},null,{"$f":"tblIndicators!AE5","v":"1.1.1) Coastal management policy"},{"$f":"IF(tblIndicators!G5=\"\",\"\",IF(G11=3,tblIndicators!G5,\"\"))","v":"Scored 0-1 "},{"$f":"IF(ISNA(INDEX(Data_raw!$B$2:$U$44,MATCH($J11,Data_raw!$A$2:$A$44,0),Data!N$6)),\"\",INDEX(Data_raw!$B$2:$U$44,MATCH($J11,Data_raw!$A$2:$A$44,0),Data!N$6))","v":1},{"$f":"IF(ISNA(INDEX(Data_raw!$B$2:$U$44,MATCH($J11,Data_raw!$A$2:$A$44,0),Data!O$6)),\"\",INDEX(Data_raw!$B$2:$U$44,MATCH($J11,Data_raw!$A$2:$A$44,0),Data!O$6))","v":1},{"$f":"IF(ISNA(INDEX(Data_raw!$B$2:$U$44,MATCH($J11,Data_raw!$A$2:$A$44,0),Data!P$6)),\"\",INDEX(Data_raw!$B$2:$U$44,MATCH($J11,Data_raw!$A$2:$A$44,0),Data!P$6))","v":1},{"$f":"IF(ISNA(INDEX(Data_raw!$B$2:$U$44,MATCH($J11,Data_raw!$A$2:$A$44,0),Data!Q$6)),\"\",INDEX(Data_raw!$B$2:$U$44,MATCH($J11,Data_raw!$A$2:$A$44,0),Data!Q$6))","v":1},{"$f":"IF(ISNA(INDEX(Data_raw!$B$2:$U$44,MATCH($J11,Data_raw!$A$2:$A$44,0),Data!R$6)),\"\",INDEX(Data_raw!$B$2:$U$44,MATCH($J11,Data_raw!$A$2:$A$44,0),Data!R$6))","v":1},{"$f":"IF(ISNA(INDEX(Data_raw!$B$2:$U$44,MATCH($J11,Data_raw!$A$2:$A$44,0),Data!S$6)),\"\",INDEX(Data_raw!$B$2:$U$44,MATCH($J11,Data_raw!$A$2:$A$44,0),Data!S$6))","v":1},{"$f":"IF(ISNA(INDEX(Data_raw!$B$2:$U$44,MATCH($J11,Data_raw!$A$2:$A$44,0),Data!T$6)),\"\",INDEX(Data_raw!$B$2:$U$44,MATCH($J11,Data_raw!$A$2:$A$44,0),Data!T$6))","v":1},{"$f":"IF(ISNA(INDEX(Data_raw!$B$2:$U$44,MATCH($J11,Data_raw!$A$2:$A$44,0),Data!U$6)),\"\",INDEX(Data_raw!$B$2:$U$44,MATCH($J11,Data_raw!$A$2:$A$44,0),Data!U$6))","v":1},{"$f":"IF(ISNA(INDEX(Data_raw!$B$2:$U$44,MATCH($J11,Data_raw!$A$2:$A$44,0),Data!V$6)),\"\",INDEX(Data_raw!$B$2:$U$44,MATCH($J11,Data_raw!$A$2:$A$44,0),Data!V$6))","v":1},{"$f":"IF(ISNA(INDEX(Data_raw!$B$2:$U$44,MATCH($J11,Data_raw!$A$2:$A$44,0),Data!W$6)),\"\",INDEX(Data_raw!$B$2:$U$44,MATCH($J11,Data_raw!$A$2:$A$44,0),Data!W$6))","v":1},{"$f":"IF(ISNA(INDEX(Data_raw!$B$2:$U$44,MATCH($J11,Data_raw!$A$2:$A$44,0),Data!X$6)),\"\",INDEX(Data_raw!$B$2:$U$44,MATCH($J11,Data_raw!$A$2:$A$44,0),Data!X$6))","v":0},{"$f":"IF(ISNA(INDEX(Data_raw!$B$2:$U$44,MATCH($J11,Data_raw!$A$2:$A$44,0),Data!Y$6)),\"\",INDEX(Data_raw!$B$2:$U$44,MATCH($J11,Data_raw!$A$2:$A$44,0),Data!Y$6))","v":1},{"$f":"IF(ISNA(INDEX(Data_raw!$B$2:$U$44,MATCH($J11,Data_raw!$A$2:$A$44,0),Data!Z$6)),\"\",INDEX(Data_raw!$B$2:$U$44,MATCH($J11,Data_raw!$A$2:$A$44,0),Data!Z$6))","v":0},{"$f":"IF(ISNA(INDEX(Data_raw!$B$2:$U$44,MATCH($J11,Data_raw!$A$2:$A$44,0),Data!AA$6)),\"\",INDEX(Data_raw!$B$2:$U$44,MATCH($J11,Data_raw!$A$2:$A$44,0),Data!AA$6))","v":1},{"$f":"IF(ISNA(INDEX(Data_raw!$B$2:$U$44,MATCH($J11,Data_raw!$A$2:$A$44,0),Data!AB$6)),\"\",INDEX(Data_raw!$B$2:$U$44,MATCH($J11,Data_raw!$A$2:$A$44,0),Data!AB$6))","v":0},{"$f":"IF(ISNA(INDEX(Data_raw!$B$2:$U$44,MATCH($J11,Data_raw!$A$2:$A$44,0),Data!AC$6)),\"\",INDEX(Data_raw!$B$2:$U$44,MATCH($J11,Data_raw!$A$2:$A$44,0),Data!AC$6))","v":1},{"$f":"IF(ISNA(INDEX(Data_raw!$B$2:$U$44,MATCH($J11,Data_raw!$A$2:$A$44,0),Data!AD$6)),\"\",INDEX(Data_raw!$B$2:$U$44,MATCH($J11,Data_raw!$A$2:$A$44,0),Data!AD$6))","v":1},{"$f":"IF(ISNA(INDEX(Data_raw!$B$2:$U$44,MATCH($J11,Data_raw!$A$2:$A$44,0),Data!AE$6)),\"\",INDEX(Data_raw!$B$2:$U$44,MATCH($J11,Data_raw!$A$2:$A$44,0),Data!AE$6))","v":1},{"$f":"IF(ISNA(INDEX(Data_raw!$B$2:$U$44,MATCH($J11,Data_raw!$A$2:$A$44,0),Data!AF$6)),\"\",INDEX(Data_raw!$B$2:$U$44,MATCH($J11,Data_raw!$A$2:$A$44,0),Data!AF$6))","v":1},{"$f":"IF(ISNA(INDEX(Data_raw!$B$2:$U$44,MATCH($J11,Data_raw!$A$2:$A$44,0),Data!AG$6)),\"\",INDEX(Data_raw!$B$2:$U$44,MATCH($J11,Data_raw!$A$2:$A$44,0),Data!AG$6))","v":1},null,{"$f":"IF(AND(ISNUMBER(N11),N11=O11,O11=P11,P11=Q11,Q11=R11,R11=S11,S11=T11,T11=U11,U11=V11,V11=W11,W11=X11,X11=Y11,Y11=Z11,Z11=AA11,AA11=AB11,AB11=AC11,AC11=AD11,AD11=AE11,AE11=AF11,AF11=AG11:AG11),1,0)","v":0}]
[null,{"$f":"tblIndicators!B6","v":"PLCAP_1_2"},{"$f":"tblIndicators!C6","v":"PLCAP_1"},{"$f":"tblIndicators!D6","v":3},null,{"$f":"tblIndicators!X6","v":2},{"$f":"tblIndicators!D6","v":3},0,2,{"$f":"tblIndicators!E6","v":"1.1.2"},null,{"$f":"tblIndicators!AE6","v":"1.1.2) Coastal management strategy"},{"$f":"IF(tblIndicators!G6=\"\",\"\",IF(G12=3,tblIndicators!G6,\"\"))","v":"Scored 0-2 "},{"$f":"IF(ISNA(INDEX(Data_raw!$B$2:$U$44,MATCH($J12,Data_raw!$A$2:$A$44,0),Data!N$6)),\"\",INDEX(Data_raw!$B$2:$U$44,MATCH($J12,Data_raw!$A$2:$A$44,0),Data!N$6))","v":2},{"$f":"IF(ISNA(INDEX(Data_raw!$B$2:$U$44,MATCH($J12,Data_raw!$A$2:$A$44,0),Data!O$6)),\"\",INDEX(Data_raw!$B$2:$U$44,MATCH($J12,Data_raw!$A$2:$A$44,0),Data!O$6))","v":2},{"$f":"IF(ISNA(INDEX(Data_raw!$B$2:$U$44,MATCH($J12,Data_raw!$A$2:$A$44,0),Data!P$6)),\"\",INDEX(Data_raw!$B$2:$U$44,MATCH($J12,Data_raw!$A$2:$A$44,0),Data!P$6))","v":0},{"$f":"IF(ISNA(INDEX(Data_raw!$B$2:$U$44,MATCH($J12,Data_raw!$A$2:$A$44,0),Data!Q$6)),\"\",INDEX(Data_raw!$B$2:$U$44,MATCH($J12,Data_raw!$A$2:$A$44,0),Data!Q$6))","v":2},{"$f":"IF(ISNA(INDEX(Data_raw!$B$2:$U$44,MATCH($J12,Data_raw!$A$2:$A$44,0),Data!R$6)),\"\",INDEX(Data_raw!$B$2:$U$44,MATCH($J12,Data_raw!$A$2:$A$44,0),Data!R$6))","v":0},{"$f":"IF(ISNA(INDEX(Data_raw!$B$2:$U$44,MATCH($J12,Data_raw!$A$2:$A$44,0),Data!S$6)),\"\",INDEX(Data_raw!$B$2:$U$44,MATCH($J12,Data_raw!$A$2:$A$44,0),Data!S$6))","v":1},{"$f":"IF(ISNA(INDEX(Data_raw!$B$2:$U$44,MATCH($J12,Data_raw!$A$2:$A$44,0),Data!T$6)),\"\",INDEX(Data_raw!$B$2:$U$44,MATCH($J12,Data_raw!$A$2:$A$44,0),Data!T$6))","v":2},{"$f":"IF(ISNA(INDEX(Data_raw!$B$2:$U$44,MATCH($J12,Data_raw!$A$2:$A$44,0),Data!U$6)),\"\",INDEX(Data_raw!$B$2:$U$44,MATCH($J12,Data_raw!$A$2:$A$44,0),Data!U$6))","v":2},{"$f":"IF(ISNA(INDEX(Data_raw!$B$2:$U$44,MATCH($J12,Data_raw!$A$2:$A$44,0),Data!V$6)),\"\",INDEX(Data_raw!$B$2:$U$44,MATCH($J12,Data_raw!$A$2:$A$44,0),Data!V$6))","v":1},{"$f":"IF(ISNA(INDEX(Data_raw!$B$2:$U$44,MATCH($J12,Data_raw!$A$2:$A$44,0),Data!W$6)),\"\",INDEX(Data_raw!$B$2:$U$44,MATCH($J12,Data_raw!$A$2:$A$44,0),Data!W$6))","v":1},{"$f":"IF(ISNA(INDEX(Data_raw!$B$2:$U$44,MATCH($J12,Data_raw!$A$2:$A$44,0),Data!X$6)),\"\",INDEX(Data_raw!$B$2:$U$44,MATCH($J12,Data_raw!$A$2:$A$44,0),Data!X$6))","v":0},{"$f":"IF(ISNA(INDEX(Data_raw!$B$2:$U$44,MATCH($J12,Data_raw!$A$2:$A$44,0),Data!Y$6)),\"\",INDEX(Data_raw!$B$2:$U$44,MATCH($J12,Data_raw!$A$2:$A$44,0),Data!Y$6))","v":2},{"$f":"IF(ISNA(INDEX(Data_raw!$B$2:$U$44,MATCH($J12,Data_raw!$A$2:$A$44,0),Data!Z$6)),\"\",INDEX(Data_raw!$B$2:$U$44,MATCH($J12,Data_raw!$A$2:$A$44,0),Data!Z$6))","v":0},{"$f":"IF(ISNA(INDEX(Data_raw!$B$2:$U$44,MATCH($J12,Data_raw!$A$2:$A$44,0),Data!AA$6)),\"\",INDEX(Data_raw!$B$2:$U$44,MATCH($J12,Data_raw!$A$2:$A$44,0),Data!AA$6))","v":2},{"$f":"IF(ISNA(INDEX(Data_raw!$B$2:$U$44,MATCH($J12,Data_raw!$A$2:$A$44,0),Data!AB$6)),\"\",INDEX(Data_raw!$B$2:$U$44,MATCH($J12,Data_raw!$A$2:$A$44,0),Data!AB$6))","v":0},{"$f":"IF(ISNA(INDEX(Data_raw!$B$2:$U$44,MATCH($J12,Data_raw!$A$2:$A$44,0),Data!AC$6)),\"\",INDEX(Data_raw!$B$2:$U$44,MATCH($J12,Data_raw!$A$2:$A$44,0),Data!AC$6))","v":1},{"$f":"IF(ISNA(INDEX(Data_raw!$B$2:$U$44,MATCH($J12,Data_raw!$A$2:$A$44,0),Data!AD$6)),\"\",INDEX(Data_raw!$B$2:$U$44,MATCH($J12,Data_raw!$A$2:$A$44,0),Data!AD$6))","v":2},{"$f":"IF(ISNA(INDEX(Data_raw!$B$2:$U$44,MATCH($J12,Data_raw!$A$2:$A$44,0),Data!AE$6)),\"\",INDEX(Data_raw!$B$2:$U$44,MATCH($J12,Data_raw!$A$2:$A$44,0),Data!AE$6))","v":2},{"$f":"IF(ISNA(INDEX(Data_raw!$B$2:$U$44,MATCH($J12,Data_raw!$A$2:$A$44,0),Data!AF$6)),\"\",INDEX(Data_raw!$B$2:$U$44,MATCH($J12,Data_raw!$A$2:$A$44,0),Data!AF$6))","v":2},{"$f":"IF(ISNA(INDEX(Data_raw!$B$2:$U$44,MATCH($J12,Data_raw!$A$2:$A$44,0),Data!AG$6)),\"\",INDEX(Data_raw!$B$2:$U$44,MATCH($J12,Data_raw!$A$2:$A$44,0),Data!AG$6))","v":2},null,{"$f":"IF(AND(ISNUMBER(N12),N12=O12,O12=P12,P12=Q12,Q12=R12,R12=S12,S12=T12,T12=U12,U12=V12,V12=W12,W12=X12,X12=Y12,Y12=Z12,Z12=AA12,AA12=AB12,AB12=AC12,AC12=AD12,AD12=AE12,AE12=AF12,AF12=AG12:AG12),1,0)","v":0}]
[null,{"$f":"tblIndicators!B7","v":"PLCAP_2"},{"$f":"tblIndicators!C7","v":"PLCAP"},{"$f":"tblIndicators!D7","v":2},null,{"$f":"tblIndicators!X7","v":100},{"$f":"tblIndicators!D7","v":2},"","",{"$f":"tblIndicators!E7","v":1.2},null,{"$f":"tblIndicators!AE7","v":"1.2) Presence of established institution(s)"},{"$f":"IF(tblIndicators!G7=\"\",\"\",IF(G13=3,tblIndicators!G7,\"\"))","v":""},{"$f":"IF(ISNA(INDEX(Data_raw!$B$2:$U$44,MATCH($J13,Data_raw!$A$2:$A$44,0),Data!N$6)),\"\",INDEX(Data_raw!$B$2:$U$44,MATCH($J13,Data_raw!$A$2:$A$44,0),Data!N$6))","v":""},{"$f":"IF(ISNA(INDEX(Data_raw!$B$2:$U$44,MATCH($J13,Data_raw!$A$2:$A$44,0),Data!O$6)),\"\",INDEX(Data_raw!$B$2:$U$44,MATCH($J13,Data_raw!$A$2:$A$44,0),Data!O$6))","v":""},{"$f":"IF(ISNA(INDEX(Data_raw!$B$2:$U$44,MATCH($J13,Data_raw!$A$2:$A$44,0),Data!P$6)),\"\",INDEX(Data_raw!$B$2:$U$44,MATCH($J13,Data_raw!$A$2:$A$44,0),Data!P$6))","v":""},{"$f":"IF(ISNA(INDEX(Data_raw!$B$2:$U$44,MATCH($J13,Data_raw!$A$2:$A$44,0),Data!Q$6)),\"\",INDEX(Data_raw!$B$2:$U$44,MATCH($J13,Data_raw!$A$2:$A$44,0),Data!Q$6))","v":""},{"$f":"IF(ISNA(INDEX(Data_raw!$B$2:$U$44,MATCH($J13,Data_raw!$A$2:$A$44,0),Data!R$6)),\"\",INDEX(Data_raw!$B$2:$U$44,MATCH($J13,Data_raw!$A$2:$A$44,0),Data!R$6))","v":""},{"$f":"IF(ISNA(INDEX(Data_raw!$B$2:$U$44,MATCH($J13,Data_raw!$A$2:$A$44,0),Data!S$6)),\"\",INDEX(Data_raw!$B$2:$U$44,MATCH($J13,Data_raw!$A$2:$A$44,0),Data!S$6))","v":""},{"$f":"IF(ISNA(INDEX(Data_raw!$B$2:$U$44,MATCH($J13,Data_raw!$A$2:$A$44,0),Data!T$6)),\"\",INDEX(Data_raw!$B$2:$U$44,MATCH($J13,Data_raw!$A$2:$A$44,0),Data!T$6))","v":""},{"$f":"IF(ISNA(INDEX(Data_raw!$B$2:$U$44,MATCH($J13,Data_raw!$A$2:$A$44,0),Data!U$6)),\"\",INDEX(Data_raw!$B$2:$U$44,MATCH($J13,Data_raw!$A$2:$A$44,0),Data!U$6))","v":""},{"$f":"IF(ISNA(INDEX(Data_raw!$B$2:$U$44,MATCH($J13,Data_raw!$A$2:$A$44,0),Data!V$6)),\"\",INDEX(Data_raw!$B$2:$U$44,MATCH($J13,Data_raw!$A$2:$A$44,0),Data!V$6))","v":""},{"$f":"IF(ISNA(INDEX(Data_raw!$B$2:$U$44,MATCH($J13,Data_raw!$A$2:$A$44,0),Data!W$6)),\"\",INDEX(Data_raw!$B$2:$U$44,MATCH($J13,Data_raw!$A$2:$A$44,0),Data!W$6))","v":""},{"$f":"IF(ISNA(INDEX(Data_raw!$B$2:$U$44,MATCH($J13,Data_raw!$A$2:$A$44,0),Data!X$6)),\"\",INDEX(Data_raw!$B$2:$U$44,MATCH($J13,Data_raw!$A$2:$A$44,0),Data!X$6))","v":""},{"$f":"IF(ISNA(INDEX(Data_raw!$B$2:$U$44,MATCH($J13,Data_raw!$A$2:$A$44,0),Data!Y$6)),\"\",INDEX(Data_raw!$B$2:$U$44,MATCH($J13,Data_raw!$A$2:$A$44,0),Data!Y$6))","v":""},{"$f":"IF(ISNA(INDEX(Data_raw!$B$2:$U$44,MATCH($J13,Data_raw!$A$2:$A$44,0),Data!Z$6)),\"\",INDEX(Data_raw!$B$2:$U$44,MATCH($J13,Data_raw!$A$2:$A$44,0),Data!Z$6))","v":""},{"$f":"IF(ISNA(INDEX(Data_raw!$B$2:$U$44,MATCH($J13,Data_raw!$A$2:$A$44,0),Data!AA$6)),\"\",INDEX(Data_raw!$B$2:$U$44,MATCH($J13,Data_raw!$A$2:$A$44,0),Data!AA$6))","v":""},{"$f":"IF(ISNA(INDEX(Data_raw!$B$2:$U$44,MATCH($J13,Data_raw!$A$2:$A$44,0),Data!AB$6)),\"\",INDEX(Data_raw!$B$2:$U$44,MATCH($J13,Data_raw!$A$2:$A$44,0),Data!AB$6))","v":""},{"$f":"IF(ISNA(INDEX(Data_raw!$B$2:$U$44,MATCH($J13,Data_raw!$A$2:$A$44,0),Data!AC$6)),\"\",INDEX(Data_raw!$B$2:$U$44,MATCH($J13,Data_raw!$A$2:$A$44,0),Data!AC$6))","v":""},{"$f":"IF(ISNA(INDEX(Data_raw!$B$2:$U$44,MATCH($J13,Data_raw!$A$2:$A$44,0),Data!AD$6)),\"\",INDEX(Data_raw!$B$2:$U$44,MATCH($J13,Data_raw!$A$2:$A$44,0),Data!AD$6))","v":""},{"$f":"IF(ISNA(INDEX(Data_raw!$B$2:$U$44,MATCH($J13,Data_raw!$A$2:$A$44,0),Data!AE$6)),\"\",INDEX(Data_raw!$B$2:$U$44,MATCH($J13,Data_raw!$A$2:$A$44,0),Data!AE$6))","v":""},{"$f":"IF(ISNA(INDEX(Data_raw!$B$2:$U$44,MATCH($J13,Data_raw!$A$2:$A$44,0),Data!AF$6)),\"\",INDEX(Data_raw!$B$2:$U$44,MATCH($J13,Data_raw!$A$2:$A$44,0),Data!AF$6))","v":""},{"$f":"IF(ISNA(INDEX(Data_raw!$B$2:$U$44,MATCH($J13,Data_raw!$A$2:$A$44,0),Data!AG$6)),\"\",INDEX(Data_raw!$B$2:$U$44,MATCH($J13,Data_raw!$A$2:$A$44,0),Data!AG$6))","v":""},null,0]
[null,{"$f":"tblIndicators!B8","v":"PLCAP_2_1"},{"$f":"tblIndicators!C8","v":"PLCAP_2"},{"$f":"tblIndicators!D8","v":3},null,{"$f":"tblIndicators!X8","v":2},{"$f":"tblIndicators!D8","v":3},0,2,{"$f":"tblIndicators!E8","v":"1.2.1"},null,{"$f":"tblIndicators!AE8","v":"1.2.1) Presence of coastal management strategy authority"},{"$f":"IF(tblIndicators!G8=\"\",\"\",IF(G14=3,tblIndicators!G8,\"\"))","v":"Scored 0-2 "},{"$f":"IF(ISNA(INDEX(Data_raw!$B$2:$U$44,MATCH($J14,Data_raw!$A$2:$A$44,0),Data!N$6)),\"\",INDEX(Data_raw!$B$2:$U$44,MATCH($J14,Data_raw!$A$2:$A$44,0),Data!N$6))","v":2},{"$f":"IF(ISNA(INDEX(Data_raw!$B$2:$U$44,MATCH($J14,Data_raw!$A$2:$A$44,0),Data!O$6)),\"\",INDEX(Data_raw!$B$2:$U$44,MATCH($J14,Data_raw!$A$2:$A$44,0),Data!O$6))","v":1},{"$f":"IF(ISNA(INDEX(Data_raw!$B$2:$U$44,MATCH($J14,Data_raw!$A$2:$A$44,0),Data!P$6)),\"\",INDEX(Data_raw!$B$2:$U$44,MATCH($J14,Data_raw!$A$2:$A$44,0),Data!P$6))","v":0},{"$f":"IF(ISNA(INDEX(Data_raw!$B$2:$U$44,MATCH($J14,Data_raw!$A$2:$A$44,0),Data!Q$6)),\"\",INDEX(Data_raw!$B$2:$U$44,MATCH($J14,Data_raw!$A$2:$A$44,0),Data!Q$6))","v":2},{"$f":"IF(ISNA(INDEX(Data_raw!$B$2:$U$44,MATCH($J14,Data_raw!$A$2:$A$44,0),Data!R$6)),\"\",INDEX(Data_raw!$B$2:$U$44,MATCH($J14,Data_raw!$A$2:$A$44,0),Data!R$6))","v":2},{"$f":"IF(ISNA(INDEX(Data_raw!$B$2:$U$44,MATCH($J14,Data_raw!$A$2:$A$44,0),Data!S$6)),\"\",INDEX(Data_raw!$B$2:$U$44,MATCH($J14,Data_raw!$A$2:$A$44,0),Data!S$6))","v":1},{"$f":"IF(ISNA(INDEX(Data_raw!$B$2:$U$44,MATCH($J14,Data_raw!$A$2:$A$44,0),Data!T$6)),\"\",INDEX(Data_raw!$B$2:$U$44,MATCH($J14,Data_raw!$A$2:$A$44,0),Data!T$6))","v":1},{"$f":"IF(ISNA(INDEX(Data_raw!$B$2:$U$44,MATCH($J14,Data_raw!$A$2:$A$44,0),Data!U$6)),\"\",INDEX(Data_raw!$B$2:$U$44,MATCH($J14,Data_raw!$A$2:$A$44,0),Data!U$6))","v":2},{"$f":"IF(ISNA(INDEX(Data_raw!$B$2:$U$44,MATCH($J14,Data_raw!$A$2:$A$44,0),Data!V$6)),\"\",INDEX(Data_raw!$B$2:$U$44,MATCH($J14,Data_raw!$A$2:$A$44,0),Data!V$6))","v":1},{"$f":"IF(ISNA(INDEX(Data_raw!$B$2:$U$44,MATCH($J14,Data_raw!$A$2:$A$44,0),Data!W$6)),\"\",INDEX(Data_raw!$B$2:$U$44,MATCH($J14,Data_raw!$A$2:$A$44,0),Data!W$6))","v":1},{"$f":"IF(ISNA(INDEX(Data_raw!$B$2:$U$44,MATCH($J14,Data_raw!$A$2:$A$44,0),Data!X$6)),\"\",INDEX(Data_raw!$B$2:$U$44,MATCH($J14,Data_raw!$A$2:$A$44,0),Data!X$6))","v":0},{"$f":"IF(ISNA(INDEX(Data_raw!$B$2:$U$44,MATCH($J14,Data_raw!$A$2:$A$44,0),Data!Y$6)),\"\",INDEX(Data_raw!$B$2:$U$44,MATCH($J14,Data_raw!$A$2:$A$44,0),Data!Y$6))","v":2},{"$f":"IF(ISNA(INDEX(Data_raw!$B$2:$U$44,MATCH($J14,Data_raw!$A$2:$A$44,0),Data!Z$6)),\"\",INDEX(Data_raw!$B$2:$U$44,MATCH($J14,Data_raw!$A$2:$A$44,0),Data!Z$6))","v":1},{"$f":"IF(ISNA(INDEX(Data_raw!$B$2:$U$44,MATCH($J14,Data_raw!$A$2:$A$44,0),Data!AA$6)),\"\",INDEX(Data_raw!$B$2:$U$44,MATCH($J14,Data_raw!$A$2:$A$44,0),Data!AA$6))","v":1},{"$f":"IF(ISNA(INDEX(Data_raw!$B$2:$U$44,MATCH($J14,Data_raw!$A$2:$A$44,0),Data!AB$6)),\"\",INDEX(Data_raw!$B$2:$U$44,MATCH($J14,Data_raw!$A$2:$A$44,0),Data!AB$6))","v":0},{"$f":"IF(ISNA(INDEX(Data_raw!$B$2:$U$44,MATCH($J14,Data_raw!$A$2:$A$44,0),Data!AC$6)),\"\",INDEX(Data_raw!$B$2:$U$44,MATCH($J14,Data_raw!$A$2:$A$44,0),Data!AC$6))","v":2},{"$f":"IF(ISNA(INDEX(Data_raw!$B$2:$U$44,MATCH($J14,Data_raw!$A$2:$A$44,0),Data!AD$6)),\"\",INDEX(Data_raw!$B$2:$U$44,MATCH($J14,Data_raw!$A$2:$A$44,0),Data!AD$6))","v":1},{"$f":"IF(ISNA(INDEX(Data_raw!$B$2:$U$44,MATCH($J14,Data_raw!$A$2:$A$44,0),Data!AE$6)),\"\",INDEX(Data_raw!$B$2:$U$44,MATCH($J14,Data_raw!$A$2:$A$44,0),Data!AE$6))","v":2},{"$f":"IF(ISNA(INDEX(Data_raw!$B$2:$U$44,MATCH($J14,Data_raw!$A$2:$A$44,0),Data!AF$6)),\"\",INDEX(Data_raw!$B$2:$U$44,MATCH($J14,Data_raw!$A$2:$A$44,0),Data!AF$6))","v":2},{"$f":"IF(ISNA(INDEX(Data_raw!$B$2:$U$44,MATCH($J14,Data_raw!$A$2:$A$44,0),Data!AG$6)),\"\",INDEX(Data_raw!$B$2:$U$44,MATCH($J14,Data_raw!$A$2:$A$44,0),Data!AG$6))","v":2},null,0]
[null,{"$f":"tblIndicators!B9","v":"PLCAP_3"},{"$f":"tblIndicators!C9","v":"PLCAP"},{"$f":"tblIndicators!D9","v":2},null,{"$f":"tblIndicators!X9","v":100},{"$f":"tblIndicators!D9","v":2},"","",{"$f":"tblIndicators!E9","v":1.3},null,{"$f":"tblIndicators!AE9","v":"1.3) National strategy to adapt to climate change"},{"$f":"IF(tblIndicators!G9=\"\",\"\",IF(G15=3,tblIndicators!G9,\"\"))","v":""},{"$f":"IF(ISNA(INDEX(Data_raw!$B$2:$U$44,MATCH($J15,Data_raw!$A$2:$A$44,0),Data!N$6)),\"\",INDEX(Data_raw!$B$2:$U$44,MATCH($J15,Data_raw!$A$2:$A$44,0),Data!N$6))","v":""},{"$f":"IF(ISNA(INDEX(Data_raw!$B$2:$U$44,MATCH($J15,Data_raw!$A$2:$A$44,0),Data!O$6)),\"\",INDEX(Data_raw!$B$2:$U$44,MATCH($J15,Data_raw!$A$2:$A$44,0),Data!O$6))","v":""},{"$f":"IF(ISNA(INDEX(Data_raw!$B$2:$U$44,MATCH($J15,Data_raw!$A$2:$A$44,0),Data!P$6)),\"\",INDEX(Data_raw!$B$2:$U$44,MATCH($J15,Data_raw!$A$2:$A$44,0),Data!P$6))","v":""},{"$f":"IF(ISNA(INDEX(Data_raw!$B$2:$U$44,MATCH($J15,Data_raw!$A$2:$A$44,0),Data!Q$6)),\"\",INDEX(Data_raw!$B$2:$U$44,MATCH($J15,Data_raw!$A$2:$A$44,0),Data!Q$6))","v":""},{"$f":"IF(ISNA(INDEX(Data_raw!$B$2:$U$44,MATCH($J15,Data_raw!$A$2:$A$44,0),Data!R$6)),\"\",INDEX(Data_raw!$B$2:$U$44,MATCH($J15,Data_raw!$A$2:$A$44,0),Data!R$6))","v":""},{"$f":"IF(ISNA(INDEX(Data_raw!$B$2:$U$44,MATCH($J15,Data_raw!$A$2:$A$44,0),Data!S$6)),\"\",INDEX(Data_raw!$B$2:$U$44,MATCH($J15,Data_raw!$A$2:$A$44,0),Data!S$6))","v":""},{"$f":"IF(ISNA(INDEX(Data_raw!$B$2:$U$44,MATCH($J15,Data_raw!$A$2:$A$44,0),Data!T$6)),\"\",INDEX(Data_raw!$B$2:$U$44,MATCH($J15,Data_raw!$A$2:$A$44,0),Data!T$6))","v":""},{"$f":"IF(ISNA(INDEX(Data_raw!$B$2:$U$44,MATCH($J15,Data_raw!$A$2:$A$44,0),Data!U$6)),\"\",INDEX(Data_raw!$B$2:$U$44,MATCH($J15,Data_raw!$A$2:$A$44,0),Data!U$6))","v":""},{"$f":"IF(ISNA(INDEX(Data_raw!$B$2:$U$44,MATCH($J15,Data_raw!$A$2:$A$44,0),Data!V$6)),\"\",INDEX(Data_raw!$B$2:$U$44,MATCH($J15,Data_raw!$A$2:$A$44,0),Data!V$6))","v":""},{"$f":"IF(ISNA(INDEX(Data_raw!$B$2:$U$44,MATCH($J15,Data_raw!$A$2:$A$44,0),Data!W$6)),\"\",INDEX(Data_raw!$B$2:$U$44,MATCH($J15,Data_raw!$A$2:$A$44,0),Data!W$6))","v":""},{"$f":"IF(ISNA(INDEX(Data_raw!$B$2:$U$44,MATCH($J15,Data_raw!$A$2:$A$44,0),Data!X$6)),\"\",INDEX(Data_raw!$B$2:$U$44,MATCH($J15,Data_raw!$A$2:$A$44,0),Data!X$6))","v":""},{"$f":"IF(ISNA(INDEX(Data_raw!$B$2:$U$44,MATCH($J15,Data_raw!$A$2:$A$44,0),Data!Y$6)),\"\",INDEX(Data_raw!$B$2:$U$44,MATCH($J15,Data_raw!$A$2:$A$44,0),Data!Y$6))","v":""},{"$f":"IF(ISNA(INDEX(Data_raw!$B$2:$U$44,MATCH($J15,Data_raw!$A$2:$A$44,0),Data!Z$6)),\"\",INDEX(Data_raw!$B$2:$U$44,MATCH($J15,Data_raw!$A$2:$A$44,0),Data!Z$6))","v":""},{"$f":"IF(ISNA(INDEX(Data_raw!$B$2:$U$44,MATCH($J15,Data_raw!$A$2:$A$44,0),Data!AA$6)),\"\",INDEX(Data_raw!$B$2:$U$44,MATCH($J15,Data_raw!$A$2:$A$44,0),Data!AA$6))","v":""},{"$f":"IF(ISNA(INDEX(Data_raw!$B$2:$U$44,MATCH($J15,Data_raw!$A$2:$A$44,0),Data!AB$6)),\"\",INDEX(Data_raw!$B$2:$U$44,MATCH($J15,Data_raw!$A$2:$A$44,0),Data!AB$6))","v":""},{"$f":"IF(ISNA(INDEX(Data_raw!$B$2:$U$44,MATCH($J15,Data_raw!$A$2:$A$44,0),Data!AC$6)),\"\",INDEX(Data_raw!$B$2:$U$44,MATCH($J15,Data_raw!$A$2:$A$44,0),Data!AC$6))","v":""},{"$f":"IF(ISNA(INDEX(Data_raw!$B$2:$U$44,MATCH($J15,Data_raw!$A$2:$A$44,0),Data!AD$6)),\"\",INDEX(Data_raw!$B$2:$U$44,MATCH($J15,Data_raw!$A$2:$A$44,0),Data!AD$6))","v":""},{"$f":"IF(ISNA(INDEX(Data_raw!$B$2:$U$44,MATCH($J15,Data_raw!$A$2:$A$44,0),Data!AE$6)),\"\",INDEX(Data_raw!$B$2:$U$44,MATCH($J15,Data_raw!$A$2:$A$44,0),Data!AE$6))","v":""},{"$f":"IF(ISNA(INDEX(Data_raw!$B$2:$U$44,MATCH($J15,Data_raw!$A$2:$A$44,0),Data!AF$6)),\"\",INDEX(Data_raw!$B$2:$U$44,MATCH($J15,Data_raw!$A$2:$A$44,0),Data!AF$6))","v":""},{"$f":"IF(ISNA(INDEX(Data_raw!$B$2:$U$44,MATCH($J15,Data_raw!$A$2:$A$44,0),Data!AG$6)),\"\",INDEX(Data_raw!$B$2:$U$44,MATCH($J15,Data_raw!$A$2:$A$44,0),Data!AG$6))","v":""},null,0]
[null,{"$f":"tblIndicators!B10","v":"PLCAP_3_1"},{"$f":"tblIndicators!C10","v":"PLCAP_3"},{"$f":"tblIndicators!D10","v":3},null,{"$f":"tblIndicators!X10","v":2},{"$f":"tblIndicators!D10","v":3},0,2,{"$f":"tblIndicators!E10","v":"1.3.1"},null,{"$f":"tblIndicators!AE10","v":"1.3.1) Strategy to adapt coastal areas to climate change"},{"$f":"IF(tblIndicators!G10=\"\",\"\",IF(G16=3,tblIndicators!G10,\"\"))","v":"Scored 0-2 "},{"$f":"IF(ISNA(INDEX(Data_raw!$B$2:$U$44,MATCH($J16,Data_raw!$A$2:$A$44,0),Data!N$6)),\"\",INDEX(Data_raw!$B$2:$U$44,MATCH($J16,Data_raw!$A$2:$A$44,0),Data!N$6))","v":1},{"$f":"IF(ISNA(INDEX(Data_raw!$B$2:$U$44,MATCH($J16,Data_raw!$A$2:$A$44,0),Data!O$6)),\"\",INDEX(Data_raw!$B$2:$U$44,MATCH($J16,Data_raw!$A$2:$A$44,0),Data!O$6))","v":2},{"$f":"IF(ISNA(INDEX(Data_raw!$B$2:$U$44,MATCH($J16,Data_raw!$A$2:$A$44,0),Data!P$6)),\"\",INDEX(Data_raw!$B$2:$U$44,MATCH($J16,Data_raw!$A$2:$A$44,0),Data!P$6))","v":1},{"$f":"IF(ISNA(INDEX(Data_raw!$B$2:$U$44,MATCH($J16,Data_raw!$A$2:$A$44,0),Data!Q$6)),\"\",INDEX(Data_raw!$B$2:$U$44,MATCH($J16,Data_raw!$A$2:$A$44,0),Data!Q$6))","v":2},{"$f":"IF(ISNA(INDEX(Data_raw!$B$2:$U$44,MATCH($J16,Data_raw!$A$2:$A$44,0),Data!R$6)),\"\",INDEX(Data_raw!$B$2:$U$44,MATCH($J16,Data_raw!$A$2:$A$44,0),Data!R$6))","v":2},{"$f":"IF(ISNA(INDEX(Data_raw!$B$2:$U$44,MATCH($J16,Data_raw!$A$2:$A$44,0),Data!S$6)),\"\",INDEX(Data_raw!$B$2:$U$44,MATCH($J16,Data_raw!$A$2:$A$44,0),Data!S$6))","v":1},{"$f":"IF(ISNA(INDEX(Data_raw!$B$2:$U$44,MATCH($J16,Data_raw!$A$2:$A$44,0),Data!T$6)),\"\",INDEX(Data_raw!$B$2:$U$44,MATCH($J16,Data_raw!$A$2:$A$44,0),Data!T$6))","v":2},{"$f":"IF(ISNA(INDEX(Data_raw!$B$2:$U$44,MATCH($J16,Data_raw!$A$2:$A$44,0),Data!U$6)),\"\",INDEX(Data_raw!$B$2:$U$44,MATCH($J16,Data_raw!$A$2:$A$44,0),Data!U$6))","v":1},{"$f":"IF(ISNA(INDEX(Data_raw!$B$2:$U$44,MATCH($J16,Data_raw!$A$2:$A$44,0),Data!V$6)),\"\",INDEX(Data_raw!$B$2:$U$44,MATCH($J16,Data_raw!$A$2:$A$44,0),Data!V$6))","v":1},{"$f":"IF(ISNA(INDEX(Data_raw!$B$2:$U$44,MATCH($J16,Data_raw!$A$2:$A$44,0),Data!W$6)),\"\",INDEX(Data_raw!$B$2:$U$44,MATCH($J16,Data_raw!$A$2:$A$44,0),Data!W$6))","v":2},{"$f":"IF(ISNA(INDEX(Data_raw!$B$2:$U$44,MATCH($J16,Data_raw!$A$2:$A$44,0),Data!X$6)),\"\",INDEX(Data_raw!$B$2:$U$44,MATCH($J16,Data_raw!$A$2:$A$44,0),Data!X$6))","v":2},{"$f":"IF(ISNA(INDEX(Data_raw!$B$2:$U$44,MATCH($J16,Data_raw!$A$2:$A$44,0),Data!Y$6)),\"\",INDEX(Data_raw!$B$2:$U$44,MATCH($J16,Data_raw!$A$2:$A$44,0),Data!Y$6))","v":1},{"$f":"IF(ISNA(INDEX(Data_raw!$B$2:$U$44,MATCH($J16,Data_raw!$A$2:$A$44,0),Data!Z$6)),\"\",INDEX(Data_raw!$B$2:$U$44,MATCH($J16,Data_raw!$A$2:$A$44,0),Data!Z$6))","v":1},{"$f":"IF(ISNA(INDEX(Data_raw!$B$2:$U$44,MATCH($J16,Data_raw!$A$2:$A$44,0),Data!AA$6)),\"\",INDEX(Data_raw!$B$2:$U$44,MATCH($J16,Data_raw!$A$2:$A$44,0),Data!AA$6))","v":1},{"$f":"IF(ISNA(INDEX(Data_raw!$B$2:$U$44,MATCH($J16,Data_raw!$A$2:$A$44,0),Data!AB$6)),\"\",INDEX(Data_raw!$B$2:$U$44,MATCH($J16,Data_raw!$A$2:$A$44,0),Data!AB$6))","v":0},{"$f":"IF(ISNA(INDEX(Data_raw!$B$2:$U$44,MATCH($J16,Data_raw!$A$2:$A$44,0),Data!AC$6)),\"\",INDEX(Data_raw!$B$2:$U$44,MATCH($J16,Data_raw!$A$2:$A$44,0),Data!AC$6))","v":2},{"$f":"IF(ISNA(INDEX(Data_raw!$B$2:$U$44,MATCH($J16,Data_raw!$A$2:$A$44,0),Data!AD$6)),\"\",INDEX(Data_raw!$B$2:$U$44,MATCH($J16,Data_raw!$A$2:$A$44,0),Data!AD$6))","v":2},{"$f":"IF(ISNA(INDEX(Data_raw!$B$2:$U$44,MATCH($J16,Data_raw!$A$2:$A$44,0),Data!AE$6)),\"\",INDEX(Data_raw!$B$2:$U$44,MATCH($J16,Data_raw!$A$2:$A$44,0),Data!AE$6))","v":2},{"$f":"IF(ISNA(INDEX(Data_raw!$B$2:$U$44,MATCH($J16,Data_raw!$A$2:$A$44,0),Data!AF$6)),\"\",INDEX(Data_raw!$B$2:$U$44,MATCH($J16,Data_raw!$A$2:$A$44,0),Data!AF$6))","v":2},{"$f":"IF(ISNA(INDEX(Data_raw!$B$2:$U$44,MATCH($J16,Data_raw!$A$2:$A$44,0),Data!AG$6)),\"\",INDEX(Data_raw!$B$2:$U$44,MATCH($J16,Data_raw!$A$2:$A$44,0),Data!AG$6))","v":1},null,0]
[null,{"$f":"tblIndicators!B11","v":"PLCAP_4"},{"$f":"tblIndicators!C11","v":"PLCAP"},{"$f":"tblIndicators!D11","v":2},null,{"$f":"tblIndicators!X11","v":100},{"$f":"tblIndicators!D11","v":2},"","",{"$f":"tblIndicators!E11","v":1.4},null,{"$f":"tblIndicators!AE11","v":"1.4) Maritime Spatial Planning"},{"$f":"IF(tblIndicators!G11=\"\",\"\",IF(G17=3,tblIndicators!G11,\"\"))","v":""},{"$f":"IF(ISNA(INDEX(Data_raw!$B$2:$U$44,MATCH($J17,Data_raw!$A$2:$A$44,0),Data!N$6)),\"\",INDEX(Data_raw!$B$2:$U$44,MATCH($J17,Data_raw!$A$2:$A$44,0),Data!N$6))","v":""},{"$f":"IF(ISNA(INDEX(Data_raw!$B$2:$U$44,MATCH($J17,Data_raw!$A$2:$A$44,0),Data!O$6)),\"\",INDEX(Data_raw!$B$2:$U$44,MATCH($J17,Data_raw!$A$2:$A$44,0),Data!O$6))","v":""},{"$f":"IF(ISNA(INDEX(Data_raw!$B$2:$U$44,MATCH($J17,Data_raw!$A$2:$A$44,0),Data!P$6)),\"\",INDEX(Data_raw!$B$2:$U$44,MATCH($J17,Data_raw!$A$2:$A$44,0),Data!P$6))","v":""},{"$f":"IF(ISNA(INDEX(Data_raw!$B$2:$U$44,MATCH($J17,Data_raw!$A$2:$A$44,0),Data!Q$6)),\"\",INDEX(Data_raw!$B$2:$U$44,MATCH($J17,Data_raw!$A$2:$A$44,0),Data!Q$6))","v":""},{"$f":"IF(ISNA(INDEX(Data_raw!$B$2:$U$44,MATCH($J17,Data_raw!$A$2:$A$44,0),Data!R$6)),\"\",INDEX(Data_raw!$B$2:$U$44,MATCH($J17,Data_raw!$A$2:$A$44,0),Data!R$6))","v":""},{"$f":"IF(ISNA(INDEX(Data_raw!$B$2:$U$44,MATCH($J17,Data_raw!$A$2:$A$44,0),Data!S$6)),\"\",INDEX(Data_raw!$B$2:$U$44,MATCH($J17,Data_raw!$A$2:$A$44,0),Data!S$6))","v":""},{"$f":"IF(ISNA(INDEX(Data_raw!$B$2:$U$44,MATCH($J17,Data_raw!$A$2:$A$44,0),Data!T$6)),\"\",INDEX(Data_raw!$B$2:$U$44,MATCH($J17,Data_raw!$A$2:$A$44,0),Data!T$6))","v":""},{"$f":"IF(ISNA(INDEX(Data_raw!$B$2:$U$44,MATCH($J17,Data_raw!$A$2:$A$44,0),Data!U$6)),\"\",INDEX(Data_raw!$B$2:$U$44,MATCH($J17,Data_raw!$A$2:$A$44,0),Data!U$6))","v":""},{"$f":"IF(ISNA(INDEX(Data_raw!$B$2:$U$44,MATCH($J17,Data_raw!$A$2:$A$44,0),Data!V$6)),\"\",INDEX(Data_raw!$B$2:$U$44,MATCH($J17,Data_raw!$A$2:$A$44,0),Data!V$6))","v":""},{"$f":"IF(ISNA(INDEX(Data_raw!$B$2:$U$44,MATCH($J17,Data_raw!$A$2:$A$44,0),Data!W$6)),\"\",INDEX(Data_raw!$B$2:$U$44,MATCH($J17,Data_raw!$A$2:$A$44,0),Data!W$6))","v":""},{"$f":"IF(ISNA(INDEX(Data_raw!$B$2:$U$44,MATCH($J17,Data_raw!$A$2:$A$44,0),Data!X$6)),\"\",INDEX(Data_raw!$B$2:$U$44,MATCH($J17,Data_raw!$A$2:$A$44,0),Data!X$6))","v":""},{"$f":"IF(ISNA(INDEX(Data_raw!$B$2:$U$44,MATCH($J17,Data_raw!$A$2:$A$44,0),Data!Y$6)),\"\",INDEX(Data_raw!$B$2:$U$44,MATCH($J17,Data_raw!$A$2:$A$44,0),Data!Y$6))","v":""},{"$f":"IF(ISNA(INDEX(Data_raw!$B$2:$U$44,MATCH($J17,Data_raw!$A$2:$A$44,0),Data!Z$6)),\"\",INDEX(Data_raw!$B$2:$U$44,MATCH($J17,Data_raw!$A$2:$A$44,0),Data!Z$6))","v":""},{"$f":"IF(ISNA(INDEX(Data_raw!$B$2:$U$44,MATCH($J17,Data_raw!$A$2:$A$44,0),Data!AA$6)),\"\",INDEX(Data_raw!$B$2:$U$44,MATCH($J17,Data_raw!$A$2:$A$44,0),Data!AA$6))","v":""},{"$f":"IF(ISNA(INDEX(Data_raw!$B$2:$U$44,MATCH($J17,Data_raw!$A$2:$A$44,0),Data!AB$6)),\"\",INDEX(Data_raw!$B$2:$U$44,MATCH($J17,Data_raw!$A$2:$A$44,0),Data!AB$6))","v":""},{"$f":"IF(ISNA(INDEX(Data_raw!$B$2:$U$44,MATCH($J17,Data_raw!$A$2:$A$44,0),Data!AC$6)),\"\",INDEX(Data_raw!$B$2:$U$44,MATCH($J17,Data_raw!$A$2:$A$44,0),Data!AC$6))","v":""},{"$f":"IF(ISNA(INDEX(Data_raw!$B$2:$U$44,MATCH($J17,Data_raw!$A$2:$A$44,0),Data!AD$6)),\"\",INDEX(Data_raw!$B$2:$U$44,MATCH($J17,Data_raw!$A$2:$A$44,0),Data!AD$6))","v":""},{"$f":"IF(ISNA(INDEX(Data_raw!$B$2:$U$44,MATCH($J17,Data_raw!$A$2:$A$44,0),Data!AE$6)),\"\",INDEX(Data_raw!$B$2:$U$44,MATCH($J17,Data_raw!$A$2:$A$44,0),Data!AE$6))","v":""},{"$f":"IF(ISNA(INDEX(Data_raw!$B$2:$U$44,MATCH($J17,Data_raw!$A$2:$A$44,0),Data!AF$6)),\"\",INDEX(Data_raw!$B$2:$U$44,MATCH($J17,Data_raw!$A$2:$A$44,0),Data!AF$6))","v":""},{"$f":"IF(ISNA(INDEX(Data_raw!$B$2:$U$44,MATCH($J17,Data_raw!$A$2:$A$44,0),Data!AG$6)),\"\",INDEX(Data_raw!$B$2:$U$44,MATCH($J17,Data_raw!$A$2:$A$44,0),Data!AG$6))","v":""},null,0]
[null,{"$f":"tblIndicators!B12","v":"PLCAP_4_1"},{"$f":"tblIndicators!C12","v":"PLCAP_4"},{"$f":"tblIndicators!D12","v":3},null,{"$f":"tblIndicators!X12","v":2},{"$f":"tblIndicators!D12","v":3},0,2,{"$f":"tblIndicators!E12","v":"1.4.1"},null,{"$f":"tblIndicators!AE12","v":"1.4.1) Legal basis for maritime spatial planning"},{"$f":"IF(tblIndicators!G12=\"\",\"\",IF(G18=3,tblIndicators!G12,\"\"))","v":"Scored 0-2"},{"$f":"IF(ISNA(INDEX(Data_raw!$B$2:$U$44,MATCH($J18,Data_raw!$A$2:$A$44,0),Data!N$6)),\"\",INDEX(Data_raw!$B$2:$U$44,MATCH($J18,Data_raw!$A$2:$A$44,0),Data!N$6))","v":0},{"$f":"IF(ISNA(INDEX(Data_raw!$B$2:$U$44,MATCH($J18,Data_raw!$A$2:$A$44,0),Data!O$6)),\"\",INDEX(Data_raw!$B$2:$U$44,MATCH($J18,Data_raw!$A$2:$A$44,0),Data!O$6))","v":1},{"$f":"IF(ISNA(INDEX(Data_raw!$B$2:$U$44,MATCH($J18,Data_raw!$A$2:$A$44,0),Data!P$6)),\"\",INDEX(Data_raw!$B$2:$U$44,MATCH($J18,Data_raw!$A$2:$A$44,0),Data!P$6))","v":0},{"$f":"IF(ISNA(INDEX(Data_raw!$B$2:$U$44,MATCH($J18,Data_raw!$A$2:$A$44,0),Data!Q$6)),\"\",INDEX(Data_raw!$B$2:$U$44,MATCH($J18,Data_raw!$A$2:$A$44,0),Data!Q$6))","v":2},{"$f":"IF(ISNA(INDEX(Data_raw!$B$2:$U$44,MATCH($J18,Data_raw!$A$2:$A$44,0),Data!R$6)),\"\",INDEX(Data_raw!$B$2:$U$44,MATCH($J18,Data_raw!$A$2:$A$44,0),Data!R$6))","v":1},{"$f":"IF(ISNA(INDEX(Data_raw!$B$2:$U$44,MATCH($J18,Data_raw!$A$2:$A$44,0),Data!S$6)),\"\",INDEX(Data_raw!$B$2:$U$44,MATCH($J18,Data_raw!$A$2:$A$44,0),Data!S$6))","v":0},{"$f":"IF(ISNA(INDEX(Data_raw!$B$2:$U$44,MATCH($J18,Data_raw!$A$2:$A$44,0),Data!T$6)),\"\",INDEX(Data_raw!$B$2:$U$44,MATCH($J18,Data_raw!$A$2:$A$44,0),Data!T$6))","v":0},{"$f":"IF(ISNA(INDEX(Data_raw!$B$2:$U$44,MATCH($J18,Data_raw!$A$2:$A$44,0),Data!U$6)),\"\",INDEX(Data_raw!$B$2:$U$44,MATCH($J18,Data_raw!$A$2:$A$44,0),Data!U$6))","v":0},{"$f":"IF(ISNA(INDEX(Data_raw!$B$2:$U$44,MATCH($J18,Data_raw!$A$2:$A$44,0),Data!V$6)),\"\",INDEX(Data_raw!$B$2:$U$44,MATCH($J18,Data_raw!$A$2:$A$44,0),Data!V$6))","v":2},{"$f":"IF(ISNA(INDEX(Data_raw!$B$2:$U$44,MATCH($J18,Data_raw!$A$2:$A$44,0),Data!W$6)),\"\",INDEX(Data_raw!$B$2:$U$44,MATCH($J18,Data_raw!$A$2:$A$44,0),Data!W$6))","v":1},{"$f":"IF(ISNA(INDEX(Data_raw!$B$2:$U$44,MATCH($J18,Data_raw!$A$2:$A$44,0),Data!X$6)),\"\",INDEX(Data_raw!$B$2:$U$44,MATCH($J18,Data_raw!$A$2:$A$44,0),Data!X$6))","v":0},{"$f":"IF(ISNA(INDEX(Data_raw!$B$2:$U$44,MATCH($J18,Data_raw!$A$2:$A$44,0),Data!Y$6)),\"\",INDEX(Data_raw!$B$2:$U$44,MATCH($J18,Data_raw!$A$2:$A$44,0),Data!Y$6))","v":2},{"$f":"IF(ISNA(INDEX(Data_raw!$B$2:$U$44,MATCH($J18,Data_raw!$A$2:$A$44,0),Data!Z$6)),\"\",INDEX(Data_raw!$B$2:$U$44,MATCH($J18,Data_raw!$A$2:$A$44,0),Data!Z$6))","v":0},{"$f":"IF(ISNA(INDEX(Data_raw!$B$2:$U$44,MATCH($J18,Data_raw!$A$2:$A$44,0),Data!AA$6)),\"\",INDEX(Data_raw!$B$2:$U$44,MATCH($J18,Data_raw!$A$2:$A$44,0),Data!AA$6))","v":1},{"$f":"IF(ISNA(INDEX(Data_raw!$B$2:$U$44,MATCH($J18,Data_raw!$A$2:$A$44,0),Data!AB$6)),\"\",INDEX(Data_raw!$B$2:$U$44,MATCH($J18,Data_raw!$A$2:$A$44,0),Data!AB$6))","v":0},{"$f":"IF(ISNA(INDEX(Data_raw!$B$2:$U$44,MATCH($J18,Data_raw!$A$2:$A$44,0),Data!AC$6)),\"\",INDEX(Data_raw!$B$2:$U$44,MATCH($J18,Data_raw!$A$2:$A$44,0),Data!AC$6))","v":1},{"$f":"IF(ISNA(INDEX(Data_raw!$B$2:$U$44,MATCH($J18,Data_raw!$A$2:$A$44,0),Data!AD$6)),\"\",INDEX(Data_raw!$B$2:$U$44,MATCH($J18,Data_raw!$A$2:$A$44,0),Data!AD$6))","v":0},{"$f":"IF(ISNA(INDEX(Data_raw!$B$2:$U$44,MATCH($J18,Data_raw!$A$2:$A$44,0),Data!AE$6)),\"\",INDEX(Data_raw!$B$2:$U$44,MATCH($J18,Data_raw!$A$2:$A$44,0),Data!AE$6))","v":2},{"$f":"IF(ISNA(INDEX(Data_raw!$B$2:$U$44,MATCH($J18,Data_raw!$A$2:$A$44,0),Data!AF$6)),\"\",INDEX(Data_raw!$B$2:$U$44,MATCH($J18,Data_raw!$A$2:$A$44,0),Data!AF$6))","v":1},{"$f":"IF(ISNA(INDEX(Data_raw!$B$2:$U$44,MATCH($J18,Data_raw!$A$2:$A$44,0),Data!AG$6)),\"\",INDEX(Data_raw!$B$2:$U$44,MATCH($J18,Data_raw!$A$2:$A$44,0),Data!AG$6))","v":2},null,0]
[null,{"$f":"tblIndicators!B13","v":"PLCAP_4_2"},{"$f":"tblIndicators!C13","v":"PLCAP_4"},{"$f":"tblIndicators!D13","v":3},null,{"$f":"tblIndicators!X13","v":2},{"$f":"tblIndicators!D13","v":3},0,2,{"$f":"tblIndicators!E13","v":"1.4.2"},null,{"$f":"tblIndicators!AE13","v":"1.4.2) Institution for maritime spatial planning"},{"$f":"IF(tblIndicators!G13=\"\",\"\",IF(G19=3,tblIndicators!G13,\"\"))","v":"Scored 0-2 "},{"$f":"IF(ISNA(INDEX(Data_raw!$B$2:$U$44,MATCH($J19,Data_raw!$A$2:$A$44,0),Data!N$6)),\"\",INDEX(Data_raw!$B$2:$U$44,MATCH($J19,Data_raw!$A$2:$A$44,0),Data!N$6))","v":0},{"$f":"IF(ISNA(INDEX(Data_raw!$B$2:$U$44,MATCH($J19,Data_raw!$A$2:$A$44,0),Data!O$6)),\"\",INDEX(Data_raw!$B$2:$U$44,MATCH($J19,Data_raw!$A$2:$A$44,0),Data!O$6))","v":1},{"$f":"IF(ISNA(INDEX(Data_raw!$B$2:$U$44,MATCH($J19,Data_raw!$A$2:$A$44,0),Data!P$6)),\"\",INDEX(Data_raw!$B$2:$U$44,MATCH($J19,Data_raw!$A$2:$A$44,0),Data!P$6))","v":0},{"$f":"IF(ISNA(INDEX(Data_raw!$B$2:$U$44,MATCH($J19,Data_raw!$A$2:$A$44,0),Data!Q$6)),\"\",INDEX(Data_raw!$B$2:$U$44,MATCH($J19,Data_raw!$A$2:$A$44,0),Data!Q$6))","v":2},{"$f":"IF(ISNA(INDEX(Data_raw!$B$2:$U$44,MATCH($J19,Data_raw!$A$2:$A$44,0),Data!R$6)),\"\",INDEX(Data_raw!$B$2:$U$44,MATCH($J19,Data_raw!$A$2:$A$44,0),Data!R$6))","v":1},{"$f":"IF(ISNA(INDEX(Data_raw!$B$2:$U$44,MATCH($J19,Data_raw!$A$2:$A$44,0),Data!S$6)),\"\",INDEX(Data_raw!$B$2:$U$44,MATCH($J19,Data_raw!$A$2:$A$44,0),Data!S$6))","v":0},{"$f":"IF(ISNA(INDEX(Data_raw!$B$2:$U$44,MATCH($J19,Data_raw!$A$2:$A$44,0),Data!T$6)),\"\",INDEX(Data_raw!$B$2:$U$44,MATCH($J19,Data_raw!$A$2:$A$44,0),Data!T$6))","v":1},{"$f":"IF(ISNA(INDEX(Data_raw!$B$2:$U$44,MATCH($J19,Data_raw!$A$2:$A$44,0),Data!U$6)),\"\",INDEX(Data_raw!$B$2:$U$44,MATCH($J19,Data_raw!$A$2:$A$44,0),Data!U$6))","v":0},{"$f":"IF(ISNA(INDEX(Data_raw!$B$2:$U$44,MATCH($J19,Data_raw!$A$2:$A$44,0),Data!V$6)),\"\",INDEX(Data_raw!$B$2:$U$44,MATCH($J19,Data_raw!$A$2:$A$44,0),Data!V$6))","v":2},{"$f":"IF(ISNA(INDEX(Data_raw!$B$2:$U$44,MATCH($J19,Data_raw!$A$2:$A$44,0),Data!W$6)),\"\",INDEX(Data_raw!$B$2:$U$44,MATCH($J19,Data_raw!$A$2:$A$44,0),Data!W$6))","v":1},{"$f":"IF(ISNA(INDEX(Data_raw!$B$2:$U$44,MATCH($J19,Data_raw!$A$2:$A$44,0),Data!X$6)),\"\",INDEX(Data_raw!$B$2:$U$44,MATCH($J19,Data_raw!$A$2:$A$44,0),Data!X$6))","v":0},{"$f":"IF(ISNA(INDEX(Data_raw!$B$2:$U$44,MATCH($J19,Data_raw!$A$2:$A$44,0),Data!Y$6)),\"\",INDEX(Data_raw!$B$2:$U$44,MATCH($J19,Data_raw!$A$2:$A$44,0),Data!Y$6))","v":2},{"$f":"IF(ISNA(INDEX(Data_raw!$B$2:$U$44,MATCH($J19,Data_raw!$A$2:$A$44,0),Data!Z$6)),\"\",INDEX(Data_raw!$B$2:$U$44,MATCH($J19,Data_raw!$A$2:$A$44,0),Data!Z$6))","v":0},{"$f":"IF(ISNA(INDEX(Data_raw!$B$2:$U$44,MATCH($J19,Data_raw!$A$2:$A$44,0),Data!AA$6)),\"\",INDEX(Data_raw!$B$2:$U$44,MATCH($J19,Data_raw!$A$2:$A$44,0),Data!AA$6))","v":1},{"$f":"IF(ISNA(INDEX(Data_raw!$B$2:$U$44,MATCH($J19,Data_raw!$A$2:$A$44,0),Data!AB$6)),\"\",INDEX(Data_raw!$B$2:$U$44,MATCH($J19,Data_raw!$A$2:$A$44,0),Data!AB$6))","v":0},{"$f":"IF(ISNA(INDEX(Data_raw!$B$2:$U$44,MATCH($J19,Data_raw!$A$2:$A$44,0),Data!AC$6)),\"\",INDEX(Data_raw!$B$2:$U$44,MATCH($J19,Data_raw!$A$2:$A$44,0),Data!AC$6))","v":0},{"$f":"IF(ISNA(INDEX(Data_raw!$B$2:$U$44,MATCH($J19,Data_raw!$A$2:$A$44,0),Data!AD$6)),\"\",INDEX(Data_raw!$B$2:$U$44,MATCH($J19,Data_raw!$A$2:$A$44,0),Data!AD$6))","v":0},{"$f":"IF(ISNA(INDEX(Data_raw!$B$2:$U$44,MATCH($J19,Data_raw!$A$2:$A$44,0),Data!AE$6)),\"\",INDEX(Data_raw!$B$2:$U$44,MATCH($J19,Data_raw!$A$2:$A$44,0),Data!AE$6))","v":2},{"$f":"IF(ISNA(INDEX(Data_raw!$B$2:$U$44,MATCH($J19,Data_raw!$A$2:$A$44,0),Data!AF$6)),\"\",INDEX(Data_raw!$B$2:$U$44,MATCH($J19,Data_raw!$A$2:$A$44,0),Data!AF$6))","v":2},{"$f":"IF(ISNA(INDEX(Data_raw!$B$2:$U$44,MATCH($J19,Data_raw!$A$2:$A$44,0),Data!AG$6)),\"\",INDEX(Data_raw!$B$2:$U$44,MATCH($J19,Data_raw!$A$2:$A$44,0),Data!AG$6))","v":2},null,0]
[null,{"$f":"tblIndicators!B14","v":"PLCAP_5"},{"$f":"tblIndicators!C14","v":"PLCAP"},{"$f":"tblIndicators!D14","v":2},null,{"$f":"tblIndicators!X14","v":100},{"$f":"tblIndicators!D14","v":2},"","",{"$f":"tblIndicators!E14","v":1.5},null,{"$f":"tblIndicators!AE14","v":"1.5) Stakeholder engagement"},{"$f":"IF(tblIndicators!G14=\"\",\"\",IF(G20=3,tblIndicators!G14,\"\"))","v":""},{"$f":"IF(ISNA(INDEX(Data_raw!$B$2:$U$44,MATCH($J20,Data_raw!$A$2:$A$44,0),Data!N$6)),\"\",INDEX(Data_raw!$B$2:$U$44,MATCH($J20,Data_raw!$A$2:$A$44,0),Data!N$6))","v":""},{"$f":"IF(ISNA(INDEX(Data_raw!$B$2:$U$44,MATCH($J20,Data_raw!$A$2:$A$44,0),Data!O$6)),\"\",INDEX(Data_raw!$B$2:$U$44,MATCH($J20,Data_raw!$A$2:$A$44,0),Data!O$6))","v":""},{"$f":"IF(ISNA(INDEX(Data_raw!$B$2:$U$44,MATCH($J20,Data_raw!$A$2:$A$44,0),Data!P$6)),\"\",INDEX(Data_raw!$B$2:$U$44,MATCH($J20,Data_raw!$A$2:$A$44,0),Data!P$6))","v":""},{"$f":"IF(ISNA(INDEX(Data_raw!$B$2:$U$44,MATCH($J20,Data_raw!$A$2:$A$44,0),Data!Q$6)),\"\",INDEX(Data_raw!$B$2:$U$44,MATCH($J20,Data_raw!$A$2:$A$44,0),Data!Q$6))","v":""},{"$f":"IF(ISNA(INDEX(Data_raw!$B$2:$U$44,MATCH($J20,Data_raw!$A$2:$A$44,0),Data!R$6)),\"\",INDEX(Data_raw!$B$2:$U$44,MATCH($J20,Data_raw!$A$2:$A$44,0),Data!R$6))","v":""},{"$f":"IF(ISNA(INDEX(Data_raw!$B$2:$U$44,MATCH($J20,Data_raw!$A$2:$A$44,0),Data!S$6)),\"\",INDEX(Data_raw!$B$2:$U$44,MATCH($J20,Data_raw!$A$2:$A$44,0),Data!S$6))","v":""},{"$f":"IF(ISNA(INDEX(Data_raw!$B$2:$U$44,MATCH($J20,Data_raw!$A$2:$A$44,0),Data!T$6)),\"\",INDEX(Data_raw!$B$2:$U$44,MATCH($J20,Data_raw!$A$2:$A$44,0),Data!T$6))","v":""},{"$f":"IF(ISNA(INDEX(Data_raw!$B$2:$U$44,MATCH($J20,Data_raw!$A$2:$A$44,0),Data!U$6)),\"\",INDEX(Data_raw!$B$2:$U$44,MATCH($J20,Data_raw!$A$2:$A$44,0),Data!U$6))","v":""},{"$f":"IF(ISNA(INDEX(Data_raw!$B$2:$U$44,MATCH($J20,Data_raw!$A$2:$A$44,0),Data!V$6)),\"\",INDEX(Data_raw!$B$2:$U$44,MATCH($J20,Data_raw!$A$2:$A$44,0),Data!V$6))","v":""},{"$f":"IF(ISNA(INDEX(Data_raw!$B$2:$U$44,MATCH($J20,Data_raw!$A$2:$A$44,0),Data!W$6)),\"\",INDEX(Data_raw!$B$2:$U$44,MATCH($J20,Data_raw!$A$2:$A$44,0),Data!W$6))","v":""},{"$f":"IF(ISNA(INDEX(Data_raw!$B$2:$U$44,MATCH($J20,Data_raw!$A$2:$A$44,0),Data!X$6)),\"\",INDEX(Data_raw!$B$2:$U$44,MATCH($J20,Data_raw!$A$2:$A$44,0),Data!X$6))","v":""},{"$f":"IF(ISNA(INDEX(Data_raw!$B$2:$U$44,MATCH($J20,Data_raw!$A$2:$A$44,0),Data!Y$6)),\"\",INDEX(Data_raw!$B$2:$U$44,MATCH($J20,Data_raw!$A$2:$A$44,0),Data!Y$6))","v":""},{"$f":"IF(ISNA(INDEX(Data_raw!$B$2:$U$44,MATCH($J20,Data_raw!$A$2:$A$44,0),Data!Z$6)),\"\",INDEX(Data_raw!$B$2:$U$44,MATCH($J20,Data_raw!$A$2:$A$44,0),Data!Z$6))","v":""},{"$f":"IF(ISNA(INDEX(Data_raw!$B$2:$U$44,MATCH($J20,Data_raw!$A$2:$A$44,0),Data!AA$6)),\"\",INDEX(Data_raw!$B$2:$U$44,MATCH($J20,Data_raw!$A$2:$A$44,0),Data!AA$6))","v":""},{"$f":"IF(ISNA(INDEX(Data_raw!$B$2:$U$44,MATCH($J20,Data_raw!$A$2:$A$44,0),Data!AB$6)),\"\",INDEX(Data_raw!$B$2:$U$44,MATCH($J20,Data_raw!$A$2:$A$44,0),Data!AB$6))","v":""},{"$f":"IF(ISNA(INDEX(Data_raw!$B$2:$U$44,MATCH($J20,Data_raw!$A$2:$A$44,0),Data!AC$6)),\"\",INDEX(Data_raw!$B$2:$U$44,MATCH($J20,Data_raw!$A$2:$A$44,0),Data!AC$6))","v":""},{"$f":"IF(ISNA(INDEX(Data_raw!$B$2:$U$44,MATCH($J20,Data_raw!$A$2:$A$44,0),Data!AD$6)),\"\",INDEX(Data_raw!$B$2:$U$44,MATCH($J20,Data_raw!$A$2:$A$44,0),Data!AD$6))","v":""},{"$f":"IF(ISNA(INDEX(Data_raw!$B$2:$U$44,MATCH($J20,Data_raw!$A$2:$A$44,0),Data!AE$6)),\"\",INDEX(Data_raw!$B$2:$U$44,MATCH($J20,Data_raw!$A$2:$A$44,0),Data!AE$6))","v":""},{"$f":"IF(ISNA(INDEX(Data_raw!$B$2:$U$44,MATCH($J20,Data_raw!$A$2:$A$44,0),Data!AF$6)),\"\",INDEX(Data_raw!$B$2:$U$44,MATCH($J20,Data_raw!$A$2:$A$44,0),Data!AF$6))","v":""},{"$f":"IF(ISNA(INDEX(Data_raw!$B$2:$U$44,MATCH($J20,Data_raw!$A$2:$A$44,0),Data!AG$6)),\"\",INDEX(Data_raw!$B$2:$U$44,MATCH($J20,Data_raw!$A$2:$A$44,0),Data!AG$6))","v":""},null,0]
[null,{"$f":"tblIndicators!B15","v":"PLCAP_5_1"},{"$f":"tblIndicators!C15","v":"PLCAP_5"},{"$f":"tblIndicators!D15","v":3},null,{"$f":"tblIndicators!X15","v":2},{"$f":"tblIndicators!D15","v":3},0,2,{"$f":"tblIndicators!E15","v":"1.5.1"},null,{"$f":"tblIndicators!AE15","v":"1.5.1) Grievance redress"},{"$f":"IF(tblIndicators!G15=\"\",\"\",IF(G21=3,tblIndicators!G15,\"\"))","v":"Scored 0-2 "},{"$f":"IF(ISNA(INDEX(Data_raw!$B$2:$U$44,MATCH($J21,Data_raw!$A$2:$A$44,0),Data!N$6)),\"\",INDEX(Data_raw!$B$2:$U$44,MATCH($J21,Data_raw!$A$2:$A$44,0),Data!N$6))","v":2},{"$f":"IF(ISNA(INDEX(Data_raw!$B$2:$U$44,MATCH($J21,Data_raw!$A$2:$A$44,0),Data!O$6)),\"\",INDEX(Data_raw!$B$2:$U$44,MATCH($J21,Data_raw!$A$2:$A$44,0),Data!O$6))","v":2},{"$f":"IF(ISNA(INDEX(Data_raw!$B$2:$U$44,MATCH($J21,Data_raw!$A$2:$A$44,0),Data!P$6)),\"\",INDEX(Data_raw!$B$2:$U$44,MATCH($J21,Data_raw!$A$2:$A$44,0),Data!P$6))","v":2},{"$f":"IF(ISNA(INDEX(Data_raw!$B$2:$U$44,MATCH($J21,Data_raw!$A$2:$A$44,0),Data!Q$6)),\"\",INDEX(Data_raw!$B$2:$U$44,MATCH($J21,Data_raw!$A$2:$A$44,0),Data!Q$6))","v":0},{"$f":"IF(ISNA(INDEX(Data_raw!$B$2:$U$44,MATCH($J21,Data_raw!$A$2:$A$44,0),Data!R$6)),\"\",INDEX(Data_raw!$B$2:$U$44,MATCH($J21,Data_raw!$A$2:$A$44,0),Data!R$6))","v":2},{"$f":"IF(ISNA(INDEX(Data_raw!$B$2:$U$44,MATCH($J21,Data_raw!$A$2:$A$44,0),Data!S$6)),\"\",INDEX(Data_raw!$B$2:$U$44,MATCH($J21,Data_raw!$A$2:$A$44,0),Data!S$6))","v":2},{"$f":"IF(ISNA(INDEX(Data_raw!$B$2:$U$44,MATCH($J21,Data_raw!$A$2:$A$44,0),Data!T$6)),\"\",INDEX(Data_raw!$B$2:$U$44,MATCH($J21,Data_raw!$A$2:$A$44,0),Data!T$6))","v":1},{"$f":"IF(ISNA(INDEX(Data_raw!$B$2:$U$44,MATCH($J21,Data_raw!$A$2:$A$44,0),Data!U$6)),\"\",INDEX(Data_raw!$B$2:$U$44,MATCH($J21,Data_raw!$A$2:$A$44,0),Data!U$6))","v":2},{"$f":"IF(ISNA(INDEX(Data_raw!$B$2:$U$44,MATCH($J21,Data_raw!$A$2:$A$44,0),Data!V$6)),\"\",INDEX(Data_raw!$B$2:$U$44,MATCH($J21,Data_raw!$A$2:$A$44,0),Data!V$6))","v":1},{"$f":"IF(ISNA(INDEX(Data_raw!$B$2:$U$44,MATCH($J21,Data_raw!$A$2:$A$44,0),Data!W$6)),\"\",INDEX(Data_raw!$B$2:$U$44,MATCH($J21,Data_raw!$A$2:$A$44,0),Data!W$6))","v":2},{"$f":"IF(ISNA(INDEX(Data_raw!$B$2:$U$44,MATCH($J21,Data_raw!$A$2:$A$44,0),Data!X$6)),\"\",INDEX(Data_raw!$B$2:$U$44,MATCH($J21,Data_raw!$A$2:$A$44,0),Data!X$6))","v":0},{"$f":"IF(ISNA(INDEX(Data_raw!$B$2:$U$44,MATCH($J21,Data_raw!$A$2:$A$44,0),Data!Y$6)),\"\",INDEX(Data_raw!$B$2:$U$44,MATCH($J21,Data_raw!$A$2:$A$44,0),Data!Y$6))","v":2},{"$f":"IF(ISNA(INDEX(Data_raw!$B$2:$U$44,MATCH($J21,Data_raw!$A$2:$A$44,0),Data!Z$6)),\"\",INDEX(Data_raw!$B$2:$U$44,MATCH($J21,Data_raw!$A$2:$A$44,0),Data!Z$6))","v":1},{"$f":"IF(ISNA(INDEX(Data_raw!$B$2:$U$44,MATCH($J21,Data_raw!$A$2:$A$44,0),Data!AA$6)),\"\",INDEX(Data_raw!$B$2:$U$44,MATCH($J21,Data_raw!$A$2:$A$44,0),Data!AA$6))","v":2},{"$f":"IF(ISNA(INDEX(Data_raw!$B$2:$U$44,MATCH($J21,Data_raw!$A$2:$A$44,0),Data!AB$6)),\"\",INDEX(Data_raw!$B$2:$U$44,MATCH($J21,Data_raw!$A$2:$A$44,0),Data!AB$6))","v":0},{"$f":"IF(ISNA(INDEX(Data_raw!$B$2:$U$44,MATCH($J21,Data_raw!$A$2:$A$44,0),Data!AC$6)),\"\",INDEX(Data_raw!$B$2:$U$44,MATCH($J21,Data_raw!$A$2:$A$44,0),Data!AC$6))","v":2},{"$f":"IF(ISNA(INDEX(Data_raw!$B$2:$U$44,MATCH($J21,Data_raw!$A$2:$A$44,0),Data!AD$6)),\"\",INDEX(Data_raw!$B$2:$U$44,MATCH($J21,Data_raw!$A$2:$A$44,0),Data!AD$6))","v":1},{"$f":"IF(ISNA(INDEX(Data_raw!$B$2:$U$44,MATCH($J21,Data_raw!$A$2:$A$44,0),Data!AE$6)),\"\",INDEX(Data_raw!$B$2:$U$44,MATCH($J21,Data_raw!$A$2:$A$44,0),Data!AE$6))","v":2},{"$f":"IF(ISNA(INDEX(Data_raw!$B$2:$U$44,MATCH($J21,Data_raw!$A$2:$A$44,0),Data!AF$6)),\"\",INDEX(Data_raw!$B$2:$U$44,MATCH($J21,Data_raw!$A$2:$A$44,0),Data!AF$6))","v":2},{"$f":"IF(ISNA(INDEX(Data_raw!$B$2:$U$44,MATCH($J21,Data_raw!$A$2:$A$44,0),Data!AG$6)),\"\",INDEX(Data_raw!$B$2:$U$44,MATCH($J21,Data_raw!$A$2:$A$44,0),Data!AG$6))","v":0},null,0]
[null,{"$f":"tblIndicators!B16","v":"PLCAP_5_2"},{"$f":"tblIndicators!C16","v":"PLCAP_5"},{"$f":"tblIndicators!D16","v":3},null,{"$f":"tblIndicators!X16","v":1},{"$f":"tblIndicators!D16","v":3},0,1,{"$f":"tblIndicators!E16","v":"1.5.2"},null,{"$f":"tblIndicators!AE16","v":"1.5.2) Multi-stakeholder engagement"},{"$f":"IF(tblIndicators!G16=\"\",\"\",IF(G22=3,tblIndicators!G16,\"\"))","v":"Scored 0-1 "},{"$f":"IF(ISNA(INDEX(Data_raw!$B$2:$U$44,MATCH($J22,Data_raw!$A$2:$A$44,0),Data!N$6)),\"\",INDEX(Data_raw!$B$2:$U$44,MATCH($J22,Data_raw!$A$2:$A$44,0),Data!N$6))","v":1},{"$f":"IF(ISNA(INDEX(Data_raw!$B$2:$U$44,MATCH($J22,Data_raw!$A$2:$A$44,0),Data!O$6)),\"\",INDEX(Data_raw!$B$2:$U$44,MATCH($J22,Data_raw!$A$2:$A$44,0),Data!O$6))","v":1},{"$f":"IF(ISNA(INDEX(Data_raw!$B$2:$U$44,MATCH($J22,Data_raw!$A$2:$A$44,0),Data!P$6)),\"\",INDEX(Data_raw!$B$2:$U$44,MATCH($J22,Data_raw!$A$2:$A$44,0),Data!P$6))","v":0},{"$f":"IF(ISNA(INDEX(Data_raw!$B$2:$U$44,MATCH($J22,Data_raw!$A$2:$A$44,0),Data!Q$6)),\"\",INDEX(Data_raw!$B$2:$U$44,MATCH($J22,Data_raw!$A$2:$A$44,0),Data!Q$6))","v":0},{"$f":"IF(ISNA(INDEX(Data_raw!$B$2:$U$44,MATCH($J22,Data_raw!$A$2:$A$44,0),Data!R$6)),\"\",INDEX(Data_raw!$B$2:$U$44,MATCH($J22,Data_raw!$A$2:$A$44,0),Data!R$6))","v":0},{"$f":"IF(ISNA(INDEX(Data_raw!$B$2:$U$44,MATCH($J22,Data_raw!$A$2:$A$44,0),Data!S$6)),\"\",INDEX(Data_raw!$B$2:$U$44,MATCH($J22,Data_raw!$A$2:$A$44,0),Data!S$6))","v":1},{"$f":"IF(ISNA(INDEX(Data_raw!$B$2:$U$44,MATCH($J22,Data_raw!$A$2:$A$44,0),Data!T$6)),\"\",INDEX(Data_raw!$B$2:$U$44,MATCH($J22,Data_raw!$A$2:$A$44,0),Data!T$6))","v":1},{"$f":"IF(ISNA(INDEX(Data_raw!$B$2:$U$44,MATCH($J22,Data_raw!$A$2:$A$44,0),Data!U$6)),\"\",INDEX(Data_raw!$B$2:$U$44,MATCH($J22,Data_raw!$A$2:$A$44,0),Data!U$6))","v":1},{"$f":"IF(ISNA(INDEX(Data_raw!$B$2:$U$44,MATCH($J22,Data_raw!$A$2:$A$44,0),Data!V$6)),\"\",INDEX(Data_raw!$B$2:$U$44,MATCH($J22,Data_raw!$A$2:$A$44,0),Data!V$6))","v":0},{"$f":"IF(ISNA(INDEX(Data_raw!$B$2:$U$44,MATCH($J22,Data_raw!$A$2:$A$44,0),Data!W$6)),\"\",INDEX(Data_raw!$B$2:$U$44,MATCH($J22,Data_raw!$A$2:$A$44,0),Data!W$6))","v":0},{"$f":"IF(ISNA(INDEX(Data_raw!$B$2:$U$44,MATCH($J22,Data_raw!$A$2:$A$44,0),Data!X$6)),\"\",INDEX(Data_raw!$B$2:$U$44,MATCH($J22,Data_raw!$A$2:$A$44,0),Data!X$6))","v":0},{"$f":"IF(ISNA(INDEX(Data_raw!$B$2:$U$44,MATCH($J22,Data_raw!$A$2:$A$44,0),Data!Y$6)),\"\",INDEX(Data_raw!$B$2:$U$44,MATCH($J22,Data_raw!$A$2:$A$44,0),Data!Y$6))","v":0},{"$f":"IF(ISNA(INDEX(Data_raw!$B$2:$U$44,MATCH($J22,Data_raw!$A$2:$A$44,0),Data!Z$6)),\"\",INDEX(Data_raw!$B$2:$U$44,MATCH($J22,Data_raw!$A$2:$A$44,0),Data!Z$6))","v":0},{"$f":"IF(ISNA(INDEX(Data_raw!$B$2:$U$44,MATCH($J22,Data_raw!$A$2:$A$44,0),Data!AA$6)),\"\",INDEX(Data_raw!$B$2:$U$44,MATCH($J22,Data_raw!$A$2:$A$44,0),Data!AA$6))","v":1},{"$f":"IF(ISNA(INDEX(Data_raw!$B$2:$U$44,MATCH($J22,Data_raw!$A$2:$A$44,0),Data!AB$6)),\"\",INDEX(Data_raw!$B$2:$U$44,MATCH($J22,Data_raw!$A$2:$A$44,0),Data!AB$6))","v":0},{"$f":"IF(ISNA(INDEX(Data_raw!$B$2:$U$44,MATCH($J22,Data_raw!$A$2:$A$44,0),Data!AC$6)),\"\",INDEX(Data_raw!$B$2:$U$44,MATCH($J22,Data_raw!$A$2:$A$44,0),Data!AC$6))","v":1},{"$f":"IF(ISNA(INDEX(Data_raw!$B$2:$U$44,MATCH($J22,Data_raw!$A$2:$A$44,0),Data!AD$6)),\"\",INDEX(Data_raw!$B$2:$U$44,MATCH($J22,Data_raw!$A$2:$A$44,0),Data!AD$6))","v":0},{"$f":"IF(ISNA(INDEX(Data_raw!$B$2:$U$44,MATCH($J22,Data_raw!$A$2:$A$44,0),Data!AE$6)),\"\",INDEX(Data_raw!$B$2:$U$44,MATCH($J22,Data_raw!$A$2:$A$44,0),Data!AE$6))","v":1},{"$f":"IF(ISNA(INDEX(Data_raw!$B$2:$U$44,MATCH($J22,Data_raw!$A$2:$A$44,0),Data!AF$6)),\"\",INDEX(Data_raw!$B$2:$U$44,MATCH($J22,Data_raw!$A$2:$A$44,0),Data!AF$6))","v":1},{"$f":"IF(ISNA(INDEX(Data_raw!$B$2:$U$44,MATCH($J22,Data_raw!$A$2:$A$44,0),Data!AG$6)),\"\",INDEX(Data_raw!$B$2:$U$44,MATCH($J22,Data_raw!$A$2:$A$44,0),Data!AG$6))","v":1},null,0]
[null,{"$f":"tblIndicators!B17","v":"PLCAP_6"},{"$f":"tblIndicators!C17","v":"PLCAP"},{"$f":"tblIndicators!D17","v":2},null,{"$f":"tblIndicators!X17","v":100},{"$f":"tblIndicators!D17","v":2},"","",{"$f":"tblIndicators!E17","v":1.6},null,{"$f":"tblIndicators!AE17","v":"1.6) Extractive industries transparency"},{"$f":"IF(tblIndicators!G17=\"\",\"\",IF(G23=3,tblIndicators!G17,\"\"))","v":""},{"$f":"IF(ISNA(INDEX(Data_raw!$B$2:$U$44,MATCH($J23,Data_raw!$A$2:$A$44,0),Data!N$6)),\"\",INDEX(Data_raw!$B$2:$U$44,MATCH($J23,Data_raw!$A$2:$A$44,0),Data!N$6))","v":""},{"$f":"IF(ISNA(INDEX(Data_raw!$B$2:$U$44,MATCH($J23,Data_raw!$A$2:$A$44,0),Data!O$6)),\"\",INDEX(Data_raw!$B$2:$U$44,MATCH($J23,Data_raw!$A$2:$A$44,0),Data!O$6))","v":""},{"$f":"IF(ISNA(INDEX(Data_raw!$B$2:$U$44,MATCH($J23,Data_raw!$A$2:$A$44,0),Data!P$6)),\"\",INDEX(Data_raw!$B$2:$U$44,MATCH($J23,Data_raw!$A$2:$A$44,0),Data!P$6))","v":""},{"$f":"IF(ISNA(INDEX(Data_raw!$B$2:$U$44,MATCH($J23,Data_raw!$A$2:$A$44,0),Data!Q$6)),\"\",INDEX(Data_raw!$B$2:$U$44,MATCH($J23,Data_raw!$A$2:$A$44,0),Data!Q$6))","v":""},{"$f":"IF(ISNA(INDEX(Data_raw!$B$2:$U$44,MATCH($J23,Data_raw!$A$2:$A$44,0),Data!R$6)),\"\",INDEX(Data_raw!$B$2:$U$44,MATCH($J23,Data_raw!$A$2:$A$44,0),Data!R$6))","v":""},{"$f":"IF(ISNA(INDEX(Data_raw!$B$2:$U$44,MATCH($J23,Data_raw!$A$2:$A$44,0),Data!S$6)),\"\",INDEX(Data_raw!$B$2:$U$44,MATCH($J23,Data_raw!$A$2:$A$44,0),Data!S$6))","v":""},{"$f":"IF(ISNA(INDEX(Data_raw!$B$2:$U$44,MATCH($J23,Data_raw!$A$2:$A$44,0),Data!T$6)),\"\",INDEX(Data_raw!$B$2:$U$44,MATCH($J23,Data_raw!$A$2:$A$44,0),Data!T$6))","v":""},{"$f":"IF(ISNA(INDEX(Data_raw!$B$2:$U$44,MATCH($J23,Data_raw!$A$2:$A$44,0),Data!U$6)),\"\",INDEX(Data_raw!$B$2:$U$44,MATCH($J23,Data_raw!$A$2:$A$44,0),Data!U$6))","v":""},{"$f":"IF(ISNA(INDEX(Data_raw!$B$2:$U$44,MATCH($J23,Data_raw!$A$2:$A$44,0),Data!V$6)),\"\",INDEX(Data_raw!$B$2:$U$44,MATCH($J23,Data_raw!$A$2:$A$44,0),Data!V$6))","v":""},{"$f":"IF(ISNA(INDEX(Data_raw!$B$2:$U$44,MATCH($J23,Data_raw!$A$2:$A$44,0),Data!W$6)),\"\",INDEX(Data_raw!$B$2:$U$44,MATCH($J23,Data_raw!$A$2:$A$44,0),Data!W$6))","v":""},{"$f":"IF(ISNA(INDEX(Data_raw!$B$2:$U$44,MATCH($J23,Data_raw!$A$2:$A$44,0),Data!X$6)),\"\",INDEX(Data_raw!$B$2:$U$44,MATCH($J23,Data_raw!$A$2:$A$44,0),Data!X$6))","v":""},{"$f":"IF(ISNA(INDEX(Data_raw!$B$2:$U$44,MATCH($J23,Data_raw!$A$2:$A$44,0),Data!Y$6)),\"\",INDEX(Data_raw!$B$2:$U$44,MATCH($J23,Data_raw!$A$2:$A$44,0),Data!Y$6))","v":""},{"$f":"IF(ISNA(INDEX(Data_raw!$B$2:$U$44,MATCH($J23,Data_raw!$A$2:$A$44,0),Data!Z$6)),\"\",INDEX(Data_raw!$B$2:$U$44,MATCH($J23,Data_raw!$A$2:$A$44,0),Data!Z$6))","v":""},{"$f":"IF(ISNA(INDEX(Data_raw!$B$2:$U$44,MATCH($J23,Data_raw!$A$2:$A$44,0),Data!AA$6)),\"\",INDEX(Data_raw!$B$2:$U$44,MATCH($J23,Data_raw!$A$2:$A$44,0),Data!AA$6))","v":""},{"$f":"IF(ISNA(INDEX(Data_raw!$B$2:$U$44,MATCH($J23,Data_raw!$A$2:$A$44,0),Data!AB$6)),\"\",INDEX(Data_raw!$B$2:$U$44,MATCH($J23,Data_raw!$A$2:$A$44,0),Data!AB$6))","v":""},{"$f":"IF(ISNA(INDEX(Data_raw!$B$2:$U$44,MATCH($J23,Data_raw!$A$2:$A$44,0),Data!AC$6)),\"\",INDEX(Data_raw!$B$2:$U$44,MATCH($J23,Data_raw!$A$2:$A$44,0),Data!AC$6))","v":""},{"$f":"IF(ISNA(INDEX(Data_raw!$B$2:$U$44,MATCH($J23,Data_raw!$A$2:$A$44,0),Data!AD$6)),\"\",INDEX(Data_raw!$B$2:$U$44,MATCH($J23,Data_raw!$A$2:$A$44,0),Data!AD$6))","v":""},{"$f":"IF(ISNA(INDEX(Data_raw!$B$2:$U$44,MATCH($J23,Data_raw!$A$2:$A$44,0),Data!AE$6)),\"\",INDEX(Data_raw!$B$2:$U$44,MATCH($J23,Data_raw!$A$2:$A$44,0),Data!AE$6))","v":""},{"$f":"IF(ISNA(INDEX(Data_raw!$B$2:$U$44,MATCH($J23,Data_raw!$A$2:$A$44,0),Data!AF$6)),\"\",INDEX(Data_raw!$B$2:$U$44,MATCH($J23,Data_raw!$A$2:$A$44,0),Data!AF$6))","v":""},{"$f":"IF(ISNA(INDEX(Data_raw!$B$2:$U$44,MATCH($J23,Data_raw!$A$2:$A$44,0),Data!AG$6)),\"\",INDEX(Data_raw!$B$2:$U$44,MATCH($J23,Data_raw!$A$2:$A$44,0),Data!AG$6))","v":""},null,0]
[null,{"$f":"tblIndicators!B18","v":"PLCAP_6_1"},{"$f":"tblIndicators!C18","v":"PLCAP_6"},{"$f":"tblIndicators!D18","v":3},null,{"$f":"tblIndicators!X18","v":3},{"$f":"tblIndicators!D18","v":3},0,3,{"$f":"tblIndicators!E18","v":"1.6.1"},null,{"$f":"tblIndicators!AE18","v":"1.6.1) Adoption of EITI standards"},{"$f":"IF(tblIndicators!G18=\"\",\"\",IF(G24=3,tblIndicators!G18,\"\"))","v":"Scored 0-3 "},{"$f":"IF(ISNA(INDEX(Data_raw!$B$2:$U$44,MATCH($J24,Data_raw!$A$2:$A$44,0),Data!N$6)),\"\",INDEX(Data_raw!$B$2:$U$44,MATCH($J24,Data_raw!$A$2:$A$44,0),Data!N$6))","v":0},{"$f":"IF(ISNA(INDEX(Data_raw!$B$2:$U$44,MATCH($J24,Data_raw!$A$2:$A$44,0),Data!O$6)),\"\",INDEX(Data_raw!$B$2:$U$44,MATCH($J24,Data_raw!$A$2:$A$44,0),Data!O$6))","v":0},{"$f":"IF(ISNA(INDEX(Data_raw!$B$2:$U$44,MATCH($J24,Data_raw!$A$2:$A$44,0),Data!P$6)),\"\",INDEX(Data_raw!$B$2:$U$44,MATCH($J24,Data_raw!$A$2:$A$44,0),Data!P$6))","v":0},{"$f":"IF(ISNA(INDEX(Data_raw!$B$2:$U$44,MATCH($J24,Data_raw!$A$2:$A$44,0),Data!Q$6)),\"\",INDEX(Data_raw!$B$2:$U$44,MATCH($J24,Data_raw!$A$2:$A$44,0),Data!Q$6))","v":0},{"$f":"IF(ISNA(INDEX(Data_raw!$B$2:$U$44,MATCH($J24,Data_raw!$A$2:$A$44,0),Data!R$6)),\"\",INDEX(Data_raw!$B$2:$U$44,MATCH($J24,Data_raw!$A$2:$A$44,0),Data!R$6))","v":3},{"$f":"IF(ISNA(INDEX(Data_raw!$B$2:$U$44,MATCH($J24,Data_raw!$A$2:$A$44,0),Data!S$6)),\"\",INDEX(Data_raw!$B$2:$U$44,MATCH($J24,Data_raw!$A$2:$A$44,0),Data!S$6))","v":0},{"$f":"IF(ISNA(INDEX(Data_raw!$B$2:$U$44,MATCH($J24,Data_raw!$A$2:$A$44,0),Data!T$6)),\"\",INDEX(Data_raw!$B$2:$U$44,MATCH($J24,Data_raw!$A$2:$A$44,0),Data!T$6))","v":1},{"$f":"IF(ISNA(INDEX(Data_raw!$B$2:$U$44,MATCH($J24,Data_raw!$A$2:$A$44,0),Data!U$6)),\"\",INDEX(Data_raw!$B$2:$U$44,MATCH($J24,Data_raw!$A$2:$A$44,0),Data!U$6))","v":3},{"$f":"IF(ISNA(INDEX(Data_raw!$B$2:$U$44,MATCH($J24,Data_raw!$A$2:$A$44,0),Data!V$6)),\"\",INDEX(Data_raw!$B$2:$U$44,MATCH($J24,Data_raw!$A$2:$A$44,0),Data!V$6))","v":0},{"$f":"IF(ISNA(INDEX(Data_raw!$B$2:$U$44,MATCH($J24,Data_raw!$A$2:$A$44,0),Data!W$6)),\"\",INDEX(Data_raw!$B$2:$U$44,MATCH($J24,Data_raw!$A$2:$A$44,0),Data!W$6))","v":3},{"$f":"IF(ISNA(INDEX(Data_raw!$B$2:$U$44,MATCH($J24,Data_raw!$A$2:$A$44,0),Data!X$6)),\"\",INDEX(Data_raw!$B$2:$U$44,MATCH($J24,Data_raw!$A$2:$A$44,0),Data!X$6))","v":3},{"$f":"IF(ISNA(INDEX(Data_raw!$B$2:$U$44,MATCH($J24,Data_raw!$A$2:$A$44,0),Data!Y$6)),\"\",INDEX(Data_raw!$B$2:$U$44,MATCH($J24,Data_raw!$A$2:$A$44,0),Data!Y$6))","v":3},{"$f":"IF(ISNA(INDEX(Data_raw!$B$2:$U$44,MATCH($J24,Data_raw!$A$2:$A$44,0),Data!Z$6)),\"\",INDEX(Data_raw!$B$2:$U$44,MATCH($J24,Data_raw!$A$2:$A$44,0),Data!Z$6))","v":3},{"$f":"IF(ISNA(INDEX(Data_raw!$B$2:$U$44,MATCH($J24,Data_raw!$A$2:$A$44,0),Data!AA$6)),\"\",INDEX(Data_raw!$B$2:$U$44,MATCH($J24,Data_raw!$A$2:$A$44,0),Data!AA$6))","v":2},{"$f":"IF(ISNA(INDEX(Data_raw!$B$2:$U$44,MATCH($J24,Data_raw!$A$2:$A$44,0),Data!AB$6)),\"\",INDEX(Data_raw!$B$2:$U$44,MATCH($J24,Data_raw!$A$2:$A$44,0),Data!AB$6))","v":0},{"$f":"IF(ISNA(INDEX(Data_raw!$B$2:$U$44,MATCH($J24,Data_raw!$A$2:$A$44,0),Data!AC$6)),\"\",INDEX(Data_raw!$B$2:$U$44,MATCH($J24,Data_raw!$A$2:$A$44,0),Data!AC$6))","v":0},{"$f":"IF(ISNA(INDEX(Data_raw!$B$2:$U$44,MATCH($J24,Data_raw!$A$2:$A$44,0),Data!AD$6)),\"\",INDEX(Data_raw!$B$2:$U$44,MATCH($J24,Data_raw!$A$2:$A$44,0),Data!AD$6))","v":3},{"$f":"IF(ISNA(INDEX(Data_raw!$B$2:$U$44,MATCH($J24,Data_raw!$A$2:$A$44,0),Data!AE$6)),\"\",INDEX(Data_raw!$B$2:$U$44,MATCH($J24,Data_raw!$A$2:$A$44,0),Data!AE$6))","v":0},{"$f":"IF(ISNA(INDEX(Data_raw!$B$2:$U$44,MATCH($J24,Data_raw!$A$2:$A$44,0),Data!AF$6)),\"\",INDEX(Data_raw!$B$2:$U$44,MATCH($J24,Data_raw!$A$2:$A$44,0),Data!AF$6))","v":2},{"$f":"IF(ISNA(INDEX(Data_raw!$B$2:$U$44,MATCH($J24,Data_raw!$A$2:$A$44,0),Data!AG$6)),\"\",INDEX(Data_raw!$B$2:$U$44,MATCH($J24,Data_raw!$A$2:$A$44,0),Data!AG$6))","v":0},null,0]
[null,{"$f":"tblIndicators!B19","v":"PLCAP_7"},{"$f":"tblIndicators!C19","v":"PLCAP"},{"$f":"tblIndicators!D19","v":2},null,{"$f":"tblIndicators!X19","v":100},{"$f":"tblIndicators!D19","v":2},"","",{"$f":"tblIndicators!E19","v":1.7},null,{"$f":"tblIndicators!AE19","v":"1.7) Adoption of the United Nations Convention on the Law of the Sea (UNCLOS)"},{"$f":"IF(tblIndicators!G19=\"\",\"\",IF(G25=3,tblIndicators!G19,\"\"))","v":""},{"$f":"IF(ISNA(INDEX(Data_raw!$B$2:$U$44,MATCH($J25,Data_raw!$A$2:$A$44,0),Data!N$6)),\"\",INDEX(Data_raw!$B$2:$U$44,MATCH($J25,Data_raw!$A$2:$A$44,0),Data!N$6))","v":""},{"$f":"IF(ISNA(INDEX(Data_raw!$B$2:$U$44,MATCH($J25,Data_raw!$A$2:$A$44,0),Data!O$6)),\"\",INDEX(Data_raw!$B$2:$U$44,MATCH($J25,Data_raw!$A$2:$A$44,0),Data!O$6))","v":""},{"$f":"IF(ISNA(INDEX(Data_raw!$B$2:$U$44,MATCH($J25,Data_raw!$A$2:$A$44,0),Data!P$6)),\"\",INDEX(Data_raw!$B$2:$U$44,MATCH($J25,Data_raw!$A$2:$A$44,0),Data!P$6))","v":""},{"$f":"IF(ISNA(INDEX(Data_raw!$B$2:$U$44,MATCH($J25,Data_raw!$A$2:$A$44,0),Data!Q$6)),\"\",INDEX(Data_raw!$B$2:$U$44,MATCH($J25,Data_raw!$A$2:$A$44,0),Data!Q$6))","v":""},{"$f":"IF(ISNA(INDEX(Data_raw!$B$2:$U$44,MATCH($J25,Data_raw!$A$2:$A$44,0),Data!R$6)),\"\",INDEX(Data_raw!$B$2:$U$44,MATCH($J25,Data_raw!$A$2:$A$44,0),Data!R$6))","v":""},{"$f":"IF(ISNA(INDEX(Data_raw!$B$2:$U$44,MATCH($J25,Data_raw!$A$2:$A$44,0),Data!S$6)),\"\",INDEX(Data_raw!$B$2:$U$44,MATCH($J25,Data_raw!$A$2:$A$44,0),Data!S$6))","v":""},{"$f":"IF(ISNA(INDEX(Data_raw!$B$2:$U$44,MATCH($J25,Data_raw!$A$2:$A$44,0),Data!T$6)),\"\",INDEX(Data_raw!$B$2:$U$44,MATCH($J25,Data_raw!$A$2:$A$44,0),Data!T$6))","v":""},{"$f":"IF(ISNA(INDEX(Data_raw!$B$2:$U$44,MATCH($J25,Data_raw!$A$2:$A$44,0),Data!U$6)),\"\",INDEX(Data_raw!$B$2:$U$44,MATCH($J25,Data_raw!$A$2:$A$44,0),Data!U$6))","v":""},{"$f":"IF(ISNA(INDEX(Data_raw!$B$2:$U$44,MATCH($J25,Data_raw!$A$2:$A$44,0),Data!V$6)),\"\",INDEX(Data_raw!$B$2:$U$44,MATCH($J25,Data_raw!$A$2:$A$44,0),Data!V$6))","v":""},{"$f":"IF(ISNA(INDEX(Data_raw!$B$2:$U$44,MATCH($J25,Data_raw!$A$2:$A$44,0),Data!W$6)),\"\",INDEX(Data_raw!$B$2:$U$44,MATCH($J25,Data_raw!$A$2:$A$44,0),Data!W$6))","v":""},{"$f":"IF(ISNA(INDEX(Data_raw!$B$2:$U$44,MATCH($J25,Data_raw!$A$2:$A$44,0),Data!X$6)),\"\",INDEX(Data_raw!$B$2:$U$44,MATCH($J25,Data_raw!$A$2:$A$44,0),Data!X$6))","v":""},{"$f":"IF(ISNA(INDEX(Data_raw!$B$2:$U$44,MATCH($J25,Data_raw!$A$2:$A$44,0),Data!Y$6)),\"\",INDEX(Data_raw!$B$2:$U$44,MATCH($J25,Data_raw!$A$2:$A$44,0),Data!Y$6))","v":""},{"$f":"IF(ISNA(INDEX(Data_raw!$B$2:$U$44,MATCH($J25,Data_raw!$A$2:$A$44,0),Data!Z$6)),\"\",INDEX(Data_raw!$B$2:$U$44,MATCH($J25,Data_raw!$A$2:$A$44,0),Data!Z$6))","v":""},{"$f":"IF(ISNA(INDEX(Data_raw!$B$2:$U$44,MATCH($J25,Data_raw!$A$2:$A$44,0),Data!AA$6)),\"\",INDEX(Data_raw!$B$2:$U$44,MATCH($J25,Data_raw!$A$2:$A$44,0),Data!AA$6))","v":""},{"$f":"IF(ISNA(INDEX(Data_raw!$B$2:$U$44,MATCH($J25,Data_raw!$A$2:$A$44,0),Data!AB$6)),\"\",INDEX(Data_raw!$B$2:$U$44,MATCH($J25,Data_raw!$A$2:$A$44,0),Data!AB$6))","v":""},{"$f":"IF(ISNA(INDEX(Data_raw!$B$2:$U$44,MATCH($J25,Data_raw!$A$2:$A$44,0),Data!AC$6)),\"\",INDEX(Data_raw!$B$2:$U$44,MATCH($J25,Data_raw!$A$2:$A$44,0),Data!AC$6))","v":""},{"$f":"IF(ISNA(INDEX(Data_raw!$B$2:$U$44,MATCH($J25,Data_raw!$A$2:$A$44,0),Data!AD$6)),\"\",INDEX(Data_raw!$B$2:$U$44,MATCH($J25,Data_raw!$A$2:$A$44,0),Data!AD$6))","v":""},{"$f":"IF(ISNA(INDEX(Data_raw!$B$2:$U$44,MATCH($J25,Data_raw!$A$2:$A$44,0),Data!AE$6)),\"\",INDEX(Data_raw!$B$2:$U$44,MATCH($J25,Data_raw!$A$2:$A$44,0),Data!AE$6))","v":""},{"$f":"IF(ISNA(INDEX(Data_raw!$B$2:$U$44,MATCH($J25,Data_raw!$A$2:$A$44,0),Data!AF$6)),\"\",INDEX(Data_raw!$B$2:$U$44,MATCH($J25,Data_raw!$A$2:$A$44,0),Data!AF$6))","v":""},{"$f":"IF(ISNA(INDEX(Data_raw!$B$2:$U$44,MATCH($J25,Data_raw!$A$2:$A$44,0),Data!AG$6)),\"\",INDEX(Data_raw!$B$2:$U$44,MATCH($J25,Data_raw!$A$2:$A$44,0),Data!AG$6))","v":""},null,0]
[null,{"$f":"tblIndicators!B20","v":"PLCAP_7_1"},{"$f":"tblIndicators!C20","v":"PLCAP_7"},{"$f":"tblIndicators!D20","v":3},null,{"$f":"tblIndicators!X20","v":2},{"$f":"tblIndicators!D20","v":3},0,2,{"$f":"tblIndicators!E20","v":"1.7.1"},null,{"$f":"tblIndicators!AE20","v":"1.7.1) Adoption of UNCLOS"},{"$f":"IF(tblIndicators!G20=\"\",\"\",IF(G26=3,tblIndicators!G20,\"\"))","v":"Scored 0-2 "},{"$f":"IF(ISNA(INDEX(Data_raw!$B$2:$U$44,MATCH($J26,Data_raw!$A$2:$A$44,0),Data!N$6)),\"\",INDEX(Data_raw!$B$2:$U$44,MATCH($J26,Data_raw!$A$2:$A$44,0),Data!N$6))","v":2},{"$f":"IF(ISNA(INDEX(Data_raw!$B$2:$U$44,MATCH($J26,Data_raw!$A$2:$A$44,0),Data!O$6)),\"\",INDEX(Data_raw!$B$2:$U$44,MATCH($J26,Data_raw!$A$2:$A$44,0),Data!O$6))","v":2},{"$f":"IF(ISNA(INDEX(Data_raw!$B$2:$U$44,MATCH($J26,Data_raw!$A$2:$A$44,0),Data!P$6)),\"\",INDEX(Data_raw!$B$2:$U$44,MATCH($J26,Data_raw!$A$2:$A$44,0),Data!P$6))","v":2},{"$f":"IF(ISNA(INDEX(Data_raw!$B$2:$U$44,MATCH($J26,Data_raw!$A$2:$A$44,0),Data!Q$6)),\"\",INDEX(Data_raw!$B$2:$U$44,MATCH($J26,Data_raw!$A$2:$A$44,0),Data!Q$6))","v":2},{"$f":"IF(ISNA(INDEX(Data_raw!$B$2:$U$44,MATCH($J26,Data_raw!$A$2:$A$44,0),Data!R$6)),\"\",INDEX(Data_raw!$B$2:$U$44,MATCH($J26,Data_raw!$A$2:$A$44,0),Data!R$6))","v":2},{"$f":"IF(ISNA(INDEX(Data_raw!$B$2:$U$44,MATCH($J26,Data_raw!$A$2:$A$44,0),Data!S$6)),\"\",INDEX(Data_raw!$B$2:$U$44,MATCH($J26,Data_raw!$A$2:$A$44,0),Data!S$6))","v":2},{"$f":"IF(ISNA(INDEX(Data_raw!$B$2:$U$44,MATCH($J26,Data_raw!$A$2:$A$44,0),Data!T$6)),\"\",INDEX(Data_raw!$B$2:$U$44,MATCH($J26,Data_raw!$A$2:$A$44,0),Data!T$6))","v":2},{"$f":"IF(ISNA(INDEX(Data_raw!$B$2:$U$44,MATCH($J26,Data_raw!$A$2:$A$44,0),Data!U$6)),\"\",INDEX(Data_raw!$B$2:$U$44,MATCH($J26,Data_raw!$A$2:$A$44,0),Data!U$6))","v":2},{"$f":"IF(ISNA(INDEX(Data_raw!$B$2:$U$44,MATCH($J26,Data_raw!$A$2:$A$44,0),Data!V$6)),\"\",INDEX(Data_raw!$B$2:$U$44,MATCH($J26,Data_raw!$A$2:$A$44,0),Data!V$6))","v":2},{"$f":"IF(ISNA(INDEX(Data_raw!$B$2:$U$44,MATCH($J26,Data_raw!$A$2:$A$44,0),Data!W$6)),\"\",INDEX(Data_raw!$B$2:$U$44,MATCH($J26,Data_raw!$A$2:$A$44,0),Data!W$6))","v":2},{"$f":"IF(ISNA(INDEX(Data_raw!$B$2:$U$44,MATCH($J26,Data_raw!$A$2:$A$44,0),Data!X$6)),\"\",INDEX(Data_raw!$B$2:$U$44,MATCH($J26,Data_raw!$A$2:$A$44,0),Data!X$6))","v":2},{"$f":"IF(ISNA(INDEX(Data_raw!$B$2:$U$44,MATCH($J26,Data_raw!$A$2:$A$44,0),Data!Y$6)),\"\",INDEX(Data_raw!$B$2:$U$44,MATCH($J26,Data_raw!$A$2:$A$44,0),Data!Y$6))","v":2},{"$f":"IF(ISNA(INDEX(Data_raw!$B$2:$U$44,MATCH($J26,Data_raw!$A$2:$A$44,0),Data!Z$6)),\"\",INDEX(Data_raw!$B$2:$U$44,MATCH($J26,Data_raw!$A$2:$A$44,0),Data!Z$6))","v":0},{"$f":"IF(ISNA(INDEX(Data_raw!$B$2:$U$44,MATCH($J26,Data_raw!$A$2:$A$44,0),Data!AA$6)),\"\",INDEX(Data_raw!$B$2:$U$44,MATCH($J26,Data_raw!$A$2:$A$44,0),Data!AA$6))","v":2},{"$f":"IF(ISNA(INDEX(Data_raw!$B$2:$U$44,MATCH($J26,Data_raw!$A$2:$A$44,0),Data!AB$6)),\"\",INDEX(Data_raw!$B$2:$U$44,MATCH($J26,Data_raw!$A$2:$A$44,0),Data!AB$6))","v":2},{"$f":"IF(ISNA(INDEX(Data_raw!$B$2:$U$44,MATCH($J26,Data_raw!$A$2:$A$44,0),Data!AC$6)),\"\",INDEX(Data_raw!$B$2:$U$44,MATCH($J26,Data_raw!$A$2:$A$44,0),Data!AC$6))","v":2},{"$f":"IF(ISNA(INDEX(Data_raw!$B$2:$U$44,MATCH($J26,Data_raw!$A$2:$A$44,0),Data!AD$6)),\"\",INDEX(Data_raw!$B$2:$U$44,MATCH($J26,Data_raw!$A$2:$A$44,0),Data!AD$6))","v":2},{"$f":"IF(ISNA(INDEX(Data_raw!$B$2:$U$44,MATCH($J26,Data_raw!$A$2:$A$44,0),Data!AE$6)),\"\",INDEX(Data_raw!$B$2:$U$44,MATCH($J26,Data_raw!$A$2:$A$44,0),Data!AE$6))","v":2},{"$f":"IF(ISNA(INDEX(Data_raw!$B$2:$U$44,MATCH($J26,Data_raw!$A$2:$A$44,0),Data!AF$6)),\"\",INDEX(Data_raw!$B$2:$U$44,MATCH($J26,Data_raw!$A$2:$A$44,0),Data!AF$6))","v":1},{"$f":"IF(ISNA(INDEX(Data_raw!$B$2:$U$44,MATCH($J26,Data_raw!$A$2:$A$44,0),Data!AG$6)),\"\",INDEX(Data_raw!$B$2:$U$44,MATCH($J26,Data_raw!$A$2:$A$44,0),Data!AG$6))","v":2},null,0]
[null,{"$f":"tblIndicators!B21","v":"BUSENV"},{"$f":"tblIndicators!C21","v":"OVERALL"},{"$f":"tblIndicators!D21","v":1},null,{"$f":"tblIndicators!X21","v":100},{"$f":"tblIndicators!D21","v":1},"","",{"$f":"tblIndicators!E21","v":2},null,{"$f":"tblIndicators!AE21","v":"2) BUSINESS ENVIRONMENT FOR COASTAL ACTIVITIES"},{"$f":"IF(tblIndicators!G21=\"\",\"\",IF(G27=3,tblIndicators!G21,\"\"))","v":""},{"$f":"IF(ISNA(INDEX(Data_raw!$B$2:$U$44,MATCH($J27,Data_raw!$A$2:$A$44,0),Data!N$6)),\"\",INDEX(Data_raw!$B$2:$U$44,MATCH($J27,Data_raw!$A$2:$A$44,0),Data!N$6))","v":""},{"$f":"IF(ISNA(INDEX(Data_raw!$B$2:$U$44,MATCH($J27,Data_raw!$A$2:$A$44,0),Data!O$6)),\"\",INDEX(Data_raw!$B$2:$U$44,MATCH($J27,Data_raw!$A$2:$A$44,0),Data!O$6))","v":""},{"$f":"IF(ISNA(INDEX(Data_raw!$B$2:$U$44,MATCH($J27,Data_raw!$A$2:$A$44,0),Data!P$6)),\"\",INDEX(Data_raw!$B$2:$U$44,MATCH($J27,Data_raw!$A$2:$A$44,0),Data!P$6))","v":""},{"$f":"IF(ISNA(INDEX(Data_raw!$B$2:$U$44,MATCH($J27,Data_raw!$A$2:$A$44,0),Data!Q$6)),\"\",INDEX(Data_raw!$B$2:$U$44,MATCH($J27,Data_raw!$A$2:$A$44,0),Data!Q$6))","v":""},{"$f":"IF(ISNA(INDEX(Data_raw!$B$2:$U$44,MATCH($J27,Data_raw!$A$2:$A$44,0),Data!R$6)),\"\",INDEX(Data_raw!$B$2:$U$44,MATCH($J27,Data_raw!$A$2:$A$44,0),Data!R$6))","v":""},{"$f":"IF(ISNA(INDEX(Data_raw!$B$2:$U$44,MATCH($J27,Data_raw!$A$2:$A$44,0),Data!S$6)),\"\",INDEX(Data_raw!$B$2:$U$44,MATCH($J27,Data_raw!$A$2:$A$44,0),Data!S$6))","v":""},{"$f":"IF(ISNA(INDEX(Data_raw!$B$2:$U$44,MATCH($J27,Data_raw!$A$2:$A$44,0),Data!T$6)),\"\",INDEX(Data_raw!$B$2:$U$44,MATCH($J27,Data_raw!$A$2:$A$44,0),Data!T$6))","v":""},{"$f":"IF(ISNA(INDEX(Data_raw!$B$2:$U$44,MATCH($J27,Data_raw!$A$2:$A$44,0),Data!U$6)),\"\",INDEX(Data_raw!$B$2:$U$44,MATCH($J27,Data_raw!$A$2:$A$44,0),Data!U$6))","v":""},{"$f":"IF(ISNA(INDEX(Data_raw!$B$2:$U$44,MATCH($J27,Data_raw!$A$2:$A$44,0),Data!V$6)),\"\",INDEX(Data_raw!$B$2:$U$44,MATCH($J27,Data_raw!$A$2:$A$44,0),Data!V$6))","v":""},{"$f":"IF(ISNA(INDEX(Data_raw!$B$2:$U$44,MATCH($J27,Data_raw!$A$2:$A$44,0),Data!W$6)),\"\",INDEX(Data_raw!$B$2:$U$44,MATCH($J27,Data_raw!$A$2:$A$44,0),Data!W$6))","v":""},{"$f":"IF(ISNA(INDEX(Data_raw!$B$2:$U$44,MATCH($J27,Data_raw!$A$2:$A$44,0),Data!X$6)),\"\",INDEX(Data_raw!$B$2:$U$44,MATCH($J27,Data_raw!$A$2:$A$44,0),Data!X$6))","v":""},{"$f":"IF(ISNA(INDEX(Data_raw!$B$2:$U$44,MATCH($J27,Data_raw!$A$2:$A$44,0),Data!Y$6)),\"\",INDEX(Data_raw!$B$2:$U$44,MATCH($J27,Data_raw!$A$2:$A$44,0),Data!Y$6))","v":""},{"$f":"IF(ISNA(INDEX(Data_raw!$B$2:$U$44,MATCH($J27,Data_raw!$A$2:$A$44,0),Data!Z$6)),\"\",INDEX(Data_raw!$B$2:$U$44,MATCH($J27,Data_raw!$A$2:$A$44,0),Data!Z$6))","v":""},{"$f":"IF(ISNA(INDEX(Data_raw!$B$2:$U$44,MATCH($J27,Data_raw!$A$2:$A$44,0),Data!AA$6)),\"\",INDEX(Data_raw!$B$2:$U$44,MATCH($J27,Data_raw!$A$2:$A$44,0),Data!AA$6))","v":""},{"$f":"IF(ISNA(INDEX(Data_raw!$B$2:$U$44,MATCH($J27,Data_raw!$A$2:$A$44,0),Data!AB$6)),\"\",INDEX(Data_raw!$B$2:$U$44,MATCH($J27,Data_raw!$A$2:$A$44,0),Data!AB$6))","v":""},{"$f":"IF(ISNA(INDEX(Data_raw!$B$2:$U$44,MATCH($J27,Data_raw!$A$2:$A$44,0),Data!AC$6)),\"\",INDEX(Data_raw!$B$2:$U$44,MATCH($J27,Data_raw!$A$2:$A$44,0),Data!AC$6))","v":""},{"$f":"IF(ISNA(INDEX(Data_raw!$B$2:$U$44,MATCH($J27,Data_raw!$A$2:$A$44,0),Data!AD$6)),\"\",INDEX(Data_raw!$B$2:$U$44,MATCH($J27,Data_raw!$A$2:$A$44,0),Data!AD$6))","v":""},{"$f":"IF(ISNA(INDEX(Data_raw!$B$2:$U$44,MATCH($J27,Data_raw!$A$2:$A$44,0),Data!AE$6)),\"\",INDEX(Data_raw!$B$2:$U$44,MATCH($J27,Data_raw!$A$2:$A$44,0),Data!AE$6))","v":""},{"$f":"IF(ISNA(INDEX(Data_raw!$B$2:$U$44,MATCH($J27,Data_raw!$A$2:$A$44,0),Data!AF$6)),\"\",INDEX(Data_raw!$B$2:$U$44,MATCH($J27,Data_raw!$A$2:$A$44,0),Data!AF$6))","v":""},{"$f":"IF(ISNA(INDEX(Data_raw!$B$2:$U$44,MATCH($J27,Data_raw!$A$2:$A$44,0),Data!AG$6)),\"\",INDEX(Data_raw!$B$2:$U$44,MATCH($J27,Data_raw!$A$2:$A$44,0),Data!AG$6))","v":""},null,0]
[null,{"$f":"tblIndicators!B22","v":"BUSENV_1"},{"$f":"tblIndicators!C22","v":"BUSENV"},{"$f":"tblIndicators!D22","v":2},null,{"$f":"tblIndicators!X22","v":100},{"$f":"tblIndicators!D22","v":2},"","",{"$f":"tblIndicators!E22","v":2.1},null,{"$f":"tblIndicators!AE22","v":"2.1) Ease of doing business"},{"$f":"IF(tblIndicators!G22=\"\",\"\",IF(G28=3,tblIndicators!G22,\"\"))","v":""},{"$f":"IF(ISNA(INDEX(Data_raw!$B$2:$U$44,MATCH($J28,Data_raw!$A$2:$A$44,0),Data!N$6)),\"\",INDEX(Data_raw!$B$2:$U$44,MATCH($J28,Data_raw!$A$2:$A$44,0),Data!N$6))","v":""},{"$f":"IF(ISNA(INDEX(Data_raw!$B$2:$U$44,MATCH($J28,Data_raw!$A$2:$A$44,0),Data!O$6)),\"\",INDEX(Data_raw!$B$2:$U$44,MATCH($J28,Data_raw!$A$2:$A$44,0),Data!O$6))","v":""},{"$f":"IF(ISNA(INDEX(Data_raw!$B$2:$U$44,MATCH($J28,Data_raw!$A$2:$A$44,0),Data!P$6)),\"\",INDEX(Data_raw!$B$2:$U$44,MATCH($J28,Data_raw!$A$2:$A$44,0),Data!P$6))","v":""},{"$f":"IF(ISNA(INDEX(Data_raw!$B$2:$U$44,MATCH($J28,Data_raw!$A$2:$A$44,0),Data!Q$6)),\"\",INDEX(Data_raw!$B$2:$U$44,MATCH($J28,Data_raw!$A$2:$A$44,0),Data!Q$6))","v":""},{"$f":"IF(ISNA(INDEX(Data_raw!$B$2:$U$44,MATCH($J28,Data_raw!$A$2:$A$44,0),Data!R$6)),\"\",INDEX(Data_raw!$B$2:$U$44,MATCH($J28,Data_raw!$A$2:$A$44,0),Data!R$6))","v":""},{"$f":"IF(ISNA(INDEX(Data_raw!$B$2:$U$44,MATCH($J28,Data_raw!$A$2:$A$44,0),Data!S$6)),\"\",INDEX(Data_raw!$B$2:$U$44,MATCH($J28,Data_raw!$A$2:$A$44,0),Data!S$6))","v":""},{"$f":"IF(ISNA(INDEX(Data_raw!$B$2:$U$44,MATCH($J28,Data_raw!$A$2:$A$44,0),Data!T$6)),\"\",INDEX(Data_raw!$B$2:$U$44,MATCH($J28,Data_raw!$A$2:$A$44,0),Data!T$6))","v":""},{"$f":"IF(ISNA(INDEX(Data_raw!$B$2:$U$44,MATCH($J28,Data_raw!$A$2:$A$44,0),Data!U$6)),\"\",INDEX(Data_raw!$B$2:$U$44,MATCH($J28,Data_raw!$A$2:$A$44,0),Data!U$6))","v":""},{"$f":"IF(ISNA(INDEX(Data_raw!$B$2:$U$44,MATCH($J28,Data_raw!$A$2:$A$44,0),Data!V$6)),\"\",INDEX(Data_raw!$B$2:$U$44,MATCH($J28,Data_raw!$A$2:$A$44,0),Data!V$6))","v":""},{"$f":"IF(ISNA(INDEX(Data_raw!$B$2:$U$44,MATCH($J28,Data_raw!$A$2:$A$44,0),Data!W$6)),\"\",INDEX(Data_raw!$B$2:$U$44,MATCH($J28,Data_raw!$A$2:$A$44,0),Data!W$6))","v":""},{"$f":"IF(ISNA(INDEX(Data_raw!$B$2:$U$44,MATCH($J28,Data_raw!$A$2:$A$44,0),Data!X$6)),\"\",INDEX(Data_raw!$B$2:$U$44,MATCH($J28,Data_raw!$A$2:$A$44,0),Data!X$6))","v":""},{"$f":"IF(ISNA(INDEX(Data_raw!$B$2:$U$44,MATCH($J28,Data_raw!$A$2:$A$44,0),Data!Y$6)),\"\",INDEX(Data_raw!$B$2:$U$44,MATCH($J28,Data_raw!$A$2:$A$44,0),Data!Y$6))","v":""},{"$f":"IF(ISNA(INDEX(Data_raw!$B$2:$U$44,MATCH($J28,Data_raw!$A$2:$A$44,0),Data!Z$6)),\"\",INDEX(Data_raw!$B$2:$U$44,MATCH($J28,Data_raw!$A$2:$A$44,0),Data!Z$6))","v":""},{"$f":"IF(ISNA(INDEX(Data_raw!$B$2:$U$44,MATCH($J28,Data_raw!$A$2:$A$44,0),Data!AA$6)),\"\",INDEX(Data_raw!$B$2:$U$44,MATCH($J28,Data_raw!$A$2:$A$44,0),Data!AA$6))","v":""},{"$f":"IF(ISNA(INDEX(Data_raw!$B$2:$U$44,MATCH($J28,Data_raw!$A$2:$A$44,0),Data!AB$6)),\"\",INDEX(Data_raw!$B$2:$U$44,MATCH($J28,Data_raw!$A$2:$A$44,0),Data!AB$6))","v":""},{"$f":"IF(ISNA(INDEX(Data_raw!$B$2:$U$44,MATCH($J28,Data_raw!$A$2:$A$44,0),Data!AC$6)),\"\",INDEX(Data_raw!$B$2:$U$44,MATCH($J28,Data_raw!$A$2:$A$44,0),Data!AC$6))","v":""},{"$f":"IF(ISNA(INDEX(Data_raw!$B$2:$U$44,MATCH($J28,Data_raw!$A$2:$A$44,0),Data!AD$6)),\"\",INDEX(Data_raw!$B$2:$U$44,MATCH($J28,Data_raw!$A$2:$A$44,0),Data!AD$6))","v":""},{"$f":"IF(ISNA(INDEX(Data_raw!$B$2:$U$44,MATCH($J28,Data_raw!$A$2:$A$44,0),Data!AE$6)),\"\",INDEX(Data_raw!$B$2:$U$44,MATCH($J28,Data_raw!$A$2:$A$44,0),Data!AE$6))","v":""},{"$f":"IF(ISNA(INDEX(Data_raw!$B$2:$U$44,MATCH($J28,Data_raw!$A$2:$A$44,0),Data!AF$6)),\"\",INDEX(Data_raw!$B$2:$U$44,MATCH($J28,Data_raw!$A$2:$A$44,0),Data!AF$6))","v":""},{"$f":"IF(ISNA(INDEX(Data_raw!$B$2:$U$44,MATCH($J28,Data_raw!$A$2:$A$44,0),Data!AG$6)),\"\",INDEX(Data_raw!$B$2:$U$44,MATCH($J28,Data_raw!$A$2:$A$44,0),Data!AG$6))","v":""},null,0]
[null,{"$f":"tblIndicators!B23","v":"BUSENV_1_1"},{"$f":"tblIndicators!C23","v":"BUSENV_1"},{"$f":"tblIndicators!D23","v":3},null,{"$f":"tblIndicators!X23","v":9},{"$f":"tblIndicators!D23","v":3},3.6,7.3,{"$f":"tblIndicators!E23","v":"2.1.1"},null,{"$f":"tblIndicators!AE23","v":"2.1.1) Business environment"},{"$f":"IF(tblIndicators!G23=\"\",\"\",IF(G29=3,tblIndicators!G23,\"\"))","v":"Scored 0-9 "},{"$f":"IF(ISNA(INDEX(Data_raw!$B$2:$U$44,MATCH($J29,Data_raw!$A$2:$A$44,0),Data!N$6)),\"\",INDEX(Data_raw!$B$2:$U$44,MATCH($J29,Data_raw!$A$2:$A$44,0),Data!N$6))","v":5.5},{"$f":"IF(ISNA(INDEX(Data_raw!$B$2:$U$44,MATCH($J29,Data_raw!$A$2:$A$44,0),Data!O$6)),\"\",INDEX(Data_raw!$B$2:$U$44,MATCH($J29,Data_raw!$A$2:$A$44,0),Data!O$6))","v":7.3},{"$f":"IF(ISNA(INDEX(Data_raw!$B$2:$U$44,MATCH($J29,Data_raw!$A$2:$A$44,0),Data!P$6)),\"\",INDEX(Data_raw!$B$2:$U$44,MATCH($J29,Data_raw!$A$2:$A$44,0),Data!P$6))","v":6.9},{"$f":"IF(ISNA(INDEX(Data_raw!$B$2:$U$44,MATCH($J29,Data_raw!$A$2:$A$44,0),Data!Q$6)),\"\",INDEX(Data_raw!$B$2:$U$44,MATCH($J29,Data_raw!$A$2:$A$44,0),Data!Q$6))","v":5.3},{"$f":"IF(ISNA(INDEX(Data_raw!$B$2:$U$44,MATCH($J29,Data_raw!$A$2:$A$44,0),Data!R$6)),\"\",INDEX(Data_raw!$B$2:$U$44,MATCH($J29,Data_raw!$A$2:$A$44,0),Data!R$6))","v":6.4},{"$f":"IF(ISNA(INDEX(Data_raw!$B$2:$U$44,MATCH($J29,Data_raw!$A$2:$A$44,0),Data!S$6)),\"\",INDEX(Data_raw!$B$2:$U$44,MATCH($J29,Data_raw!$A$2:$A$44,0),Data!S$6))","v":4.9000000000000004},{"$f":"IF(ISNA(INDEX(Data_raw!$B$2:$U$44,MATCH($J29,Data_raw!$A$2:$A$44,0),Data!T$6)),\"\",INDEX(Data_raw!$B$2:$U$44,MATCH($J29,Data_raw!$A$2:$A$44,0),Data!T$6))","v":4.8},{"$f":"IF(ISNA(INDEX(Data_raw!$B$2:$U$44,MATCH($J29,Data_raw!$A$2:$A$44,0),Data!U$6)),\"\",INDEX(Data_raw!$B$2:$U$44,MATCH($J29,Data_raw!$A$2:$A$44,0),Data!U$6))","v":6.2},{"$f":"IF(ISNA(INDEX(Data_raw!$B$2:$U$44,MATCH($J29,Data_raw!$A$2:$A$44,0),Data!V$6)),\"\",INDEX(Data_raw!$B$2:$U$44,MATCH($J29,Data_raw!$A$2:$A$44,0),Data!V$6))","v":5.9},{"$f":"IF(ISNA(INDEX(Data_raw!$B$2:$U$44,MATCH($J29,Data_raw!$A$2:$A$44,0),Data!W$6)),\"\",INDEX(Data_raw!$B$2:$U$44,MATCH($J29,Data_raw!$A$2:$A$44,0),Data!W$6))","v":7.1},{"$f":"IF(ISNA(INDEX(Data_raw!$B$2:$U$44,MATCH($J29,Data_raw!$A$2:$A$44,0),Data!X$6)),\"\",INDEX(Data_raw!$B$2:$U$44,MATCH($J29,Data_raw!$A$2:$A$44,0),Data!X$6))","v":3.6},{"$f":"IF(ISNA(INDEX(Data_raw!$B$2:$U$44,MATCH($J29,Data_raw!$A$2:$A$44,0),Data!Y$6)),\"\",INDEX(Data_raw!$B$2:$U$44,MATCH($J29,Data_raw!$A$2:$A$44,0),Data!Y$6))","v":7},{"$f":"IF(ISNA(INDEX(Data_raw!$B$2:$U$44,MATCH($J29,Data_raw!$A$2:$A$44,0),Data!Z$6)),\"\",INDEX(Data_raw!$B$2:$U$44,MATCH($J29,Data_raw!$A$2:$A$44,0),Data!Z$6))","v":5.2},{"$f":"IF(ISNA(INDEX(Data_raw!$B$2:$U$44,MATCH($J29,Data_raw!$A$2:$A$44,0),Data!AA$6)),\"\",INDEX(Data_raw!$B$2:$U$44,MATCH($J29,Data_raw!$A$2:$A$44,0),Data!AA$6))","v":5.0999999999999996},{"$f":"IF(ISNA(INDEX(Data_raw!$B$2:$U$44,MATCH($J29,Data_raw!$A$2:$A$44,0),Data!AB$6)),\"\",INDEX(Data_raw!$B$2:$U$44,MATCH($J29,Data_raw!$A$2:$A$44,0),Data!AB$6))","v":4.7},{"$f":"IF(ISNA(INDEX(Data_raw!$B$2:$U$44,MATCH($J29,Data_raw!$A$2:$A$44,0),Data!AC$6)),\"\",INDEX(Data_raw!$B$2:$U$44,MATCH($J29,Data_raw!$A$2:$A$44,0),Data!AC$6))","v":5.0999999999999996},{"$f":"IF(ISNA(INDEX(Data_raw!$B$2:$U$44,MATCH($J29,Data_raw!$A$2:$A$44,0),Data!AD$6)),\"\",INDEX(Data_raw!$B$2:$U$44,MATCH($J29,Data_raw!$A$2:$A$44,0),Data!AD$6))","v":6.3},{"$f":"IF(ISNA(INDEX(Data_raw!$B$2:$U$44,MATCH($J29,Data_raw!$A$2:$A$44,0),Data!AE$6)),\"\",INDEX(Data_raw!$B$2:$U$44,MATCH($J29,Data_raw!$A$2:$A$44,0),Data!AE$6))","v":6.2},{"$f":"IF(ISNA(INDEX(Data_raw!$B$2:$U$44,MATCH($J29,Data_raw!$A$2:$A$44,0),Data!AF$6)),\"\",INDEX(Data_raw!$B$2:$U$44,MATCH($J29,Data_raw!$A$2:$A$44,0),Data!AF$6))","v":7.2},{"$f":"IF(ISNA(INDEX(Data_raw!$B$2:$U$44,MATCH($J29,Data_raw!$A$2:$A$44,0),Data!AG$6)),\"\",INDEX(Data_raw!$B$2:$U$44,MATCH($J29,Data_raw!$A$2:$A$44,0),Data!AG$6))","v":4.7},null,0]
[null,{"$f":"tblIndicators!B24","v":"BUSENV_2"},{"$f":"tblIndicators!C24","v":"BUSENV"},{"$f":"tblIndicators!D24","v":2},null,{"$f":"tblIndicators!X24","v":100},{"$f":"tblIndicators!D24","v":2},"","",{"$f":"tblIndicators!E24","v":2.2000000000000002},null,{"$f":"tblIndicators!AE24","v":"2.2) Corruption perception"},{"$f":"IF(tblIndicators!G24=\"\",\"\",IF(G30=3,tblIndicators!G24,\"\"))","v":""},{"$f":"IF(ISNA(INDEX(Data_raw!$B$2:$U$44,MATCH($J30,Data_raw!$A$2:$A$44,0),Data!N$6)),\"\",INDEX(Data_raw!$B$2:$U$44,MATCH($J30,Data_raw!$A$2:$A$44,0),Data!N$6))","v":""},{"$f":"IF(ISNA(INDEX(Data_raw!$B$2:$U$44,MATCH($J30,Data_raw!$A$2:$A$44,0),Data!O$6)),\"\",INDEX(Data_raw!$B$2:$U$44,MATCH($J30,Data_raw!$A$2:$A$44,0),Data!O$6))","v":""},{"$f":"IF(ISNA(INDEX(Data_raw!$B$2:$U$44,MATCH($J30,Data_raw!$A$2:$A$44,0),Data!P$6)),\"\",INDEX(Data_raw!$B$2:$U$44,MATCH($J30,Data_raw!$A$2:$A$44,0),Data!P$6))","v":""},{"$f":"IF(ISNA(INDEX(Data_raw!$B$2:$U$44,MATCH($J30,Data_raw!$A$2:$A$44,0),Data!Q$6)),\"\",INDEX(Data_raw!$B$2:$U$44,MATCH($J30,Data_raw!$A$2:$A$44,0),Data!Q$6))","v":""},{"$f":"IF(ISNA(INDEX(Data_raw!$B$2:$U$44,MATCH($J30,Data_raw!$A$2:$A$44,0),Data!R$6)),\"\",INDEX(Data_raw!$B$2:$U$44,MATCH($J30,Data_raw!$A$2:$A$44,0),Data!R$6))","v":""},{"$f":"IF(ISNA(INDEX(Data_raw!$B$2:$U$44,MATCH($J30,Data_raw!$A$2:$A$44,0),Data!S$6)),\"\",INDEX(Data_raw!$B$2:$U$44,MATCH($J30,Data_raw!$A$2:$A$44,0),Data!S$6))","v":""},{"$f":"IF(ISNA(INDEX(Data_raw!$B$2:$U$44,MATCH($J30,Data_raw!$A$2:$A$44,0),Data!T$6)),\"\",INDEX(Data_raw!$B$2:$U$44,MATCH($J30,Data_raw!$A$2:$A$44,0),Data!T$6))","v":""},{"$f":"IF(ISNA(INDEX(Data_raw!$B$2:$U$44,MATCH($J30,Data_raw!$A$2:$A$44,0),Data!U$6)),\"\",INDEX(Data_raw!$B$2:$U$44,MATCH($J30,Data_raw!$A$2:$A$44,0),Data!U$6))","v":""},{"$f":"IF(ISNA(INDEX(Data_raw!$B$2:$U$44,MATCH($J30,Data_raw!$A$2:$A$44,0),Data!V$6)),\"\",INDEX(Data_raw!$B$2:$U$44,MATCH($J30,Data_raw!$A$2:$A$44,0),Data!V$6))","v":""},{"$f":"IF(ISNA(INDEX(Data_raw!$B$2:$U$44,MATCH($J30,Data_raw!$A$2:$A$44,0),Data!W$6)),\"\",INDEX(Data_raw!$B$2:$U$44,MATCH($J30,Data_raw!$A$2:$A$44,0),Data!W$6))","v":""},{"$f":"IF(ISNA(INDEX(Data_raw!$B$2:$U$44,MATCH($J30,Data_raw!$A$2:$A$44,0),Data!X$6)),\"\",INDEX(Data_raw!$B$2:$U$44,MATCH($J30,Data_raw!$A$2:$A$44,0),Data!X$6))","v":""},{"$f":"IF(ISNA(INDEX(Data_raw!$B$2:$U$44,MATCH($J30,Data_raw!$A$2:$A$44,0),Data!Y$6)),\"\",INDEX(Data_raw!$B$2:$U$44,MATCH($J30,Data_raw!$A$2:$A$44,0),Data!Y$6))","v":""},{"$f":"IF(ISNA(INDEX(Data_raw!$B$2:$U$44,MATCH($J30,Data_raw!$A$2:$A$44,0),Data!Z$6)),\"\",INDEX(Data_raw!$B$2:$U$44,MATCH($J30,Data_raw!$A$2:$A$44,0),Data!Z$6))","v":""},{"$f":"IF(ISNA(INDEX(Data_raw!$B$2:$U$44,MATCH($J30,Data_raw!$A$2:$A$44,0),Data!AA$6)),\"\",INDEX(Data_raw!$B$2:$U$44,MATCH($J30,Data_raw!$A$2:$A$44,0),Data!AA$6))","v":""},{"$f":"IF(ISNA(INDEX(Data_raw!$B$2:$U$44,MATCH($J30,Data_raw!$A$2:$A$44,0),Data!AB$6)),\"\",INDEX(Data_raw!$B$2:$U$44,MATCH($J30,Data_raw!$A$2:$A$44,0),Data!AB$6))","v":""},{"$f":"IF(ISNA(INDEX(Data_raw!$B$2:$U$44,MATCH($J30,Data_raw!$A$2:$A$44,0),Data!AC$6)),\"\",INDEX(Data_raw!$B$2:$U$44,MATCH($J30,Data_raw!$A$2:$A$44,0),Data!AC$6))","v":""},{"$f":"IF(ISNA(INDEX(Data_raw!$B$2:$U$44,MATCH($J30,Data_raw!$A$2:$A$44,0),Data!AD$6)),\"\",INDEX(Data_raw!$B$2:$U$44,MATCH($J30,Data_raw!$A$2:$A$44,0),Data!AD$6))","v":""},{"$f":"IF(ISNA(INDEX(Data_raw!$B$2:$U$44,MATCH($J30,Data_raw!$A$2:$A$44,0),Data!AE$6)),\"\",INDEX(Data_raw!$B$2:$U$44,MATCH($J30,Data_raw!$A$2:$A$44,0),Data!AE$6))","v":""},{"$f":"IF(ISNA(INDEX(Data_raw!$B$2:$U$44,MATCH($J30,Data_raw!$A$2:$A$44,0),Data!AF$6)),\"\",INDEX(Data_raw!$B$2:$U$44,MATCH($J30,Data_raw!$A$2:$A$44,0),Data!AF$6))","v":""},{"$f":"IF(ISNA(INDEX(Data_raw!$B$2:$U$44,MATCH($J30,Data_raw!$A$2:$A$44,0),Data!AG$6)),\"\",INDEX(Data_raw!$B$2:$U$44,MATCH($J30,Data_raw!$A$2:$A$44,0),Data!AG$6))","v":""},null,0]
[null,{"$f":"tblIndicators!B25","v":"BUSENV_2_1"},{"$f":"tblIndicators!C25","v":"BUSENV_2"},{"$f":"tblIndicators!D25","v":3},null,{"$f":"tblIndicators!X25","v":100},{"$f":"tblIndicators!D25","v":3},9.0909099999999992,99.521529999999998,{"$f":"tblIndicators!E25","v":"2.2.1"},null,{"$f":"tblIndicators!AE25","v":"2.2.1) Control of corruption"},{"$f":"IF(tblIndicators!G25=\"\",\"\",IF(G31=3,tblIndicators!G25,\"\"))","v":"Scored 0-100 "},{"$f":"IF(ISNA(INDEX(Data_raw!$B$2:$U$44,MATCH($J31,Data_raw!$A$2:$A$44,0),Data!N$6)),\"\",INDEX(Data_raw!$B$2:$U$44,MATCH($J31,Data_raw!$A$2:$A$44,0),Data!N$6))","v":55.023919999999997},{"$f":"IF(ISNA(INDEX(Data_raw!$B$2:$U$44,MATCH($J31,Data_raw!$A$2:$A$44,0),Data!O$6)),\"\",INDEX(Data_raw!$B$2:$U$44,MATCH($J31,Data_raw!$A$2:$A$44,0),Data!O$6))","v":95.215310000000002},{"$f":"IF(ISNA(INDEX(Data_raw!$B$2:$U$44,MATCH($J31,Data_raw!$A$2:$A$44,0),Data!P$6)),\"\",INDEX(Data_raw!$B$2:$U$44,MATCH($J31,Data_raw!$A$2:$A$44,0),Data!P$6))","v":90.430620000000005},{"$f":"IF(ISNA(INDEX(Data_raw!$B$2:$U$44,MATCH($J31,Data_raw!$A$2:$A$44,0),Data!Q$6)),\"\",INDEX(Data_raw!$B$2:$U$44,MATCH($J31,Data_raw!$A$2:$A$44,0),Data!Q$6))","v":46.889949999999999},{"$f":"IF(ISNA(INDEX(Data_raw!$B$2:$U$44,MATCH($J31,Data_raw!$A$2:$A$44,0),Data!R$6)),\"\",INDEX(Data_raw!$B$2:$U$44,MATCH($J31,Data_raw!$A$2:$A$44,0),Data!R$6))","v":88.03828},{"$f":"IF(ISNA(INDEX(Data_raw!$B$2:$U$44,MATCH($J31,Data_raw!$A$2:$A$44,0),Data!S$6)),\"\",INDEX(Data_raw!$B$2:$U$44,MATCH($J31,Data_raw!$A$2:$A$44,0),Data!S$6))","v":35.885170000000002},{"$f":"IF(ISNA(INDEX(Data_raw!$B$2:$U$44,MATCH($J31,Data_raw!$A$2:$A$44,0),Data!T$6)),\"\",INDEX(Data_raw!$B$2:$U$44,MATCH($J31,Data_raw!$A$2:$A$44,0),Data!T$6))","v":31.578949999999999},{"$f":"IF(ISNA(INDEX(Data_raw!$B$2:$U$44,MATCH($J31,Data_raw!$A$2:$A$44,0),Data!U$6)),\"\",INDEX(Data_raw!$B$2:$U$44,MATCH($J31,Data_raw!$A$2:$A$44,0),Data!U$6))","v":92.822969999999998},{"$f":"IF(ISNA(INDEX(Data_raw!$B$2:$U$44,MATCH($J31,Data_raw!$A$2:$A$44,0),Data!V$6)),\"\",INDEX(Data_raw!$B$2:$U$44,MATCH($J31,Data_raw!$A$2:$A$44,0),Data!V$6))","v":39.234450000000002},{"$f":"IF(ISNA(INDEX(Data_raw!$B$2:$U$44,MATCH($J31,Data_raw!$A$2:$A$44,0),Data!W$6)),\"\",INDEX(Data_raw!$B$2:$U$44,MATCH($J31,Data_raw!$A$2:$A$44,0),Data!W$6))","v":99.521529999999998},{"$f":"IF(ISNA(INDEX(Data_raw!$B$2:$U$44,MATCH($J31,Data_raw!$A$2:$A$44,0),Data!X$6)),\"\",INDEX(Data_raw!$B$2:$U$44,MATCH($J31,Data_raw!$A$2:$A$44,0),Data!X$6))","v":9.0909099999999992},{"$f":"IF(ISNA(INDEX(Data_raw!$B$2:$U$44,MATCH($J31,Data_raw!$A$2:$A$44,0),Data!Y$6)),\"\",INDEX(Data_raw!$B$2:$U$44,MATCH($J31,Data_raw!$A$2:$A$44,0),Data!Y$6))","v":98.564589999999995},{"$f":"IF(ISNA(INDEX(Data_raw!$B$2:$U$44,MATCH($J31,Data_raw!$A$2:$A$44,0),Data!Z$6)),\"\",INDEX(Data_raw!$B$2:$U$44,MATCH($J31,Data_raw!$A$2:$A$44,0),Data!Z$6))","v":42.105260000000001},{"$f":"IF(ISNA(INDEX(Data_raw!$B$2:$U$44,MATCH($J31,Data_raw!$A$2:$A$44,0),Data!AA$6)),\"\",INDEX(Data_raw!$B$2:$U$44,MATCH($J31,Data_raw!$A$2:$A$44,0),Data!AA$6))","v":43.540669999999999},{"$f":"IF(ISNA(INDEX(Data_raw!$B$2:$U$44,MATCH($J31,Data_raw!$A$2:$A$44,0),Data!AB$6)),\"\",INDEX(Data_raw!$B$2:$U$44,MATCH($J31,Data_raw!$A$2:$A$44,0),Data!AB$6))","v":16.746410000000001},{"$f":"IF(ISNA(INDEX(Data_raw!$B$2:$U$44,MATCH($J31,Data_raw!$A$2:$A$44,0),Data!AC$6)),\"\",INDEX(Data_raw!$B$2:$U$44,MATCH($J31,Data_raw!$A$2:$A$44,0),Data!AC$6))","v":54.545459999999999},{"$f":"IF(ISNA(INDEX(Data_raw!$B$2:$U$44,MATCH($J31,Data_raw!$A$2:$A$44,0),Data!AD$6)),\"\",INDEX(Data_raw!$B$2:$U$44,MATCH($J31,Data_raw!$A$2:$A$44,0),Data!AD$6))","v":70.33493},{"$f":"IF(ISNA(INDEX(Data_raw!$B$2:$U$44,MATCH($J31,Data_raw!$A$2:$A$44,0),Data!AE$6)),\"\",INDEX(Data_raw!$B$2:$U$44,MATCH($J31,Data_raw!$A$2:$A$44,0),Data!AE$6))","v":75.119609999999994},{"$f":"IF(ISNA(INDEX(Data_raw!$B$2:$U$44,MATCH($J31,Data_raw!$A$2:$A$44,0),Data!AF$6)),\"\",INDEX(Data_raw!$B$2:$U$44,MATCH($J31,Data_raw!$A$2:$A$44,0),Data!AF$6))","v":85.167469999999994},{"$f":"IF(ISNA(INDEX(Data_raw!$B$2:$U$44,MATCH($J31,Data_raw!$A$2:$A$44,0),Data!AG$6)),\"\",INDEX(Data_raw!$B$2:$U$44,MATCH($J31,Data_raw!$A$2:$A$44,0),Data!AG$6))","v":36.842109999999998},null,0]
[null,{"$f":"tblIndicators!B26","v":"BUSENV_3"},{"$f":"tblIndicators!C26","v":"BUSENV"},{"$f":"tblIndicators!D26","v":2},null,{"$f":"tblIndicators!X26","v":100},{"$f":"tblIndicators!D26","v":2},"","",{"$f":"tblIndicators!E26","v":2.2999999999999998},null,{"$f":"tblIndicators!AE26","v":"2.3) Effectiveness of dispute resolution mechanisms"},{"$f":"IF(tblIndicators!G26=\"\",\"\",IF(G32=3,tblIndicators!G26,\"\"))","v":""},{"$f":"IF(ISNA(INDEX(Data_raw!$B$2:$U$44,MATCH($J32,Data_raw!$A$2:$A$44,0),Data!N$6)),\"\",INDEX(Data_raw!$B$2:$U$44,MATCH($J32,Data_raw!$A$2:$A$44,0),Data!N$6))","v":""},{"$f":"IF(ISNA(INDEX(Data_raw!$B$2:$U$44,MATCH($J32,Data_raw!$A$2:$A$44,0),Data!O$6)),\"\",INDEX(Data_raw!$B$2:$U$44,MATCH($J32,Data_raw!$A$2:$A$44,0),Data!O$6))","v":""},{"$f":"IF(ISNA(INDEX(Data_raw!$B$2:$U$44,MATCH($J32,Data_raw!$A$2:$A$44,0),Data!P$6)),\"\",INDEX(Data_raw!$B$2:$U$44,MATCH($J32,Data_raw!$A$2:$A$44,0),Data!P$6))","v":""},{"$f":"IF(ISNA(INDEX(Data_raw!$B$2:$U$44,MATCH($J32,Data_raw!$A$2:$A$44,0),Data!Q$6)),\"\",INDEX(Data_raw!$B$2:$U$44,MATCH($J32,Data_raw!$A$2:$A$44,0),Data!Q$6))","v":""},{"$f":"IF(ISNA(INDEX(Data_raw!$B$2:$U$44,MATCH($J32,Data_raw!$A$2:$A$44,0),Data!R$6)),\"\",INDEX(Data_raw!$B$2:$U$44,MATCH($J32,Data_raw!$A$2:$A$44,0),Data!R$6))","v":""},{"$f":"IF(ISNA(INDEX(Data_raw!$B$2:$U$44,MATCH($J32,Data_raw!$A$2:$A$44,0),Data!S$6)),\"\",INDEX(Data_raw!$B$2:$U$44,MATCH($J32,Data_raw!$A$2:$A$44,0),Data!S$6))","v":""},{"$f":"IF(ISNA(INDEX(Data_raw!$B$2:$U$44,MATCH($J32,Data_raw!$A$2:$A$44,0),Data!T$6)),\"\",INDEX(Data_raw!$B$2:$U$44,MATCH($J32,Data_raw!$A$2:$A$44,0),Data!T$6))","v":""},{"$f":"IF(ISNA(INDEX(Data_raw!$B$2:$U$44,MATCH($J32,Data_raw!$A$2:$A$44,0),Data!U$6)),\"\",INDEX(Data_raw!$B$2:$U$44,MATCH($J32,Data_raw!$A$2:$A$44,0),Data!U$6))","v":""},{"$f":"IF(ISNA(INDEX(Data_raw!$B$2:$U$44,MATCH($J32,Data_raw!$A$2:$A$44,0),Data!V$6)),\"\",INDEX(Data_raw!$B$2:$U$44,MATCH($J32,Data_raw!$A$2:$A$44,0),Data!V$6))","v":""},{"$f":"IF(ISNA(INDEX(Data_raw!$B$2:$U$44,MATCH($J32,Data_raw!$A$2:$A$44,0),Data!W$6)),\"\",INDEX(Data_raw!$B$2:$U$44,MATCH($J32,Data_raw!$A$2:$A$44,0),Data!W$6))","v":""},{"$f":"IF(ISNA(INDEX(Data_raw!$B$2:$U$44,MATCH($J32,Data_raw!$A$2:$A$44,0),Data!X$6)),\"\",INDEX(Data_raw!$B$2:$U$44,MATCH($J32,Data_raw!$A$2:$A$44,0),Data!X$6))","v":""},{"$f":"IF(ISNA(INDEX(Data_raw!$B$2:$U$44,MATCH($J32,Data_raw!$A$2:$A$44,0),Data!Y$6)),\"\",INDEX(Data_raw!$B$2:$U$44,MATCH($J32,Data_raw!$A$2:$A$44,0),Data!Y$6))","v":""},{"$f":"IF(ISNA(INDEX(Data_raw!$B$2:$U$44,MATCH($J32,Data_raw!$A$2:$A$44,0),Data!Z$6)),\"\",INDEX(Data_raw!$B$2:$U$44,MATCH($J32,Data_raw!$A$2:$A$44,0),Data!Z$6))","v":""},{"$f":"IF(ISNA(INDEX(Data_raw!$B$2:$U$44,MATCH($J32,Data_raw!$A$2:$A$44,0),Data!AA$6)),\"\",INDEX(Data_raw!$B$2:$U$44,MATCH($J32,Data_raw!$A$2:$A$44,0),Data!AA$6))","v":""},{"$f":"IF(ISNA(INDEX(Data_raw!$B$2:$U$44,MATCH($J32,Data_raw!$A$2:$A$44,0),Data!AB$6)),\"\",INDEX(Data_raw!$B$2:$U$44,MATCH($J32,Data_raw!$A$2:$A$44,0),Data!AB$6))","v":""},{"$f":"IF(ISNA(INDEX(Data_raw!$B$2:$U$44,MATCH($J32,Data_raw!$A$2:$A$44,0),Data!AC$6)),\"\",INDEX(Data_raw!$B$2:$U$44,MATCH($J32,Data_raw!$A$2:$A$44,0),Data!AC$6))","v":""},{"$f":"IF(ISNA(INDEX(Data_raw!$B$2:$U$44,MATCH($J32,Data_raw!$A$2:$A$44,0),Data!AD$6)),\"\",INDEX(Data_raw!$B$2:$U$44,MATCH($J32,Data_raw!$A$2:$A$44,0),Data!AD$6))","v":""},{"$f":"IF(ISNA(INDEX(Data_raw!$B$2:$U$44,MATCH($J32,Data_raw!$A$2:$A$44,0),Data!AE$6)),\"\",INDEX(Data_raw!$B$2:$U$44,MATCH($J32,Data_raw!$A$2:$A$44,0),Data!AE$6))","v":""},{"$f":"IF(ISNA(INDEX(Data_raw!$B$2:$U$44,MATCH($J32,Data_raw!$A$2:$A$44,0),Data!AF$6)),\"\",INDEX(Data_raw!$B$2:$U$44,MATCH($J32,Data_raw!$A$2:$A$44,0),Data!AF$6))","v":""},{"$f":"IF(ISNA(INDEX(Data_raw!$B$2:$U$44,MATCH($J32,Data_raw!$A$2:$A$44,0),Data!AG$6)),\"\",INDEX(Data_raw!$B$2:$U$44,MATCH($J32,Data_raw!$A$2:$A$44,0),Data!AG$6))","v":""},null,0]
[null,{"$f":"tblIndicators!B27","v":"BUSENV_3_1"},{"$f":"tblIndicators!C27","v":"BUSENV_3"},{"$f":"tblIndicators!D27","v":3},null,{"$f":"tblIndicators!X27","v":4},{"$f":"tblIndicators!D27","v":3},0,4,{"$f":"tblIndicators!E27","v":"2.3.1"},null,{"$f":"tblIndicators!AE27","v":"2.3.1) Fairness of judicial process"},{"$f":"IF(tblIndicators!G27=\"\",\"\",IF(G33=3,tblIndicators!G27,\"\"))","v":"Scored 0-4 "},{"$f":"IF(ISNA(INDEX(Data_raw!$B$2:$U$44,MATCH($J33,Data_raw!$A$2:$A$44,0),Data!N$6)),\"\",INDEX(Data_raw!$B$2:$U$44,MATCH($J33,Data_raw!$A$2:$A$44,0),Data!N$6))","v":2},{"$f":"IF(ISNA(INDEX(Data_raw!$B$2:$U$44,MATCH($J33,Data_raw!$A$2:$A$44,0),Data!O$6)),\"\",INDEX(Data_raw!$B$2:$U$44,MATCH($J33,Data_raw!$A$2:$A$44,0),Data!O$6))","v":4},{"$f":"IF(ISNA(INDEX(Data_raw!$B$2:$U$44,MATCH($J33,Data_raw!$A$2:$A$44,0),Data!P$6)),\"\",INDEX(Data_raw!$B$2:$U$44,MATCH($J33,Data_raw!$A$2:$A$44,0),Data!P$6))","v":3},{"$f":"IF(ISNA(INDEX(Data_raw!$B$2:$U$44,MATCH($J33,Data_raw!$A$2:$A$44,0),Data!Q$6)),\"\",INDEX(Data_raw!$B$2:$U$44,MATCH($J33,Data_raw!$A$2:$A$44,0),Data!Q$6))","v":1},{"$f":"IF(ISNA(INDEX(Data_raw!$B$2:$U$44,MATCH($J33,Data_raw!$A$2:$A$44,0),Data!R$6)),\"\",INDEX(Data_raw!$B$2:$U$44,MATCH($J33,Data_raw!$A$2:$A$44,0),Data!R$6))","v":3},{"$f":"IF(ISNA(INDEX(Data_raw!$B$2:$U$44,MATCH($J33,Data_raw!$A$2:$A$44,0),Data!S$6)),\"\",INDEX(Data_raw!$B$2:$U$44,MATCH($J33,Data_raw!$A$2:$A$44,0),Data!S$6))","v":1},{"$f":"IF(ISNA(INDEX(Data_raw!$B$2:$U$44,MATCH($J33,Data_raw!$A$2:$A$44,0),Data!T$6)),\"\",INDEX(Data_raw!$B$2:$U$44,MATCH($J33,Data_raw!$A$2:$A$44,0),Data!T$6))","v":1},{"$f":"IF(ISNA(INDEX(Data_raw!$B$2:$U$44,MATCH($J33,Data_raw!$A$2:$A$44,0),Data!U$6)),\"\",INDEX(Data_raw!$B$2:$U$44,MATCH($J33,Data_raw!$A$2:$A$44,0),Data!U$6))","v":3},{"$f":"IF(ISNA(INDEX(Data_raw!$B$2:$U$44,MATCH($J33,Data_raw!$A$2:$A$44,0),Data!V$6)),\"\",INDEX(Data_raw!$B$2:$U$44,MATCH($J33,Data_raw!$A$2:$A$44,0),Data!V$6))","v":2},{"$f":"IF(ISNA(INDEX(Data_raw!$B$2:$U$44,MATCH($J33,Data_raw!$A$2:$A$44,0),Data!W$6)),\"\",INDEX(Data_raw!$B$2:$U$44,MATCH($J33,Data_raw!$A$2:$A$44,0),Data!W$6))","v":4},{"$f":"IF(ISNA(INDEX(Data_raw!$B$2:$U$44,MATCH($J33,Data_raw!$A$2:$A$44,0),Data!X$6)),\"\",INDEX(Data_raw!$B$2:$U$44,MATCH($J33,Data_raw!$A$2:$A$44,0),Data!X$6))","v":0},{"$f":"IF(ISNA(INDEX(Data_raw!$B$2:$U$44,MATCH($J33,Data_raw!$A$2:$A$44,0),Data!Y$6)),\"\",INDEX(Data_raw!$B$2:$U$44,MATCH($J33,Data_raw!$A$2:$A$44,0),Data!Y$6))","v":4},{"$f":"IF(ISNA(INDEX(Data_raw!$B$2:$U$44,MATCH($J33,Data_raw!$A$2:$A$44,0),Data!Z$6)),\"\",INDEX(Data_raw!$B$2:$U$44,MATCH($J33,Data_raw!$A$2:$A$44,0),Data!Z$6))","v":1},{"$f":"IF(ISNA(INDEX(Data_raw!$B$2:$U$44,MATCH($J33,Data_raw!$A$2:$A$44,0),Data!AA$6)),\"\",INDEX(Data_raw!$B$2:$U$44,MATCH($J33,Data_raw!$A$2:$A$44,0),Data!AA$6))","v":2},{"$f":"IF(ISNA(INDEX(Data_raw!$B$2:$U$44,MATCH($J33,Data_raw!$A$2:$A$44,0),Data!AB$6)),\"\",INDEX(Data_raw!$B$2:$U$44,MATCH($J33,Data_raw!$A$2:$A$44,0),Data!AB$6))","v":0},{"$f":"IF(ISNA(INDEX(Data_raw!$B$2:$U$44,MATCH($J33,Data_raw!$A$2:$A$44,0),Data!AC$6)),\"\",INDEX(Data_raw!$B$2:$U$44,MATCH($J33,Data_raw!$A$2:$A$44,0),Data!AC$6))","v":3},{"$f":"IF(ISNA(INDEX(Data_raw!$B$2:$U$44,MATCH($J33,Data_raw!$A$2:$A$44,0),Data!AD$6)),\"\",INDEX(Data_raw!$B$2:$U$44,MATCH($J33,Data_raw!$A$2:$A$44,0),Data!AD$6))","v":3},{"$f":"IF(ISNA(INDEX(Data_raw!$B$2:$U$44,MATCH($J33,Data_raw!$A$2:$A$44,0),Data!AE$6)),\"\",INDEX(Data_raw!$B$2:$U$44,MATCH($J33,Data_raw!$A$2:$A$44,0),Data!AE$6))","v":3},{"$f":"IF(ISNA(INDEX(Data_raw!$B$2:$U$44,MATCH($J33,Data_raw!$A$2:$A$44,0),Data!AF$6)),\"\",INDEX(Data_raw!$B$2:$U$44,MATCH($J33,Data_raw!$A$2:$A$44,0),Data!AF$6))","v":4},{"$f":"IF(ISNA(INDEX(Data_raw!$B$2:$U$44,MATCH($J33,Data_raw!$A$2:$A$44,0),Data!AG$6)),\"\",INDEX(Data_raw!$B$2:$U$44,MATCH($J33,Data_raw!$A$2:$A$44,0),Data!AG$6))","v":1},null,0]
[null,{"$f":"tblIndicators!B28","v":"BUSENV_3_2"},{"$f":"tblIndicators!C28","v":"BUSENV_3"},{"$f":"tblIndicators!D28","v":3},null,{"$f":"tblIndicators!X28","v":4},{"$f":"tblIndicators!D28","v":3},0,4,{"$f":"tblIndicators!E28","v":"2.3.2"},null,{"$f":"tblIndicators!AE28","v":"2.3.2) Enforceability of contracts"},{"$f":"IF(tblIndicators!G28=\"\",\"\",IF(G34=3,tblIndicators!G28,\"\"))","v":"Scored 0-4 "},{"$f":"IF(ISNA(INDEX(Data_raw!$B$2:$U$44,MATCH($J34,Data_raw!$A$2:$A$44,0),Data!N$6)),\"\",INDEX(Data_raw!$B$2:$U$44,MATCH($J34,Data_raw!$A$2:$A$44,0),Data!N$6))","v":2},{"$f":"IF(ISNA(INDEX(Data_raw!$B$2:$U$44,MATCH($J34,Data_raw!$A$2:$A$44,0),Data!O$6)),\"\",INDEX(Data_raw!$B$2:$U$44,MATCH($J34,Data_raw!$A$2:$A$44,0),Data!O$6))","v":4},{"$f":"IF(ISNA(INDEX(Data_raw!$B$2:$U$44,MATCH($J34,Data_raw!$A$2:$A$44,0),Data!P$6)),\"\",INDEX(Data_raw!$B$2:$U$44,MATCH($J34,Data_raw!$A$2:$A$44,0),Data!P$6))","v":3},{"$f":"IF(ISNA(INDEX(Data_raw!$B$2:$U$44,MATCH($J34,Data_raw!$A$2:$A$44,0),Data!Q$6)),\"\",INDEX(Data_raw!$B$2:$U$44,MATCH($J34,Data_raw!$A$2:$A$44,0),Data!Q$6))","v":1},{"$f":"IF(ISNA(INDEX(Data_raw!$B$2:$U$44,MATCH($J34,Data_raw!$A$2:$A$44,0),Data!R$6)),\"\",INDEX(Data_raw!$B$2:$U$44,MATCH($J34,Data_raw!$A$2:$A$44,0),Data!R$6))","v":4},{"$f":"IF(ISNA(INDEX(Data_raw!$B$2:$U$44,MATCH($J34,Data_raw!$A$2:$A$44,0),Data!S$6)),\"\",INDEX(Data_raw!$B$2:$U$44,MATCH($J34,Data_raw!$A$2:$A$44,0),Data!S$6))","v":1},{"$f":"IF(ISNA(INDEX(Data_raw!$B$2:$U$44,MATCH($J34,Data_raw!$A$2:$A$44,0),Data!T$6)),\"\",INDEX(Data_raw!$B$2:$U$44,MATCH($J34,Data_raw!$A$2:$A$44,0),Data!T$6))","v":1},{"$f":"IF(ISNA(INDEX(Data_raw!$B$2:$U$44,MATCH($J34,Data_raw!$A$2:$A$44,0),Data!U$6)),\"\",INDEX(Data_raw!$B$2:$U$44,MATCH($J34,Data_raw!$A$2:$A$44,0),Data!U$6))","v":2},{"$f":"IF(ISNA(INDEX(Data_raw!$B$2:$U$44,MATCH($J34,Data_raw!$A$2:$A$44,0),Data!V$6)),\"\",INDEX(Data_raw!$B$2:$U$44,MATCH($J34,Data_raw!$A$2:$A$44,0),Data!V$6))","v":3},{"$f":"IF(ISNA(INDEX(Data_raw!$B$2:$U$44,MATCH($J34,Data_raw!$A$2:$A$44,0),Data!W$6)),\"\",INDEX(Data_raw!$B$2:$U$44,MATCH($J34,Data_raw!$A$2:$A$44,0),Data!W$6))","v":4},{"$f":"IF(ISNA(INDEX(Data_raw!$B$2:$U$44,MATCH($J34,Data_raw!$A$2:$A$44,0),Data!X$6)),\"\",INDEX(Data_raw!$B$2:$U$44,MATCH($J34,Data_raw!$A$2:$A$44,0),Data!X$6))","v":0},{"$f":"IF(ISNA(INDEX(Data_raw!$B$2:$U$44,MATCH($J34,Data_raw!$A$2:$A$44,0),Data!Y$6)),\"\",INDEX(Data_raw!$B$2:$U$44,MATCH($J34,Data_raw!$A$2:$A$44,0),Data!Y$6))","v":4},{"$f":"IF(ISNA(INDEX(Data_raw!$B$2:$U$44,MATCH($J34,Data_raw!$A$2:$A$44,0),Data!Z$6)),\"\",INDEX(Data_raw!$B$2:$U$44,MATCH($J34,Data_raw!$A$2:$A$44,0),Data!Z$6))","v":1},{"$f":"IF(ISNA(INDEX(Data_raw!$B$2:$U$44,MATCH($J34,Data_raw!$A$2:$A$44,0),Data!AA$6)),\"\",INDEX(Data_raw!$B$2:$U$44,MATCH($J34,Data_raw!$A$2:$A$44,0),Data!AA$6))","v":1},{"$f":"IF(ISNA(INDEX(Data_raw!$B$2:$U$44,MATCH($J34,Data_raw!$A$2:$A$44,0),Data!AB$6)),\"\",INDEX(Data_raw!$B$2:$U$44,MATCH($J34,Data_raw!$A$2:$A$44,0),Data!AB$6))","v":1},{"$f":"IF(ISNA(INDEX(Data_raw!$B$2:$U$44,MATCH($J34,Data_raw!$A$2:$A$44,0),Data!AC$6)),\"\",INDEX(Data_raw!$B$2:$U$44,MATCH($J34,Data_raw!$A$2:$A$44,0),Data!AC$6))","v":2},{"$f":"IF(ISNA(INDEX(Data_raw!$B$2:$U$44,MATCH($J34,Data_raw!$A$2:$A$44,0),Data!AD$6)),\"\",INDEX(Data_raw!$B$2:$U$44,MATCH($J34,Data_raw!$A$2:$A$44,0),Data!AD$6))","v":3},{"$f":"IF(ISNA(INDEX(Data_raw!$B$2:$U$44,MATCH($J34,Data_raw!$A$2:$A$44,0),Data!AE$6)),\"\",INDEX(Data_raw!$B$2:$U$44,MATCH($J34,Data_raw!$A$2:$A$44,0),Data!AE$6))","v":4},{"$f":"IF(ISNA(INDEX(Data_raw!$B$2:$U$44,MATCH($J34,Data_raw!$A$2:$A$44,0),Data!AF$6)),\"\",INDEX(Data_raw!$B$2:$U$44,MATCH($J34,Data_raw!$A$2:$A$44,0),Data!AF$6))","v":4},{"$f":"IF(ISNA(INDEX(Data_raw!$B$2:$U$44,MATCH($J34,Data_raw!$A$2:$A$44,0),Data!AG$6)),\"\",INDEX(Data_raw!$B$2:$U$44,MATCH($J34,Data_raw!$A$2:$A$44,0),Data!AG$6))","v":2},null,0]
[null,{"$f":"tblIndicators!B29","v":"BUSENV_4"},{"$f":"tblIndicators!C29","v":"BUSENV"},{"$f":"tblIndicators!D29","v":2},null,{"$f":"tblIndicators!X29","v":100},{"$f":"tblIndicators!D29","v":2},"","",{"$f":"tblIndicators!E29","v":2.4},null,{"$f":"tblIndicators!AE29","v":"2.4) Quality of coastal infrastructure"},{"$f":"IF(tblIndicators!G29=\"\",\"\",IF(G35=3,tblIndicators!G29,\"\"))","v":""},{"$f":"IF(ISNA(INDEX(Data_raw!$B$2:$U$44,MATCH($J35,Data_raw!$A$2:$A$44,0),Data!N$6)),\"\",INDEX(Data_raw!$B$2:$U$44,MATCH($J35,Data_raw!$A$2:$A$44,0),Data!N$6))","v":""},{"$f":"IF(ISNA(INDEX(Data_raw!$B$2:$U$44,MATCH($J35,Data_raw!$A$2:$A$44,0),Data!O$6)),\"\",INDEX(Data_raw!$B$2:$U$44,MATCH($J35,Data_raw!$A$2:$A$44,0),Data!O$6))","v":""},{"$f":"IF(ISNA(INDEX(Data_raw!$B$2:$U$44,MATCH($J35,Data_raw!$A$2:$A$44,0),Data!P$6)),\"\",INDEX(Data_raw!$B$2:$U$44,MATCH($J35,Data_raw!$A$2:$A$44,0),Data!P$6))","v":""},{"$f":"IF(ISNA(INDEX(Data_raw!$B$2:$U$44,MATCH($J35,Data_raw!$A$2:$A$44,0),Data!Q$6)),\"\",INDEX(Data_raw!$B$2:$U$44,MATCH($J35,Data_raw!$A$2:$A$44,0),Data!Q$6))","v":""},{"$f":"IF(ISNA(INDEX(Data_raw!$B$2:$U$44,MATCH($J35,Data_raw!$A$2:$A$44,0),Data!R$6)),\"\",INDEX(Data_raw!$B$2:$U$44,MATCH($J35,Data_raw!$A$2:$A$44,0),Data!R$6))","v":""},{"$f":"IF(ISNA(INDEX(Data_raw!$B$2:$U$44,MATCH($J35,Data_raw!$A$2:$A$44,0),Data!S$6)),\"\",INDEX(Data_raw!$B$2:$U$44,MATCH($J35,Data_raw!$A$2:$A$44,0),Data!S$6))","v":""},{"$f":"IF(ISNA(INDEX(Data_raw!$B$2:$U$44,MATCH($J35,Data_raw!$A$2:$A$44,0),Data!T$6)),\"\",INDEX(Data_raw!$B$2:$U$44,MATCH($J35,Data_raw!$A$2:$A$44,0),Data!T$6))","v":""},{"$f":"IF(ISNA(INDEX(Data_raw!$B$2:$U$44,MATCH($J35,Data_raw!$A$2:$A$44,0),Data!U$6)),\"\",INDEX(Data_raw!$B$2:$U$44,MATCH($J35,Data_raw!$A$2:$A$44,0),Data!U$6))","v":""},{"$f":"IF(ISNA(INDEX(Data_raw!$B$2:$U$44,MATCH($J35,Data_raw!$A$2:$A$44,0),Data!V$6)),\"\",INDEX(Data_raw!$B$2:$U$44,MATCH($J35,Data_raw!$A$2:$A$44,0),Data!V$6))","v":""},{"$f":"IF(ISNA(INDEX(Data_raw!$B$2:$U$44,MATCH($J35,Data_raw!$A$2:$A$44,0),Data!W$6)),\"\",INDEX(Data_raw!$B$2:$U$44,MATCH($J35,Data_raw!$A$2:$A$44,0),Data!W$6))","v":""},{"$f":"IF(ISNA(INDEX(Data_raw!$B$2:$U$44,MATCH($J35,Data_raw!$A$2:$A$44,0),Data!X$6)),\"\",INDEX(Data_raw!$B$2:$U$44,MATCH($J35,Data_raw!$A$2:$A$44,0),Data!X$6))","v":""},{"$f":"IF(ISNA(INDEX(Data_raw!$B$2:$U$44,MATCH($J35,Data_raw!$A$2:$A$44,0),Data!Y$6)),\"\",INDEX(Data_raw!$B$2:$U$44,MATCH($J35,Data_raw!$A$2:$A$44,0),Data!Y$6))","v":""},{"$f":"IF(ISNA(INDEX(Data_raw!$B$2:$U$44,MATCH($J35,Data_raw!$A$2:$A$44,0),Data!Z$6)),\"\",INDEX(Data_raw!$B$2:$U$44,MATCH($J35,Data_raw!$A$2:$A$44,0),Data!Z$6))","v":""},{"$f":"IF(ISNA(INDEX(Data_raw!$B$2:$U$44,MATCH($J35,Data_raw!$A$2:$A$44,0),Data!AA$6)),\"\",INDEX(Data_raw!$B$2:$U$44,MATCH($J35,Data_raw!$A$2:$A$44,0),Data!AA$6))","v":""},{"$f":"IF(ISNA(INDEX(Data_raw!$B$2:$U$44,MATCH($J35,Data_raw!$A$2:$A$44,0),Data!AB$6)),\"\",INDEX(Data_raw!$B$2:$U$44,MATCH($J35,Data_raw!$A$2:$A$44,0),Data!AB$6))","v":""},{"$f":"IF(ISNA(INDEX(Data_raw!$B$2:$U$44,MATCH($J35,Data_raw!$A$2:$A$44,0),Data!AC$6)),\"\",INDEX(Data_raw!$B$2:$U$44,MATCH($J35,Data_raw!$A$2:$A$44,0),Data!AC$6))","v":""},{"$f":"IF(ISNA(INDEX(Data_raw!$B$2:$U$44,MATCH($J35,Data_raw!$A$2:$A$44,0),Data!AD$6)),\"\",INDEX(Data_raw!$B$2:$U$44,MATCH($J35,Data_raw!$A$2:$A$44,0),Data!AD$6))","v":""},{"$f":"IF(ISNA(INDEX(Data_raw!$B$2:$U$44,MATCH($J35,Data_raw!$A$2:$A$44,0),Data!AE$6)),\"\",INDEX(Data_raw!$B$2:$U$44,MATCH($J35,Data_raw!$A$2:$A$44,0),Data!AE$6))","v":""},{"$f":"IF(ISNA(INDEX(Data_raw!$B$2:$U$44,MATCH($J35,Data_raw!$A$2:$A$44,0),Data!AF$6)),\"\",INDEX(Data_raw!$B$2:$U$44,MATCH($J35,Data_raw!$A$2:$A$44,0),Data!AF$6))","v":""},{"$f":"IF(ISNA(INDEX(Data_raw!$B$2:$U$44,MATCH($J35,Data_raw!$A$2:$A$44,0),Data!AG$6)),\"\",INDEX(Data_raw!$B$2:$U$44,MATCH($J35,Data_raw!$A$2:$A$44,0),Data!AG$6))","v":""},null,0]
[null,{"$f":"tblIndicators!B30","v":"BUSENV_4_1"},{"$f":"tblIndicators!C30","v":"BUSENV_4"},{"$f":"tblIndicators!D30","v":3},null,{"$f":"tblIndicators!X30","v":6},{"$f":"tblIndicators!D30","v":3},1.6762119499999999,4.8231648600000003,{"$f":"tblIndicators!E30","v":"2.4.1"},null,{"$f":"tblIndicators!AE30","v":"2.4.1) Quality of port facilities"},{"$f":"IF(tblIndicators!G30=\"\",\"\",IF(G36=3,tblIndicators!G30,\"\"))","v":"Scored 0-6 "},{"$f":"IF(ISNA(INDEX(Data_raw!$B$2:$U$44,MATCH($J36,Data_raw!$A$2:$A$44,0),Data!N$6)),\"\",INDEX(Data_raw!$B$2:$U$44,MATCH($J36,Data_raw!$A$2:$A$44,0),Data!N$6))","v":1.6762119499999999},{"$f":"IF(ISNA(INDEX(Data_raw!$B$2:$U$44,MATCH($J36,Data_raw!$A$2:$A$44,0),Data!O$6)),\"\",INDEX(Data_raw!$B$2:$U$44,MATCH($J36,Data_raw!$A$2:$A$44,0),Data!O$6))","v":4.4678625399999996},{"$f":"IF(ISNA(INDEX(Data_raw!$B$2:$U$44,MATCH($J36,Data_raw!$A$2:$A$44,0),Data!P$6)),\"\",INDEX(Data_raw!$B$2:$U$44,MATCH($J36,Data_raw!$A$2:$A$44,0),Data!P$6))","v":4.03192284},{"$f":"IF(ISNA(INDEX(Data_raw!$B$2:$U$44,MATCH($J36,Data_raw!$A$2:$A$44,0),Data!Q$6)),\"\",INDEX(Data_raw!$B$2:$U$44,MATCH($J36,Data_raw!$A$2:$A$44,0),Data!Q$6))","v":3.5625437099999999},{"$f":"IF(ISNA(INDEX(Data_raw!$B$2:$U$44,MATCH($J36,Data_raw!$A$2:$A$44,0),Data!R$6)),\"\",INDEX(Data_raw!$B$2:$U$44,MATCH($J36,Data_raw!$A$2:$A$44,0),Data!R$6))","v":4.1955244699999996},{"$f":"IF(ISNA(INDEX(Data_raw!$B$2:$U$44,MATCH($J36,Data_raw!$A$2:$A$44,0),Data!S$6)),\"\",INDEX(Data_raw!$B$2:$U$44,MATCH($J36,Data_raw!$A$2:$A$44,0),Data!S$6))","v":3.0175461299999999},{"$f":"IF(ISNA(INDEX(Data_raw!$B$2:$U$44,MATCH($J36,Data_raw!$A$2:$A$44,0),Data!T$6)),\"\",INDEX(Data_raw!$B$2:$U$44,MATCH($J36,Data_raw!$A$2:$A$44,0),Data!T$6))","v":2.97480981},{"$f":"IF(ISNA(INDEX(Data_raw!$B$2:$U$44,MATCH($J36,Data_raw!$A$2:$A$44,0),Data!U$6)),\"\",INDEX(Data_raw!$B$2:$U$44,MATCH($J36,Data_raw!$A$2:$A$44,0),Data!U$6))","v":4.3432485200000004},{"$f":"IF(ISNA(INDEX(Data_raw!$B$2:$U$44,MATCH($J36,Data_raw!$A$2:$A$44,0),Data!V$6)),\"\",INDEX(Data_raw!$B$2:$U$44,MATCH($J36,Data_raw!$A$2:$A$44,0),Data!V$6))","v":3.2756729299999998},{"$f":"IF(ISNA(INDEX(Data_raw!$B$2:$U$44,MATCH($J36,Data_raw!$A$2:$A$44,0),Data!W$6)),\"\",INDEX(Data_raw!$B$2:$U$44,MATCH($J36,Data_raw!$A$2:$A$44,0),Data!W$6))","v":4.7580509900000001},{"$f":"IF(ISNA(INDEX(Data_raw!$B$2:$U$44,MATCH($J36,Data_raw!$A$2:$A$44,0),Data!X$6)),\"\",INDEX(Data_raw!$B$2:$U$44,MATCH($J36,Data_raw!$A$2:$A$44,0),Data!X$6))","v":2.1611189},{"$f":"IF(ISNA(INDEX(Data_raw!$B$2:$U$44,MATCH($J36,Data_raw!$A$2:$A$44,0),Data!Y$6)),\"\",INDEX(Data_raw!$B$2:$U$44,MATCH($J36,Data_raw!$A$2:$A$44,0),Data!Y$6))","v":4.6856993200000003},{"$f":"IF(ISNA(INDEX(Data_raw!$B$2:$U$44,MATCH($J36,Data_raw!$A$2:$A$44,0),Data!Z$6)),\"\",INDEX(Data_raw!$B$2:$U$44,MATCH($J36,Data_raw!$A$2:$A$44,0),Data!Z$6))","v":2.7468544600000002},{"$f":"IF(ISNA(INDEX(Data_raw!$B$2:$U$44,MATCH($J36,Data_raw!$A$2:$A$44,0),Data!AA$6)),\"\",INDEX(Data_raw!$B$2:$U$44,MATCH($J36,Data_raw!$A$2:$A$44,0),Data!AA$6))","v":2.4561310000000001},{"$f":"IF(ISNA(INDEX(Data_raw!$B$2:$U$44,MATCH($J36,Data_raw!$A$2:$A$44,0),Data!AB$6)),\"\",INDEX(Data_raw!$B$2:$U$44,MATCH($J36,Data_raw!$A$2:$A$44,0),Data!AB$6))","v":2.9383197999999999},{"$f":"IF(ISNA(INDEX(Data_raw!$B$2:$U$44,MATCH($J36,Data_raw!$A$2:$A$44,0),Data!AC$6)),\"\",INDEX(Data_raw!$B$2:$U$44,MATCH($J36,Data_raw!$A$2:$A$44,0),Data!AC$6))","v":3.8633349300000002},{"$f":"IF(ISNA(INDEX(Data_raw!$B$2:$U$44,MATCH($J36,Data_raw!$A$2:$A$44,0),Data!AD$6)),\"\",INDEX(Data_raw!$B$2:$U$44,MATCH($J36,Data_raw!$A$2:$A$44,0),Data!AD$6))","v":4.3294011599999997},{"$f":"IF(ISNA(INDEX(Data_raw!$B$2:$U$44,MATCH($J36,Data_raw!$A$2:$A$44,0),Data!AE$6)),\"\",INDEX(Data_raw!$B$2:$U$44,MATCH($J36,Data_raw!$A$2:$A$44,0),Data!AE$6))","v":4.8231648600000003},{"$f":"IF(ISNA(INDEX(Data_raw!$B$2:$U$44,MATCH($J36,Data_raw!$A$2:$A$44,0),Data!AF$6)),\"\",INDEX(Data_raw!$B$2:$U$44,MATCH($J36,Data_raw!$A$2:$A$44,0),Data!AF$6))","v":4.68996938},{"$f":"IF(ISNA(INDEX(Data_raw!$B$2:$U$44,MATCH($J36,Data_raw!$A$2:$A$44,0),Data!AG$6)),\"\",INDEX(Data_raw!$B$2:$U$44,MATCH($J36,Data_raw!$A$2:$A$44,0),Data!AG$6))","v":2.74171729},null,0]
[null,{"$f":"tblIndicators!B31","v":"BUSENV_4_2"},{"$f":"tblIndicators!C31","v":"BUSENV_4"},{"$f":"tblIndicators!D31","v":3},null,{"$f":"tblIndicators!X31","v":6},{"$f":"tblIndicators!D31","v":3},0.57573403999999995,5.7219587699999996,{"$f":"tblIndicators!E31","v":"2.4.2"},null,{"$f":"tblIndicators!AE31","v":"2.4.2) Quality of electricity supply"},{"$f":"IF(tblIndicators!G31=\"\",\"\",IF(G37=3,tblIndicators!G31,\"\"))","v":"Scored 0-6 "},{"$f":"IF(ISNA(INDEX(Data_raw!$B$2:$U$44,MATCH($J37,Data_raw!$A$2:$A$44,0),Data!N$6)),\"\",INDEX(Data_raw!$B$2:$U$44,MATCH($J37,Data_raw!$A$2:$A$44,0),Data!N$6))","v":3.1116162200000002},{"$f":"IF(ISNA(INDEX(Data_raw!$B$2:$U$44,MATCH($J37,Data_raw!$A$2:$A$44,0),Data!O$6)),\"\",INDEX(Data_raw!$B$2:$U$44,MATCH($J37,Data_raw!$A$2:$A$44,0),Data!O$6))","v":5.5150132599999999},{"$f":"IF(ISNA(INDEX(Data_raw!$B$2:$U$44,MATCH($J37,Data_raw!$A$2:$A$44,0),Data!P$6)),\"\",INDEX(Data_raw!$B$2:$U$44,MATCH($J37,Data_raw!$A$2:$A$44,0),Data!P$6))","v":4.3598233200000003},{"$f":"IF(ISNA(INDEX(Data_raw!$B$2:$U$44,MATCH($J37,Data_raw!$A$2:$A$44,0),Data!Q$6)),\"\",INDEX(Data_raw!$B$2:$U$44,MATCH($J37,Data_raw!$A$2:$A$44,0),Data!Q$6))","v":4.2239253799999998},{"$f":"IF(ISNA(INDEX(Data_raw!$B$2:$U$44,MATCH($J37,Data_raw!$A$2:$A$44,0),Data!R$6)),\"\",INDEX(Data_raw!$B$2:$U$44,MATCH($J37,Data_raw!$A$2:$A$44,0),Data!R$6))","v":5.4729046600000002},{"$f":"IF(ISNA(INDEX(Data_raw!$B$2:$U$44,MATCH($J37,Data_raw!$A$2:$A$44,0),Data!S$6)),\"\",INDEX(Data_raw!$B$2:$U$44,MATCH($J37,Data_raw!$A$2:$A$44,0),Data!S$6))","v":2.4336571299999998},{"$f":"IF(ISNA(INDEX(Data_raw!$B$2:$U$44,MATCH($J37,Data_raw!$A$2:$A$44,0),Data!T$6)),\"\",INDEX(Data_raw!$B$2:$U$44,MATCH($J37,Data_raw!$A$2:$A$44,0),Data!T$6))","v":3.3401524999999999},{"$f":"IF(ISNA(INDEX(Data_raw!$B$2:$U$44,MATCH($J37,Data_raw!$A$2:$A$44,0),Data!U$6)),\"\",INDEX(Data_raw!$B$2:$U$44,MATCH($J37,Data_raw!$A$2:$A$44,0),Data!U$6))","v":5.2746666400000004},{"$f":"IF(ISNA(INDEX(Data_raw!$B$2:$U$44,MATCH($J37,Data_raw!$A$2:$A$44,0),Data!V$6)),\"\",INDEX(Data_raw!$B$2:$U$44,MATCH($J37,Data_raw!$A$2:$A$44,0),Data!V$6))","v":3.5761838500000001},{"$f":"IF(ISNA(INDEX(Data_raw!$B$2:$U$44,MATCH($J37,Data_raw!$A$2:$A$44,0),Data!W$6)),\"\",INDEX(Data_raw!$B$2:$U$44,MATCH($J37,Data_raw!$A$2:$A$44,0),Data!W$6))","v":5.1997973100000001},{"$f":"IF(ISNA(INDEX(Data_raw!$B$2:$U$44,MATCH($J37,Data_raw!$A$2:$A$44,0),Data!X$6)),\"\",INDEX(Data_raw!$B$2:$U$44,MATCH($J37,Data_raw!$A$2:$A$44,0),Data!X$6))","v":0.57573403999999995},{"$f":"IF(ISNA(INDEX(Data_raw!$B$2:$U$44,MATCH($J37,Data_raw!$A$2:$A$44,0),Data!Y$6)),\"\",INDEX(Data_raw!$B$2:$U$44,MATCH($J37,Data_raw!$A$2:$A$44,0),Data!Y$6))","v":5.7219587699999996},{"$f":"IF(ISNA(INDEX(Data_raw!$B$2:$U$44,MATCH($J37,Data_raw!$A$2:$A$44,0),Data!Z$6)),\"\",INDEX(Data_raw!$B$2:$U$44,MATCH($J37,Data_raw!$A$2:$A$44,0),Data!Z$6))","v":3.8535751199999999},{"$f":"IF(ISNA(INDEX(Data_raw!$B$2:$U$44,MATCH($J37,Data_raw!$A$2:$A$44,0),Data!AA$6)),\"\",INDEX(Data_raw!$B$2:$U$44,MATCH($J37,Data_raw!$A$2:$A$44,0),Data!AA$6))","v":3.2019706800000001},{"$f":"IF(ISNA(INDEX(Data_raw!$B$2:$U$44,MATCH($J37,Data_raw!$A$2:$A$44,0),Data!AB$6)),\"\",INDEX(Data_raw!$B$2:$U$44,MATCH($J37,Data_raw!$A$2:$A$44,0),Data!AB$6))","v":3.8006194999999998},{"$f":"IF(ISNA(INDEX(Data_raw!$B$2:$U$44,MATCH($J37,Data_raw!$A$2:$A$44,0),Data!AC$6)),\"\",INDEX(Data_raw!$B$2:$U$44,MATCH($J37,Data_raw!$A$2:$A$44,0),Data!AC$6))","v":2.5784275000000001},{"$f":"IF(ISNA(INDEX(Data_raw!$B$2:$U$44,MATCH($J37,Data_raw!$A$2:$A$44,0),Data!AD$6)),\"\",INDEX(Data_raw!$B$2:$U$44,MATCH($J37,Data_raw!$A$2:$A$44,0),Data!AD$6))","v":4.5379454900000002},{"$f":"IF(ISNA(INDEX(Data_raw!$B$2:$U$44,MATCH($J37,Data_raw!$A$2:$A$44,0),Data!AE$6)),\"\",INDEX(Data_raw!$B$2:$U$44,MATCH($J37,Data_raw!$A$2:$A$44,0),Data!AE$6))","v":5.3212902700000004},{"$f":"IF(ISNA(INDEX(Data_raw!$B$2:$U$44,MATCH($J37,Data_raw!$A$2:$A$44,0),Data!AF$6)),\"\",INDEX(Data_raw!$B$2:$U$44,MATCH($J37,Data_raw!$A$2:$A$44,0),Data!AF$6))","v":5.2862660899999998},{"$f":"IF(ISNA(INDEX(Data_raw!$B$2:$U$44,MATCH($J37,Data_raw!$A$2:$A$44,0),Data!AG$6)),\"\",INDEX(Data_raw!$B$2:$U$44,MATCH($J37,Data_raw!$A$2:$A$44,0),Data!AG$6))","v":3.1894999400000001},null,0]
[null,{"$f":"tblIndicators!B32","v":"BUSENV_4_3"},{"$f":"tblIndicators!C32","v":"BUSENV_4"},{"$f":"tblIndicators!D32","v":3},null,{"$f":"tblIndicators!X32","v":6},{"$f":"tblIndicators!D32","v":3},1.6771201200000001,5.1700424700000003,{"$f":"tblIndicators!E32","v":"2.4.3"},null,{"$f":"tblIndicators!AE32","v":"2.4.3) Quality of road infrastructure"},{"$f":"IF(tblIndicators!G32=\"\",\"\",IF(G38=3,tblIndicators!G32,\"\"))","v":"Scored 0-6 "},{"$f":"IF(ISNA(INDEX(Data_raw!$B$2:$U$44,MATCH($J38,Data_raw!$A$2:$A$44,0),Data!N$6)),\"\",INDEX(Data_raw!$B$2:$U$44,MATCH($J38,Data_raw!$A$2:$A$44,0),Data!N$6))","v":1.75318855},{"$f":"IF(ISNA(INDEX(Data_raw!$B$2:$U$44,MATCH($J38,Data_raw!$A$2:$A$44,0),Data!O$6)),\"\",INDEX(Data_raw!$B$2:$U$44,MATCH($J38,Data_raw!$A$2:$A$44,0),Data!O$6))","v":4.3425858599999998},{"$f":"IF(ISNA(INDEX(Data_raw!$B$2:$U$44,MATCH($J38,Data_raw!$A$2:$A$44,0),Data!P$6)),\"\",INDEX(Data_raw!$B$2:$U$44,MATCH($J38,Data_raw!$A$2:$A$44,0),Data!P$6))","v":4.12132962},{"$f":"IF(ISNA(INDEX(Data_raw!$B$2:$U$44,MATCH($J38,Data_raw!$A$2:$A$44,0),Data!Q$6)),\"\",INDEX(Data_raw!$B$2:$U$44,MATCH($J38,Data_raw!$A$2:$A$44,0),Data!Q$6))","v":3.6141850799999999},{"$f":"IF(ISNA(INDEX(Data_raw!$B$2:$U$44,MATCH($J38,Data_raw!$A$2:$A$44,0),Data!R$6)),\"\",INDEX(Data_raw!$B$2:$U$44,MATCH($J38,Data_raw!$A$2:$A$44,0),Data!R$6))","v":5.1700424700000003},{"$f":"IF(ISNA(INDEX(Data_raw!$B$2:$U$44,MATCH($J38,Data_raw!$A$2:$A$44,0),Data!S$6)),\"\",INDEX(Data_raw!$B$2:$U$44,MATCH($J38,Data_raw!$A$2:$A$44,0),Data!S$6))","v":2.79489901},{"$f":"IF(ISNA(INDEX(Data_raw!$B$2:$U$44,MATCH($J38,Data_raw!$A$2:$A$44,0),Data!T$6)),\"\",INDEX(Data_raw!$B$2:$U$44,MATCH($J38,Data_raw!$A$2:$A$44,0),Data!T$6))","v":2.9262708700000002},{"$f":"IF(ISNA(INDEX(Data_raw!$B$2:$U$44,MATCH($J38,Data_raw!$A$2:$A$44,0),Data!U$6)),\"\",INDEX(Data_raw!$B$2:$U$44,MATCH($J38,Data_raw!$A$2:$A$44,0),Data!U$6))","v":4.9152011199999999},{"$f":"IF(ISNA(INDEX(Data_raw!$B$2:$U$44,MATCH($J38,Data_raw!$A$2:$A$44,0),Data!V$6)),\"\",INDEX(Data_raw!$B$2:$U$44,MATCH($J38,Data_raw!$A$2:$A$44,0),Data!V$6))","v":3.4227574299999999},{"$f":"IF(ISNA(INDEX(Data_raw!$B$2:$U$44,MATCH($J38,Data_raw!$A$2:$A$44,0),Data!W$6)),\"\",INDEX(Data_raw!$B$2:$U$44,MATCH($J38,Data_raw!$A$2:$A$44,0),Data!W$6))","v":3.9470711600000001},{"$f":"IF(ISNA(INDEX(Data_raw!$B$2:$U$44,MATCH($J38,Data_raw!$A$2:$A$44,0),Data!X$6)),\"\",INDEX(Data_raw!$B$2:$U$44,MATCH($J38,Data_raw!$A$2:$A$44,0),Data!X$6))","v":1.6771201200000001},{"$f":"IF(ISNA(INDEX(Data_raw!$B$2:$U$44,MATCH($J38,Data_raw!$A$2:$A$44,0),Data!Y$6)),\"\",INDEX(Data_raw!$B$2:$U$44,MATCH($J38,Data_raw!$A$2:$A$44,0),Data!Y$6))","v":2.8607439299999999},{"$f":"IF(ISNA(INDEX(Data_raw!$B$2:$U$44,MATCH($J38,Data_raw!$A$2:$A$44,0),Data!Z$6)),\"\",INDEX(Data_raw!$B$2:$U$44,MATCH($J38,Data_raw!$A$2:$A$44,0),Data!Z$6))","v":2.2331615},{"$f":"IF(ISNA(INDEX(Data_raw!$B$2:$U$44,MATCH($J38,Data_raw!$A$2:$A$44,0),Data!AA$6)),\"\",INDEX(Data_raw!$B$2:$U$44,MATCH($J38,Data_raw!$A$2:$A$44,0),Data!AA$6))","v":2.5695530299999998},{"$f":"IF(ISNA(INDEX(Data_raw!$B$2:$U$44,MATCH($J38,Data_raw!$A$2:$A$44,0),Data!AB$6)),\"\",INDEX(Data_raw!$B$2:$U$44,MATCH($J38,Data_raw!$A$2:$A$44,0),Data!AB$6))","v":1.71716756},{"$f":"IF(ISNA(INDEX(Data_raw!$B$2:$U$44,MATCH($J38,Data_raw!$A$2:$A$44,0),Data!AC$6)),\"\",INDEX(Data_raw!$B$2:$U$44,MATCH($J38,Data_raw!$A$2:$A$44,0),Data!AC$6))","v":3.9347543900000002},{"$f":"IF(ISNA(INDEX(Data_raw!$B$2:$U$44,MATCH($J38,Data_raw!$A$2:$A$44,0),Data!AD$6)),\"\",INDEX(Data_raw!$B$2:$U$44,MATCH($J38,Data_raw!$A$2:$A$44,0),Data!AD$6))","v":4.6001207400000004},{"$f":"IF(ISNA(INDEX(Data_raw!$B$2:$U$44,MATCH($J38,Data_raw!$A$2:$A$44,0),Data!AE$6)),\"\",INDEX(Data_raw!$B$2:$U$44,MATCH($J38,Data_raw!$A$2:$A$44,0),Data!AE$6))","v":4.90954874},{"$f":"IF(ISNA(INDEX(Data_raw!$B$2:$U$44,MATCH($J38,Data_raw!$A$2:$A$44,0),Data!AF$6)),\"\",INDEX(Data_raw!$B$2:$U$44,MATCH($J38,Data_raw!$A$2:$A$44,0),Data!AF$6))","v":4.6936391899999999},{"$f":"IF(ISNA(INDEX(Data_raw!$B$2:$U$44,MATCH($J38,Data_raw!$A$2:$A$44,0),Data!AG$6)),\"\",INDEX(Data_raw!$B$2:$U$44,MATCH($J38,Data_raw!$A$2:$A$44,0),Data!AG$6))","v":2.2039151499999998},null,0]
[null,{"$f":"tblIndicators!B33","v":"BUSENV_4_4"},{"$f":"tblIndicators!C33","v":"BUSENV_4"},{"$f":"tblIndicators!D33","v":3},null,{"$f":"tblIndicators!X33","v":6},{"$f":"tblIndicators!D33","v":3},0.51398118999999998,5.6976036800000003,{"$f":"tblIndicators!E33","v":"2.4.4"},null,{"$f":"tblIndicators!AE33","v":"2.4.4) Quality of railroad infrastructure"},{"$f":"IF(tblIndicators!G33=\"\",\"\",IF(G39=3,tblIndicators!G33,\"\"))","v":"Scored 0-6 "},{"$f":"IF(ISNA(INDEX(Data_raw!$B$2:$U$44,MATCH($J39,Data_raw!$A$2:$A$44,0),Data!N$6)),\"\",INDEX(Data_raw!$B$2:$U$44,MATCH($J39,Data_raw!$A$2:$A$44,0),Data!N$6))","v":0.73535114000000001},{"$f":"IF(ISNA(INDEX(Data_raw!$B$2:$U$44,MATCH($J39,Data_raw!$A$2:$A$44,0),Data!O$6)),\"\",INDEX(Data_raw!$B$2:$U$44,MATCH($J39,Data_raw!$A$2:$A$44,0),Data!O$6))","v":3.84234265},{"$f":"IF(ISNA(INDEX(Data_raw!$B$2:$U$44,MATCH($J39,Data_raw!$A$2:$A$44,0),Data!P$6)),\"\",INDEX(Data_raw!$B$2:$U$44,MATCH($J39,Data_raw!$A$2:$A$44,0),Data!P$6))","v":1.46288605},{"$f":"IF(ISNA(INDEX(Data_raw!$B$2:$U$44,MATCH($J39,Data_raw!$A$2:$A$44,0),Data!Q$6)),\"\",INDEX(Data_raw!$B$2:$U$44,MATCH($J39,Data_raw!$A$2:$A$44,0),Data!Q$6))","v":3.8483251900000002},{"$f":"IF(ISNA(INDEX(Data_raw!$B$2:$U$44,MATCH($J39,Data_raw!$A$2:$A$44,0),Data!R$6)),\"\",INDEX(Data_raw!$B$2:$U$44,MATCH($J39,Data_raw!$A$2:$A$44,0),Data!R$6))","v":4.8927856800000002},{"$f":"IF(ISNA(INDEX(Data_raw!$B$2:$U$44,MATCH($J39,Data_raw!$A$2:$A$44,0),Data!S$6)),\"\",INDEX(Data_raw!$B$2:$U$44,MATCH($J39,Data_raw!$A$2:$A$44,0),Data!S$6))","v":3.2498553299999999},{"$f":"IF(ISNA(INDEX(Data_raw!$B$2:$U$44,MATCH($J39,Data_raw!$A$2:$A$44,0),Data!T$6)),\"\",INDEX(Data_raw!$B$2:$U$44,MATCH($J39,Data_raw!$A$2:$A$44,0),Data!T$6))","v":2.6869991099999999},{"$f":"IF(ISNA(INDEX(Data_raw!$B$2:$U$44,MATCH($J39,Data_raw!$A$2:$A$44,0),Data!U$6)),\"\",INDEX(Data_raw!$B$2:$U$44,MATCH($J39,Data_raw!$A$2:$A$44,0),Data!U$6))","v":5.6976036800000003},{"$f":"IF(ISNA(INDEX(Data_raw!$B$2:$U$44,MATCH($J39,Data_raw!$A$2:$A$44,0),Data!V$6)),\"\",INDEX(Data_raw!$B$2:$U$44,MATCH($J39,Data_raw!$A$2:$A$44,0),Data!V$6))","v":1.7749697799999999},{"$f":"IF(ISNA(INDEX(Data_raw!$B$2:$U$44,MATCH($J39,Data_raw!$A$2:$A$44,0),Data!W$6)),\"\",INDEX(Data_raw!$B$2:$U$44,MATCH($J39,Data_raw!$A$2:$A$44,0),Data!W$6))","v":2.7213479},{"$f":"IF(ISNA(INDEX(Data_raw!$B$2:$U$44,MATCH($J39,Data_raw!$A$2:$A$44,0),Data!X$6)),\"\",INDEX(Data_raw!$B$2:$U$44,MATCH($J39,Data_raw!$A$2:$A$44,0),Data!X$6))","v":0.51398118999999998},{"$f":"IF(ISNA(INDEX(Data_raw!$B$2:$U$44,MATCH($J39,Data_raw!$A$2:$A$44,0),Data!Y$6)),\"\",INDEX(Data_raw!$B$2:$U$44,MATCH($J39,Data_raw!$A$2:$A$44,0),Data!Y$6))","v":2.8776080300000002},{"$f":"IF(ISNA(INDEX(Data_raw!$B$2:$U$44,MATCH($J39,Data_raw!$A$2:$A$44,0),Data!Z$6)),\"\",INDEX(Data_raw!$B$2:$U$44,MATCH($J39,Data_raw!$A$2:$A$44,0),Data!Z$6))","v":0.87926344000000001},{"$f":"IF(ISNA(INDEX(Data_raw!$B$2:$U$44,MATCH($J39,Data_raw!$A$2:$A$44,0),Data!AA$6)),\"\",INDEX(Data_raw!$B$2:$U$44,MATCH($J39,Data_raw!$A$2:$A$44,0),Data!AA$6))","v":1.2856122800000001},{"$f":"IF(ISNA(INDEX(Data_raw!$B$2:$U$44,MATCH($J39,Data_raw!$A$2:$A$44,0),Data!AB$6)),\"\",INDEX(Data_raw!$B$2:$U$44,MATCH($J39,Data_raw!$A$2:$A$44,0),Data!AB$6))","v":3.2908634700000001},{"$f":"IF(ISNA(INDEX(Data_raw!$B$2:$U$44,MATCH($J39,Data_raw!$A$2:$A$44,0),Data!AC$6)),\"\",INDEX(Data_raw!$B$2:$U$44,MATCH($J39,Data_raw!$A$2:$A$44,0),Data!AC$6))","v":2.4234970800000002},{"$f":"IF(ISNA(INDEX(Data_raw!$B$2:$U$44,MATCH($J39,Data_raw!$A$2:$A$44,0),Data!AD$6)),\"\",INDEX(Data_raw!$B$2:$U$44,MATCH($J39,Data_raw!$A$2:$A$44,0),Data!AD$6))","v":4.6144693200000004},{"$f":"IF(ISNA(INDEX(Data_raw!$B$2:$U$44,MATCH($J39,Data_raw!$A$2:$A$44,0),Data!AE$6)),\"\",INDEX(Data_raw!$B$2:$U$44,MATCH($J39,Data_raw!$A$2:$A$44,0),Data!AE$6))","v":4.9776866899999996},{"$f":"IF(ISNA(INDEX(Data_raw!$B$2:$U$44,MATCH($J39,Data_raw!$A$2:$A$44,0),Data!AF$6)),\"\",INDEX(Data_raw!$B$2:$U$44,MATCH($J39,Data_raw!$A$2:$A$44,0),Data!AF$6))","v":3.8940298599999998},{"$f":"IF(ISNA(INDEX(Data_raw!$B$2:$U$44,MATCH($J39,Data_raw!$A$2:$A$44,0),Data!AG$6)),\"\",INDEX(Data_raw!$B$2:$U$44,MATCH($J39,Data_raw!$A$2:$A$44,0),Data!AG$6))","v":2.0151842599999998},null,0]
[null,{"$f":"tblIndicators!B34","v":"BUSENV_4_5"},{"$f":"tblIndicators!C34","v":"BUSENV_4"},{"$f":"tblIndicators!D34","v":3},null,{"$f":"tblIndicators!X34","v":100},{"$f":"tblIndicators!D34","v":3},8.17,100,{"$f":"tblIndicators!E34","v":"2.4.5"},null,{"$f":"tblIndicators!AE34","v":"2.4.5) Quality of water infrastructure"},{"$f":"IF(tblIndicators!G34=\"\",\"\",IF(G40=3,tblIndicators!G34,\"\"))","v":"Scored 0-100 "},{"$f":"IF(ISNA(INDEX(Data_raw!$B$2:$U$44,MATCH($J40,Data_raw!$A$2:$A$44,0),Data!N$6)),\"\",INDEX(Data_raw!$B$2:$U$44,MATCH($J40,Data_raw!$A$2:$A$44,0),Data!N$6))","v":50.44},{"$f":"IF(ISNA(INDEX(Data_raw!$B$2:$U$44,MATCH($J40,Data_raw!$A$2:$A$44,0),Data!O$6)),\"\",INDEX(Data_raw!$B$2:$U$44,MATCH($J40,Data_raw!$A$2:$A$44,0),Data!O$6))","v":95.9},{"$f":"IF(ISNA(INDEX(Data_raw!$B$2:$U$44,MATCH($J40,Data_raw!$A$2:$A$44,0),Data!P$6)),\"\",INDEX(Data_raw!$B$2:$U$44,MATCH($J40,Data_raw!$A$2:$A$44,0),Data!P$6))","v":79.739999999999995},{"$f":"IF(ISNA(INDEX(Data_raw!$B$2:$U$44,MATCH($J40,Data_raw!$A$2:$A$44,0),Data!Q$6)),\"\",INDEX(Data_raw!$B$2:$U$44,MATCH($J40,Data_raw!$A$2:$A$44,0),Data!Q$6))","v":33.15},{"$f":"IF(ISNA(INDEX(Data_raw!$B$2:$U$44,MATCH($J40,Data_raw!$A$2:$A$44,0),Data!R$6)),\"\",INDEX(Data_raw!$B$2:$U$44,MATCH($J40,Data_raw!$A$2:$A$44,0),Data!R$6))","v":100},{"$f":"IF(ISNA(INDEX(Data_raw!$B$2:$U$44,MATCH($J40,Data_raw!$A$2:$A$44,0),Data!S$6)),\"\",INDEX(Data_raw!$B$2:$U$44,MATCH($J40,Data_raw!$A$2:$A$44,0),Data!S$6))","v":26.28},{"$f":"IF(ISNA(INDEX(Data_raw!$B$2:$U$44,MATCH($J40,Data_raw!$A$2:$A$44,0),Data!T$6)),\"\",INDEX(Data_raw!$B$2:$U$44,MATCH($J40,Data_raw!$A$2:$A$44,0),Data!T$6))","v":24.29},{"$f":"IF(ISNA(INDEX(Data_raw!$B$2:$U$44,MATCH($J40,Data_raw!$A$2:$A$44,0),Data!U$6)),\"\",INDEX(Data_raw!$B$2:$U$44,MATCH($J40,Data_raw!$A$2:$A$44,0),Data!U$6))","v":100},{"$f":"IF(ISNA(INDEX(Data_raw!$B$2:$U$44,MATCH($J40,Data_raw!$A$2:$A$44,0),Data!V$6)),\"\",INDEX(Data_raw!$B$2:$U$44,MATCH($J40,Data_raw!$A$2:$A$44,0),Data!V$6))","v":46.2},{"$f":"IF(ISNA(INDEX(Data_raw!$B$2:$U$44,MATCH($J40,Data_raw!$A$2:$A$44,0),Data!W$6)),\"\",INDEX(Data_raw!$B$2:$U$44,MATCH($J40,Data_raw!$A$2:$A$44,0),Data!W$6))","v":71.28},{"$f":"IF(ISNA(INDEX(Data_raw!$B$2:$U$44,MATCH($J40,Data_raw!$A$2:$A$44,0),Data!X$6)),\"\",INDEX(Data_raw!$B$2:$U$44,MATCH($J40,Data_raw!$A$2:$A$44,0),Data!X$6))","v":8.17},{"$f":"IF(ISNA(INDEX(Data_raw!$B$2:$U$44,MATCH($J40,Data_raw!$A$2:$A$44,0),Data!Y$6)),\"\",INDEX(Data_raw!$B$2:$U$44,MATCH($J40,Data_raw!$A$2:$A$44,0),Data!Y$6))","v":100},{"$f":"IF(ISNA(INDEX(Data_raw!$B$2:$U$44,MATCH($J40,Data_raw!$A$2:$A$44,0),Data!Z$6)),\"\",INDEX(Data_raw!$B$2:$U$44,MATCH($J40,Data_raw!$A$2:$A$44,0),Data!Z$6))","v":29.07},{"$f":"IF(ISNA(INDEX(Data_raw!$B$2:$U$44,MATCH($J40,Data_raw!$A$2:$A$44,0),Data!AA$6)),\"\",INDEX(Data_raw!$B$2:$U$44,MATCH($J40,Data_raw!$A$2:$A$44,0),Data!AA$6))","v":37.35},{"$f":"IF(ISNA(INDEX(Data_raw!$B$2:$U$44,MATCH($J40,Data_raw!$A$2:$A$44,0),Data!AB$6)),\"\",INDEX(Data_raw!$B$2:$U$44,MATCH($J40,Data_raw!$A$2:$A$44,0),Data!AB$6))","v":45.17},{"$f":"IF(ISNA(INDEX(Data_raw!$B$2:$U$44,MATCH($J40,Data_raw!$A$2:$A$44,0),Data!AC$6)),\"\",INDEX(Data_raw!$B$2:$U$44,MATCH($J40,Data_raw!$A$2:$A$44,0),Data!AC$6))","v":36.08},{"$f":"IF(ISNA(INDEX(Data_raw!$B$2:$U$44,MATCH($J40,Data_raw!$A$2:$A$44,0),Data!AD$6)),\"\",INDEX(Data_raw!$B$2:$U$44,MATCH($J40,Data_raw!$A$2:$A$44,0),Data!AD$6))","v":85.92},{"$f":"IF(ISNA(INDEX(Data_raw!$B$2:$U$44,MATCH($J40,Data_raw!$A$2:$A$44,0),Data!AE$6)),\"\",INDEX(Data_raw!$B$2:$U$44,MATCH($J40,Data_raw!$A$2:$A$44,0),Data!AE$6))","v":99.33},{"$f":"IF(ISNA(INDEX(Data_raw!$B$2:$U$44,MATCH($J40,Data_raw!$A$2:$A$44,0),Data!AF$6)),\"\",INDEX(Data_raw!$B$2:$U$44,MATCH($J40,Data_raw!$A$2:$A$44,0),Data!AF$6))","v":86.48},{"$f":"IF(ISNA(INDEX(Data_raw!$B$2:$U$44,MATCH($J40,Data_raw!$A$2:$A$44,0),Data!AG$6)),\"\",INDEX(Data_raw!$B$2:$U$44,MATCH($J40,Data_raw!$A$2:$A$44,0),Data!AG$6))","v":43.15},null,0]
[null,{"$f":"tblIndicators!B35","v":"WATQUAL"},{"$f":"tblIndicators!C35","v":"OVERALL"},{"$f":"tblIndicators!D35","v":1},null,{"$f":"tblIndicators!X35","v":100},{"$f":"tblIndicators!D35","v":1},"","",{"$f":"tblIndicators!E35","v":3},null,{"$f":"tblIndicators!AE35","v":"3) WATER QUALITY"},{"$f":"IF(tblIndicators!G35=\"\",\"\",IF(G41=3,tblIndicators!G35,\"\"))","v":""},{"$f":"IF(ISNA(INDEX(Data_raw!$B$2:$U$44,MATCH($J41,Data_raw!$A$2:$A$44,0),Data!N$6)),\"\",INDEX(Data_raw!$B$2:$U$44,MATCH($J41,Data_raw!$A$2:$A$44,0),Data!N$6))","v":""},{"$f":"IF(ISNA(INDEX(Data_raw!$B$2:$U$44,MATCH($J41,Data_raw!$A$2:$A$44,0),Data!O$6)),\"\",INDEX(Data_raw!$B$2:$U$44,MATCH($J41,Data_raw!$A$2:$A$44,0),Data!O$6))","v":""},{"$f":"IF(ISNA(INDEX(Data_raw!$B$2:$U$44,MATCH($J41,Data_raw!$A$2:$A$44,0),Data!P$6)),\"\",INDEX(Data_raw!$B$2:$U$44,MATCH($J41,Data_raw!$A$2:$A$44,0),Data!P$6))","v":""},{"$f":"IF(ISNA(INDEX(Data_raw!$B$2:$U$44,MATCH($J41,Data_raw!$A$2:$A$44,0),Data!Q$6)),\"\",INDEX(Data_raw!$B$2:$U$44,MATCH($J41,Data_raw!$A$2:$A$44,0),Data!Q$6))","v":""},{"$f":"IF(ISNA(INDEX(Data_raw!$B$2:$U$44,MATCH($J41,Data_raw!$A$2:$A$44,0),Data!R$6)),\"\",INDEX(Data_raw!$B$2:$U$44,MATCH($J41,Data_raw!$A$2:$A$44,0),Data!R$6))","v":""},{"$f":"IF(ISNA(INDEX(Data_raw!$B$2:$U$44,MATCH($J41,Data_raw!$A$2:$A$44,0),Data!S$6)),\"\",INDEX(Data_raw!$B$2:$U$44,MATCH($J41,Data_raw!$A$2:$A$44,0),Data!S$6))","v":""},{"$f":"IF(ISNA(INDEX(Data_raw!$B$2:$U$44,MATCH($J41,Data_raw!$A$2:$A$44,0),Data!T$6)),\"\",INDEX(Data_raw!$B$2:$U$44,MATCH($J41,Data_raw!$A$2:$A$44,0),Data!T$6))","v":""},{"$f":"IF(ISNA(INDEX(Data_raw!$B$2:$U$44,MATCH($J41,Data_raw!$A$2:$A$44,0),Data!U$6)),\"\",INDEX(Data_raw!$B$2:$U$44,MATCH($J41,Data_raw!$A$2:$A$44,0),Data!U$6))","v":""},{"$f":"IF(ISNA(INDEX(Data_raw!$B$2:$U$44,MATCH($J41,Data_raw!$A$2:$A$44,0),Data!V$6)),\"\",INDEX(Data_raw!$B$2:$U$44,MATCH($J41,Data_raw!$A$2:$A$44,0),Data!V$6))","v":""},{"$f":"IF(ISNA(INDEX(Data_raw!$B$2:$U$44,MATCH($J41,Data_raw!$A$2:$A$44,0),Data!W$6)),\"\",INDEX(Data_raw!$B$2:$U$44,MATCH($J41,Data_raw!$A$2:$A$44,0),Data!W$6))","v":""},{"$f":"IF(ISNA(INDEX(Data_raw!$B$2:$U$44,MATCH($J41,Data_raw!$A$2:$A$44,0),Data!X$6)),\"\",INDEX(Data_raw!$B$2:$U$44,MATCH($J41,Data_raw!$A$2:$A$44,0),Data!X$6))","v":""},{"$f":"IF(ISNA(INDEX(Data_raw!$B$2:$U$44,MATCH($J41,Data_raw!$A$2:$A$44,0),Data!Y$6)),\"\",INDEX(Data_raw!$B$2:$U$44,MATCH($J41,Data_raw!$A$2:$A$44,0),Data!Y$6))","v":""},{"$f":"IF(ISNA(INDEX(Data_raw!$B$2:$U$44,MATCH($J41,Data_raw!$A$2:$A$44,0),Data!Z$6)),\"\",INDEX(Data_raw!$B$2:$U$44,MATCH($J41,Data_raw!$A$2:$A$44,0),Data!Z$6))","v":""},{"$f":"IF(ISNA(INDEX(Data_raw!$B$2:$U$44,MATCH($J41,Data_raw!$A$2:$A$44,0),Data!AA$6)),\"\",INDEX(Data_raw!$B$2:$U$44,MATCH($J41,Data_raw!$A$2:$A$44,0),Data!AA$6))","v":""},{"$f":"IF(ISNA(INDEX(Data_raw!$B$2:$U$44,MATCH($J41,Data_raw!$A$2:$A$44,0),Data!AB$6)),\"\",INDEX(Data_raw!$B$2:$U$44,MATCH($J41,Data_raw!$A$2:$A$44,0),Data!AB$6))","v":""},{"$f":"IF(ISNA(INDEX(Data_raw!$B$2:$U$44,MATCH($J41,Data_raw!$A$2:$A$44,0),Data!AC$6)),\"\",INDEX(Data_raw!$B$2:$U$44,MATCH($J41,Data_raw!$A$2:$A$44,0),Data!AC$6))","v":""},{"$f":"IF(ISNA(INDEX(Data_raw!$B$2:$U$44,MATCH($J41,Data_raw!$A$2:$A$44,0),Data!AD$6)),\"\",INDEX(Data_raw!$B$2:$U$44,MATCH($J41,Data_raw!$A$2:$A$44,0),Data!AD$6))","v":""},{"$f":"IF(ISNA(INDEX(Data_raw!$B$2:$U$44,MATCH($J41,Data_raw!$A$2:$A$44,0),Data!AE$6)),\"\",INDEX(Data_raw!$B$2:$U$44,MATCH($J41,Data_raw!$A$2:$A$44,0),Data!AE$6))","v":""},{"$f":"IF(ISNA(INDEX(Data_raw!$B$2:$U$44,MATCH($J41,Data_raw!$A$2:$A$44,0),Data!AF$6)),\"\",INDEX(Data_raw!$B$2:$U$44,MATCH($J41,Data_raw!$A$2:$A$44,0),Data!AF$6))","v":""},{"$f":"IF(ISNA(INDEX(Data_raw!$B$2:$U$44,MATCH($J41,Data_raw!$A$2:$A$44,0),Data!AG$6)),\"\",INDEX(Data_raw!$B$2:$U$44,MATCH($J41,Data_raw!$A$2:$A$44,0),Data!AG$6))","v":""},null,0]
[null,{"$f":"tblIndicators!B36","v":"WATQUAL_1"},{"$f":"tblIndicators!C36","v":"WATQUAL"},{"$f":"tblIndicators!D36","v":2},null,{"$f":"tblIndicators!X36","v":100},{"$f":"tblIndicators!D36","v":2},"","",{"$f":"tblIndicators!E36","v":3.1},null,{"$f":"tblIndicators!AE36","v":"3.1) Agency"},{"$f":"IF(tblIndicators!G36=\"\",\"\",IF(G42=3,tblIndicators!G36,\"\"))","v":""},{"$f":"IF(ISNA(INDEX(Data_raw!$B$2:$U$44,MATCH($J42,Data_raw!$A$2:$A$44,0),Data!N$6)),\"\",INDEX(Data_raw!$B$2:$U$44,MATCH($J42,Data_raw!$A$2:$A$44,0),Data!N$6))","v":""},{"$f":"IF(ISNA(INDEX(Data_raw!$B$2:$U$44,MATCH($J42,Data_raw!$A$2:$A$44,0),Data!O$6)),\"\",INDEX(Data_raw!$B$2:$U$44,MATCH($J42,Data_raw!$A$2:$A$44,0),Data!O$6))","v":""},{"$f":"IF(ISNA(INDEX(Data_raw!$B$2:$U$44,MATCH($J42,Data_raw!$A$2:$A$44,0),Data!P$6)),\"\",INDEX(Data_raw!$B$2:$U$44,MATCH($J42,Data_raw!$A$2:$A$44,0),Data!P$6))","v":""},{"$f":"IF(ISNA(INDEX(Data_raw!$B$2:$U$44,MATCH($J42,Data_raw!$A$2:$A$44,0),Data!Q$6)),\"\",INDEX(Data_raw!$B$2:$U$44,MATCH($J42,Data_raw!$A$2:$A$44,0),Data!Q$6))","v":""},{"$f":"IF(ISNA(INDEX(Data_raw!$B$2:$U$44,MATCH($J42,Data_raw!$A$2:$A$44,0),Data!R$6)),\"\",INDEX(Data_raw!$B$2:$U$44,MATCH($J42,Data_raw!$A$2:$A$44,0),Data!R$6))","v":""},{"$f":"IF(ISNA(INDEX(Data_raw!$B$2:$U$44,MATCH($J42,Data_raw!$A$2:$A$44,0),Data!S$6)),\"\",INDEX(Data_raw!$B$2:$U$44,MATCH($J42,Data_raw!$A$2:$A$44,0),Data!S$6))","v":""},{"$f":"IF(ISNA(INDEX(Data_raw!$B$2:$U$44,MATCH($J42,Data_raw!$A$2:$A$44,0),Data!T$6)),\"\",INDEX(Data_raw!$B$2:$U$44,MATCH($J42,Data_raw!$A$2:$A$44,0),Data!T$6))","v":""},{"$f":"IF(ISNA(INDEX(Data_raw!$B$2:$U$44,MATCH($J42,Data_raw!$A$2:$A$44,0),Data!U$6)),\"\",INDEX(Data_raw!$B$2:$U$44,MATCH($J42,Data_raw!$A$2:$A$44,0),Data!U$6))","v":""},{"$f":"IF(ISNA(INDEX(Data_raw!$B$2:$U$44,MATCH($J42,Data_raw!$A$2:$A$44,0),Data!V$6)),\"\",INDEX(Data_raw!$B$2:$U$44,MATCH($J42,Data_raw!$A$2:$A$44,0),Data!V$6))","v":""},{"$f":"IF(ISNA(INDEX(Data_raw!$B$2:$U$44,MATCH($J42,Data_raw!$A$2:$A$44,0),Data!W$6)),\"\",INDEX(Data_raw!$B$2:$U$44,MATCH($J42,Data_raw!$A$2:$A$44,0),Data!W$6))","v":""},{"$f":"IF(ISNA(INDEX(Data_raw!$B$2:$U$44,MATCH($J42,Data_raw!$A$2:$A$44,0),Data!X$6)),\"\",INDEX(Data_raw!$B$2:$U$44,MATCH($J42,Data_raw!$A$2:$A$44,0),Data!X$6))","v":""},{"$f":"IF(ISNA(INDEX(Data_raw!$B$2:$U$44,MATCH($J42,Data_raw!$A$2:$A$44,0),Data!Y$6)),\"\",INDEX(Data_raw!$B$2:$U$44,MATCH($J42,Data_raw!$A$2:$A$44,0),Data!Y$6))","v":""},{"$f":"IF(ISNA(INDEX(Data_raw!$B$2:$U$44,MATCH($J42,Data_raw!$A$2:$A$44,0),Data!Z$6)),\"\",INDEX(Data_raw!$B$2:$U$44,MATCH($J42,Data_raw!$A$2:$A$44,0),Data!Z$6))","v":""},{"$f":"IF(ISNA(INDEX(Data_raw!$B$2:$U$44,MATCH($J42,Data_raw!$A$2:$A$44,0),Data!AA$6)),\"\",INDEX(Data_raw!$B$2:$U$44,MATCH($J42,Data_raw!$A$2:$A$44,0),Data!AA$6))","v":""},{"$f":"IF(ISNA(INDEX(Data_raw!$B$2:$U$44,MATCH($J42,Data_raw!$A$2:$A$44,0),Data!AB$6)),\"\",INDEX(Data_raw!$B$2:$U$44,MATCH($J42,Data_raw!$A$2:$A$44,0),Data!AB$6))","v":""},{"$f":"IF(ISNA(INDEX(Data_raw!$B$2:$U$44,MATCH($J42,Data_raw!$A$2:$A$44,0),Data!AC$6)),\"\",INDEX(Data_raw!$B$2:$U$44,MATCH($J42,Data_raw!$A$2:$A$44,0),Data!AC$6))","v":""},{"$f":"IF(ISNA(INDEX(Data_raw!$B$2:$U$44,MATCH($J42,Data_raw!$A$2:$A$44,0),Data!AD$6)),\"\",INDEX(Data_raw!$B$2:$U$44,MATCH($J42,Data_raw!$A$2:$A$44,0),Data!AD$6))","v":""},{"$f":"IF(ISNA(INDEX(Data_raw!$B$2:$U$44,MATCH($J42,Data_raw!$A$2:$A$44,0),Data!AE$6)),\"\",INDEX(Data_raw!$B$2:$U$44,MATCH($J42,Data_raw!$A$2:$A$44,0),Data!AE$6))","v":""},{"$f":"IF(ISNA(INDEX(Data_raw!$B$2:$U$44,MATCH($J42,Data_raw!$A$2:$A$44,0),Data!AF$6)),\"\",INDEX(Data_raw!$B$2:$U$44,MATCH($J42,Data_raw!$A$2:$A$44,0),Data!AF$6))","v":""},{"$f":"IF(ISNA(INDEX(Data_raw!$B$2:$U$44,MATCH($J42,Data_raw!$A$2:$A$44,0),Data!AG$6)),\"\",INDEX(Data_raw!$B$2:$U$44,MATCH($J42,Data_raw!$A$2:$A$44,0),Data!AG$6))","v":""},null,0]
[null,{"$f":"tblIndicators!B37","v":"WATQUAL_1_1"},{"$f":"tblIndicators!C37","v":"WATQUAL_1"},{"$f":"tblIndicators!D37","v":3},null,{"$f":"tblIndicators!X37","v":2},{"$f":"tblIndicators!D37","v":3},1,2,{"$f":"tblIndicators!E37","v":"3.1.1"},null,{"$f":"tblIndicators!AE37","v":"3.1.1) Agency responsible for freshwater pollution controls"},{"$f":"IF(tblIndicators!G37=\"\",\"\",IF(G43=3,tblIndicators!G37,\"\"))","v":"Scored 0-2 "},{"$f":"IF(ISNA(INDEX(Data_raw!$B$2:$U$44,MATCH($J43,Data_raw!$A$2:$A$44,0),Data!N$6)),\"\",INDEX(Data_raw!$B$2:$U$44,MATCH($J43,Data_raw!$A$2:$A$44,0),Data!N$6))","v":2},{"$f":"IF(ISNA(INDEX(Data_raw!$B$2:$U$44,MATCH($J43,Data_raw!$A$2:$A$44,0),Data!O$6)),\"\",INDEX(Data_raw!$B$2:$U$44,MATCH($J43,Data_raw!$A$2:$A$44,0),Data!O$6))","v":1},{"$f":"IF(ISNA(INDEX(Data_raw!$B$2:$U$44,MATCH($J43,Data_raw!$A$2:$A$44,0),Data!P$6)),\"\",INDEX(Data_raw!$B$2:$U$44,MATCH($J43,Data_raw!$A$2:$A$44,0),Data!P$6))","v":2},{"$f":"IF(ISNA(INDEX(Data_raw!$B$2:$U$44,MATCH($J43,Data_raw!$A$2:$A$44,0),Data!Q$6)),\"\",INDEX(Data_raw!$B$2:$U$44,MATCH($J43,Data_raw!$A$2:$A$44,0),Data!Q$6))","v":2},{"$f":"IF(ISNA(INDEX(Data_raw!$B$2:$U$44,MATCH($J43,Data_raw!$A$2:$A$44,0),Data!R$6)),\"\",INDEX(Data_raw!$B$2:$U$44,MATCH($J43,Data_raw!$A$2:$A$44,0),Data!R$6))","v":2},{"$f":"IF(ISNA(INDEX(Data_raw!$B$2:$U$44,MATCH($J43,Data_raw!$A$2:$A$44,0),Data!S$6)),\"\",INDEX(Data_raw!$B$2:$U$44,MATCH($J43,Data_raw!$A$2:$A$44,0),Data!S$6))","v":2},{"$f":"IF(ISNA(INDEX(Data_raw!$B$2:$U$44,MATCH($J43,Data_raw!$A$2:$A$44,0),Data!T$6)),\"\",INDEX(Data_raw!$B$2:$U$44,MATCH($J43,Data_raw!$A$2:$A$44,0),Data!T$6))","v":2},{"$f":"IF(ISNA(INDEX(Data_raw!$B$2:$U$44,MATCH($J43,Data_raw!$A$2:$A$44,0),Data!U$6)),\"\",INDEX(Data_raw!$B$2:$U$44,MATCH($J43,Data_raw!$A$2:$A$44,0),Data!U$6))","v":2},{"$f":"IF(ISNA(INDEX(Data_raw!$B$2:$U$44,MATCH($J43,Data_raw!$A$2:$A$44,0),Data!V$6)),\"\",INDEX(Data_raw!$B$2:$U$44,MATCH($J43,Data_raw!$A$2:$A$44,0),Data!V$6))","v":2},{"$f":"IF(ISNA(INDEX(Data_raw!$B$2:$U$44,MATCH($J43,Data_raw!$A$2:$A$44,0),Data!W$6)),\"\",INDEX(Data_raw!$B$2:$U$44,MATCH($J43,Data_raw!$A$2:$A$44,0),Data!W$6))","v":2},{"$f":"IF(ISNA(INDEX(Data_raw!$B$2:$U$44,MATCH($J43,Data_raw!$A$2:$A$44,0),Data!X$6)),\"\",INDEX(Data_raw!$B$2:$U$44,MATCH($J43,Data_raw!$A$2:$A$44,0),Data!X$6))","v":2},{"$f":"IF(ISNA(INDEX(Data_raw!$B$2:$U$44,MATCH($J43,Data_raw!$A$2:$A$44,0),Data!Y$6)),\"\",INDEX(Data_raw!$B$2:$U$44,MATCH($J43,Data_raw!$A$2:$A$44,0),Data!Y$6))","v":2},{"$f":"IF(ISNA(INDEX(Data_raw!$B$2:$U$44,MATCH($J43,Data_raw!$A$2:$A$44,0),Data!Z$6)),\"\",INDEX(Data_raw!$B$2:$U$44,MATCH($J43,Data_raw!$A$2:$A$44,0),Data!Z$6))","v":2},{"$f":"IF(ISNA(INDEX(Data_raw!$B$2:$U$44,MATCH($J43,Data_raw!$A$2:$A$44,0),Data!AA$6)),\"\",INDEX(Data_raw!$B$2:$U$44,MATCH($J43,Data_raw!$A$2:$A$44,0),Data!AA$6))","v":2},{"$f":"IF(ISNA(INDEX(Data_raw!$B$2:$U$44,MATCH($J43,Data_raw!$A$2:$A$44,0),Data!AB$6)),\"\",INDEX(Data_raw!$B$2:$U$44,MATCH($J43,Data_raw!$A$2:$A$44,0),Data!AB$6))","v":2},{"$f":"IF(ISNA(INDEX(Data_raw!$B$2:$U$44,MATCH($J43,Data_raw!$A$2:$A$44,0),Data!AC$6)),\"\",INDEX(Data_raw!$B$2:$U$44,MATCH($J43,Data_raw!$A$2:$A$44,0),Data!AC$6))","v":2},{"$f":"IF(ISNA(INDEX(Data_raw!$B$2:$U$44,MATCH($J43,Data_raw!$A$2:$A$44,0),Data!AD$6)),\"\",INDEX(Data_raw!$B$2:$U$44,MATCH($J43,Data_raw!$A$2:$A$44,0),Data!AD$6))","v":2},{"$f":"IF(ISNA(INDEX(Data_raw!$B$2:$U$44,MATCH($J43,Data_raw!$A$2:$A$44,0),Data!AE$6)),\"\",INDEX(Data_raw!$B$2:$U$44,MATCH($J43,Data_raw!$A$2:$A$44,0),Data!AE$6))","v":2},{"$f":"IF(ISNA(INDEX(Data_raw!$B$2:$U$44,MATCH($J43,Data_raw!$A$2:$A$44,0),Data!AF$6)),\"\",INDEX(Data_raw!$B$2:$U$44,MATCH($J43,Data_raw!$A$2:$A$44,0),Data!AF$6))","v":2},{"$f":"IF(ISNA(INDEX(Data_raw!$B$2:$U$44,MATCH($J43,Data_raw!$A$2:$A$44,0),Data!AG$6)),\"\",INDEX(Data_raw!$B$2:$U$44,MATCH($J43,Data_raw!$A$2:$A$44,0),Data!AG$6))","v":2},null,0]
[null,{"$f":"tblIndicators!B38","v":"WATQUAL_2"},{"$f":"tblIndicators!C38","v":"WATQUAL"},{"$f":"tblIndicators!D38","v":2},null,{"$f":"tblIndicators!X38","v":100},{"$f":"tblIndicators!D38","v":2},"","",{"$f":"tblIndicators!E38","v":3.2},null,{"$f":"tblIndicators!AE38","v":"3.2) Regulatory standards for water pollution"},{"$f":"IF(tblIndicators!G38=\"\",\"\",IF(G44=3,tblIndicators!G38,\"\"))","v":""},{"$f":"IF(ISNA(INDEX(Data_raw!$B$2:$U$44,MATCH($J44,Data_raw!$A$2:$A$44,0),Data!N$6)),\"\",INDEX(Data_raw!$B$2:$U$44,MATCH($J44,Data_raw!$A$2:$A$44,0),Data!N$6))","v":""},{"$f":"IF(ISNA(INDEX(Data_raw!$B$2:$U$44,MATCH($J44,Data_raw!$A$2:$A$44,0),Data!O$6)),\"\",INDEX(Data_raw!$B$2:$U$44,MATCH($J44,Data_raw!$A$2:$A$44,0),Data!O$6))","v":""},{"$f":"IF(ISNA(INDEX(Data_raw!$B$2:$U$44,MATCH($J44,Data_raw!$A$2:$A$44,0),Data!P$6)),\"\",INDEX(Data_raw!$B$2:$U$44,MATCH($J44,Data_raw!$A$2:$A$44,0),Data!P$6))","v":""},{"$f":"IF(ISNA(INDEX(Data_raw!$B$2:$U$44,MATCH($J44,Data_raw!$A$2:$A$44,0),Data!Q$6)),\"\",INDEX(Data_raw!$B$2:$U$44,MATCH($J44,Data_raw!$A$2:$A$44,0),Data!Q$6))","v":""},{"$f":"IF(ISNA(INDEX(Data_raw!$B$2:$U$44,MATCH($J44,Data_raw!$A$2:$A$44,0),Data!R$6)),\"\",INDEX(Data_raw!$B$2:$U$44,MATCH($J44,Data_raw!$A$2:$A$44,0),Data!R$6))","v":""},{"$f":"IF(ISNA(INDEX(Data_raw!$B$2:$U$44,MATCH($J44,Data_raw!$A$2:$A$44,0),Data!S$6)),\"\",INDEX(Data_raw!$B$2:$U$44,MATCH($J44,Data_raw!$A$2:$A$44,0),Data!S$6))","v":""},{"$f":"IF(ISNA(INDEX(Data_raw!$B$2:$U$44,MATCH($J44,Data_raw!$A$2:$A$44,0),Data!T$6)),\"\",INDEX(Data_raw!$B$2:$U$44,MATCH($J44,Data_raw!$A$2:$A$44,0),Data!T$6))","v":""},{"$f":"IF(ISNA(INDEX(Data_raw!$B$2:$U$44,MATCH($J44,Data_raw!$A$2:$A$44,0),Data!U$6)),\"\",INDEX(Data_raw!$B$2:$U$44,MATCH($J44,Data_raw!$A$2:$A$44,0),Data!U$6))","v":""},{"$f":"IF(ISNA(INDEX(Data_raw!$B$2:$U$44,MATCH($J44,Data_raw!$A$2:$A$44,0),Data!V$6)),\"\",INDEX(Data_raw!$B$2:$U$44,MATCH($J44,Data_raw!$A$2:$A$44,0),Data!V$6))","v":""},{"$f":"IF(ISNA(INDEX(Data_raw!$B$2:$U$44,MATCH($J44,Data_raw!$A$2:$A$44,0),Data!W$6)),\"\",INDEX(Data_raw!$B$2:$U$44,MATCH($J44,Data_raw!$A$2:$A$44,0),Data!W$6))","v":""},{"$f":"IF(ISNA(INDEX(Data_raw!$B$2:$U$44,MATCH($J44,Data_raw!$A$2:$A$44,0),Data!X$6)),\"\",INDEX(Data_raw!$B$2:$U$44,MATCH($J44,Data_raw!$A$2:$A$44,0),Data!X$6))","v":""},{"$f":"IF(ISNA(INDEX(Data_raw!$B$2:$U$44,MATCH($J44,Data_raw!$A$2:$A$44,0),Data!Y$6)),\"\",INDEX(Data_raw!$B$2:$U$44,MATCH($J44,Data_raw!$A$2:$A$44,0),Data!Y$6))","v":""},{"$f":"IF(ISNA(INDEX(Data_raw!$B$2:$U$44,MATCH($J44,Data_raw!$A$2:$A$44,0),Data!Z$6)),\"\",INDEX(Data_raw!$B$2:$U$44,MATCH($J44,Data_raw!$A$2:$A$44,0),Data!Z$6))","v":""},{"$f":"IF(ISNA(INDEX(Data_raw!$B$2:$U$44,MATCH($J44,Data_raw!$A$2:$A$44,0),Data!AA$6)),\"\",INDEX(Data_raw!$B$2:$U$44,MATCH($J44,Data_raw!$A$2:$A$44,0),Data!AA$6))","v":""},{"$f":"IF(ISNA(INDEX(Data_raw!$B$2:$U$44,MATCH($J44,Data_raw!$A$2:$A$44,0),Data!AB$6)),\"\",INDEX(Data_raw!$B$2:$U$44,MATCH($J44,Data_raw!$A$2:$A$44,0),Data!AB$6))","v":""},{"$f":"IF(ISNA(INDEX(Data_raw!$B$2:$U$44,MATCH($J44,Data_raw!$A$2:$A$44,0),Data!AC$6)),\"\",INDEX(Data_raw!$B$2:$U$44,MATCH($J44,Data_raw!$A$2:$A$44,0),Data!AC$6))","v":""},{"$f":"IF(ISNA(INDEX(Data_raw!$B$2:$U$44,MATCH($J44,Data_raw!$A$2:$A$44,0),Data!AD$6)),\"\",INDEX(Data_raw!$B$2:$U$44,MATCH($J44,Data_raw!$A$2:$A$44,0),Data!AD$6))","v":""},{"$f":"IF(ISNA(INDEX(Data_raw!$B$2:$U$44,MATCH($J44,Data_raw!$A$2:$A$44,0),Data!AE$6)),\"\",INDEX(Data_raw!$B$2:$U$44,MATCH($J44,Data_raw!$A$2:$A$44,0),Data!AE$6))","v":""},{"$f":"IF(ISNA(INDEX(Data_raw!$B$2:$U$44,MATCH($J44,Data_raw!$A$2:$A$44,0),Data!AF$6)),\"\",INDEX(Data_raw!$B$2:$U$44,MATCH($J44,Data_raw!$A$2:$A$44,0),Data!AF$6))","v":""},{"$f":"IF(ISNA(INDEX(Data_raw!$B$2:$U$44,MATCH($J44,Data_raw!$A$2:$A$44,0),Data!AG$6)),\"\",INDEX(Data_raw!$B$2:$U$44,MATCH($J44,Data_raw!$A$2:$A$44,0),Data!AG$6))","v":""},null,0]
[null,{"$f":"tblIndicators!B39","v":"WATQUAL_2_1"},{"$f":"tblIndicators!C39","v":"WATQUAL_2"},{"$f":"tblIndicators!D39","v":3},null,{"$f":"tblIndicators!X39","v":1},{"$f":"tblIndicators!D39","v":3},1,1,{"$f":"tblIndicators!E39","v":"3.2.1"},null,{"$f":"tblIndicators!AE39","v":"3.2.1) Standards for point source pollution"},{"$f":"IF(tblIndicators!G39=\"\",\"\",IF(G45=3,tblIndicators!G39,\"\"))","v":"Scored 0-1 "},{"$f":"IF(ISNA(INDEX(Data_raw!$B$2:$U$44,MATCH($J45,Data_raw!$A$2:$A$44,0),Data!N$6)),\"\",INDEX(Data_raw!$B$2:$U$44,MATCH($J45,Data_raw!$A$2:$A$44,0),Data!N$6))","v":1},{"$f":"IF(ISNA(INDEX(Data_raw!$B$2:$U$44,MATCH($J45,Data_raw!$A$2:$A$44,0),Data!O$6)),\"\",INDEX(Data_raw!$B$2:$U$44,MATCH($J45,Data_raw!$A$2:$A$44,0),Data!O$6))","v":1},{"$f":"IF(ISNA(INDEX(Data_raw!$B$2:$U$44,MATCH($J45,Data_raw!$A$2:$A$44,0),Data!P$6)),\"\",INDEX(Data_raw!$B$2:$U$44,MATCH($J45,Data_raw!$A$2:$A$44,0),Data!P$6))","v":1},{"$f":"IF(ISNA(INDEX(Data_raw!$B$2:$U$44,MATCH($J45,Data_raw!$A$2:$A$44,0),Data!Q$6)),\"\",INDEX(Data_raw!$B$2:$U$44,MATCH($J45,Data_raw!$A$2:$A$44,0),Data!Q$6))","v":1},{"$f":"IF(ISNA(INDEX(Data_raw!$B$2:$U$44,MATCH($J45,Data_raw!$A$2:$A$44,0),Data!R$6)),\"\",INDEX(Data_raw!$B$2:$U$44,MATCH($J45,Data_raw!$A$2:$A$44,0),Data!R$6))","v":1},{"$f":"IF(ISNA(INDEX(Data_raw!$B$2:$U$44,MATCH($J45,Data_raw!$A$2:$A$44,0),Data!S$6)),\"\",INDEX(Data_raw!$B$2:$U$44,MATCH($J45,Data_raw!$A$2:$A$44,0),Data!S$6))","v":1},{"$f":"IF(ISNA(INDEX(Data_raw!$B$2:$U$44,MATCH($J45,Data_raw!$A$2:$A$44,0),Data!T$6)),\"\",INDEX(Data_raw!$B$2:$U$44,MATCH($J45,Data_raw!$A$2:$A$44,0),Data!T$6))","v":1},{"$f":"IF(ISNA(INDEX(Data_raw!$B$2:$U$44,MATCH($J45,Data_raw!$A$2:$A$44,0),Data!U$6)),\"\",INDEX(Data_raw!$B$2:$U$44,MATCH($J45,Data_raw!$A$2:$A$44,0),Data!U$6))","v":1},{"$f":"IF(ISNA(INDEX(Data_raw!$B$2:$U$44,MATCH($J45,Data_raw!$A$2:$A$44,0),Data!V$6)),\"\",INDEX(Data_raw!$B$2:$U$44,MATCH($J45,Data_raw!$A$2:$A$44,0),Data!V$6))","v":1},{"$f":"IF(ISNA(INDEX(Data_raw!$B$2:$U$44,MATCH($J45,Data_raw!$A$2:$A$44,0),Data!W$6)),\"\",INDEX(Data_raw!$B$2:$U$44,MATCH($J45,Data_raw!$A$2:$A$44,0),Data!W$6))","v":1},{"$f":"IF(ISNA(INDEX(Data_raw!$B$2:$U$44,MATCH($J45,Data_raw!$A$2:$A$44,0),Data!X$6)),\"\",INDEX(Data_raw!$B$2:$U$44,MATCH($J45,Data_raw!$A$2:$A$44,0),Data!X$6))","v":1},{"$f":"IF(ISNA(INDEX(Data_raw!$B$2:$U$44,MATCH($J45,Data_raw!$A$2:$A$44,0),Data!Y$6)),\"\",INDEX(Data_raw!$B$2:$U$44,MATCH($J45,Data_raw!$A$2:$A$44,0),Data!Y$6))","v":1},{"$f":"IF(ISNA(INDEX(Data_raw!$B$2:$U$44,MATCH($J45,Data_raw!$A$2:$A$44,0),Data!Z$6)),\"\",INDEX(Data_raw!$B$2:$U$44,MATCH($J45,Data_raw!$A$2:$A$44,0),Data!Z$6))","v":1},{"$f":"IF(ISNA(INDEX(Data_raw!$B$2:$U$44,MATCH($J45,Data_raw!$A$2:$A$44,0),Data!AA$6)),\"\",INDEX(Data_raw!$B$2:$U$44,MATCH($J45,Data_raw!$A$2:$A$44,0),Data!AA$6))","v":1},{"$f":"IF(ISNA(INDEX(Data_raw!$B$2:$U$44,MATCH($J45,Data_raw!$A$2:$A$44,0),Data!AB$6)),\"\",INDEX(Data_raw!$B$2:$U$44,MATCH($J45,Data_raw!$A$2:$A$44,0),Data!AB$6))","v":1},{"$f":"IF(ISNA(INDEX(Data_raw!$B$2:$U$44,MATCH($J45,Data_raw!$A$2:$A$44,0),Data!AC$6)),\"\",INDEX(Data_raw!$B$2:$U$44,MATCH($J45,Data_raw!$A$2:$A$44,0),Data!AC$6))","v":1},{"$f":"IF(ISNA(INDEX(Data_raw!$B$2:$U$44,MATCH($J45,Data_raw!$A$2:$A$44,0),Data!AD$6)),\"\",INDEX(Data_raw!$B$2:$U$44,MATCH($J45,Data_raw!$A$2:$A$44,0),Data!AD$6))","v":1},{"$f":"IF(ISNA(INDEX(Data_raw!$B$2:$U$44,MATCH($J45,Data_raw!$A$2:$A$44,0),Data!AE$6)),\"\",INDEX(Data_raw!$B$2:$U$44,MATCH($J45,Data_raw!$A$2:$A$44,0),Data!AE$6))","v":1},{"$f":"IF(ISNA(INDEX(Data_raw!$B$2:$U$44,MATCH($J45,Data_raw!$A$2:$A$44,0),Data!AF$6)),\"\",INDEX(Data_raw!$B$2:$U$44,MATCH($J45,Data_raw!$A$2:$A$44,0),Data!AF$6))","v":1},{"$f":"IF(ISNA(INDEX(Data_raw!$B$2:$U$44,MATCH($J45,Data_raw!$A$2:$A$44,0),Data!AG$6)),\"\",INDEX(Data_raw!$B$2:$U$44,MATCH($J45,Data_raw!$A$2:$A$44,0),Data!AG$6))","v":1},null,1]
[null,{"$f":"tblIndicators!B40","v":"WATQUAL_2_2"},{"$f":"tblIndicators!C40","v":"WATQUAL_2"},{"$f":"tblIndicators!D40","v":3},null,{"$f":"tblIndicators!X40","v":25},{"$f":"tblIndicators!D40","v":3},3,24,{"$f":"tblIndicators!E40","v":"3.2.2"},null,{"$f":"tblIndicators!AE40","v":"3.2.2) Restrictions on \"Dirty Dozen\" persistent pollutants"},{"$f":"IF(tblIndicators!G40=\"\",\"\",IF(G46=3,tblIndicators!G40,\"\"))","v":"Scored 0-25 "},{"$f":"IF(ISNA(INDEX(Data_raw!$B$2:$U$44,MATCH($J46,Data_raw!$A$2:$A$44,0),Data!N$6)),\"\",INDEX(Data_raw!$B$2:$U$44,MATCH($J46,Data_raw!$A$2:$A$44,0),Data!N$6))","v":22},{"$f":"IF(ISNA(INDEX(Data_raw!$B$2:$U$44,MATCH($J46,Data_raw!$A$2:$A$44,0),Data!O$6)),\"\",INDEX(Data_raw!$B$2:$U$44,MATCH($J46,Data_raw!$A$2:$A$44,0),Data!O$6))","v":24},{"$f":"IF(ISNA(INDEX(Data_raw!$B$2:$U$44,MATCH($J46,Data_raw!$A$2:$A$44,0),Data!P$6)),\"\",INDEX(Data_raw!$B$2:$U$44,MATCH($J46,Data_raw!$A$2:$A$44,0),Data!P$6))","v":23},{"$f":"IF(ISNA(INDEX(Data_raw!$B$2:$U$44,MATCH($J46,Data_raw!$A$2:$A$44,0),Data!Q$6)),\"\",INDEX(Data_raw!$B$2:$U$44,MATCH($J46,Data_raw!$A$2:$A$44,0),Data!Q$6))","v":13},{"$f":"IF(ISNA(INDEX(Data_raw!$B$2:$U$44,MATCH($J46,Data_raw!$A$2:$A$44,0),Data!R$6)),\"\",INDEX(Data_raw!$B$2:$U$44,MATCH($J46,Data_raw!$A$2:$A$44,0),Data!R$6))","v":23},{"$f":"IF(ISNA(INDEX(Data_raw!$B$2:$U$44,MATCH($J46,Data_raw!$A$2:$A$44,0),Data!S$6)),\"\",INDEX(Data_raw!$B$2:$U$44,MATCH($J46,Data_raw!$A$2:$A$44,0),Data!S$6))","v":23},{"$f":"IF(ISNA(INDEX(Data_raw!$B$2:$U$44,MATCH($J46,Data_raw!$A$2:$A$44,0),Data!T$6)),\"\",INDEX(Data_raw!$B$2:$U$44,MATCH($J46,Data_raw!$A$2:$A$44,0),Data!T$6))","v":21},{"$f":"IF(ISNA(INDEX(Data_raw!$B$2:$U$44,MATCH($J46,Data_raw!$A$2:$A$44,0),Data!U$6)),\"\",INDEX(Data_raw!$B$2:$U$44,MATCH($J46,Data_raw!$A$2:$A$44,0),Data!U$6))","v":23},{"$f":"IF(ISNA(INDEX(Data_raw!$B$2:$U$44,MATCH($J46,Data_raw!$A$2:$A$44,0),Data!V$6)),\"\",INDEX(Data_raw!$B$2:$U$44,MATCH($J46,Data_raw!$A$2:$A$44,0),Data!V$6))","v":20},{"$f":"IF(ISNA(INDEX(Data_raw!$B$2:$U$44,MATCH($J46,Data_raw!$A$2:$A$44,0),Data!W$6)),\"\",INDEX(Data_raw!$B$2:$U$44,MATCH($J46,Data_raw!$A$2:$A$44,0),Data!W$6))","v":24},{"$f":"IF(ISNA(INDEX(Data_raw!$B$2:$U$44,MATCH($J46,Data_raw!$A$2:$A$44,0),Data!X$6)),\"\",INDEX(Data_raw!$B$2:$U$44,MATCH($J46,Data_raw!$A$2:$A$44,0),Data!X$6))","v":21},{"$f":"IF(ISNA(INDEX(Data_raw!$B$2:$U$44,MATCH($J46,Data_raw!$A$2:$A$44,0),Data!Y$6)),\"\",INDEX(Data_raw!$B$2:$U$44,MATCH($J46,Data_raw!$A$2:$A$44,0),Data!Y$6))","v":23},{"$f":"IF(ISNA(INDEX(Data_raw!$B$2:$U$44,MATCH($J46,Data_raw!$A$2:$A$44,0),Data!Z$6)),\"\",INDEX(Data_raw!$B$2:$U$44,MATCH($J46,Data_raw!$A$2:$A$44,0),Data!Z$6))","v":21},{"$f":"IF(ISNA(INDEX(Data_raw!$B$2:$U$44,MATCH($J46,Data_raw!$A$2:$A$44,0),Data!AA$6)),\"\",INDEX(Data_raw!$B$2:$U$44,MATCH($J46,Data_raw!$A$2:$A$44,0),Data!AA$6))","v":18},{"$f":"IF(ISNA(INDEX(Data_raw!$B$2:$U$44,MATCH($J46,Data_raw!$A$2:$A$44,0),Data!AB$6)),\"\",INDEX(Data_raw!$B$2:$U$44,MATCH($J46,Data_raw!$A$2:$A$44,0),Data!AB$6))","v":3},{"$f":"IF(ISNA(INDEX(Data_raw!$B$2:$U$44,MATCH($J46,Data_raw!$A$2:$A$44,0),Data!AC$6)),\"\",INDEX(Data_raw!$B$2:$U$44,MATCH($J46,Data_raw!$A$2:$A$44,0),Data!AC$6))","v":22},{"$f":"IF(ISNA(INDEX(Data_raw!$B$2:$U$44,MATCH($J46,Data_raw!$A$2:$A$44,0),Data!AD$6)),\"\",INDEX(Data_raw!$B$2:$U$44,MATCH($J46,Data_raw!$A$2:$A$44,0),Data!AD$6))","v":23},{"$f":"IF(ISNA(INDEX(Data_raw!$B$2:$U$44,MATCH($J46,Data_raw!$A$2:$A$44,0),Data!AE$6)),\"\",INDEX(Data_raw!$B$2:$U$44,MATCH($J46,Data_raw!$A$2:$A$44,0),Data!AE$6))","v":23},{"$f":"IF(ISNA(INDEX(Data_raw!$B$2:$U$44,MATCH($J46,Data_raw!$A$2:$A$44,0),Data!AF$6)),\"\",INDEX(Data_raw!$B$2:$U$44,MATCH($J46,Data_raw!$A$2:$A$44,0),Data!AF$6))","v":20},{"$f":"IF(ISNA(INDEX(Data_raw!$B$2:$U$44,MATCH($J46,Data_raw!$A$2:$A$44,0),Data!AG$6)),\"\",INDEX(Data_raw!$B$2:$U$44,MATCH($J46,Data_raw!$A$2:$A$44,0),Data!AG$6))","v":22},null,0]
[null,{"$f":"tblIndicators!B41","v":"WATQUAL_2_3"},{"$f":"tblIndicators!C41","v":"WATQUAL_2"},{"$f":"tblIndicators!D41","v":3},null,{"$f":"tblIndicators!X41","v":100},{"$f":"tblIndicators!D41","v":3},0.02,92.83,{"$f":"tblIndicators!E41","v":"3.2.3"},null,{"$f":"tblIndicators!AE41","v":"3.2.3) Wastewater treatment"},{"$f":"IF(tblIndicators!G41=\"\",\"\",IF(G47=3,tblIndicators!G41,\"\"))","v":"Scored 0-100 "},{"$f":"IF(ISNA(INDEX(Data_raw!$B$2:$U$44,MATCH($J47,Data_raw!$A$2:$A$44,0),Data!N$6)),\"\",INDEX(Data_raw!$B$2:$U$44,MATCH($J47,Data_raw!$A$2:$A$44,0),Data!N$6))","v":10.87},{"$f":"IF(ISNA(INDEX(Data_raw!$B$2:$U$44,MATCH($J47,Data_raw!$A$2:$A$44,0),Data!O$6)),\"\",INDEX(Data_raw!$B$2:$U$44,MATCH($J47,Data_raw!$A$2:$A$44,0),Data!O$6))","v":80.42},{"$f":"IF(ISNA(INDEX(Data_raw!$B$2:$U$44,MATCH($J47,Data_raw!$A$2:$A$44,0),Data!P$6)),\"\",INDEX(Data_raw!$B$2:$U$44,MATCH($J47,Data_raw!$A$2:$A$44,0),Data!P$6))","v":68.849999999999994},{"$f":"IF(ISNA(INDEX(Data_raw!$B$2:$U$44,MATCH($J47,Data_raw!$A$2:$A$44,0),Data!Q$6)),\"\",INDEX(Data_raw!$B$2:$U$44,MATCH($J47,Data_raw!$A$2:$A$44,0),Data!Q$6))","v":18.18},{"$f":"IF(ISNA(INDEX(Data_raw!$B$2:$U$44,MATCH($J47,Data_raw!$A$2:$A$44,0),Data!R$6)),\"\",INDEX(Data_raw!$B$2:$U$44,MATCH($J47,Data_raw!$A$2:$A$44,0),Data!R$6))","v":83.8},{"$f":"IF(ISNA(INDEX(Data_raw!$B$2:$U$44,MATCH($J47,Data_raw!$A$2:$A$44,0),Data!S$6)),\"\",INDEX(Data_raw!$B$2:$U$44,MATCH($J47,Data_raw!$A$2:$A$44,0),Data!S$6))","v":10.49},{"$f":"IF(ISNA(INDEX(Data_raw!$B$2:$U$44,MATCH($J47,Data_raw!$A$2:$A$44,0),Data!T$6)),\"\",INDEX(Data_raw!$B$2:$U$44,MATCH($J47,Data_raw!$A$2:$A$44,0),Data!T$6))","v":0.02},{"$f":"IF(ISNA(INDEX(Data_raw!$B$2:$U$44,MATCH($J47,Data_raw!$A$2:$A$44,0),Data!U$6)),\"\",INDEX(Data_raw!$B$2:$U$44,MATCH($J47,Data_raw!$A$2:$A$44,0),Data!U$6))","v":71.260000000000005},{"$f":"IF(ISNA(INDEX(Data_raw!$B$2:$U$44,MATCH($J47,Data_raw!$A$2:$A$44,0),Data!V$6)),\"\",INDEX(Data_raw!$B$2:$U$44,MATCH($J47,Data_raw!$A$2:$A$44,0),Data!V$6))","v":37.450000000000003},{"$f":"IF(ISNA(INDEX(Data_raw!$B$2:$U$44,MATCH($J47,Data_raw!$A$2:$A$44,0),Data!W$6)),\"\",INDEX(Data_raw!$B$2:$U$44,MATCH($J47,Data_raw!$A$2:$A$44,0),Data!W$6))","v":77.900000000000006},{"$f":"IF(ISNA(INDEX(Data_raw!$B$2:$U$44,MATCH($J47,Data_raw!$A$2:$A$44,0),Data!X$6)),\"\",INDEX(Data_raw!$B$2:$U$44,MATCH($J47,Data_raw!$A$2:$A$44,0),Data!X$6))","v":1.08},{"$f":"IF(ISNA(INDEX(Data_raw!$B$2:$U$44,MATCH($J47,Data_raw!$A$2:$A$44,0),Data!Y$6)),\"\",INDEX(Data_raw!$B$2:$U$44,MATCH($J47,Data_raw!$A$2:$A$44,0),Data!Y$6))","v":77.05},{"$f":"IF(ISNA(INDEX(Data_raw!$B$2:$U$44,MATCH($J47,Data_raw!$A$2:$A$44,0),Data!Z$6)),\"\",INDEX(Data_raw!$B$2:$U$44,MATCH($J47,Data_raw!$A$2:$A$44,0),Data!Z$6))","v":20.98},{"$f":"IF(ISNA(INDEX(Data_raw!$B$2:$U$44,MATCH($J47,Data_raw!$A$2:$A$44,0),Data!AA$6)),\"\",INDEX(Data_raw!$B$2:$U$44,MATCH($J47,Data_raw!$A$2:$A$44,0),Data!AA$6))","v":0.53},{"$f":"IF(ISNA(INDEX(Data_raw!$B$2:$U$44,MATCH($J47,Data_raw!$A$2:$A$44,0),Data!AB$6)),\"\",INDEX(Data_raw!$B$2:$U$44,MATCH($J47,Data_raw!$A$2:$A$44,0),Data!AB$6))","v":21.5},{"$f":"IF(ISNA(INDEX(Data_raw!$B$2:$U$44,MATCH($J47,Data_raw!$A$2:$A$44,0),Data!AC$6)),\"\",INDEX(Data_raw!$B$2:$U$44,MATCH($J47,Data_raw!$A$2:$A$44,0),Data!AC$6))","v":27.86},{"$f":"IF(ISNA(INDEX(Data_raw!$B$2:$U$44,MATCH($J47,Data_raw!$A$2:$A$44,0),Data!AD$6)),\"\",INDEX(Data_raw!$B$2:$U$44,MATCH($J47,Data_raw!$A$2:$A$44,0),Data!AD$6))","v":83.68},{"$f":"IF(ISNA(INDEX(Data_raw!$B$2:$U$44,MATCH($J47,Data_raw!$A$2:$A$44,0),Data!AE$6)),\"\",INDEX(Data_raw!$B$2:$U$44,MATCH($J47,Data_raw!$A$2:$A$44,0),Data!AE$6))","v":92.83},{"$f":"IF(ISNA(INDEX(Data_raw!$B$2:$U$44,MATCH($J47,Data_raw!$A$2:$A$44,0),Data!AF$6)),\"\",INDEX(Data_raw!$B$2:$U$44,MATCH($J47,Data_raw!$A$2:$A$44,0),Data!AF$6))","v":63.67},{"$f":"IF(ISNA(INDEX(Data_raw!$B$2:$U$44,MATCH($J47,Data_raw!$A$2:$A$44,0),Data!AG$6)),\"\",INDEX(Data_raw!$B$2:$U$44,MATCH($J47,Data_raw!$A$2:$A$44,0),Data!AG$6))","v":0.14000000000000001},null,0]
[null,{"$f":"tblIndicators!B42","v":"WATQUAL_3"},{"$f":"tblIndicators!C42","v":"WATQUAL"},{"$f":"tblIndicators!D42","v":2},null,{"$f":"tblIndicators!X42","v":100},{"$f":"tblIndicators!D42","v":2},"","",{"$f":"tblIndicators!E42","v":3.3},null,{"$f":"tblIndicators!AE42","v":"3.3) Monitoring and enforcement"},{"$f":"IF(tblIndicators!G42=\"\",\"\",IF(G48=3,tblIndicators!G42,\"\"))","v":""},{"$f":"IF(ISNA(INDEX(Data_raw!$B$2:$U$44,MATCH($J48,Data_raw!$A$2:$A$44,0),Data!N$6)),\"\",INDEX(Data_raw!$B$2:$U$44,MATCH($J48,Data_raw!$A$2:$A$44,0),Data!N$6))","v":""},{"$f":"IF(ISNA(INDEX(Data_raw!$B$2:$U$44,MATCH($J48,Data_raw!$A$2:$A$44,0),Data!O$6)),\"\",INDEX(Data_raw!$B$2:$U$44,MATCH($J48,Data_raw!$A$2:$A$44,0),Data!O$6))","v":""},{"$f":"IF(ISNA(INDEX(Data_raw!$B$2:$U$44,MATCH($J48,Data_raw!$A$2:$A$44,0),Data!P$6)),\"\",INDEX(Data_raw!$B$2:$U$44,MATCH($J48,Data_raw!$A$2:$A$44,0),Data!P$6))","v":""},{"$f":"IF(ISNA(INDEX(Data_raw!$B$2:$U$44,MATCH($J48,Data_raw!$A$2:$A$44,0),Data!Q$6)),\"\",INDEX(Data_raw!$B$2:$U$44,MATCH($J48,Data_raw!$A$2:$A$44,0),Data!Q$6))","v":""},{"$f":"IF(ISNA(INDEX(Data_raw!$B$2:$U$44,MATCH($J48,Data_raw!$A$2:$A$44,0),Data!R$6)),\"\",INDEX(Data_raw!$B$2:$U$44,MATCH($J48,Data_raw!$A$2:$A$44,0),Data!R$6))","v":""},{"$f":"IF(ISNA(INDEX(Data_raw!$B$2:$U$44,MATCH($J48,Data_raw!$A$2:$A$44,0),Data!S$6)),\"\",INDEX(Data_raw!$B$2:$U$44,MATCH($J48,Data_raw!$A$2:$A$44,0),Data!S$6))","v":""},{"$f":"IF(ISNA(INDEX(Data_raw!$B$2:$U$44,MATCH($J48,Data_raw!$A$2:$A$44,0),Data!T$6)),\"\",INDEX(Data_raw!$B$2:$U$44,MATCH($J48,Data_raw!$A$2:$A$44,0),Data!T$6))","v":""},{"$f":"IF(ISNA(INDEX(Data_raw!$B$2:$U$44,MATCH($J48,Data_raw!$A$2:$A$44,0),Data!U$6)),\"\",INDEX(Data_raw!$B$2:$U$44,MATCH($J48,Data_raw!$A$2:$A$44,0),Data!U$6))","v":""},{"$f":"IF(ISNA(INDEX(Data_raw!$B$2:$U$44,MATCH($J48,Data_raw!$A$2:$A$44,0),Data!V$6)),\"\",INDEX(Data_raw!$B$2:$U$44,MATCH($J48,Data_raw!$A$2:$A$44,0),Data!V$6))","v":""},{"$f":"IF(ISNA(INDEX(Data_raw!$B$2:$U$44,MATCH($J48,Data_raw!$A$2:$A$44,0),Data!W$6)),\"\",INDEX(Data_raw!$B$2:$U$44,MATCH($J48,Data_raw!$A$2:$A$44,0),Data!W$6))","v":""},{"$f":"IF(ISNA(INDEX(Data_raw!$B$2:$U$44,MATCH($J48,Data_raw!$A$2:$A$44,0),Data!X$6)),\"\",INDEX(Data_raw!$B$2:$U$44,MATCH($J48,Data_raw!$A$2:$A$44,0),Data!X$6))","v":""},{"$f":"IF(ISNA(INDEX(Data_raw!$B$2:$U$44,MATCH($J48,Data_raw!$A$2:$A$44,0),Data!Y$6)),\"\",INDEX(Data_raw!$B$2:$U$44,MATCH($J48,Data_raw!$A$2:$A$44,0),Data!Y$6))","v":""},{"$f":"IF(ISNA(INDEX(Data_raw!$B$2:$U$44,MATCH($J48,Data_raw!$A$2:$A$44,0),Data!Z$6)),\"\",INDEX(Data_raw!$B$2:$U$44,MATCH($J48,Data_raw!$A$2:$A$44,0),Data!Z$6))","v":""},{"$f":"IF(ISNA(INDEX(Data_raw!$B$2:$U$44,MATCH($J48,Data_raw!$A$2:$A$44,0),Data!AA$6)),\"\",INDEX(Data_raw!$B$2:$U$44,MATCH($J48,Data_raw!$A$2:$A$44,0),Data!AA$6))","v":""},{"$f":"IF(ISNA(INDEX(Data_raw!$B$2:$U$44,MATCH($J48,Data_raw!$A$2:$A$44,0),Data!AB$6)),\"\",INDEX(Data_raw!$B$2:$U$44,MATCH($J48,Data_raw!$A$2:$A$44,0),Data!AB$6))","v":""},{"$f":"IF(ISNA(INDEX(Data_raw!$B$2:$U$44,MATCH($J48,Data_raw!$A$2:$A$44,0),Data!AC$6)),\"\",INDEX(Data_raw!$B$2:$U$44,MATCH($J48,Data_raw!$A$2:$A$44,0),Data!AC$6))","v":""},{"$f":"IF(ISNA(INDEX(Data_raw!$B$2:$U$44,MATCH($J48,Data_raw!$A$2:$A$44,0),Data!AD$6)),\"\",INDEX(Data_raw!$B$2:$U$44,MATCH($J48,Data_raw!$A$2:$A$44,0),Data!AD$6))","v":""},{"$f":"IF(ISNA(INDEX(Data_raw!$B$2:$U$44,MATCH($J48,Data_raw!$A$2:$A$44,0),Data!AE$6)),\"\",INDEX(Data_raw!$B$2:$U$44,MATCH($J48,Data_raw!$A$2:$A$44,0),Data!AE$6))","v":""},{"$f":"IF(ISNA(INDEX(Data_raw!$B$2:$U$44,MATCH($J48,Data_raw!$A$2:$A$44,0),Data!AF$6)),\"\",INDEX(Data_raw!$B$2:$U$44,MATCH($J48,Data_raw!$A$2:$A$44,0),Data!AF$6))","v":""},{"$f":"IF(ISNA(INDEX(Data_raw!$B$2:$U$44,MATCH($J48,Data_raw!$A$2:$A$44,0),Data!AG$6)),\"\",INDEX(Data_raw!$B$2:$U$44,MATCH($J48,Data_raw!$A$2:$A$44,0),Data!AG$6))","v":""},null,0]
[null,{"$f":"tblIndicators!B43","v":"WATQUAL_3_1"},{"$f":"tblIndicators!C43","v":"WATQUAL_3"},{"$f":"tblIndicators!D43","v":3},null,{"$f":"tblIndicators!X43","v":3},{"$f":"tblIndicators!D43","v":3},1,3,{"$f":"tblIndicators!E43","v":"3.3.1"},null,{"$f":"tblIndicators!AE43","v":"3.3.1) Coastal water quality data"},{"$f":"IF(tblIndicators!G43=\"\",\"\",IF(G49=3,tblIndicators!G43,\"\"))","v":"Scored 0-3 "},{"$f":"IF(ISNA(INDEX(Data_raw!$B$2:$U$44,MATCH($J49,Data_raw!$A$2:$A$44,0),Data!N$6)),\"\",INDEX(Data_raw!$B$2:$U$44,MATCH($J49,Data_raw!$A$2:$A$44,0),Data!N$6))","v":3},{"$f":"IF(ISNA(INDEX(Data_raw!$B$2:$U$44,MATCH($J49,Data_raw!$A$2:$A$44,0),Data!O$6)),\"\",INDEX(Data_raw!$B$2:$U$44,MATCH($J49,Data_raw!$A$2:$A$44,0),Data!O$6))","v":3},{"$f":"IF(ISNA(INDEX(Data_raw!$B$2:$U$44,MATCH($J49,Data_raw!$A$2:$A$44,0),Data!P$6)),\"\",INDEX(Data_raw!$B$2:$U$44,MATCH($J49,Data_raw!$A$2:$A$44,0),Data!P$6))","v":3},{"$f":"IF(ISNA(INDEX(Data_raw!$B$2:$U$44,MATCH($J49,Data_raw!$A$2:$A$44,0),Data!Q$6)),\"\",INDEX(Data_raw!$B$2:$U$44,MATCH($J49,Data_raw!$A$2:$A$44,0),Data!Q$6))","v":2},{"$f":"IF(ISNA(INDEX(Data_raw!$B$2:$U$44,MATCH($J49,Data_raw!$A$2:$A$44,0),Data!R$6)),\"\",INDEX(Data_raw!$B$2:$U$44,MATCH($J49,Data_raw!$A$2:$A$44,0),Data!R$6))","v":3},{"$f":"IF(ISNA(INDEX(Data_raw!$B$2:$U$44,MATCH($J49,Data_raw!$A$2:$A$44,0),Data!S$6)),\"\",INDEX(Data_raw!$B$2:$U$44,MATCH($J49,Data_raw!$A$2:$A$44,0),Data!S$6))","v":3},{"$f":"IF(ISNA(INDEX(Data_raw!$B$2:$U$44,MATCH($J49,Data_raw!$A$2:$A$44,0),Data!T$6)),\"\",INDEX(Data_raw!$B$2:$U$44,MATCH($J49,Data_raw!$A$2:$A$44,0),Data!T$6))","v":3},{"$f":"IF(ISNA(INDEX(Data_raw!$B$2:$U$44,MATCH($J49,Data_raw!$A$2:$A$44,0),Data!U$6)),\"\",INDEX(Data_raw!$B$2:$U$44,MATCH($J49,Data_raw!$A$2:$A$44,0),Data!U$6))","v":3},{"$f":"IF(ISNA(INDEX(Data_raw!$B$2:$U$44,MATCH($J49,Data_raw!$A$2:$A$44,0),Data!V$6)),\"\",INDEX(Data_raw!$B$2:$U$44,MATCH($J49,Data_raw!$A$2:$A$44,0),Data!V$6))","v":3},{"$f":"IF(ISNA(INDEX(Data_raw!$B$2:$U$44,MATCH($J49,Data_raw!$A$2:$A$44,0),Data!W$6)),\"\",INDEX(Data_raw!$B$2:$U$44,MATCH($J49,Data_raw!$A$2:$A$44,0),Data!W$6))","v":3},{"$f":"IF(ISNA(INDEX(Data_raw!$B$2:$U$44,MATCH($J49,Data_raw!$A$2:$A$44,0),Data!X$6)),\"\",INDEX(Data_raw!$B$2:$U$44,MATCH($J49,Data_raw!$A$2:$A$44,0),Data!X$6))","v":1},{"$f":"IF(ISNA(INDEX(Data_raw!$B$2:$U$44,MATCH($J49,Data_raw!$A$2:$A$44,0),Data!Y$6)),\"\",INDEX(Data_raw!$B$2:$U$44,MATCH($J49,Data_raw!$A$2:$A$44,0),Data!Y$6))","v":2},{"$f":"IF(ISNA(INDEX(Data_raw!$B$2:$U$44,MATCH($J49,Data_raw!$A$2:$A$44,0),Data!Z$6)),\"\",INDEX(Data_raw!$B$2:$U$44,MATCH($J49,Data_raw!$A$2:$A$44,0),Data!Z$6))","v":3},{"$f":"IF(ISNA(INDEX(Data_raw!$B$2:$U$44,MATCH($J49,Data_raw!$A$2:$A$44,0),Data!AA$6)),\"\",INDEX(Data_raw!$B$2:$U$44,MATCH($J49,Data_raw!$A$2:$A$44,0),Data!AA$6))","v":1},{"$f":"IF(ISNA(INDEX(Data_raw!$B$2:$U$44,MATCH($J49,Data_raw!$A$2:$A$44,0),Data!AB$6)),\"\",INDEX(Data_raw!$B$2:$U$44,MATCH($J49,Data_raw!$A$2:$A$44,0),Data!AB$6))","v":1},{"$f":"IF(ISNA(INDEX(Data_raw!$B$2:$U$44,MATCH($J49,Data_raw!$A$2:$A$44,0),Data!AC$6)),\"\",INDEX(Data_raw!$B$2:$U$44,MATCH($J49,Data_raw!$A$2:$A$44,0),Data!AC$6))","v":2},{"$f":"IF(ISNA(INDEX(Data_raw!$B$2:$U$44,MATCH($J49,Data_raw!$A$2:$A$44,0),Data!AD$6)),\"\",INDEX(Data_raw!$B$2:$U$44,MATCH($J49,Data_raw!$A$2:$A$44,0),Data!AD$6))","v":2},{"$f":"IF(ISNA(INDEX(Data_raw!$B$2:$U$44,MATCH($J49,Data_raw!$A$2:$A$44,0),Data!AE$6)),\"\",INDEX(Data_raw!$B$2:$U$44,MATCH($J49,Data_raw!$A$2:$A$44,0),Data!AE$6))","v":2},{"$f":"IF(ISNA(INDEX(Data_raw!$B$2:$U$44,MATCH($J49,Data_raw!$A$2:$A$44,0),Data!AF$6)),\"\",INDEX(Data_raw!$B$2:$U$44,MATCH($J49,Data_raw!$A$2:$A$44,0),Data!AF$6))","v":3},{"$f":"IF(ISNA(INDEX(Data_raw!$B$2:$U$44,MATCH($J49,Data_raw!$A$2:$A$44,0),Data!AG$6)),\"\",INDEX(Data_raw!$B$2:$U$44,MATCH($J49,Data_raw!$A$2:$A$44,0),Data!AG$6))","v":3},null,0]
[null,{"$f":"tblIndicators!B44","v":"WATQUAL_3_2"},{"$f":"tblIndicators!C44","v":"WATQUAL_3"},{"$f":"tblIndicators!D44","v":3},null,{"$f":"tblIndicators!X44","v":1},{"$f":"tblIndicators!D44","v":3},1,1,{"$f":"tblIndicators!E44","v":"3.3.2"},null,{"$f":"tblIndicators!AE44","v":"3.3.2) Penalties for water quality violations "},{"$f":"IF(tblIndicators!G44=\"\",\"\",IF(G50=3,tblIndicators!G44,\"\"))","v":"Scored 0-1 "},{"$f":"IF(ISNA(INDEX(Data_raw!$B$2:$U$44,MATCH($J50,Data_raw!$A$2:$A$44,0),Data!N$6)),\"\",INDEX(Data_raw!$B$2:$U$44,MATCH($J50,Data_raw!$A$2:$A$44,0),Data!N$6))","v":1},{"$f":"IF(ISNA(INDEX(Data_raw!$B$2:$U$44,MATCH($J50,Data_raw!$A$2:$A$44,0),Data!O$6)),\"\",INDEX(Data_raw!$B$2:$U$44,MATCH($J50,Data_raw!$A$2:$A$44,0),Data!O$6))","v":1},{"$f":"IF(ISNA(INDEX(Data_raw!$B$2:$U$44,MATCH($J50,Data_raw!$A$2:$A$44,0),Data!P$6)),\"\",INDEX(Data_raw!$B$2:$U$44,MATCH($J50,Data_raw!$A$2:$A$44,0),Data!P$6))","v":1},{"$f":"IF(ISNA(INDEX(Data_raw!$B$2:$U$44,MATCH($J50,Data_raw!$A$2:$A$44,0),Data!Q$6)),\"\",INDEX(Data_raw!$B$2:$U$44,MATCH($J50,Data_raw!$A$2:$A$44,0),Data!Q$6))","v":1},{"$f":"IF(ISNA(INDEX(Data_raw!$B$2:$U$44,MATCH($J50,Data_raw!$A$2:$A$44,0),Data!R$6)),\"\",INDEX(Data_raw!$B$2:$U$44,MATCH($J50,Data_raw!$A$2:$A$44,0),Data!R$6))","v":1},{"$f":"IF(ISNA(INDEX(Data_raw!$B$2:$U$44,MATCH($J50,Data_raw!$A$2:$A$44,0),Data!S$6)),\"\",INDEX(Data_raw!$B$2:$U$44,MATCH($J50,Data_raw!$A$2:$A$44,0),Data!S$6))","v":1},{"$f":"IF(ISNA(INDEX(Data_raw!$B$2:$U$44,MATCH($J50,Data_raw!$A$2:$A$44,0),Data!T$6)),\"\",INDEX(Data_raw!$B$2:$U$44,MATCH($J50,Data_raw!$A$2:$A$44,0),Data!T$6))","v":1},{"$f":"IF(ISNA(INDEX(Data_raw!$B$2:$U$44,MATCH($J50,Data_raw!$A$2:$A$44,0),Data!U$6)),\"\",INDEX(Data_raw!$B$2:$U$44,MATCH($J50,Data_raw!$A$2:$A$44,0),Data!U$6))","v":1},{"$f":"IF(ISNA(INDEX(Data_raw!$B$2:$U$44,MATCH($J50,Data_raw!$A$2:$A$44,0),Data!V$6)),\"\",INDEX(Data_raw!$B$2:$U$44,MATCH($J50,Data_raw!$A$2:$A$44,0),Data!V$6))","v":1},{"$f":"IF(ISNA(INDEX(Data_raw!$B$2:$U$44,MATCH($J50,Data_raw!$A$2:$A$44,0),Data!W$6)),\"\",INDEX(Data_raw!$B$2:$U$44,MATCH($J50,Data_raw!$A$2:$A$44,0),Data!W$6))","v":1},{"$f":"IF(ISNA(INDEX(Data_raw!$B$2:$U$44,MATCH($J50,Data_raw!$A$2:$A$44,0),Data!X$6)),\"\",INDEX(Data_raw!$B$2:$U$44,MATCH($J50,Data_raw!$A$2:$A$44,0),Data!X$6))","v":1},{"$f":"IF(ISNA(INDEX(Data_raw!$B$2:$U$44,MATCH($J50,Data_raw!$A$2:$A$44,0),Data!Y$6)),\"\",INDEX(Data_raw!$B$2:$U$44,MATCH($J50,Data_raw!$A$2:$A$44,0),Data!Y$6))","v":1},{"$f":"IF(ISNA(INDEX(Data_raw!$B$2:$U$44,MATCH($J50,Data_raw!$A$2:$A$44,0),Data!Z$6)),\"\",INDEX(Data_raw!$B$2:$U$44,MATCH($J50,Data_raw!$A$2:$A$44,0),Data!Z$6))","v":1},{"$f":"IF(ISNA(INDEX(Data_raw!$B$2:$U$44,MATCH($J50,Data_raw!$A$2:$A$44,0),Data!AA$6)),\"\",INDEX(Data_raw!$B$2:$U$44,MATCH($J50,Data_raw!$A$2:$A$44,0),Data!AA$6))","v":1},{"$f":"IF(ISNA(INDEX(Data_raw!$B$2:$U$44,MATCH($J50,Data_raw!$A$2:$A$44,0),Data!AB$6)),\"\",INDEX(Data_raw!$B$2:$U$44,MATCH($J50,Data_raw!$A$2:$A$44,0),Data!AB$6))","v":1},{"$f":"IF(ISNA(INDEX(Data_raw!$B$2:$U$44,MATCH($J50,Data_raw!$A$2:$A$44,0),Data!AC$6)),\"\",INDEX(Data_raw!$B$2:$U$44,MATCH($J50,Data_raw!$A$2:$A$44,0),Data!AC$6))","v":1},{"$f":"IF(ISNA(INDEX(Data_raw!$B$2:$U$44,MATCH($J50,Data_raw!$A$2:$A$44,0),Data!AD$6)),\"\",INDEX(Data_raw!$B$2:$U$44,MATCH($J50,Data_raw!$A$2:$A$44,0),Data!AD$6))","v":1},{"$f":"IF(ISNA(INDEX(Data_raw!$B$2:$U$44,MATCH($J50,Data_raw!$A$2:$A$44,0),Data!AE$6)),\"\",INDEX(Data_raw!$B$2:$U$44,MATCH($J50,Data_raw!$A$2:$A$44,0),Data!AE$6))","v":1},{"$f":"IF(ISNA(INDEX(Data_raw!$B$2:$U$44,MATCH($J50,Data_raw!$A$2:$A$44,0),Data!AF$6)),\"\",INDEX(Data_raw!$B$2:$U$44,MATCH($J50,Data_raw!$A$2:$A$44,0),Data!AF$6))","v":1},{"$f":"IF(ISNA(INDEX(Data_raw!$B$2:$U$44,MATCH($J50,Data_raw!$A$2:$A$44,0),Data!AG$6)),\"\",INDEX(Data_raw!$B$2:$U$44,MATCH($J50,Data_raw!$A$2:$A$44,0),Data!AG$6))","v":1},null,1]
[null,{"$f":"tblIndicators!B45","v":"MINENG"},{"$f":"tblIndicators!C45","v":"OVERALL"},{"$f":"tblIndicators!D45","v":1},null,{"$f":"tblIndicators!X45","v":100},{"$f":"tblIndicators!D45","v":1},"","",{"$f":"tblIndicators!E45","v":4},null,{"$f":"tblIndicators!AE45","v":"4) MINERALS AND ENERGY"},{"$f":"IF(tblIndicators!G45=\"\",\"\",IF(G51=3,tblIndicators!G45,\"\"))","v":""},{"$f":"IF(ISNA(INDEX(Data_raw!$B$2:$U$44,MATCH($J51,Data_raw!$A$2:$A$44,0),Data!N$6)),\"\",INDEX(Data_raw!$B$2:$U$44,MATCH($J51,Data_raw!$A$2:$A$44,0),Data!N$6))","v":""},{"$f":"IF(ISNA(INDEX(Data_raw!$B$2:$U$44,MATCH($J51,Data_raw!$A$2:$A$44,0),Data!O$6)),\"\",INDEX(Data_raw!$B$2:$U$44,MATCH($J51,Data_raw!$A$2:$A$44,0),Data!O$6))","v":""},{"$f":"IF(ISNA(INDEX(Data_raw!$B$2:$U$44,MATCH($J51,Data_raw!$A$2:$A$44,0),Data!P$6)),\"\",INDEX(Data_raw!$B$2:$U$44,MATCH($J51,Data_raw!$A$2:$A$44,0),Data!P$6))","v":""},{"$f":"IF(ISNA(INDEX(Data_raw!$B$2:$U$44,MATCH($J51,Data_raw!$A$2:$A$44,0),Data!Q$6)),\"\",INDEX(Data_raw!$B$2:$U$44,MATCH($J51,Data_raw!$A$2:$A$44,0),Data!Q$6))","v":""},{"$f":"IF(ISNA(INDEX(Data_raw!$B$2:$U$44,MATCH($J51,Data_raw!$A$2:$A$44,0),Data!R$6)),\"\",INDEX(Data_raw!$B$2:$U$44,MATCH($J51,Data_raw!$A$2:$A$44,0),Data!R$6))","v":""},{"$f":"IF(ISNA(INDEX(Data_raw!$B$2:$U$44,MATCH($J51,Data_raw!$A$2:$A$44,0),Data!S$6)),\"\",INDEX(Data_raw!$B$2:$U$44,MATCH($J51,Data_raw!$A$2:$A$44,0),Data!S$6))","v":""},{"$f":"IF(ISNA(INDEX(Data_raw!$B$2:$U$44,MATCH($J51,Data_raw!$A$2:$A$44,0),Data!T$6)),\"\",INDEX(Data_raw!$B$2:$U$44,MATCH($J51,Data_raw!$A$2:$A$44,0),Data!T$6))","v":""},{"$f":"IF(ISNA(INDEX(Data_raw!$B$2:$U$44,MATCH($J51,Data_raw!$A$2:$A$44,0),Data!U$6)),\"\",INDEX(Data_raw!$B$2:$U$44,MATCH($J51,Data_raw!$A$2:$A$44,0),Data!U$6))","v":""},{"$f":"IF(ISNA(INDEX(Data_raw!$B$2:$U$44,MATCH($J51,Data_raw!$A$2:$A$44,0),Data!V$6)),\"\",INDEX(Data_raw!$B$2:$U$44,MATCH($J51,Data_raw!$A$2:$A$44,0),Data!V$6))","v":""},{"$f":"IF(ISNA(INDEX(Data_raw!$B$2:$U$44,MATCH($J51,Data_raw!$A$2:$A$44,0),Data!W$6)),\"\",INDEX(Data_raw!$B$2:$U$44,MATCH($J51,Data_raw!$A$2:$A$44,0),Data!W$6))","v":""},{"$f":"IF(ISNA(INDEX(Data_raw!$B$2:$U$44,MATCH($J51,Data_raw!$A$2:$A$44,0),Data!X$6)),\"\",INDEX(Data_raw!$B$2:$U$44,MATCH($J51,Data_raw!$A$2:$A$44,0),Data!X$6))","v":""},{"$f":"IF(ISNA(INDEX(Data_raw!$B$2:$U$44,MATCH($J51,Data_raw!$A$2:$A$44,0),Data!Y$6)),\"\",INDEX(Data_raw!$B$2:$U$44,MATCH($J51,Data_raw!$A$2:$A$44,0),Data!Y$6))","v":""},{"$f":"IF(ISNA(INDEX(Data_raw!$B$2:$U$44,MATCH($J51,Data_raw!$A$2:$A$44,0),Data!Z$6)),\"\",INDEX(Data_raw!$B$2:$U$44,MATCH($J51,Data_raw!$A$2:$A$44,0),Data!Z$6))","v":""},{"$f":"IF(ISNA(INDEX(Data_raw!$B$2:$U$44,MATCH($J51,Data_raw!$A$2:$A$44,0),Data!AA$6)),\"\",INDEX(Data_raw!$B$2:$U$44,MATCH($J51,Data_raw!$A$2:$A$44,0),Data!AA$6))","v":""},{"$f":"IF(ISNA(INDEX(Data_raw!$B$2:$U$44,MATCH($J51,Data_raw!$A$2:$A$44,0),Data!AB$6)),\"\",INDEX(Data_raw!$B$2:$U$44,MATCH($J51,Data_raw!$A$2:$A$44,0),Data!AB$6))","v":""},{"$f":"IF(ISNA(INDEX(Data_raw!$B$2:$U$44,MATCH($J51,Data_raw!$A$2:$A$44,0),Data!AC$6)),\"\",INDEX(Data_raw!$B$2:$U$44,MATCH($J51,Data_raw!$A$2:$A$44,0),Data!AC$6))","v":""},{"$f":"IF(ISNA(INDEX(Data_raw!$B$2:$U$44,MATCH($J51,Data_raw!$A$2:$A$44,0),Data!AD$6)),\"\",INDEX(Data_raw!$B$2:$U$44,MATCH($J51,Data_raw!$A$2:$A$44,0),Data!AD$6))","v":""},{"$f":"IF(ISNA(INDEX(Data_raw!$B$2:$U$44,MATCH($J51,Data_raw!$A$2:$A$44,0),Data!AE$6)),\"\",INDEX(Data_raw!$B$2:$U$44,MATCH($J51,Data_raw!$A$2:$A$44,0),Data!AE$6))","v":""},{"$f":"IF(ISNA(INDEX(Data_raw!$B$2:$U$44,MATCH($J51,Data_raw!$A$2:$A$44,0),Data!AF$6)),\"\",INDEX(Data_raw!$B$2:$U$44,MATCH($J51,Data_raw!$A$2:$A$44,0),Data!AF$6))","v":""},{"$f":"IF(ISNA(INDEX(Data_raw!$B$2:$U$44,MATCH($J51,Data_raw!$A$2:$A$44,0),Data!AG$6)),\"\",INDEX(Data_raw!$B$2:$U$44,MATCH($J51,Data_raw!$A$2:$A$44,0),Data!AG$6))","v":""},null,0]
[null,{"$f":"tblIndicators!B46","v":"MINENG_1"},{"$f":"tblIndicators!C46","v":"MINENG"},{"$f":"tblIndicators!D46","v":2},null,{"$f":"tblIndicators!X46","v":100},{"$f":"tblIndicators!D46","v":2},"","",{"$f":"tblIndicators!E46","v":4.0999999999999996},null,{"$f":"tblIndicators!AE46","v":"4.1) Permitting and licensing"},{"$f":"IF(tblIndicators!G46=\"\",\"\",IF(G52=3,tblIndicators!G46,\"\"))","v":""},{"$f":"IF(ISNA(INDEX(Data_raw!$B$2:$U$44,MATCH($J52,Data_raw!$A$2:$A$44,0),Data!N$6)),\"\",INDEX(Data_raw!$B$2:$U$44,MATCH($J52,Data_raw!$A$2:$A$44,0),Data!N$6))","v":""},{"$f":"IF(ISNA(INDEX(Data_raw!$B$2:$U$44,MATCH($J52,Data_raw!$A$2:$A$44,0),Data!O$6)),\"\",INDEX(Data_raw!$B$2:$U$44,MATCH($J52,Data_raw!$A$2:$A$44,0),Data!O$6))","v":""},{"$f":"IF(ISNA(INDEX(Data_raw!$B$2:$U$44,MATCH($J52,Data_raw!$A$2:$A$44,0),Data!P$6)),\"\",INDEX(Data_raw!$B$2:$U$44,MATCH($J52,Data_raw!$A$2:$A$44,0),Data!P$6))","v":""},{"$f":"IF(ISNA(INDEX(Data_raw!$B$2:$U$44,MATCH($J52,Data_raw!$A$2:$A$44,0),Data!Q$6)),\"\",INDEX(Data_raw!$B$2:$U$44,MATCH($J52,Data_raw!$A$2:$A$44,0),Data!Q$6))","v":""},{"$f":"IF(ISNA(INDEX(Data_raw!$B$2:$U$44,MATCH($J52,Data_raw!$A$2:$A$44,0),Data!R$6)),\"\",INDEX(Data_raw!$B$2:$U$44,MATCH($J52,Data_raw!$A$2:$A$44,0),Data!R$6))","v":""},{"$f":"IF(ISNA(INDEX(Data_raw!$B$2:$U$44,MATCH($J52,Data_raw!$A$2:$A$44,0),Data!S$6)),\"\",INDEX(Data_raw!$B$2:$U$44,MATCH($J52,Data_raw!$A$2:$A$44,0),Data!S$6))","v":""},{"$f":"IF(ISNA(INDEX(Data_raw!$B$2:$U$44,MATCH($J52,Data_raw!$A$2:$A$44,0),Data!T$6)),\"\",INDEX(Data_raw!$B$2:$U$44,MATCH($J52,Data_raw!$A$2:$A$44,0),Data!T$6))","v":""},{"$f":"IF(ISNA(INDEX(Data_raw!$B$2:$U$44,MATCH($J52,Data_raw!$A$2:$A$44,0),Data!U$6)),\"\",INDEX(Data_raw!$B$2:$U$44,MATCH($J52,Data_raw!$A$2:$A$44,0),Data!U$6))","v":""},{"$f":"IF(ISNA(INDEX(Data_raw!$B$2:$U$44,MATCH($J52,Data_raw!$A$2:$A$44,0),Data!V$6)),\"\",INDEX(Data_raw!$B$2:$U$44,MATCH($J52,Data_raw!$A$2:$A$44,0),Data!V$6))","v":""},{"$f":"IF(ISNA(INDEX(Data_raw!$B$2:$U$44,MATCH($J52,Data_raw!$A$2:$A$44,0),Data!W$6)),\"\",INDEX(Data_raw!$B$2:$U$44,MATCH($J52,Data_raw!$A$2:$A$44,0),Data!W$6))","v":""},{"$f":"IF(ISNA(INDEX(Data_raw!$B$2:$U$44,MATCH($J52,Data_raw!$A$2:$A$44,0),Data!X$6)),\"\",INDEX(Data_raw!$B$2:$U$44,MATCH($J52,Data_raw!$A$2:$A$44,0),Data!X$6))","v":""},{"$f":"IF(ISNA(INDEX(Data_raw!$B$2:$U$44,MATCH($J52,Data_raw!$A$2:$A$44,0),Data!Y$6)),\"\",INDEX(Data_raw!$B$2:$U$44,MATCH($J52,Data_raw!$A$2:$A$44,0),Data!Y$6))","v":""},{"$f":"IF(ISNA(INDEX(Data_raw!$B$2:$U$44,MATCH($J52,Data_raw!$A$2:$A$44,0),Data!Z$6)),\"\",INDEX(Data_raw!$B$2:$U$44,MATCH($J52,Data_raw!$A$2:$A$44,0),Data!Z$6))","v":""},{"$f":"IF(ISNA(INDEX(Data_raw!$B$2:$U$44,MATCH($J52,Data_raw!$A$2:$A$44,0),Data!AA$6)),\"\",INDEX(Data_raw!$B$2:$U$44,MATCH($J52,Data_raw!$A$2:$A$44,0),Data!AA$6))","v":""},{"$f":"IF(ISNA(INDEX(Data_raw!$B$2:$U$44,MATCH($J52,Data_raw!$A$2:$A$44,0),Data!AB$6)),\"\",INDEX(Data_raw!$B$2:$U$44,MATCH($J52,Data_raw!$A$2:$A$44,0),Data!AB$6))","v":""},{"$f":"IF(ISNA(INDEX(Data_raw!$B$2:$U$44,MATCH($J52,Data_raw!$A$2:$A$44,0),Data!AC$6)),\"\",INDEX(Data_raw!$B$2:$U$44,MATCH($J52,Data_raw!$A$2:$A$44,0),Data!AC$6))","v":""},{"$f":"IF(ISNA(INDEX(Data_raw!$B$2:$U$44,MATCH($J52,Data_raw!$A$2:$A$44,0),Data!AD$6)),\"\",INDEX(Data_raw!$B$2:$U$44,MATCH($J52,Data_raw!$A$2:$A$44,0),Data!AD$6))","v":""},{"$f":"IF(ISNA(INDEX(Data_raw!$B$2:$U$44,MATCH($J52,Data_raw!$A$2:$A$44,0),Data!AE$6)),\"\",INDEX(Data_raw!$B$2:$U$44,MATCH($J52,Data_raw!$A$2:$A$44,0),Data!AE$6))","v":""},{"$f":"IF(ISNA(INDEX(Data_raw!$B$2:$U$44,MATCH($J52,Data_raw!$A$2:$A$44,0),Data!AF$6)),\"\",INDEX(Data_raw!$B$2:$U$44,MATCH($J52,Data_raw!$A$2:$A$44,0),Data!AF$6))","v":""},{"$f":"IF(ISNA(INDEX(Data_raw!$B$2:$U$44,MATCH($J52,Data_raw!$A$2:$A$44,0),Data!AG$6)),\"\",INDEX(Data_raw!$B$2:$U$44,MATCH($J52,Data_raw!$A$2:$A$44,0),Data!AG$6))","v":""},null,0]
[null,{"$f":"tblIndicators!B47","v":"MINENG_1_1"},{"$f":"tblIndicators!C47","v":"MINENG_1"},{"$f":"tblIndicators!D47","v":3},null,{"$f":"tblIndicators!X47","v":2},{"$f":"tblIndicators!D47","v":3},1,2,{"$f":"tblIndicators!E47","v":"4.1.1"},null,{"$f":"tblIndicators!AE47","v":"4.1.1) Oil and gas tenure"},{"$f":"IF(tblIndicators!G47=\"\",\"\",IF(G53=3,tblIndicators!G47,\"\"))","v":"Scored 0-2 "},{"$f":"IF(ISNA(INDEX(Data_raw!$B$2:$U$44,MATCH($J53,Data_raw!$A$2:$A$44,0),Data!N$6)),\"\",INDEX(Data_raw!$B$2:$U$44,MATCH($J53,Data_raw!$A$2:$A$44,0),Data!N$6))","v":2},{"$f":"IF(ISNA(INDEX(Data_raw!$B$2:$U$44,MATCH($J53,Data_raw!$A$2:$A$44,0),Data!O$6)),\"\",INDEX(Data_raw!$B$2:$U$44,MATCH($J53,Data_raw!$A$2:$A$44,0),Data!O$6))","v":2},{"$f":"IF(ISNA(INDEX(Data_raw!$B$2:$U$44,MATCH($J53,Data_raw!$A$2:$A$44,0),Data!P$6)),\"\",INDEX(Data_raw!$B$2:$U$44,MATCH($J53,Data_raw!$A$2:$A$44,0),Data!P$6))","v":1},{"$f":"IF(ISNA(INDEX(Data_raw!$B$2:$U$44,MATCH($J53,Data_raw!$A$2:$A$44,0),Data!Q$6)),\"\",INDEX(Data_raw!$B$2:$U$44,MATCH($J53,Data_raw!$A$2:$A$44,0),Data!Q$6))","v":2},{"$f":"IF(ISNA(INDEX(Data_raw!$B$2:$U$44,MATCH($J53,Data_raw!$A$2:$A$44,0),Data!R$6)),\"\",INDEX(Data_raw!$B$2:$U$44,MATCH($J53,Data_raw!$A$2:$A$44,0),Data!R$6))","v":2},{"$f":"IF(ISNA(INDEX(Data_raw!$B$2:$U$44,MATCH($J53,Data_raw!$A$2:$A$44,0),Data!S$6)),\"\",INDEX(Data_raw!$B$2:$U$44,MATCH($J53,Data_raw!$A$2:$A$44,0),Data!S$6))","v":1},{"$f":"IF(ISNA(INDEX(Data_raw!$B$2:$U$44,MATCH($J53,Data_raw!$A$2:$A$44,0),Data!T$6)),\"\",INDEX(Data_raw!$B$2:$U$44,MATCH($J53,Data_raw!$A$2:$A$44,0),Data!T$6))","v":1},{"$f":"IF(ISNA(INDEX(Data_raw!$B$2:$U$44,MATCH($J53,Data_raw!$A$2:$A$44,0),Data!U$6)),\"\",INDEX(Data_raw!$B$2:$U$44,MATCH($J53,Data_raw!$A$2:$A$44,0),Data!U$6))","v":2},{"$f":"IF(ISNA(INDEX(Data_raw!$B$2:$U$44,MATCH($J53,Data_raw!$A$2:$A$44,0),Data!V$6)),\"\",INDEX(Data_raw!$B$2:$U$44,MATCH($J53,Data_raw!$A$2:$A$44,0),Data!V$6))","v":1},{"$f":"IF(ISNA(INDEX(Data_raw!$B$2:$U$44,MATCH($J53,Data_raw!$A$2:$A$44,0),Data!W$6)),\"\",INDEX(Data_raw!$B$2:$U$44,MATCH($J53,Data_raw!$A$2:$A$44,0),Data!W$6))","v":2},{"$f":"IF(ISNA(INDEX(Data_raw!$B$2:$U$44,MATCH($J53,Data_raw!$A$2:$A$44,0),Data!X$6)),\"\",INDEX(Data_raw!$B$2:$U$44,MATCH($J53,Data_raw!$A$2:$A$44,0),Data!X$6))","v":2},{"$f":"IF(ISNA(INDEX(Data_raw!$B$2:$U$44,MATCH($J53,Data_raw!$A$2:$A$44,0),Data!Y$6)),\"\",INDEX(Data_raw!$B$2:$U$44,MATCH($J53,Data_raw!$A$2:$A$44,0),Data!Y$6))","v":2},{"$f":"IF(ISNA(INDEX(Data_raw!$B$2:$U$44,MATCH($J53,Data_raw!$A$2:$A$44,0),Data!Z$6)),\"\",INDEX(Data_raw!$B$2:$U$44,MATCH($J53,Data_raw!$A$2:$A$44,0),Data!Z$6))","v":2},{"$f":"IF(ISNA(INDEX(Data_raw!$B$2:$U$44,MATCH($J53,Data_raw!$A$2:$A$44,0),Data!AA$6)),\"\",INDEX(Data_raw!$B$2:$U$44,MATCH($J53,Data_raw!$A$2:$A$44,0),Data!AA$6))","v":2},{"$f":"IF(ISNA(INDEX(Data_raw!$B$2:$U$44,MATCH($J53,Data_raw!$A$2:$A$44,0),Data!AB$6)),\"\",INDEX(Data_raw!$B$2:$U$44,MATCH($J53,Data_raw!$A$2:$A$44,0),Data!AB$6))","v":2},{"$f":"IF(ISNA(INDEX(Data_raw!$B$2:$U$44,MATCH($J53,Data_raw!$A$2:$A$44,0),Data!AC$6)),\"\",INDEX(Data_raw!$B$2:$U$44,MATCH($J53,Data_raw!$A$2:$A$44,0),Data!AC$6))","v":2},{"$f":"IF(ISNA(INDEX(Data_raw!$B$2:$U$44,MATCH($J53,Data_raw!$A$2:$A$44,0),Data!AD$6)),\"\",INDEX(Data_raw!$B$2:$U$44,MATCH($J53,Data_raw!$A$2:$A$44,0),Data!AD$6))","v":2},{"$f":"IF(ISNA(INDEX(Data_raw!$B$2:$U$44,MATCH($J53,Data_raw!$A$2:$A$44,0),Data!AE$6)),\"\",INDEX(Data_raw!$B$2:$U$44,MATCH($J53,Data_raw!$A$2:$A$44,0),Data!AE$6))","v":2},{"$f":"IF(ISNA(INDEX(Data_raw!$B$2:$U$44,MATCH($J53,Data_raw!$A$2:$A$44,0),Data!AF$6)),\"\",INDEX(Data_raw!$B$2:$U$44,MATCH($J53,Data_raw!$A$2:$A$44,0),Data!AF$6))","v":2},{"$f":"IF(ISNA(INDEX(Data_raw!$B$2:$U$44,MATCH($J53,Data_raw!$A$2:$A$44,0),Data!AG$6)),\"\",INDEX(Data_raw!$B$2:$U$44,MATCH($J53,Data_raw!$A$2:$A$44,0),Data!AG$6))","v":1},null,0]
[null,{"$f":"tblIndicators!B48","v":"MINENG_1_2"},{"$f":"tblIndicators!C48","v":"MINENG_1"},{"$f":"tblIndicators!D48","v":3},null,{"$f":"tblIndicators!X48","v":2},{"$f":"tblIndicators!D48","v":3},0,2,{"$f":"tblIndicators!E48","v":"4.1.2"},null,{"$f":"tblIndicators!AE48","v":"4.1.2) Mining and minerals tenure"},{"$f":"IF(tblIndicators!G48=\"\",\"\",IF(G54=3,tblIndicators!G48,\"\"))","v":"Scored 0-2 "},{"$f":"IF(ISNA(INDEX(Data_raw!$B$2:$U$44,MATCH($J54,Data_raw!$A$2:$A$44,0),Data!N$6)),\"\",INDEX(Data_raw!$B$2:$U$44,MATCH($J54,Data_raw!$A$2:$A$44,0),Data!N$6))","v":2},{"$f":"IF(ISNA(INDEX(Data_raw!$B$2:$U$44,MATCH($J54,Data_raw!$A$2:$A$44,0),Data!O$6)),\"\",INDEX(Data_raw!$B$2:$U$44,MATCH($J54,Data_raw!$A$2:$A$44,0),Data!O$6))","v":2},{"$f":"IF(ISNA(INDEX(Data_raw!$B$2:$U$44,MATCH($J54,Data_raw!$A$2:$A$44,0),Data!P$6)),\"\",INDEX(Data_raw!$B$2:$U$44,MATCH($J54,Data_raw!$A$2:$A$44,0),Data!P$6))","v":1},{"$f":"IF(ISNA(INDEX(Data_raw!$B$2:$U$44,MATCH($J54,Data_raw!$A$2:$A$44,0),Data!Q$6)),\"\",INDEX(Data_raw!$B$2:$U$44,MATCH($J54,Data_raw!$A$2:$A$44,0),Data!Q$6))","v":2},{"$f":"IF(ISNA(INDEX(Data_raw!$B$2:$U$44,MATCH($J54,Data_raw!$A$2:$A$44,0),Data!R$6)),\"\",INDEX(Data_raw!$B$2:$U$44,MATCH($J54,Data_raw!$A$2:$A$44,0),Data!R$6))","v":2},{"$f":"IF(ISNA(INDEX(Data_raw!$B$2:$U$44,MATCH($J54,Data_raw!$A$2:$A$44,0),Data!S$6)),\"\",INDEX(Data_raw!$B$2:$U$44,MATCH($J54,Data_raw!$A$2:$A$44,0),Data!S$6))","v":2},{"$f":"IF(ISNA(INDEX(Data_raw!$B$2:$U$44,MATCH($J54,Data_raw!$A$2:$A$44,0),Data!T$6)),\"\",INDEX(Data_raw!$B$2:$U$44,MATCH($J54,Data_raw!$A$2:$A$44,0),Data!T$6))","v":0},{"$f":"IF(ISNA(INDEX(Data_raw!$B$2:$U$44,MATCH($J54,Data_raw!$A$2:$A$44,0),Data!U$6)),\"\",INDEX(Data_raw!$B$2:$U$44,MATCH($J54,Data_raw!$A$2:$A$44,0),Data!U$6))","v":2},{"$f":"IF(ISNA(INDEX(Data_raw!$B$2:$U$44,MATCH($J54,Data_raw!$A$2:$A$44,0),Data!V$6)),\"\",INDEX(Data_raw!$B$2:$U$44,MATCH($J54,Data_raw!$A$2:$A$44,0),Data!V$6))","v":2},{"$f":"IF(ISNA(INDEX(Data_raw!$B$2:$U$44,MATCH($J54,Data_raw!$A$2:$A$44,0),Data!W$6)),\"\",INDEX(Data_raw!$B$2:$U$44,MATCH($J54,Data_raw!$A$2:$A$44,0),Data!W$6))","v":2},{"$f":"IF(ISNA(INDEX(Data_raw!$B$2:$U$44,MATCH($J54,Data_raw!$A$2:$A$44,0),Data!X$6)),\"\",INDEX(Data_raw!$B$2:$U$44,MATCH($J54,Data_raw!$A$2:$A$44,0),Data!X$6))","v":2},{"$f":"IF(ISNA(INDEX(Data_raw!$B$2:$U$44,MATCH($J54,Data_raw!$A$2:$A$44,0),Data!Y$6)),\"\",INDEX(Data_raw!$B$2:$U$44,MATCH($J54,Data_raw!$A$2:$A$44,0),Data!Y$6))","v":2},{"$f":"IF(ISNA(INDEX(Data_raw!$B$2:$U$44,MATCH($J54,Data_raw!$A$2:$A$44,0),Data!Z$6)),\"\",INDEX(Data_raw!$B$2:$U$44,MATCH($J54,Data_raw!$A$2:$A$44,0),Data!Z$6))","v":2},{"$f":"IF(ISNA(INDEX(Data_raw!$B$2:$U$44,MATCH($J54,Data_raw!$A$2:$A$44,0),Data!AA$6)),\"\",INDEX(Data_raw!$B$2:$U$44,MATCH($J54,Data_raw!$A$2:$A$44,0),Data!AA$6))","v":2},{"$f":"IF(ISNA(INDEX(Data_raw!$B$2:$U$44,MATCH($J54,Data_raw!$A$2:$A$44,0),Data!AB$6)),\"\",INDEX(Data_raw!$B$2:$U$44,MATCH($J54,Data_raw!$A$2:$A$44,0),Data!AB$6))","v":2},{"$f":"IF(ISNA(INDEX(Data_raw!$B$2:$U$44,MATCH($J54,Data_raw!$A$2:$A$44,0),Data!AC$6)),\"\",INDEX(Data_raw!$B$2:$U$44,MATCH($J54,Data_raw!$A$2:$A$44,0),Data!AC$6))","v":2},{"$f":"IF(ISNA(INDEX(Data_raw!$B$2:$U$44,MATCH($J54,Data_raw!$A$2:$A$44,0),Data!AD$6)),\"\",INDEX(Data_raw!$B$2:$U$44,MATCH($J54,Data_raw!$A$2:$A$44,0),Data!AD$6))","v":2},{"$f":"IF(ISNA(INDEX(Data_raw!$B$2:$U$44,MATCH($J54,Data_raw!$A$2:$A$44,0),Data!AE$6)),\"\",INDEX(Data_raw!$B$2:$U$44,MATCH($J54,Data_raw!$A$2:$A$44,0),Data!AE$6))","v":2},{"$f":"IF(ISNA(INDEX(Data_raw!$B$2:$U$44,MATCH($J54,Data_raw!$A$2:$A$44,0),Data!AF$6)),\"\",INDEX(Data_raw!$B$2:$U$44,MATCH($J54,Data_raw!$A$2:$A$44,0),Data!AF$6))","v":2},{"$f":"IF(ISNA(INDEX(Data_raw!$B$2:$U$44,MATCH($J54,Data_raw!$A$2:$A$44,0),Data!AG$6)),\"\",INDEX(Data_raw!$B$2:$U$44,MATCH($J54,Data_raw!$A$2:$A$44,0),Data!AG$6))","v":2},null,0]
[null,{"$f":"tblIndicators!B49","v":"MINENG_2"},{"$f":"tblIndicators!C49","v":"MINENG"},{"$f":"tblIndicators!D49","v":2},null,{"$f":"tblIndicators!X49","v":100},{"$f":"tblIndicators!D49","v":2},"","",{"$f":"tblIndicators!E49","v":4.2},null,{"$f":"tblIndicators!AE49","v":"4.2) Monitoring and enforcement"},{"$f":"IF(tblIndicators!G49=\"\",\"\",IF(G55=3,tblIndicators!G49,\"\"))","v":""},{"$f":"IF(ISNA(INDEX(Data_raw!$B$2:$U$44,MATCH($J55,Data_raw!$A$2:$A$44,0),Data!N$6)),\"\",INDEX(Data_raw!$B$2:$U$44,MATCH($J55,Data_raw!$A$2:$A$44,0),Data!N$6))","v":""},{"$f":"IF(ISNA(INDEX(Data_raw!$B$2:$U$44,MATCH($J55,Data_raw!$A$2:$A$44,0),Data!O$6)),\"\",INDEX(Data_raw!$B$2:$U$44,MATCH($J55,Data_raw!$A$2:$A$44,0),Data!O$6))","v":""},{"$f":"IF(ISNA(INDEX(Data_raw!$B$2:$U$44,MATCH($J55,Data_raw!$A$2:$A$44,0),Data!P$6)),\"\",INDEX(Data_raw!$B$2:$U$44,MATCH($J55,Data_raw!$A$2:$A$44,0),Data!P$6))","v":""},{"$f":"IF(ISNA(INDEX(Data_raw!$B$2:$U$44,MATCH($J55,Data_raw!$A$2:$A$44,0),Data!Q$6)),\"\",INDEX(Data_raw!$B$2:$U$44,MATCH($J55,Data_raw!$A$2:$A$44,0),Data!Q$6))","v":""},{"$f":"IF(ISNA(INDEX(Data_raw!$B$2:$U$44,MATCH($J55,Data_raw!$A$2:$A$44,0),Data!R$6)),\"\",INDEX(Data_raw!$B$2:$U$44,MATCH($J55,Data_raw!$A$2:$A$44,0),Data!R$6))","v":""},{"$f":"IF(ISNA(INDEX(Data_raw!$B$2:$U$44,MATCH($J55,Data_raw!$A$2:$A$44,0),Data!S$6)),\"\",INDEX(Data_raw!$B$2:$U$44,MATCH($J55,Data_raw!$A$2:$A$44,0),Data!S$6))","v":""},{"$f":"IF(ISNA(INDEX(Data_raw!$B$2:$U$44,MATCH($J55,Data_raw!$A$2:$A$44,0),Data!T$6)),\"\",INDEX(Data_raw!$B$2:$U$44,MATCH($J55,Data_raw!$A$2:$A$44,0),Data!T$6))","v":""},{"$f":"IF(ISNA(INDEX(Data_raw!$B$2:$U$44,MATCH($J55,Data_raw!$A$2:$A$44,0),Data!U$6)),\"\",INDEX(Data_raw!$B$2:$U$44,MATCH($J55,Data_raw!$A$2:$A$44,0),Data!U$6))","v":""},{"$f":"IF(ISNA(INDEX(Data_raw!$B$2:$U$44,MATCH($J55,Data_raw!$A$2:$A$44,0),Data!V$6)),\"\",INDEX(Data_raw!$B$2:$U$44,MATCH($J55,Data_raw!$A$2:$A$44,0),Data!V$6))","v":""},{"$f":"IF(ISNA(INDEX(Data_raw!$B$2:$U$44,MATCH($J55,Data_raw!$A$2:$A$44,0),Data!W$6)),\"\",INDEX(Data_raw!$B$2:$U$44,MATCH($J55,Data_raw!$A$2:$A$44,0),Data!W$6))","v":""},{"$f":"IF(ISNA(INDEX(Data_raw!$B$2:$U$44,MATCH($J55,Data_raw!$A$2:$A$44,0),Data!X$6)),\"\",INDEX(Data_raw!$B$2:$U$44,MATCH($J55,Data_raw!$A$2:$A$44,0),Data!X$6))","v":""},{"$f":"IF(ISNA(INDEX(Data_raw!$B$2:$U$44,MATCH($J55,Data_raw!$A$2:$A$44,0),Data!Y$6)),\"\",INDEX(Data_raw!$B$2:$U$44,MATCH($J55,Data_raw!$A$2:$A$44,0),Data!Y$6))","v":""},{"$f":"IF(ISNA(INDEX(Data_raw!$B$2:$U$44,MATCH($J55,Data_raw!$A$2:$A$44,0),Data!Z$6)),\"\",INDEX(Data_raw!$B$2:$U$44,MATCH($J55,Data_raw!$A$2:$A$44,0),Data!Z$6))","v":""},{"$f":"IF(ISNA(INDEX(Data_raw!$B$2:$U$44,MATCH($J55,Data_raw!$A$2:$A$44,0),Data!AA$6)),\"\",INDEX(Data_raw!$B$2:$U$44,MATCH($J55,Data_raw!$A$2:$A$44,0),Data!AA$6))","v":""},{"$f":"IF(ISNA(INDEX(Data_raw!$B$2:$U$44,MATCH($J55,Data_raw!$A$2:$A$44,0),Data!AB$6)),\"\",INDEX(Data_raw!$B$2:$U$44,MATCH($J55,Data_raw!$A$2:$A$44,0),Data!AB$6))","v":""},{"$f":"IF(ISNA(INDEX(Data_raw!$B$2:$U$44,MATCH($J55,Data_raw!$A$2:$A$44,0),Data!AC$6)),\"\",INDEX(Data_raw!$B$2:$U$44,MATCH($J55,Data_raw!$A$2:$A$44,0),Data!AC$6))","v":""},{"$f":"IF(ISNA(INDEX(Data_raw!$B$2:$U$44,MATCH($J55,Data_raw!$A$2:$A$44,0),Data!AD$6)),\"\",INDEX(Data_raw!$B$2:$U$44,MATCH($J55,Data_raw!$A$2:$A$44,0),Data!AD$6))","v":""},{"$f":"IF(ISNA(INDEX(Data_raw!$B$2:$U$44,MATCH($J55,Data_raw!$A$2:$A$44,0),Data!AE$6)),\"\",INDEX(Data_raw!$B$2:$U$44,MATCH($J55,Data_raw!$A$2:$A$44,0),Data!AE$6))","v":""},{"$f":"IF(ISNA(INDEX(Data_raw!$B$2:$U$44,MATCH($J55,Data_raw!$A$2:$A$44,0),Data!AF$6)),\"\",INDEX(Data_raw!$B$2:$U$44,MATCH($J55,Data_raw!$A$2:$A$44,0),Data!AF$6))","v":""},{"$f":"IF(ISNA(INDEX(Data_raw!$B$2:$U$44,MATCH($J55,Data_raw!$A$2:$A$44,0),Data!AG$6)),\"\",INDEX(Data_raw!$B$2:$U$44,MATCH($J55,Data_raw!$A$2:$A$44,0),Data!AG$6))","v":""},null,0]
[null,{"$f":"tblIndicators!B50","v":"MINENG_2_1"},{"$f":"tblIndicators!C50","v":"MINENG_2"},{"$f":"tblIndicators!D50","v":3},null,{"$f":"tblIndicators!X50","v":1},{"$f":"tblIndicators!D50","v":3},1,1,{"$f":"tblIndicators!E50","v":"4.2.1"},null,{"$f":"tblIndicators!AE50","v":"4.2.1) Environmental impact assessment for oil and gas"},{"$f":"IF(tblIndicators!G50=\"\",\"\",IF(G56=3,tblIndicators!G50,\"\"))","v":"Scored 0-1 "},{"$f":"IF(ISNA(INDEX(Data_raw!$B$2:$U$44,MATCH($J56,Data_raw!$A$2:$A$44,0),Data!N$6)),\"\",INDEX(Data_raw!$B$2:$U$44,MATCH($J56,Data_raw!$A$2:$A$44,0),Data!N$6))","v":1},{"$f":"IF(ISNA(INDEX(Data_raw!$B$2:$U$44,MATCH($J56,Data_raw!$A$2:$A$44,0),Data!O$6)),\"\",INDEX(Data_raw!$B$2:$U$44,MATCH($J56,Data_raw!$A$2:$A$44,0),Data!O$6))","v":1},{"$f":"IF(ISNA(INDEX(Data_raw!$B$2:$U$44,MATCH($J56,Data_raw!$A$2:$A$44,0),Data!P$6)),\"\",INDEX(Data_raw!$B$2:$U$44,MATCH($J56,Data_raw!$A$2:$A$44,0),Data!P$6))","v":1},{"$f":"IF(ISNA(INDEX(Data_raw!$B$2:$U$44,MATCH($J56,Data_raw!$A$2:$A$44,0),Data!Q$6)),\"\",INDEX(Data_raw!$B$2:$U$44,MATCH($J56,Data_raw!$A$2:$A$44,0),Data!Q$6))","v":1},{"$f":"IF(ISNA(INDEX(Data_raw!$B$2:$U$44,MATCH($J56,Data_raw!$A$2:$A$44,0),Data!R$6)),\"\",INDEX(Data_raw!$B$2:$U$44,MATCH($J56,Data_raw!$A$2:$A$44,0),Data!R$6))","v":1},{"$f":"IF(ISNA(INDEX(Data_raw!$B$2:$U$44,MATCH($J56,Data_raw!$A$2:$A$44,0),Data!S$6)),\"\",INDEX(Data_raw!$B$2:$U$44,MATCH($J56,Data_raw!$A$2:$A$44,0),Data!S$6))","v":1},{"$f":"IF(ISNA(INDEX(Data_raw!$B$2:$U$44,MATCH($J56,Data_raw!$A$2:$A$44,0),Data!T$6)),\"\",INDEX(Data_raw!$B$2:$U$44,MATCH($J56,Data_raw!$A$2:$A$44,0),Data!T$6))","v":1},{"$f":"IF(ISNA(INDEX(Data_raw!$B$2:$U$44,MATCH($J56,Data_raw!$A$2:$A$44,0),Data!U$6)),\"\",INDEX(Data_raw!$B$2:$U$44,MATCH($J56,Data_raw!$A$2:$A$44,0),Data!U$6))","v":1},{"$f":"IF(ISNA(INDEX(Data_raw!$B$2:$U$44,MATCH($J56,Data_raw!$A$2:$A$44,0),Data!V$6)),\"\",INDEX(Data_raw!$B$2:$U$44,MATCH($J56,Data_raw!$A$2:$A$44,0),Data!V$6))","v":1},{"$f":"IF(ISNA(INDEX(Data_raw!$B$2:$U$44,MATCH($J56,Data_raw!$A$2:$A$44,0),Data!W$6)),\"\",INDEX(Data_raw!$B$2:$U$44,MATCH($J56,Data_raw!$A$2:$A$44,0),Data!W$6))","v":1},{"$f":"IF(ISNA(INDEX(Data_raw!$B$2:$U$44,MATCH($J56,Data_raw!$A$2:$A$44,0),Data!X$6)),\"\",INDEX(Data_raw!$B$2:$U$44,MATCH($J56,Data_raw!$A$2:$A$44,0),Data!X$6))","v":1},{"$f":"IF(ISNA(INDEX(Data_raw!$B$2:$U$44,MATCH($J56,Data_raw!$A$2:$A$44,0),Data!Y$6)),\"\",INDEX(Data_raw!$B$2:$U$44,MATCH($J56,Data_raw!$A$2:$A$44,0),Data!Y$6))","v":1},{"$f":"IF(ISNA(INDEX(Data_raw!$B$2:$U$44,MATCH($J56,Data_raw!$A$2:$A$44,0),Data!Z$6)),\"\",INDEX(Data_raw!$B$2:$U$44,MATCH($J56,Data_raw!$A$2:$A$44,0),Data!Z$6))","v":1},{"$f":"IF(ISNA(INDEX(Data_raw!$B$2:$U$44,MATCH($J56,Data_raw!$A$2:$A$44,0),Data!AA$6)),\"\",INDEX(Data_raw!$B$2:$U$44,MATCH($J56,Data_raw!$A$2:$A$44,0),Data!AA$6))","v":1},{"$f":"IF(ISNA(INDEX(Data_raw!$B$2:$U$44,MATCH($J56,Data_raw!$A$2:$A$44,0),Data!AB$6)),\"\",INDEX(Data_raw!$B$2:$U$44,MATCH($J56,Data_raw!$A$2:$A$44,0),Data!AB$6))","v":1},{"$f":"IF(ISNA(INDEX(Data_raw!$B$2:$U$44,MATCH($J56,Data_raw!$A$2:$A$44,0),Data!AC$6)),\"\",INDEX(Data_raw!$B$2:$U$44,MATCH($J56,Data_raw!$A$2:$A$44,0),Data!AC$6))","v":1},{"$f":"IF(ISNA(INDEX(Data_raw!$B$2:$U$44,MATCH($J56,Data_raw!$A$2:$A$44,0),Data!AD$6)),\"\",INDEX(Data_raw!$B$2:$U$44,MATCH($J56,Data_raw!$A$2:$A$44,0),Data!AD$6))","v":1},{"$f":"IF(ISNA(INDEX(Data_raw!$B$2:$U$44,MATCH($J56,Data_raw!$A$2:$A$44,0),Data!AE$6)),\"\",INDEX(Data_raw!$B$2:$U$44,MATCH($J56,Data_raw!$A$2:$A$44,0),Data!AE$6))","v":1},{"$f":"IF(ISNA(INDEX(Data_raw!$B$2:$U$44,MATCH($J56,Data_raw!$A$2:$A$44,0),Data!AF$6)),\"\",INDEX(Data_raw!$B$2:$U$44,MATCH($J56,Data_raw!$A$2:$A$44,0),Data!AF$6))","v":1},{"$f":"IF(ISNA(INDEX(Data_raw!$B$2:$U$44,MATCH($J56,Data_raw!$A$2:$A$44,0),Data!AG$6)),\"\",INDEX(Data_raw!$B$2:$U$44,MATCH($J56,Data_raw!$A$2:$A$44,0),Data!AG$6))","v":1},null,1]
[null,{"$f":"tblIndicators!B51","v":"MINENG_2_2"},{"$f":"tblIndicators!C51","v":"MINENG_2"},{"$f":"tblIndicators!D51","v":3},null,{"$f":"tblIndicators!X51","v":1},{"$f":"tblIndicators!D51","v":3},1,1,{"$f":"tblIndicators!E51","v":"4.2.2"},null,{"$f":"tblIndicators!AE51","v":"4.2.2) Environment impact assessment for mining and minerals"},{"$f":"IF(tblIndicators!G51=\"\",\"\",IF(G57=3,tblIndicators!G51,\"\"))","v":"Scored 0-1 "},{"$f":"IF(ISNA(INDEX(Data_raw!$B$2:$U$44,MATCH($J57,Data_raw!$A$2:$A$44,0),Data!N$6)),\"\",INDEX(Data_raw!$B$2:$U$44,MATCH($J57,Data_raw!$A$2:$A$44,0),Data!N$6))","v":1},{"$f":"IF(ISNA(INDEX(Data_raw!$B$2:$U$44,MATCH($J57,Data_raw!$A$2:$A$44,0),Data!O$6)),\"\",INDEX(Data_raw!$B$2:$U$44,MATCH($J57,Data_raw!$A$2:$A$44,0),Data!O$6))","v":1},{"$f":"IF(ISNA(INDEX(Data_raw!$B$2:$U$44,MATCH($J57,Data_raw!$A$2:$A$44,0),Data!P$6)),\"\",INDEX(Data_raw!$B$2:$U$44,MATCH($J57,Data_raw!$A$2:$A$44,0),Data!P$6))","v":1},{"$f":"IF(ISNA(INDEX(Data_raw!$B$2:$U$44,MATCH($J57,Data_raw!$A$2:$A$44,0),Data!Q$6)),\"\",INDEX(Data_raw!$B$2:$U$44,MATCH($J57,Data_raw!$A$2:$A$44,0),Data!Q$6))","v":1},{"$f":"IF(ISNA(INDEX(Data_raw!$B$2:$U$44,MATCH($J57,Data_raw!$A$2:$A$44,0),Data!R$6)),\"\",INDEX(Data_raw!$B$2:$U$44,MATCH($J57,Data_raw!$A$2:$A$44,0),Data!R$6))","v":1},{"$f":"IF(ISNA(INDEX(Data_raw!$B$2:$U$44,MATCH($J57,Data_raw!$A$2:$A$44,0),Data!S$6)),\"\",INDEX(Data_raw!$B$2:$U$44,MATCH($J57,Data_raw!$A$2:$A$44,0),Data!S$6))","v":1},{"$f":"IF(ISNA(INDEX(Data_raw!$B$2:$U$44,MATCH($J57,Data_raw!$A$2:$A$44,0),Data!T$6)),\"\",INDEX(Data_raw!$B$2:$U$44,MATCH($J57,Data_raw!$A$2:$A$44,0),Data!T$6))","v":1},{"$f":"IF(ISNA(INDEX(Data_raw!$B$2:$U$44,MATCH($J57,Data_raw!$A$2:$A$44,0),Data!U$6)),\"\",INDEX(Data_raw!$B$2:$U$44,MATCH($J57,Data_raw!$A$2:$A$44,0),Data!U$6))","v":1},{"$f":"IF(ISNA(INDEX(Data_raw!$B$2:$U$44,MATCH($J57,Data_raw!$A$2:$A$44,0),Data!V$6)),\"\",INDEX(Data_raw!$B$2:$U$44,MATCH($J57,Data_raw!$A$2:$A$44,0),Data!V$6))","v":1},{"$f":"IF(ISNA(INDEX(Data_raw!$B$2:$U$44,MATCH($J57,Data_raw!$A$2:$A$44,0),Data!W$6)),\"\",INDEX(Data_raw!$B$2:$U$44,MATCH($J57,Data_raw!$A$2:$A$44,0),Data!W$6))","v":1},{"$f":"IF(ISNA(INDEX(Data_raw!$B$2:$U$44,MATCH($J57,Data_raw!$A$2:$A$44,0),Data!X$6)),\"\",INDEX(Data_raw!$B$2:$U$44,MATCH($J57,Data_raw!$A$2:$A$44,0),Data!X$6))","v":1},{"$f":"IF(ISNA(INDEX(Data_raw!$B$2:$U$44,MATCH($J57,Data_raw!$A$2:$A$44,0),Data!Y$6)),\"\",INDEX(Data_raw!$B$2:$U$44,MATCH($J57,Data_raw!$A$2:$A$44,0),Data!Y$6))","v":1},{"$f":"IF(ISNA(INDEX(Data_raw!$B$2:$U$44,MATCH($J57,Data_raw!$A$2:$A$44,0),Data!Z$6)),\"\",INDEX(Data_raw!$B$2:$U$44,MATCH($J57,Data_raw!$A$2:$A$44,0),Data!Z$6))","v":1},{"$f":"IF(ISNA(INDEX(Data_raw!$B$2:$U$44,MATCH($J57,Data_raw!$A$2:$A$44,0),Data!AA$6)),\"\",INDEX(Data_raw!$B$2:$U$44,MATCH($J57,Data_raw!$A$2:$A$44,0),Data!AA$6))","v":1},{"$f":"IF(ISNA(INDEX(Data_raw!$B$2:$U$44,MATCH($J57,Data_raw!$A$2:$A$44,0),Data!AB$6)),\"\",INDEX(Data_raw!$B$2:$U$44,MATCH($J57,Data_raw!$A$2:$A$44,0),Data!AB$6))","v":1},{"$f":"IF(ISNA(INDEX(Data_raw!$B$2:$U$44,MATCH($J57,Data_raw!$A$2:$A$44,0),Data!AC$6)),\"\",INDEX(Data_raw!$B$2:$U$44,MATCH($J57,Data_raw!$A$2:$A$44,0),Data!AC$6))","v":1},{"$f":"IF(ISNA(INDEX(Data_raw!$B$2:$U$44,MATCH($J57,Data_raw!$A$2:$A$44,0),Data!AD$6)),\"\",INDEX(Data_raw!$B$2:$U$44,MATCH($J57,Data_raw!$A$2:$A$44,0),Data!AD$6))","v":1},{"$f":"IF(ISNA(INDEX(Data_raw!$B$2:$U$44,MATCH($J57,Data_raw!$A$2:$A$44,0),Data!AE$6)),\"\",INDEX(Data_raw!$B$2:$U$44,MATCH($J57,Data_raw!$A$2:$A$44,0),Data!AE$6))","v":1},{"$f":"IF(ISNA(INDEX(Data_raw!$B$2:$U$44,MATCH($J57,Data_raw!$A$2:$A$44,0),Data!AF$6)),\"\",INDEX(Data_raw!$B$2:$U$44,MATCH($J57,Data_raw!$A$2:$A$44,0),Data!AF$6))","v":1},{"$f":"IF(ISNA(INDEX(Data_raw!$B$2:$U$44,MATCH($J57,Data_raw!$A$2:$A$44,0),Data!AG$6)),\"\",INDEX(Data_raw!$B$2:$U$44,MATCH($J57,Data_raw!$A$2:$A$44,0),Data!AG$6))","v":1},null,1]
[null,{"$f":"tblIndicators!B52","v":"MINENG_2_3"},{"$f":"tblIndicators!C52","v":"MINENG_2"},{"$f":"tblIndicators!D52","v":3},null,{"$f":"tblIndicators!X52","v":1},{"$f":"tblIndicators!D52","v":3},0,1,{"$f":"tblIndicators!E52","v":"4.2.3"},null,{"$f":"tblIndicators!AE52","v":"4.2.3) On-site reviews "},{"$f":"IF(tblIndicators!G52=\"\",\"\",IF(G58=3,tblIndicators!G52,\"\"))","v":"Scored 0-1 "},{"$f":"IF(ISNA(INDEX(Data_raw!$B$2:$U$44,MATCH($J58,Data_raw!$A$2:$A$44,0),Data!N$6)),\"\",INDEX(Data_raw!$B$2:$U$44,MATCH($J58,Data_raw!$A$2:$A$44,0),Data!N$6))","v":1},{"$f":"IF(ISNA(INDEX(Data_raw!$B$2:$U$44,MATCH($J58,Data_raw!$A$2:$A$44,0),Data!O$6)),\"\",INDEX(Data_raw!$B$2:$U$44,MATCH($J58,Data_raw!$A$2:$A$44,0),Data!O$6))","v":1},{"$f":"IF(ISNA(INDEX(Data_raw!$B$2:$U$44,MATCH($J58,Data_raw!$A$2:$A$44,0),Data!P$6)),\"\",INDEX(Data_raw!$B$2:$U$44,MATCH($J58,Data_raw!$A$2:$A$44,0),Data!P$6))","v":1},{"$f":"IF(ISNA(INDEX(Data_raw!$B$2:$U$44,MATCH($J58,Data_raw!$A$2:$A$44,0),Data!Q$6)),\"\",INDEX(Data_raw!$B$2:$U$44,MATCH($J58,Data_raw!$A$2:$A$44,0),Data!Q$6))","v":1},{"$f":"IF(ISNA(INDEX(Data_raw!$B$2:$U$44,MATCH($J58,Data_raw!$A$2:$A$44,0),Data!R$6)),\"\",INDEX(Data_raw!$B$2:$U$44,MATCH($J58,Data_raw!$A$2:$A$44,0),Data!R$6))","v":0},{"$f":"IF(ISNA(INDEX(Data_raw!$B$2:$U$44,MATCH($J58,Data_raw!$A$2:$A$44,0),Data!S$6)),\"\",INDEX(Data_raw!$B$2:$U$44,MATCH($J58,Data_raw!$A$2:$A$44,0),Data!S$6))","v":1},{"$f":"IF(ISNA(INDEX(Data_raw!$B$2:$U$44,MATCH($J58,Data_raw!$A$2:$A$44,0),Data!T$6)),\"\",INDEX(Data_raw!$B$2:$U$44,MATCH($J58,Data_raw!$A$2:$A$44,0),Data!T$6))","v":1},{"$f":"IF(ISNA(INDEX(Data_raw!$B$2:$U$44,MATCH($J58,Data_raw!$A$2:$A$44,0),Data!U$6)),\"\",INDEX(Data_raw!$B$2:$U$44,MATCH($J58,Data_raw!$A$2:$A$44,0),Data!U$6))","v":1},{"$f":"IF(ISNA(INDEX(Data_raw!$B$2:$U$44,MATCH($J58,Data_raw!$A$2:$A$44,0),Data!V$6)),\"\",INDEX(Data_raw!$B$2:$U$44,MATCH($J58,Data_raw!$A$2:$A$44,0),Data!V$6))","v":1},{"$f":"IF(ISNA(INDEX(Data_raw!$B$2:$U$44,MATCH($J58,Data_raw!$A$2:$A$44,0),Data!W$6)),\"\",INDEX(Data_raw!$B$2:$U$44,MATCH($J58,Data_raw!$A$2:$A$44,0),Data!W$6))","v":1},{"$f":"IF(ISNA(INDEX(Data_raw!$B$2:$U$44,MATCH($J58,Data_raw!$A$2:$A$44,0),Data!X$6)),\"\",INDEX(Data_raw!$B$2:$U$44,MATCH($J58,Data_raw!$A$2:$A$44,0),Data!X$6))","v":1},{"$f":"IF(ISNA(INDEX(Data_raw!$B$2:$U$44,MATCH($J58,Data_raw!$A$2:$A$44,0),Data!Y$6)),\"\",INDEX(Data_raw!$B$2:$U$44,MATCH($J58,Data_raw!$A$2:$A$44,0),Data!Y$6))","v":1},{"$f":"IF(ISNA(INDEX(Data_raw!$B$2:$U$44,MATCH($J58,Data_raw!$A$2:$A$44,0),Data!Z$6)),\"\",INDEX(Data_raw!$B$2:$U$44,MATCH($J58,Data_raw!$A$2:$A$44,0),Data!Z$6))","v":1},{"$f":"IF(ISNA(INDEX(Data_raw!$B$2:$U$44,MATCH($J58,Data_raw!$A$2:$A$44,0),Data!AA$6)),\"\",INDEX(Data_raw!$B$2:$U$44,MATCH($J58,Data_raw!$A$2:$A$44,0),Data!AA$6))","v":1},{"$f":"IF(ISNA(INDEX(Data_raw!$B$2:$U$44,MATCH($J58,Data_raw!$A$2:$A$44,0),Data!AB$6)),\"\",INDEX(Data_raw!$B$2:$U$44,MATCH($J58,Data_raw!$A$2:$A$44,0),Data!AB$6))","v":1},{"$f":"IF(ISNA(INDEX(Data_raw!$B$2:$U$44,MATCH($J58,Data_raw!$A$2:$A$44,0),Data!AC$6)),\"\",INDEX(Data_raw!$B$2:$U$44,MATCH($J58,Data_raw!$A$2:$A$44,0),Data!AC$6))","v":1},{"$f":"IF(ISNA(INDEX(Data_raw!$B$2:$U$44,MATCH($J58,Data_raw!$A$2:$A$44,0),Data!AD$6)),\"\",INDEX(Data_raw!$B$2:$U$44,MATCH($J58,Data_raw!$A$2:$A$44,0),Data!AD$6))","v":1},{"$f":"IF(ISNA(INDEX(Data_raw!$B$2:$U$44,MATCH($J58,Data_raw!$A$2:$A$44,0),Data!AE$6)),\"\",INDEX(Data_raw!$B$2:$U$44,MATCH($J58,Data_raw!$A$2:$A$44,0),Data!AE$6))","v":0},{"$f":"IF(ISNA(INDEX(Data_raw!$B$2:$U$44,MATCH($J58,Data_raw!$A$2:$A$44,0),Data!AF$6)),\"\",INDEX(Data_raw!$B$2:$U$44,MATCH($J58,Data_raw!$A$2:$A$44,0),Data!AF$6))","v":1},{"$f":"IF(ISNA(INDEX(Data_raw!$B$2:$U$44,MATCH($J58,Data_raw!$A$2:$A$44,0),Data!AG$6)),\"\",INDEX(Data_raw!$B$2:$U$44,MATCH($J58,Data_raw!$A$2:$A$44,0),Data!AG$6))","v":1},null,0]
[null,{"$f":"tblIndicators!B53","v":"MINENG_2_4"},{"$f":"tblIndicators!C53","v":"MINENG_2"},{"$f":"tblIndicators!D53","v":3},null,{"$f":"tblIndicators!X53","v":2},{"$f":"tblIndicators!D53","v":3},0,2,{"$f":"tblIndicators!E53","v":"4.2.4"},null,{"$f":"tblIndicators!AE53","v":"4.2.4) Collection of oil spills data"},{"$f":"IF(tblIndicators!G53=\"\",\"\",IF(G59=3,tblIndicators!G53,\"\"))","v":"Scored 0-2 "},{"$f":"IF(ISNA(INDEX(Data_raw!$B$2:$U$44,MATCH($J59,Data_raw!$A$2:$A$44,0),Data!N$6)),\"\",INDEX(Data_raw!$B$2:$U$44,MATCH($J59,Data_raw!$A$2:$A$44,0),Data!N$6))","v":1},{"$f":"IF(ISNA(INDEX(Data_raw!$B$2:$U$44,MATCH($J59,Data_raw!$A$2:$A$44,0),Data!O$6)),\"\",INDEX(Data_raw!$B$2:$U$44,MATCH($J59,Data_raw!$A$2:$A$44,0),Data!O$6))","v":2},{"$f":"IF(ISNA(INDEX(Data_raw!$B$2:$U$44,MATCH($J59,Data_raw!$A$2:$A$44,0),Data!P$6)),\"\",INDEX(Data_raw!$B$2:$U$44,MATCH($J59,Data_raw!$A$2:$A$44,0),Data!P$6))","v":2},{"$f":"IF(ISNA(INDEX(Data_raw!$B$2:$U$44,MATCH($J59,Data_raw!$A$2:$A$44,0),Data!Q$6)),\"\",INDEX(Data_raw!$B$2:$U$44,MATCH($J59,Data_raw!$A$2:$A$44,0),Data!Q$6))","v":1},{"$f":"IF(ISNA(INDEX(Data_raw!$B$2:$U$44,MATCH($J59,Data_raw!$A$2:$A$44,0),Data!R$6)),\"\",INDEX(Data_raw!$B$2:$U$44,MATCH($J59,Data_raw!$A$2:$A$44,0),Data!R$6))","v":0},{"$f":"IF(ISNA(INDEX(Data_raw!$B$2:$U$44,MATCH($J59,Data_raw!$A$2:$A$44,0),Data!S$6)),\"\",INDEX(Data_raw!$B$2:$U$44,MATCH($J59,Data_raw!$A$2:$A$44,0),Data!S$6))","v":1},{"$f":"IF(ISNA(INDEX(Data_raw!$B$2:$U$44,MATCH($J59,Data_raw!$A$2:$A$44,0),Data!T$6)),\"\",INDEX(Data_raw!$B$2:$U$44,MATCH($J59,Data_raw!$A$2:$A$44,0),Data!T$6))","v":0},{"$f":"IF(ISNA(INDEX(Data_raw!$B$2:$U$44,MATCH($J59,Data_raw!$A$2:$A$44,0),Data!U$6)),\"\",INDEX(Data_raw!$B$2:$U$44,MATCH($J59,Data_raw!$A$2:$A$44,0),Data!U$6))","v":2},{"$f":"IF(ISNA(INDEX(Data_raw!$B$2:$U$44,MATCH($J59,Data_raw!$A$2:$A$44,0),Data!V$6)),\"\",INDEX(Data_raw!$B$2:$U$44,MATCH($J59,Data_raw!$A$2:$A$44,0),Data!V$6))","v":2},{"$f":"IF(ISNA(INDEX(Data_raw!$B$2:$U$44,MATCH($J59,Data_raw!$A$2:$A$44,0),Data!W$6)),\"\",INDEX(Data_raw!$B$2:$U$44,MATCH($J59,Data_raw!$A$2:$A$44,0),Data!W$6))","v":1},{"$f":"IF(ISNA(INDEX(Data_raw!$B$2:$U$44,MATCH($J59,Data_raw!$A$2:$A$44,0),Data!X$6)),\"\",INDEX(Data_raw!$B$2:$U$44,MATCH($J59,Data_raw!$A$2:$A$44,0),Data!X$6))","v":2},{"$f":"IF(ISNA(INDEX(Data_raw!$B$2:$U$44,MATCH($J59,Data_raw!$A$2:$A$44,0),Data!Y$6)),\"\",INDEX(Data_raw!$B$2:$U$44,MATCH($J59,Data_raw!$A$2:$A$44,0),Data!Y$6))","v":2},{"$f":"IF(ISNA(INDEX(Data_raw!$B$2:$U$44,MATCH($J59,Data_raw!$A$2:$A$44,0),Data!Z$6)),\"\",INDEX(Data_raw!$B$2:$U$44,MATCH($J59,Data_raw!$A$2:$A$44,0),Data!Z$6))","v":0},{"$f":"IF(ISNA(INDEX(Data_raw!$B$2:$U$44,MATCH($J59,Data_raw!$A$2:$A$44,0),Data!AA$6)),\"\",INDEX(Data_raw!$B$2:$U$44,MATCH($J59,Data_raw!$A$2:$A$44,0),Data!AA$6))","v":1},{"$f":"IF(ISNA(INDEX(Data_raw!$B$2:$U$44,MATCH($J59,Data_raw!$A$2:$A$44,0),Data!AB$6)),\"\",INDEX(Data_raw!$B$2:$U$44,MATCH($J59,Data_raw!$A$2:$A$44,0),Data!AB$6))","v":0},{"$f":"IF(ISNA(INDEX(Data_raw!$B$2:$U$44,MATCH($J59,Data_raw!$A$2:$A$44,0),Data!AC$6)),\"\",INDEX(Data_raw!$B$2:$U$44,MATCH($J59,Data_raw!$A$2:$A$44,0),Data!AC$6))","v":1},{"$f":"IF(ISNA(INDEX(Data_raw!$B$2:$U$44,MATCH($J59,Data_raw!$A$2:$A$44,0),Data!AD$6)),\"\",INDEX(Data_raw!$B$2:$U$44,MATCH($J59,Data_raw!$A$2:$A$44,0),Data!AD$6))","v":2},{"$f":"IF(ISNA(INDEX(Data_raw!$B$2:$U$44,MATCH($J59,Data_raw!$A$2:$A$44,0),Data!AE$6)),\"\",INDEX(Data_raw!$B$2:$U$44,MATCH($J59,Data_raw!$A$2:$A$44,0),Data!AE$6))","v":2},{"$f":"IF(ISNA(INDEX(Data_raw!$B$2:$U$44,MATCH($J59,Data_raw!$A$2:$A$44,0),Data!AF$6)),\"\",INDEX(Data_raw!$B$2:$U$44,MATCH($J59,Data_raw!$A$2:$A$44,0),Data!AF$6))","v":2},{"$f":"IF(ISNA(INDEX(Data_raw!$B$2:$U$44,MATCH($J59,Data_raw!$A$2:$A$44,0),Data!AG$6)),\"\",INDEX(Data_raw!$B$2:$U$44,MATCH($J59,Data_raw!$A$2:$A$44,0),Data!AG$6))","v":1},null,0]
[null,{"$f":"tblIndicators!B54","v":"MINENG_3"},{"$f":"tblIndicators!C54","v":"MINENG"},{"$f":"tblIndicators!D54","v":2},null,{"$f":"tblIndicators!X54","v":100},{"$f":"tblIndicators!D54","v":2},"","",{"$f":"tblIndicators!E54","v":4.3},null,{"$f":"tblIndicators!AE54","v":"4.3) Risk mitigation"},{"$f":"IF(tblIndicators!G54=\"\",\"\",IF(G60=3,tblIndicators!G54,\"\"))","v":""},{"$f":"IF(ISNA(INDEX(Data_raw!$B$2:$U$44,MATCH($J60,Data_raw!$A$2:$A$44,0),Data!N$6)),\"\",INDEX(Data_raw!$B$2:$U$44,MATCH($J60,Data_raw!$A$2:$A$44,0),Data!N$6))","v":""},{"$f":"IF(ISNA(INDEX(Data_raw!$B$2:$U$44,MATCH($J60,Data_raw!$A$2:$A$44,0),Data!O$6)),\"\",INDEX(Data_raw!$B$2:$U$44,MATCH($J60,Data_raw!$A$2:$A$44,0),Data!O$6))","v":""},{"$f":"IF(ISNA(INDEX(Data_raw!$B$2:$U$44,MATCH($J60,Data_raw!$A$2:$A$44,0),Data!P$6)),\"\",INDEX(Data_raw!$B$2:$U$44,MATCH($J60,Data_raw!$A$2:$A$44,0),Data!P$6))","v":""},{"$f":"IF(ISNA(INDEX(Data_raw!$B$2:$U$44,MATCH($J60,Data_raw!$A$2:$A$44,0),Data!Q$6)),\"\",INDEX(Data_raw!$B$2:$U$44,MATCH($J60,Data_raw!$A$2:$A$44,0),Data!Q$6))","v":""},{"$f":"IF(ISNA(INDEX(Data_raw!$B$2:$U$44,MATCH($J60,Data_raw!$A$2:$A$44,0),Data!R$6)),\"\",INDEX(Data_raw!$B$2:$U$44,MATCH($J60,Data_raw!$A$2:$A$44,0),Data!R$6))","v":""},{"$f":"IF(ISNA(INDEX(Data_raw!$B$2:$U$44,MATCH($J60,Data_raw!$A$2:$A$44,0),Data!S$6)),\"\",INDEX(Data_raw!$B$2:$U$44,MATCH($J60,Data_raw!$A$2:$A$44,0),Data!S$6))","v":""},{"$f":"IF(ISNA(INDEX(Data_raw!$B$2:$U$44,MATCH($J60,Data_raw!$A$2:$A$44,0),Data!T$6)),\"\",INDEX(Data_raw!$B$2:$U$44,MATCH($J60,Data_raw!$A$2:$A$44,0),Data!T$6))","v":""},{"$f":"IF(ISNA(INDEX(Data_raw!$B$2:$U$44,MATCH($J60,Data_raw!$A$2:$A$44,0),Data!U$6)),\"\",INDEX(Data_raw!$B$2:$U$44,MATCH($J60,Data_raw!$A$2:$A$44,0),Data!U$6))","v":""},{"$f":"IF(ISNA(INDEX(Data_raw!$B$2:$U$44,MATCH($J60,Data_raw!$A$2:$A$44,0),Data!V$6)),\"\",INDEX(Data_raw!$B$2:$U$44,MATCH($J60,Data_raw!$A$2:$A$44,0),Data!V$6))","v":""},{"$f":"IF(ISNA(INDEX(Data_raw!$B$2:$U$44,MATCH($J60,Data_raw!$A$2:$A$44,0),Data!W$6)),\"\",INDEX(Data_raw!$B$2:$U$44,MATCH($J60,Data_raw!$A$2:$A$44,0),Data!W$6))","v":""},{"$f":"IF(ISNA(INDEX(Data_raw!$B$2:$U$44,MATCH($J60,Data_raw!$A$2:$A$44,0),Data!X$6)),\"\",INDEX(Data_raw!$B$2:$U$44,MATCH($J60,Data_raw!$A$2:$A$44,0),Data!X$6))","v":""},{"$f":"IF(ISNA(INDEX(Data_raw!$B$2:$U$44,MATCH($J60,Data_raw!$A$2:$A$44,0),Data!Y$6)),\"\",INDEX(Data_raw!$B$2:$U$44,MATCH($J60,Data_raw!$A$2:$A$44,0),Data!Y$6))","v":""},{"$f":"IF(ISNA(INDEX(Data_raw!$B$2:$U$44,MATCH($J60,Data_raw!$A$2:$A$44,0),Data!Z$6)),\"\",INDEX(Data_raw!$B$2:$U$44,MATCH($J60,Data_raw!$A$2:$A$44,0),Data!Z$6))","v":""},{"$f":"IF(ISNA(INDEX(Data_raw!$B$2:$U$44,MATCH($J60,Data_raw!$A$2:$A$44,0),Data!AA$6)),\"\",INDEX(Data_raw!$B$2:$U$44,MATCH($J60,Data_raw!$A$2:$A$44,0),Data!AA$6))","v":""},{"$f":"IF(ISNA(INDEX(Data_raw!$B$2:$U$44,MATCH($J60,Data_raw!$A$2:$A$44,0),Data!AB$6)),\"\",INDEX(Data_raw!$B$2:$U$44,MATCH($J60,Data_raw!$A$2:$A$44,0),Data!AB$6))","v":""},{"$f":"IF(ISNA(INDEX(Data_raw!$B$2:$U$44,MATCH($J60,Data_raw!$A$2:$A$44,0),Data!AC$6)),\"\",INDEX(Data_raw!$B$2:$U$44,MATCH($J60,Data_raw!$A$2:$A$44,0),Data!AC$6))","v":""},{"$f":"IF(ISNA(INDEX(Data_raw!$B$2:$U$44,MATCH($J60,Data_raw!$A$2:$A$44,0),Data!AD$6)),\"\",INDEX(Data_raw!$B$2:$U$44,MATCH($J60,Data_raw!$A$2:$A$44,0),Data!AD$6))","v":""},{"$f":"IF(ISNA(INDEX(Data_raw!$B$2:$U$44,MATCH($J60,Data_raw!$A$2:$A$44,0),Data!AE$6)),\"\",INDEX(Data_raw!$B$2:$U$44,MATCH($J60,Data_raw!$A$2:$A$44,0),Data!AE$6))","v":""},{"$f":"IF(ISNA(INDEX(Data_raw!$B$2:$U$44,MATCH($J60,Data_raw!$A$2:$A$44,0),Data!AF$6)),\"\",INDEX(Data_raw!$B$2:$U$44,MATCH($J60,Data_raw!$A$2:$A$44,0),Data!AF$6))","v":""},{"$f":"IF(ISNA(INDEX(Data_raw!$B$2:$U$44,MATCH($J60,Data_raw!$A$2:$A$44,0),Data!AG$6)),\"\",INDEX(Data_raw!$B$2:$U$44,MATCH($J60,Data_raw!$A$2:$A$44,0),Data!AG$6))","v":""},null,0]
[null,{"$f":"tblIndicators!B55","v":"MINENG_3_1"},{"$f":"tblIndicators!C55","v":"MINENG_3"},{"$f":"tblIndicators!D55","v":3},null,{"$f":"tblIndicators!X55","v":2},{"$f":"tblIndicators!D55","v":3},0,2,{"$f":"tblIndicators!E55","v":"4.3.1"},null,{"$f":"tblIndicators!AE55","v":"4.3.1) Adoption of the OPRC "},{"$f":"IF(tblIndicators!G55=\"\",\"\",IF(G61=3,tblIndicators!G55,\"\"))","v":"Scored 0-2 "},{"$f":"IF(ISNA(INDEX(Data_raw!$B$2:$U$44,MATCH($J61,Data_raw!$A$2:$A$44,0),Data!N$6)),\"\",INDEX(Data_raw!$B$2:$U$44,MATCH($J61,Data_raw!$A$2:$A$44,0),Data!N$6))","v":1},{"$f":"IF(ISNA(INDEX(Data_raw!$B$2:$U$44,MATCH($J61,Data_raw!$A$2:$A$44,0),Data!O$6)),\"\",INDEX(Data_raw!$B$2:$U$44,MATCH($J61,Data_raw!$A$2:$A$44,0),Data!O$6))","v":1},{"$f":"IF(ISNA(INDEX(Data_raw!$B$2:$U$44,MATCH($J61,Data_raw!$A$2:$A$44,0),Data!P$6)),\"\",INDEX(Data_raw!$B$2:$U$44,MATCH($J61,Data_raw!$A$2:$A$44,0),Data!P$6))","v":2},{"$f":"IF(ISNA(INDEX(Data_raw!$B$2:$U$44,MATCH($J61,Data_raw!$A$2:$A$44,0),Data!Q$6)),\"\",INDEX(Data_raw!$B$2:$U$44,MATCH($J61,Data_raw!$A$2:$A$44,0),Data!Q$6))","v":2},{"$f":"IF(ISNA(INDEX(Data_raw!$B$2:$U$44,MATCH($J61,Data_raw!$A$2:$A$44,0),Data!R$6)),\"\",INDEX(Data_raw!$B$2:$U$44,MATCH($J61,Data_raw!$A$2:$A$44,0),Data!R$6))","v":2},{"$f":"IF(ISNA(INDEX(Data_raw!$B$2:$U$44,MATCH($J61,Data_raw!$A$2:$A$44,0),Data!S$6)),\"\",INDEX(Data_raw!$B$2:$U$44,MATCH($J61,Data_raw!$A$2:$A$44,0),Data!S$6))","v":1},{"$f":"IF(ISNA(INDEX(Data_raw!$B$2:$U$44,MATCH($J61,Data_raw!$A$2:$A$44,0),Data!T$6)),\"\",INDEX(Data_raw!$B$2:$U$44,MATCH($J61,Data_raw!$A$2:$A$44,0),Data!T$6))","v":0},{"$f":"IF(ISNA(INDEX(Data_raw!$B$2:$U$44,MATCH($J61,Data_raw!$A$2:$A$44,0),Data!U$6)),\"\",INDEX(Data_raw!$B$2:$U$44,MATCH($J61,Data_raw!$A$2:$A$44,0),Data!U$6))","v":2},{"$f":"IF(ISNA(INDEX(Data_raw!$B$2:$U$44,MATCH($J61,Data_raw!$A$2:$A$44,0),Data!V$6)),\"\",INDEX(Data_raw!$B$2:$U$44,MATCH($J61,Data_raw!$A$2:$A$44,0),Data!V$6))","v":1},{"$f":"IF(ISNA(INDEX(Data_raw!$B$2:$U$44,MATCH($J61,Data_raw!$A$2:$A$44,0),Data!W$6)),\"\",INDEX(Data_raw!$B$2:$U$44,MATCH($J61,Data_raw!$A$2:$A$44,0),Data!W$6))","v":1},{"$f":"IF(ISNA(INDEX(Data_raw!$B$2:$U$44,MATCH($J61,Data_raw!$A$2:$A$44,0),Data!X$6)),\"\",INDEX(Data_raw!$B$2:$U$44,MATCH($J61,Data_raw!$A$2:$A$44,0),Data!X$6))","v":1},{"$f":"IF(ISNA(INDEX(Data_raw!$B$2:$U$44,MATCH($J61,Data_raw!$A$2:$A$44,0),Data!Y$6)),\"\",INDEX(Data_raw!$B$2:$U$44,MATCH($J61,Data_raw!$A$2:$A$44,0),Data!Y$6))","v":2},{"$f":"IF(ISNA(INDEX(Data_raw!$B$2:$U$44,MATCH($J61,Data_raw!$A$2:$A$44,0),Data!Z$6)),\"\",INDEX(Data_raw!$B$2:$U$44,MATCH($J61,Data_raw!$A$2:$A$44,0),Data!Z$6))","v":1},{"$f":"IF(ISNA(INDEX(Data_raw!$B$2:$U$44,MATCH($J61,Data_raw!$A$2:$A$44,0),Data!AA$6)),\"\",INDEX(Data_raw!$B$2:$U$44,MATCH($J61,Data_raw!$A$2:$A$44,0),Data!AA$6))","v":1},{"$f":"IF(ISNA(INDEX(Data_raw!$B$2:$U$44,MATCH($J61,Data_raw!$A$2:$A$44,0),Data!AB$6)),\"\",INDEX(Data_raw!$B$2:$U$44,MATCH($J61,Data_raw!$A$2:$A$44,0),Data!AB$6))","v":1},{"$f":"IF(ISNA(INDEX(Data_raw!$B$2:$U$44,MATCH($J61,Data_raw!$A$2:$A$44,0),Data!AC$6)),\"\",INDEX(Data_raw!$B$2:$U$44,MATCH($J61,Data_raw!$A$2:$A$44,0),Data!AC$6))","v":1},{"$f":"IF(ISNA(INDEX(Data_raw!$B$2:$U$44,MATCH($J61,Data_raw!$A$2:$A$44,0),Data!AD$6)),\"\",INDEX(Data_raw!$B$2:$U$44,MATCH($J61,Data_raw!$A$2:$A$44,0),Data!AD$6))","v":2},{"$f":"IF(ISNA(INDEX(Data_raw!$B$2:$U$44,MATCH($J61,Data_raw!$A$2:$A$44,0),Data!AE$6)),\"\",INDEX(Data_raw!$B$2:$U$44,MATCH($J61,Data_raw!$A$2:$A$44,0),Data!AE$6))","v":2},{"$f":"IF(ISNA(INDEX(Data_raw!$B$2:$U$44,MATCH($J61,Data_raw!$A$2:$A$44,0),Data!AF$6)),\"\",INDEX(Data_raw!$B$2:$U$44,MATCH($J61,Data_raw!$A$2:$A$44,0),Data!AF$6))","v":1},{"$f":"IF(ISNA(INDEX(Data_raw!$B$2:$U$44,MATCH($J61,Data_raw!$A$2:$A$44,0),Data!AG$6)),\"\",INDEX(Data_raw!$B$2:$U$44,MATCH($J61,Data_raw!$A$2:$A$44,0),Data!AG$6))","v":0},null,0]
[null,{"$f":"tblIndicators!B56","v":"MINENG_3_2"},{"$f":"tblIndicators!C56","v":"MINENG_3"},{"$f":"tblIndicators!D56","v":3},null,{"$f":"tblIndicators!X56","v":1},{"$f":"tblIndicators!D56","v":3},0,1,{"$f":"tblIndicators!E56","v":"4.3.2"},null,{"$f":"tblIndicators!AE56","v":"4.3.2) Emergency plan "},{"$f":"IF(tblIndicators!G56=\"\",\"\",IF(G62=3,tblIndicators!G56,\"\"))","v":"Scored 0-1 "},{"$f":"IF(ISNA(INDEX(Data_raw!$B$2:$U$44,MATCH($J62,Data_raw!$A$2:$A$44,0),Data!N$6)),\"\",INDEX(Data_raw!$B$2:$U$44,MATCH($J62,Data_raw!$A$2:$A$44,0),Data!N$6))","v":1},{"$f":"IF(ISNA(INDEX(Data_raw!$B$2:$U$44,MATCH($J62,Data_raw!$A$2:$A$44,0),Data!O$6)),\"\",INDEX(Data_raw!$B$2:$U$44,MATCH($J62,Data_raw!$A$2:$A$44,0),Data!O$6))","v":1},{"$f":"IF(ISNA(INDEX(Data_raw!$B$2:$U$44,MATCH($J62,Data_raw!$A$2:$A$44,0),Data!P$6)),\"\",INDEX(Data_raw!$B$2:$U$44,MATCH($J62,Data_raw!$A$2:$A$44,0),Data!P$6))","v":1},{"$f":"IF(ISNA(INDEX(Data_raw!$B$2:$U$44,MATCH($J62,Data_raw!$A$2:$A$44,0),Data!Q$6)),\"\",INDEX(Data_raw!$B$2:$U$44,MATCH($J62,Data_raw!$A$2:$A$44,0),Data!Q$6))","v":1},{"$f":"IF(ISNA(INDEX(Data_raw!$B$2:$U$44,MATCH($J62,Data_raw!$A$2:$A$44,0),Data!R$6)),\"\",INDEX(Data_raw!$B$2:$U$44,MATCH($J62,Data_raw!$A$2:$A$44,0),Data!R$6))","v":1},{"$f":"IF(ISNA(INDEX(Data_raw!$B$2:$U$44,MATCH($J62,Data_raw!$A$2:$A$44,0),Data!S$6)),\"\",INDEX(Data_raw!$B$2:$U$44,MATCH($J62,Data_raw!$A$2:$A$44,0),Data!S$6))","v":1},{"$f":"IF(ISNA(INDEX(Data_raw!$B$2:$U$44,MATCH($J62,Data_raw!$A$2:$A$44,0),Data!T$6)),\"\",INDEX(Data_raw!$B$2:$U$44,MATCH($J62,Data_raw!$A$2:$A$44,0),Data!T$6))","v":1},{"$f":"IF(ISNA(INDEX(Data_raw!$B$2:$U$44,MATCH($J62,Data_raw!$A$2:$A$44,0),Data!U$6)),\"\",INDEX(Data_raw!$B$2:$U$44,MATCH($J62,Data_raw!$A$2:$A$44,0),Data!U$6))","v":1},{"$f":"IF(ISNA(INDEX(Data_raw!$B$2:$U$44,MATCH($J62,Data_raw!$A$2:$A$44,0),Data!V$6)),\"\",INDEX(Data_raw!$B$2:$U$44,MATCH($J62,Data_raw!$A$2:$A$44,0),Data!V$6))","v":1},{"$f":"IF(ISNA(INDEX(Data_raw!$B$2:$U$44,MATCH($J62,Data_raw!$A$2:$A$44,0),Data!W$6)),\"\",INDEX(Data_raw!$B$2:$U$44,MATCH($J62,Data_raw!$A$2:$A$44,0),Data!W$6))","v":1},{"$f":"IF(ISNA(INDEX(Data_raw!$B$2:$U$44,MATCH($J62,Data_raw!$A$2:$A$44,0),Data!X$6)),\"\",INDEX(Data_raw!$B$2:$U$44,MATCH($J62,Data_raw!$A$2:$A$44,0),Data!X$6))","v":1},{"$f":"IF(ISNA(INDEX(Data_raw!$B$2:$U$44,MATCH($J62,Data_raw!$A$2:$A$44,0),Data!Y$6)),\"\",INDEX(Data_raw!$B$2:$U$44,MATCH($J62,Data_raw!$A$2:$A$44,0),Data!Y$6))","v":1},{"$f":"IF(ISNA(INDEX(Data_raw!$B$2:$U$44,MATCH($J62,Data_raw!$A$2:$A$44,0),Data!Z$6)),\"\",INDEX(Data_raw!$B$2:$U$44,MATCH($J62,Data_raw!$A$2:$A$44,0),Data!Z$6))","v":1},{"$f":"IF(ISNA(INDEX(Data_raw!$B$2:$U$44,MATCH($J62,Data_raw!$A$2:$A$44,0),Data!AA$6)),\"\",INDEX(Data_raw!$B$2:$U$44,MATCH($J62,Data_raw!$A$2:$A$44,0),Data!AA$6))","v":0},{"$f":"IF(ISNA(INDEX(Data_raw!$B$2:$U$44,MATCH($J62,Data_raw!$A$2:$A$44,0),Data!AB$6)),\"\",INDEX(Data_raw!$B$2:$U$44,MATCH($J62,Data_raw!$A$2:$A$44,0),Data!AB$6))","v":1},{"$f":"IF(ISNA(INDEX(Data_raw!$B$2:$U$44,MATCH($J62,Data_raw!$A$2:$A$44,0),Data!AC$6)),\"\",INDEX(Data_raw!$B$2:$U$44,MATCH($J62,Data_raw!$A$2:$A$44,0),Data!AC$6))","v":1},{"$f":"IF(ISNA(INDEX(Data_raw!$B$2:$U$44,MATCH($J62,Data_raw!$A$2:$A$44,0),Data!AD$6)),\"\",INDEX(Data_raw!$B$2:$U$44,MATCH($J62,Data_raw!$A$2:$A$44,0),Data!AD$6))","v":1},{"$f":"IF(ISNA(INDEX(Data_raw!$B$2:$U$44,MATCH($J62,Data_raw!$A$2:$A$44,0),Data!AE$6)),\"\",INDEX(Data_raw!$B$2:$U$44,MATCH($J62,Data_raw!$A$2:$A$44,0),Data!AE$6))","v":1},{"$f":"IF(ISNA(INDEX(Data_raw!$B$2:$U$44,MATCH($J62,Data_raw!$A$2:$A$44,0),Data!AF$6)),\"\",INDEX(Data_raw!$B$2:$U$44,MATCH($J62,Data_raw!$A$2:$A$44,0),Data!AF$6))","v":1},{"$f":"IF(ISNA(INDEX(Data_raw!$B$2:$U$44,MATCH($J62,Data_raw!$A$2:$A$44,0),Data!AG$6)),\"\",INDEX(Data_raw!$B$2:$U$44,MATCH($J62,Data_raw!$A$2:$A$44,0),Data!AG$6))","v":1},null,0]
[null,{"$f":"tblIndicators!B57","v":"MINENG_3_3"},{"$f":"tblIndicators!C57","v":"MINENG_3"},{"$f":"tblIndicators!D57","v":3},null,{"$f":"tblIndicators!X57","v":1},{"$f":"tblIndicators!D57","v":3},0,1,{"$f":"tblIndicators!E57","v":"4.3.3"},null,{"$f":"tblIndicators!AE57","v":"4.3.3) Off-limit areas "},{"$f":"IF(tblIndicators!G57=\"\",\"\",IF(G63=3,tblIndicators!G57,\"\"))","v":"Scored 0-1 "},{"$f":"IF(ISNA(INDEX(Data_raw!$B$2:$U$44,MATCH($J63,Data_raw!$A$2:$A$44,0),Data!N$6)),\"\",INDEX(Data_raw!$B$2:$U$44,MATCH($J63,Data_raw!$A$2:$A$44,0),Data!N$6))","v":1},{"$f":"IF(ISNA(INDEX(Data_raw!$B$2:$U$44,MATCH($J63,Data_raw!$A$2:$A$44,0),Data!O$6)),\"\",INDEX(Data_raw!$B$2:$U$44,MATCH($J63,Data_raw!$A$2:$A$44,0),Data!O$6))","v":1},{"$f":"IF(ISNA(INDEX(Data_raw!$B$2:$U$44,MATCH($J63,Data_raw!$A$2:$A$44,0),Data!P$6)),\"\",INDEX(Data_raw!$B$2:$U$44,MATCH($J63,Data_raw!$A$2:$A$44,0),Data!P$6))","v":1},{"$f":"IF(ISNA(INDEX(Data_raw!$B$2:$U$44,MATCH($J63,Data_raw!$A$2:$A$44,0),Data!Q$6)),\"\",INDEX(Data_raw!$B$2:$U$44,MATCH($J63,Data_raw!$A$2:$A$44,0),Data!Q$6))","v":0},{"$f":"IF(ISNA(INDEX(Data_raw!$B$2:$U$44,MATCH($J63,Data_raw!$A$2:$A$44,0),Data!R$6)),\"\",INDEX(Data_raw!$B$2:$U$44,MATCH($J63,Data_raw!$A$2:$A$44,0),Data!R$6))","v":0},{"$f":"IF(ISNA(INDEX(Data_raw!$B$2:$U$44,MATCH($J63,Data_raw!$A$2:$A$44,0),Data!S$6)),\"\",INDEX(Data_raw!$B$2:$U$44,MATCH($J63,Data_raw!$A$2:$A$44,0),Data!S$6))","v":1},{"$f":"IF(ISNA(INDEX(Data_raw!$B$2:$U$44,MATCH($J63,Data_raw!$A$2:$A$44,0),Data!T$6)),\"\",INDEX(Data_raw!$B$2:$U$44,MATCH($J63,Data_raw!$A$2:$A$44,0),Data!T$6))","v":1},{"$f":"IF(ISNA(INDEX(Data_raw!$B$2:$U$44,MATCH($J63,Data_raw!$A$2:$A$44,0),Data!U$6)),\"\",INDEX(Data_raw!$B$2:$U$44,MATCH($J63,Data_raw!$A$2:$A$44,0),Data!U$6))","v":1},{"$f":"IF(ISNA(INDEX(Data_raw!$B$2:$U$44,MATCH($J63,Data_raw!$A$2:$A$44,0),Data!V$6)),\"\",INDEX(Data_raw!$B$2:$U$44,MATCH($J63,Data_raw!$A$2:$A$44,0),Data!V$6))","v":0},{"$f":"IF(ISNA(INDEX(Data_raw!$B$2:$U$44,MATCH($J63,Data_raw!$A$2:$A$44,0),Data!W$6)),\"\",INDEX(Data_raw!$B$2:$U$44,MATCH($J63,Data_raw!$A$2:$A$44,0),Data!W$6))","v":1},{"$f":"IF(ISNA(INDEX(Data_raw!$B$2:$U$44,MATCH($J63,Data_raw!$A$2:$A$44,0),Data!X$6)),\"\",INDEX(Data_raw!$B$2:$U$44,MATCH($J63,Data_raw!$A$2:$A$44,0),Data!X$6))","v":1},{"$f":"IF(ISNA(INDEX(Data_raw!$B$2:$U$44,MATCH($J63,Data_raw!$A$2:$A$44,0),Data!Y$6)),\"\",INDEX(Data_raw!$B$2:$U$44,MATCH($J63,Data_raw!$A$2:$A$44,0),Data!Y$6))","v":1},{"$f":"IF(ISNA(INDEX(Data_raw!$B$2:$U$44,MATCH($J63,Data_raw!$A$2:$A$44,0),Data!Z$6)),\"\",INDEX(Data_raw!$B$2:$U$44,MATCH($J63,Data_raw!$A$2:$A$44,0),Data!Z$6))","v":0},{"$f":"IF(ISNA(INDEX(Data_raw!$B$2:$U$44,MATCH($J63,Data_raw!$A$2:$A$44,0),Data!AA$6)),\"\",INDEX(Data_raw!$B$2:$U$44,MATCH($J63,Data_raw!$A$2:$A$44,0),Data!AA$6))","v":1},{"$f":"IF(ISNA(INDEX(Data_raw!$B$2:$U$44,MATCH($J63,Data_raw!$A$2:$A$44,0),Data!AB$6)),\"\",INDEX(Data_raw!$B$2:$U$44,MATCH($J63,Data_raw!$A$2:$A$44,0),Data!AB$6))","v":0},{"$f":"IF(ISNA(INDEX(Data_raw!$B$2:$U$44,MATCH($J63,Data_raw!$A$2:$A$44,0),Data!AC$6)),\"\",INDEX(Data_raw!$B$2:$U$44,MATCH($J63,Data_raw!$A$2:$A$44,0),Data!AC$6))","v":1},{"$f":"IF(ISNA(INDEX(Data_raw!$B$2:$U$44,MATCH($J63,Data_raw!$A$2:$A$44,0),Data!AD$6)),\"\",INDEX(Data_raw!$B$2:$U$44,MATCH($J63,Data_raw!$A$2:$A$44,0),Data!AD$6))","v":0},{"$f":"IF(ISNA(INDEX(Data_raw!$B$2:$U$44,MATCH($J63,Data_raw!$A$2:$A$44,0),Data!AE$6)),\"\",INDEX(Data_raw!$B$2:$U$44,MATCH($J63,Data_raw!$A$2:$A$44,0),Data!AE$6))","v":0},{"$f":"IF(ISNA(INDEX(Data_raw!$B$2:$U$44,MATCH($J63,Data_raw!$A$2:$A$44,0),Data!AF$6)),\"\",INDEX(Data_raw!$B$2:$U$44,MATCH($J63,Data_raw!$A$2:$A$44,0),Data!AF$6))","v":1},{"$f":"IF(ISNA(INDEX(Data_raw!$B$2:$U$44,MATCH($J63,Data_raw!$A$2:$A$44,0),Data!AG$6)),\"\",INDEX(Data_raw!$B$2:$U$44,MATCH($J63,Data_raw!$A$2:$A$44,0),Data!AG$6))","v":0},null,0]
[null,{"$f":"tblIndicators!B58","v":"LAND"},{"$f":"tblIndicators!C58","v":"OVERALL"},{"$f":"tblIndicators!D58","v":1},null,{"$f":"tblIndicators!X58","v":100},{"$f":"tblIndicators!D58","v":1},"","",{"$f":"tblIndicators!E58","v":5},null,{"$f":"tblIndicators!AE58","v":"5) LAND"},{"$f":"IF(tblIndicators!G58=\"\",\"\",IF(G64=3,tblIndicators!G58,\"\"))","v":""},{"$f":"IF(ISNA(INDEX(Data_raw!$B$2:$U$44,MATCH($J64,Data_raw!$A$2:$A$44,0),Data!N$6)),\"\",INDEX(Data_raw!$B$2:$U$44,MATCH($J64,Data_raw!$A$2:$A$44,0),Data!N$6))","v":""},{"$f":"IF(ISNA(INDEX(Data_raw!$B$2:$U$44,MATCH($J64,Data_raw!$A$2:$A$44,0),Data!O$6)),\"\",INDEX(Data_raw!$B$2:$U$44,MATCH($J64,Data_raw!$A$2:$A$44,0),Data!O$6))","v":""},{"$f":"IF(ISNA(INDEX(Data_raw!$B$2:$U$44,MATCH($J64,Data_raw!$A$2:$A$44,0),Data!P$6)),\"\",INDEX(Data_raw!$B$2:$U$44,MATCH($J64,Data_raw!$A$2:$A$44,0),Data!P$6))","v":""},{"$f":"IF(ISNA(INDEX(Data_raw!$B$2:$U$44,MATCH($J64,Data_raw!$A$2:$A$44,0),Data!Q$6)),\"\",INDEX(Data_raw!$B$2:$U$44,MATCH($J64,Data_raw!$A$2:$A$44,0),Data!Q$6))","v":""},{"$f":"IF(ISNA(INDEX(Data_raw!$B$2:$U$44,MATCH($J64,Data_raw!$A$2:$A$44,0),Data!R$6)),\"\",INDEX(Data_raw!$B$2:$U$44,MATCH($J64,Data_raw!$A$2:$A$44,0),Data!R$6))","v":""},{"$f":"IF(ISNA(INDEX(Data_raw!$B$2:$U$44,MATCH($J64,Data_raw!$A$2:$A$44,0),Data!S$6)),\"\",INDEX(Data_raw!$B$2:$U$44,MATCH($J64,Data_raw!$A$2:$A$44,0),Data!S$6))","v":""},{"$f":"IF(ISNA(INDEX(Data_raw!$B$2:$U$44,MATCH($J64,Data_raw!$A$2:$A$44,0),Data!T$6)),\"\",INDEX(Data_raw!$B$2:$U$44,MATCH($J64,Data_raw!$A$2:$A$44,0),Data!T$6))","v":""},{"$f":"IF(ISNA(INDEX(Data_raw!$B$2:$U$44,MATCH($J64,Data_raw!$A$2:$A$44,0),Data!U$6)),\"\",INDEX(Data_raw!$B$2:$U$44,MATCH($J64,Data_raw!$A$2:$A$44,0),Data!U$6))","v":""},{"$f":"IF(ISNA(INDEX(Data_raw!$B$2:$U$44,MATCH($J64,Data_raw!$A$2:$A$44,0),Data!V$6)),\"\",INDEX(Data_raw!$B$2:$U$44,MATCH($J64,Data_raw!$A$2:$A$44,0),Data!V$6))","v":""},{"$f":"IF(ISNA(INDEX(Data_raw!$B$2:$U$44,MATCH($J64,Data_raw!$A$2:$A$44,0),Data!W$6)),\"\",INDEX(Data_raw!$B$2:$U$44,MATCH($J64,Data_raw!$A$2:$A$44,0),Data!W$6))","v":""},{"$f":"IF(ISNA(INDEX(Data_raw!$B$2:$U$44,MATCH($J64,Data_raw!$A$2:$A$44,0),Data!X$6)),\"\",INDEX(Data_raw!$B$2:$U$44,MATCH($J64,Data_raw!$A$2:$A$44,0),Data!X$6))","v":""},{"$f":"IF(ISNA(INDEX(Data_raw!$B$2:$U$44,MATCH($J64,Data_raw!$A$2:$A$44,0),Data!Y$6)),\"\",INDEX(Data_raw!$B$2:$U$44,MATCH($J64,Data_raw!$A$2:$A$44,0),Data!Y$6))","v":""},{"$f":"IF(ISNA(INDEX(Data_raw!$B$2:$U$44,MATCH($J64,Data_raw!$A$2:$A$44,0),Data!Z$6)),\"\",INDEX(Data_raw!$B$2:$U$44,MATCH($J64,Data_raw!$A$2:$A$44,0),Data!Z$6))","v":""},{"$f":"IF(ISNA(INDEX(Data_raw!$B$2:$U$44,MATCH($J64,Data_raw!$A$2:$A$44,0),Data!AA$6)),\"\",INDEX(Data_raw!$B$2:$U$44,MATCH($J64,Data_raw!$A$2:$A$44,0),Data!AA$6))","v":""},{"$f":"IF(ISNA(INDEX(Data_raw!$B$2:$U$44,MATCH($J64,Data_raw!$A$2:$A$44,0),Data!AB$6)),\"\",INDEX(Data_raw!$B$2:$U$44,MATCH($J64,Data_raw!$A$2:$A$44,0),Data!AB$6))","v":""},{"$f":"IF(ISNA(INDEX(Data_raw!$B$2:$U$44,MATCH($J64,Data_raw!$A$2:$A$44,0),Data!AC$6)),\"\",INDEX(Data_raw!$B$2:$U$44,MATCH($J64,Data_raw!$A$2:$A$44,0),Data!AC$6))","v":""},{"$f":"IF(ISNA(INDEX(Data_raw!$B$2:$U$44,MATCH($J64,Data_raw!$A$2:$A$44,0),Data!AD$6)),\"\",INDEX(Data_raw!$B$2:$U$44,MATCH($J64,Data_raw!$A$2:$A$44,0),Data!AD$6))","v":""},{"$f":"IF(ISNA(INDEX(Data_raw!$B$2:$U$44,MATCH($J64,Data_raw!$A$2:$A$44,0),Data!AE$6)),\"\",INDEX(Data_raw!$B$2:$U$44,MATCH($J64,Data_raw!$A$2:$A$44,0),Data!AE$6))","v":""},{"$f":"IF(ISNA(INDEX(Data_raw!$B$2:$U$44,MATCH($J64,Data_raw!$A$2:$A$44,0),Data!AF$6)),\"\",INDEX(Data_raw!$B$2:$U$44,MATCH($J64,Data_raw!$A$2:$A$44,0),Data!AF$6))","v":""},{"$f":"IF(ISNA(INDEX(Data_raw!$B$2:$U$44,MATCH($J64,Data_raw!$A$2:$A$44,0),Data!AG$6)),\"\",INDEX(Data_raw!$B$2:$U$44,MATCH($J64,Data_raw!$A$2:$A$44,0),Data!AG$6))","v":""},null,0]
[null,{"$f":"tblIndicators!B59","v":"LAND_1"},{"$f":"tblIndicators!C59","v":"LAND"},{"$f":"tblIndicators!D59","v":2},null,{"$f":"tblIndicators!X59","v":100},{"$f":"tblIndicators!D59","v":2},"","",{"$f":"tblIndicators!E59","v":5.0999999999999996},null,{"$f":"tblIndicators!AE59","v":"5.1) Prevalence of coastal protected areas"},{"$f":"IF(tblIndicators!G59=\"\",\"\",IF(G65=3,tblIndicators!G59,\"\"))","v":""},{"$f":"IF(ISNA(INDEX(Data_raw!$B$2:$U$44,MATCH($J65,Data_raw!$A$2:$A$44,0),Data!N$6)),\"\",INDEX(Data_raw!$B$2:$U$44,MATCH($J65,Data_raw!$A$2:$A$44,0),Data!N$6))","v":""},{"$f":"IF(ISNA(INDEX(Data_raw!$B$2:$U$44,MATCH($J65,Data_raw!$A$2:$A$44,0),Data!O$6)),\"\",INDEX(Data_raw!$B$2:$U$44,MATCH($J65,Data_raw!$A$2:$A$44,0),Data!O$6))","v":""},{"$f":"IF(ISNA(INDEX(Data_raw!$B$2:$U$44,MATCH($J65,Data_raw!$A$2:$A$44,0),Data!P$6)),\"\",INDEX(Data_raw!$B$2:$U$44,MATCH($J65,Data_raw!$A$2:$A$44,0),Data!P$6))","v":""},{"$f":"IF(ISNA(INDEX(Data_raw!$B$2:$U$44,MATCH($J65,Data_raw!$A$2:$A$44,0),Data!Q$6)),\"\",INDEX(Data_raw!$B$2:$U$44,MATCH($J65,Data_raw!$A$2:$A$44,0),Data!Q$6))","v":""},{"$f":"IF(ISNA(INDEX(Data_raw!$B$2:$U$44,MATCH($J65,Data_raw!$A$2:$A$44,0),Data!R$6)),\"\",INDEX(Data_raw!$B$2:$U$44,MATCH($J65,Data_raw!$A$2:$A$44,0),Data!R$6))","v":""},{"$f":"IF(ISNA(INDEX(Data_raw!$B$2:$U$44,MATCH($J65,Data_raw!$A$2:$A$44,0),Data!S$6)),\"\",INDEX(Data_raw!$B$2:$U$44,MATCH($J65,Data_raw!$A$2:$A$44,0),Data!S$6))","v":""},{"$f":"IF(ISNA(INDEX(Data_raw!$B$2:$U$44,MATCH($J65,Data_raw!$A$2:$A$44,0),Data!T$6)),\"\",INDEX(Data_raw!$B$2:$U$44,MATCH($J65,Data_raw!$A$2:$A$44,0),Data!T$6))","v":""},{"$f":"IF(ISNA(INDEX(Data_raw!$B$2:$U$44,MATCH($J65,Data_raw!$A$2:$A$44,0),Data!U$6)),\"\",INDEX(Data_raw!$B$2:$U$44,MATCH($J65,Data_raw!$A$2:$A$44,0),Data!U$6))","v":""},{"$f":"IF(ISNA(INDEX(Data_raw!$B$2:$U$44,MATCH($J65,Data_raw!$A$2:$A$44,0),Data!V$6)),\"\",INDEX(Data_raw!$B$2:$U$44,MATCH($J65,Data_raw!$A$2:$A$44,0),Data!V$6))","v":""},{"$f":"IF(ISNA(INDEX(Data_raw!$B$2:$U$44,MATCH($J65,Data_raw!$A$2:$A$44,0),Data!W$6)),\"\",INDEX(Data_raw!$B$2:$U$44,MATCH($J65,Data_raw!$A$2:$A$44,0),Data!W$6))","v":""},{"$f":"IF(ISNA(INDEX(Data_raw!$B$2:$U$44,MATCH($J65,Data_raw!$A$2:$A$44,0),Data!X$6)),\"\",INDEX(Data_raw!$B$2:$U$44,MATCH($J65,Data_raw!$A$2:$A$44,0),Data!X$6))","v":""},{"$f":"IF(ISNA(INDEX(Data_raw!$B$2:$U$44,MATCH($J65,Data_raw!$A$2:$A$44,0),Data!Y$6)),\"\",INDEX(Data_raw!$B$2:$U$44,MATCH($J65,Data_raw!$A$2:$A$44,0),Data!Y$6))","v":""},{"$f":"IF(ISNA(INDEX(Data_raw!$B$2:$U$44,MATCH($J65,Data_raw!$A$2:$A$44,0),Data!Z$6)),\"\",INDEX(Data_raw!$B$2:$U$44,MATCH($J65,Data_raw!$A$2:$A$44,0),Data!Z$6))","v":""},{"$f":"IF(ISNA(INDEX(Data_raw!$B$2:$U$44,MATCH($J65,Data_raw!$A$2:$A$44,0),Data!AA$6)),\"\",INDEX(Data_raw!$B$2:$U$44,MATCH($J65,Data_raw!$A$2:$A$44,0),Data!AA$6))","v":""},{"$f":"IF(ISNA(INDEX(Data_raw!$B$2:$U$44,MATCH($J65,Data_raw!$A$2:$A$44,0),Data!AB$6)),\"\",INDEX(Data_raw!$B$2:$U$44,MATCH($J65,Data_raw!$A$2:$A$44,0),Data!AB$6))","v":""},{"$f":"IF(ISNA(INDEX(Data_raw!$B$2:$U$44,MATCH($J65,Data_raw!$A$2:$A$44,0),Data!AC$6)),\"\",INDEX(Data_raw!$B$2:$U$44,MATCH($J65,Data_raw!$A$2:$A$44,0),Data!AC$6))","v":""},{"$f":"IF(ISNA(INDEX(Data_raw!$B$2:$U$44,MATCH($J65,Data_raw!$A$2:$A$44,0),Data!AD$6)),\"\",INDEX(Data_raw!$B$2:$U$44,MATCH($J65,Data_raw!$A$2:$A$44,0),Data!AD$6))","v":""},{"$f":"IF(ISNA(INDEX(Data_raw!$B$2:$U$44,MATCH($J65,Data_raw!$A$2:$A$44,0),Data!AE$6)),\"\",INDEX(Data_raw!$B$2:$U$44,MATCH($J65,Data_raw!$A$2:$A$44,0),Data!AE$6))","v":""},{"$f":"IF(ISNA(INDEX(Data_raw!$B$2:$U$44,MATCH($J65,Data_raw!$A$2:$A$44,0),Data!AF$6)),\"\",INDEX(Data_raw!$B$2:$U$44,MATCH($J65,Data_raw!$A$2:$A$44,0),Data!AF$6))","v":""},{"$f":"IF(ISNA(INDEX(Data_raw!$B$2:$U$44,MATCH($J65,Data_raw!$A$2:$A$44,0),Data!AG$6)),\"\",INDEX(Data_raw!$B$2:$U$44,MATCH($J65,Data_raw!$A$2:$A$44,0),Data!AG$6))","v":""},null,0]
[null,{"$f":"tblIndicators!B60","v":"LAND_1_1"},{"$f":"tblIndicators!C60","v":"LAND_1"},{"$f":"tblIndicators!D60","v":3},null,{"$f":"tblIndicators!X60","v":2},{"$f":"tblIndicators!D60","v":3},0,2,{"$f":"tblIndicators!E60","v":"5.1.1"},null,{"$f":"tblIndicators!AE60","v":"5.1.1) Terrestrial protected areas"},{"$f":"IF(tblIndicators!G60=\"\",\"\",IF(G66=3,tblIndicators!G60,\"\"))","v":"Scored 0-2 "},{"$f":"IF(ISNA(INDEX(Data_raw!$B$2:$U$44,MATCH($J66,Data_raw!$A$2:$A$44,0),Data!N$6)),\"\",INDEX(Data_raw!$B$2:$U$44,MATCH($J66,Data_raw!$A$2:$A$44,0),Data!N$6))","v":2},{"$f":"IF(ISNA(INDEX(Data_raw!$B$2:$U$44,MATCH($J66,Data_raw!$A$2:$A$44,0),Data!O$6)),\"\",INDEX(Data_raw!$B$2:$U$44,MATCH($J66,Data_raw!$A$2:$A$44,0),Data!O$6))","v":0},{"$f":"IF(ISNA(INDEX(Data_raw!$B$2:$U$44,MATCH($J66,Data_raw!$A$2:$A$44,0),Data!P$6)),\"\",INDEX(Data_raw!$B$2:$U$44,MATCH($J66,Data_raw!$A$2:$A$44,0),Data!P$6))","v":2},{"$f":"IF(ISNA(INDEX(Data_raw!$B$2:$U$44,MATCH($J66,Data_raw!$A$2:$A$44,0),Data!Q$6)),\"\",INDEX(Data_raw!$B$2:$U$44,MATCH($J66,Data_raw!$A$2:$A$44,0),Data!Q$6))","v":1},{"$f":"IF(ISNA(INDEX(Data_raw!$B$2:$U$44,MATCH($J66,Data_raw!$A$2:$A$44,0),Data!R$6)),\"\",INDEX(Data_raw!$B$2:$U$44,MATCH($J66,Data_raw!$A$2:$A$44,0),Data!R$6))","v":2},{"$f":"IF(ISNA(INDEX(Data_raw!$B$2:$U$44,MATCH($J66,Data_raw!$A$2:$A$44,0),Data!S$6)),\"\",INDEX(Data_raw!$B$2:$U$44,MATCH($J66,Data_raw!$A$2:$A$44,0),Data!S$6))","v":0},{"$f":"IF(ISNA(INDEX(Data_raw!$B$2:$U$44,MATCH($J66,Data_raw!$A$2:$A$44,0),Data!T$6)),\"\",INDEX(Data_raw!$B$2:$U$44,MATCH($J66,Data_raw!$A$2:$A$44,0),Data!T$6))","v":1},{"$f":"IF(ISNA(INDEX(Data_raw!$B$2:$U$44,MATCH($J66,Data_raw!$A$2:$A$44,0),Data!U$6)),\"\",INDEX(Data_raw!$B$2:$U$44,MATCH($J66,Data_raw!$A$2:$A$44,0),Data!U$6))","v":1},{"$f":"IF(ISNA(INDEX(Data_raw!$B$2:$U$44,MATCH($J66,Data_raw!$A$2:$A$44,0),Data!V$6)),\"\",INDEX(Data_raw!$B$2:$U$44,MATCH($J66,Data_raw!$A$2:$A$44,0),Data!V$6))","v":1},{"$f":"IF(ISNA(INDEX(Data_raw!$B$2:$U$44,MATCH($J66,Data_raw!$A$2:$A$44,0),Data!W$6)),\"\",INDEX(Data_raw!$B$2:$U$44,MATCH($J66,Data_raw!$A$2:$A$44,0),Data!W$6))","v":2},{"$f":"IF(ISNA(INDEX(Data_raw!$B$2:$U$44,MATCH($J66,Data_raw!$A$2:$A$44,0),Data!X$6)),\"\",INDEX(Data_raw!$B$2:$U$44,MATCH($J66,Data_raw!$A$2:$A$44,0),Data!X$6))","v":1},{"$f":"IF(ISNA(INDEX(Data_raw!$B$2:$U$44,MATCH($J66,Data_raw!$A$2:$A$44,0),Data!Y$6)),\"\",INDEX(Data_raw!$B$2:$U$44,MATCH($J66,Data_raw!$A$2:$A$44,0),Data!Y$6))","v":1},{"$f":"IF(ISNA(INDEX(Data_raw!$B$2:$U$44,MATCH($J66,Data_raw!$A$2:$A$44,0),Data!Z$6)),\"\",INDEX(Data_raw!$B$2:$U$44,MATCH($J66,Data_raw!$A$2:$A$44,0),Data!Z$6))","v":2},{"$f":"IF(ISNA(INDEX(Data_raw!$B$2:$U$44,MATCH($J66,Data_raw!$A$2:$A$44,0),Data!AA$6)),\"\",INDEX(Data_raw!$B$2:$U$44,MATCH($J66,Data_raw!$A$2:$A$44,0),Data!AA$6))","v":1},{"$f":"IF(ISNA(INDEX(Data_raw!$B$2:$U$44,MATCH($J66,Data_raw!$A$2:$A$44,0),Data!AB$6)),\"\",INDEX(Data_raw!$B$2:$U$44,MATCH($J66,Data_raw!$A$2:$A$44,0),Data!AB$6))","v":1},{"$f":"IF(ISNA(INDEX(Data_raw!$B$2:$U$44,MATCH($J66,Data_raw!$A$2:$A$44,0),Data!AC$6)),\"\",INDEX(Data_raw!$B$2:$U$44,MATCH($J66,Data_raw!$A$2:$A$44,0),Data!AC$6))","v":0},{"$f":"IF(ISNA(INDEX(Data_raw!$B$2:$U$44,MATCH($J66,Data_raw!$A$2:$A$44,0),Data!AD$6)),\"\",INDEX(Data_raw!$B$2:$U$44,MATCH($J66,Data_raw!$A$2:$A$44,0),Data!AD$6))","v":0},{"$f":"IF(ISNA(INDEX(Data_raw!$B$2:$U$44,MATCH($J66,Data_raw!$A$2:$A$44,0),Data!AE$6)),\"\",INDEX(Data_raw!$B$2:$U$44,MATCH($J66,Data_raw!$A$2:$A$44,0),Data!AE$6))","v":2},{"$f":"IF(ISNA(INDEX(Data_raw!$B$2:$U$44,MATCH($J66,Data_raw!$A$2:$A$44,0),Data!AF$6)),\"\",INDEX(Data_raw!$B$2:$U$44,MATCH($J66,Data_raw!$A$2:$A$44,0),Data!AF$6))","v":1},{"$f":"IF(ISNA(INDEX(Data_raw!$B$2:$U$44,MATCH($J66,Data_raw!$A$2:$A$44,0),Data!AG$6)),\"\",INDEX(Data_raw!$B$2:$U$44,MATCH($J66,Data_raw!$A$2:$A$44,0),Data!AG$6))","v":0},null,0]
[null,{"$f":"tblIndicators!B61","v":"LAND_2"},{"$f":"tblIndicators!C61","v":"LAND"},{"$f":"tblIndicators!D61","v":2},null,{"$f":"tblIndicators!X61","v":100},{"$f":"tblIndicators!D61","v":2},"","",{"$f":"tblIndicators!E61","v":5.2},null,{"$f":"tblIndicators!AE61","v":"5.2) Environmental impact of coastal development"},{"$f":"IF(tblIndicators!G61=\"\",\"\",IF(G67=3,tblIndicators!G61,\"\"))","v":""},{"$f":"IF(ISNA(INDEX(Data_raw!$B$2:$U$44,MATCH($J67,Data_raw!$A$2:$A$44,0),Data!N$6)),\"\",INDEX(Data_raw!$B$2:$U$44,MATCH($J67,Data_raw!$A$2:$A$44,0),Data!N$6))","v":""},{"$f":"IF(ISNA(INDEX(Data_raw!$B$2:$U$44,MATCH($J67,Data_raw!$A$2:$A$44,0),Data!O$6)),\"\",INDEX(Data_raw!$B$2:$U$44,MATCH($J67,Data_raw!$A$2:$A$44,0),Data!O$6))","v":""},{"$f":"IF(ISNA(INDEX(Data_raw!$B$2:$U$44,MATCH($J67,Data_raw!$A$2:$A$44,0),Data!P$6)),\"\",INDEX(Data_raw!$B$2:$U$44,MATCH($J67,Data_raw!$A$2:$A$44,0),Data!P$6))","v":""},{"$f":"IF(ISNA(INDEX(Data_raw!$B$2:$U$44,MATCH($J67,Data_raw!$A$2:$A$44,0),Data!Q$6)),\"\",INDEX(Data_raw!$B$2:$U$44,MATCH($J67,Data_raw!$A$2:$A$44,0),Data!Q$6))","v":""},{"$f":"IF(ISNA(INDEX(Data_raw!$B$2:$U$44,MATCH($J67,Data_raw!$A$2:$A$44,0),Data!R$6)),\"\",INDEX(Data_raw!$B$2:$U$44,MATCH($J67,Data_raw!$A$2:$A$44,0),Data!R$6))","v":""},{"$f":"IF(ISNA(INDEX(Data_raw!$B$2:$U$44,MATCH($J67,Data_raw!$A$2:$A$44,0),Data!S$6)),\"\",INDEX(Data_raw!$B$2:$U$44,MATCH($J67,Data_raw!$A$2:$A$44,0),Data!S$6))","v":""},{"$f":"IF(ISNA(INDEX(Data_raw!$B$2:$U$44,MATCH($J67,Data_raw!$A$2:$A$44,0),Data!T$6)),\"\",INDEX(Data_raw!$B$2:$U$44,MATCH($J67,Data_raw!$A$2:$A$44,0),Data!T$6))","v":""},{"$f":"IF(ISNA(INDEX(Data_raw!$B$2:$U$44,MATCH($J67,Data_raw!$A$2:$A$44,0),Data!U$6)),\"\",INDEX(Data_raw!$B$2:$U$44,MATCH($J67,Data_raw!$A$2:$A$44,0),Data!U$6))","v":""},{"$f":"IF(ISNA(INDEX(Data_raw!$B$2:$U$44,MATCH($J67,Data_raw!$A$2:$A$44,0),Data!V$6)),\"\",INDEX(Data_raw!$B$2:$U$44,MATCH($J67,Data_raw!$A$2:$A$44,0),Data!V$6))","v":""},{"$f":"IF(ISNA(INDEX(Data_raw!$B$2:$U$44,MATCH($J67,Data_raw!$A$2:$A$44,0),Data!W$6)),\"\",INDEX(Data_raw!$B$2:$U$44,MATCH($J67,Data_raw!$A$2:$A$44,0),Data!W$6))","v":""},{"$f":"IF(ISNA(INDEX(Data_raw!$B$2:$U$44,MATCH($J67,Data_raw!$A$2:$A$44,0),Data!X$6)),\"\",INDEX(Data_raw!$B$2:$U$44,MATCH($J67,Data_raw!$A$2:$A$44,0),Data!X$6))","v":""},{"$f":"IF(ISNA(INDEX(Data_raw!$B$2:$U$44,MATCH($J67,Data_raw!$A$2:$A$44,0),Data!Y$6)),\"\",INDEX(Data_raw!$B$2:$U$44,MATCH($J67,Data_raw!$A$2:$A$44,0),Data!Y$6))","v":""},{"$f":"IF(ISNA(INDEX(Data_raw!$B$2:$U$44,MATCH($J67,Data_raw!$A$2:$A$44,0),Data!Z$6)),\"\",INDEX(Data_raw!$B$2:$U$44,MATCH($J67,Data_raw!$A$2:$A$44,0),Data!Z$6))","v":""},{"$f":"IF(ISNA(INDEX(Data_raw!$B$2:$U$44,MATCH($J67,Data_raw!$A$2:$A$44,0),Data!AA$6)),\"\",INDEX(Data_raw!$B$2:$U$44,MATCH($J67,Data_raw!$A$2:$A$44,0),Data!AA$6))","v":""},{"$f":"IF(ISNA(INDEX(Data_raw!$B$2:$U$44,MATCH($J67,Data_raw!$A$2:$A$44,0),Data!AB$6)),\"\",INDEX(Data_raw!$B$2:$U$44,MATCH($J67,Data_raw!$A$2:$A$44,0),Data!AB$6))","v":""},{"$f":"IF(ISNA(INDEX(Data_raw!$B$2:$U$44,MATCH($J67,Data_raw!$A$2:$A$44,0),Data!AC$6)),\"\",INDEX(Data_raw!$B$2:$U$44,MATCH($J67,Data_raw!$A$2:$A$44,0),Data!AC$6))","v":""},{"$f":"IF(ISNA(INDEX(Data_raw!$B$2:$U$44,MATCH($J67,Data_raw!$A$2:$A$44,0),Data!AD$6)),\"\",INDEX(Data_raw!$B$2:$U$44,MATCH($J67,Data_raw!$A$2:$A$44,0),Data!AD$6))","v":""},{"$f":"IF(ISNA(INDEX(Data_raw!$B$2:$U$44,MATCH($J67,Data_raw!$A$2:$A$44,0),Data!AE$6)),\"\",INDEX(Data_raw!$B$2:$U$44,MATCH($J67,Data_raw!$A$2:$A$44,0),Data!AE$6))","v":""},{"$f":"IF(ISNA(INDEX(Data_raw!$B$2:$U$44,MATCH($J67,Data_raw!$A$2:$A$44,0),Data!AF$6)),\"\",INDEX(Data_raw!$B$2:$U$44,MATCH($J67,Data_raw!$A$2:$A$44,0),Data!AF$6))","v":""},{"$f":"IF(ISNA(INDEX(Data_raw!$B$2:$U$44,MATCH($J67,Data_raw!$A$2:$A$44,0),Data!AG$6)),\"\",INDEX(Data_raw!$B$2:$U$44,MATCH($J67,Data_raw!$A$2:$A$44,0),Data!AG$6))","v":""},null,0]
[null,{"$f":"tblIndicators!B62","v":"LAND_2_1"},{"$f":"tblIndicators!C62","v":"LAND_2"},{"$f":"tblIndicators!D62","v":3},null,{"$f":"tblIndicators!X62","v":1},{"$f":"tblIndicators!D62","v":3},0,1,{"$f":"tblIndicators!E62","v":"5.2.1"},null,{"$f":"tblIndicators!AE62","v":"5.2.1) Environment impact assessment for coastal development "},{"$f":"IF(tblIndicators!G62=\"\",\"\",IF(G68=3,tblIndicators!G62,\"\"))","v":"Scored 0-1 "},{"$f":"IF(ISNA(INDEX(Data_raw!$B$2:$U$44,MATCH($J68,Data_raw!$A$2:$A$44,0),Data!N$6)),\"\",INDEX(Data_raw!$B$2:$U$44,MATCH($J68,Data_raw!$A$2:$A$44,0),Data!N$6))","v":1},{"$f":"IF(ISNA(INDEX(Data_raw!$B$2:$U$44,MATCH($J68,Data_raw!$A$2:$A$44,0),Data!O$6)),\"\",INDEX(Data_raw!$B$2:$U$44,MATCH($J68,Data_raw!$A$2:$A$44,0),Data!O$6))","v":1},{"$f":"IF(ISNA(INDEX(Data_raw!$B$2:$U$44,MATCH($J68,Data_raw!$A$2:$A$44,0),Data!P$6)),\"\",INDEX(Data_raw!$B$2:$U$44,MATCH($J68,Data_raw!$A$2:$A$44,0),Data!P$6))","v":1},{"$f":"IF(ISNA(INDEX(Data_raw!$B$2:$U$44,MATCH($J68,Data_raw!$A$2:$A$44,0),Data!Q$6)),\"\",INDEX(Data_raw!$B$2:$U$44,MATCH($J68,Data_raw!$A$2:$A$44,0),Data!Q$6))","v":1},{"$f":"IF(ISNA(INDEX(Data_raw!$B$2:$U$44,MATCH($J68,Data_raw!$A$2:$A$44,0),Data!R$6)),\"\",INDEX(Data_raw!$B$2:$U$44,MATCH($J68,Data_raw!$A$2:$A$44,0),Data!R$6))","v":1},{"$f":"IF(ISNA(INDEX(Data_raw!$B$2:$U$44,MATCH($J68,Data_raw!$A$2:$A$44,0),Data!S$6)),\"\",INDEX(Data_raw!$B$2:$U$44,MATCH($J68,Data_raw!$A$2:$A$44,0),Data!S$6))","v":1},{"$f":"IF(ISNA(INDEX(Data_raw!$B$2:$U$44,MATCH($J68,Data_raw!$A$2:$A$44,0),Data!T$6)),\"\",INDEX(Data_raw!$B$2:$U$44,MATCH($J68,Data_raw!$A$2:$A$44,0),Data!T$6))","v":1},{"$f":"IF(ISNA(INDEX(Data_raw!$B$2:$U$44,MATCH($J68,Data_raw!$A$2:$A$44,0),Data!U$6)),\"\",INDEX(Data_raw!$B$2:$U$44,MATCH($J68,Data_raw!$A$2:$A$44,0),Data!U$6))","v":1},{"$f":"IF(ISNA(INDEX(Data_raw!$B$2:$U$44,MATCH($J68,Data_raw!$A$2:$A$44,0),Data!V$6)),\"\",INDEX(Data_raw!$B$2:$U$44,MATCH($J68,Data_raw!$A$2:$A$44,0),Data!V$6))","v":1},{"$f":"IF(ISNA(INDEX(Data_raw!$B$2:$U$44,MATCH($J68,Data_raw!$A$2:$A$44,0),Data!W$6)),\"\",INDEX(Data_raw!$B$2:$U$44,MATCH($J68,Data_raw!$A$2:$A$44,0),Data!W$6))","v":1},{"$f":"IF(ISNA(INDEX(Data_raw!$B$2:$U$44,MATCH($J68,Data_raw!$A$2:$A$44,0),Data!X$6)),\"\",INDEX(Data_raw!$B$2:$U$44,MATCH($J68,Data_raw!$A$2:$A$44,0),Data!X$6))","v":1},{"$f":"IF(ISNA(INDEX(Data_raw!$B$2:$U$44,MATCH($J68,Data_raw!$A$2:$A$44,0),Data!Y$6)),\"\",INDEX(Data_raw!$B$2:$U$44,MATCH($J68,Data_raw!$A$2:$A$44,0),Data!Y$6))","v":1},{"$f":"IF(ISNA(INDEX(Data_raw!$B$2:$U$44,MATCH($J68,Data_raw!$A$2:$A$44,0),Data!Z$6)),\"\",INDEX(Data_raw!$B$2:$U$44,MATCH($J68,Data_raw!$A$2:$A$44,0),Data!Z$6))","v":0},{"$f":"IF(ISNA(INDEX(Data_raw!$B$2:$U$44,MATCH($J68,Data_raw!$A$2:$A$44,0),Data!AA$6)),\"\",INDEX(Data_raw!$B$2:$U$44,MATCH($J68,Data_raw!$A$2:$A$44,0),Data!AA$6))","v":1},{"$f":"IF(ISNA(INDEX(Data_raw!$B$2:$U$44,MATCH($J68,Data_raw!$A$2:$A$44,0),Data!AB$6)),\"\",INDEX(Data_raw!$B$2:$U$44,MATCH($J68,Data_raw!$A$2:$A$44,0),Data!AB$6))","v":0},{"$f":"IF(ISNA(INDEX(Data_raw!$B$2:$U$44,MATCH($J68,Data_raw!$A$2:$A$44,0),Data!AC$6)),\"\",INDEX(Data_raw!$B$2:$U$44,MATCH($J68,Data_raw!$A$2:$A$44,0),Data!AC$6))","v":1},{"$f":"IF(ISNA(INDEX(Data_raw!$B$2:$U$44,MATCH($J68,Data_raw!$A$2:$A$44,0),Data!AD$6)),\"\",INDEX(Data_raw!$B$2:$U$44,MATCH($J68,Data_raw!$A$2:$A$44,0),Data!AD$6))","v":1},{"$f":"IF(ISNA(INDEX(Data_raw!$B$2:$U$44,MATCH($J68,Data_raw!$A$2:$A$44,0),Data!AE$6)),\"\",INDEX(Data_raw!$B$2:$U$44,MATCH($J68,Data_raw!$A$2:$A$44,0),Data!AE$6))","v":1},{"$f":"IF(ISNA(INDEX(Data_raw!$B$2:$U$44,MATCH($J68,Data_raw!$A$2:$A$44,0),Data!AF$6)),\"\",INDEX(Data_raw!$B$2:$U$44,MATCH($J68,Data_raw!$A$2:$A$44,0),Data!AF$6))","v":1},{"$f":"IF(ISNA(INDEX(Data_raw!$B$2:$U$44,MATCH($J68,Data_raw!$A$2:$A$44,0),Data!AG$6)),\"\",INDEX(Data_raw!$B$2:$U$44,MATCH($J68,Data_raw!$A$2:$A$44,0),Data!AG$6))","v":1},null,0]
[null,{"$f":"tblIndicators!B63","v":"LAND_2_2"},{"$f":"tblIndicators!C63","v":"LAND_2"},{"$f":"tblIndicators!D63","v":3},null,{"$f":"tblIndicators!X63","v":1},{"$f":"tblIndicators!D63","v":3},0,1,{"$f":"tblIndicators!E63","v":"5.2.2"},null,{"$f":"tblIndicators!AE63","v":"5.2.2) On-site reviews "},{"$f":"IF(tblIndicators!G63=\"\",\"\",IF(G69=3,tblIndicators!G63,\"\"))","v":"Scored 0-1 "},{"$f":"IF(ISNA(INDEX(Data_raw!$B$2:$U$44,MATCH($J69,Data_raw!$A$2:$A$44,0),Data!N$6)),\"\",INDEX(Data_raw!$B$2:$U$44,MATCH($J69,Data_raw!$A$2:$A$44,0),Data!N$6))","v":0},{"$f":"IF(ISNA(INDEX(Data_raw!$B$2:$U$44,MATCH($J69,Data_raw!$A$2:$A$44,0),Data!O$6)),\"\",INDEX(Data_raw!$B$2:$U$44,MATCH($J69,Data_raw!$A$2:$A$44,0),Data!O$6))","v":1},{"$f":"IF(ISNA(INDEX(Data_raw!$B$2:$U$44,MATCH($J69,Data_raw!$A$2:$A$44,0),Data!P$6)),\"\",INDEX(Data_raw!$B$2:$U$44,MATCH($J69,Data_raw!$A$2:$A$44,0),Data!P$6))","v":1},{"$f":"IF(ISNA(INDEX(Data_raw!$B$2:$U$44,MATCH($J69,Data_raw!$A$2:$A$44,0),Data!Q$6)),\"\",INDEX(Data_raw!$B$2:$U$44,MATCH($J69,Data_raw!$A$2:$A$44,0),Data!Q$6))","v":1},{"$f":"IF(ISNA(INDEX(Data_raw!$B$2:$U$44,MATCH($J69,Data_raw!$A$2:$A$44,0),Data!R$6)),\"\",INDEX(Data_raw!$B$2:$U$44,MATCH($J69,Data_raw!$A$2:$A$44,0),Data!R$6))","v":1},{"$f":"IF(ISNA(INDEX(Data_raw!$B$2:$U$44,MATCH($J69,Data_raw!$A$2:$A$44,0),Data!S$6)),\"\",INDEX(Data_raw!$B$2:$U$44,MATCH($J69,Data_raw!$A$2:$A$44,0),Data!S$6))","v":1},{"$f":"IF(ISNA(INDEX(Data_raw!$B$2:$U$44,MATCH($J69,Data_raw!$A$2:$A$44,0),Data!T$6)),\"\",INDEX(Data_raw!$B$2:$U$44,MATCH($J69,Data_raw!$A$2:$A$44,0),Data!T$6))","v":1},{"$f":"IF(ISNA(INDEX(Data_raw!$B$2:$U$44,MATCH($J69,Data_raw!$A$2:$A$44,0),Data!U$6)),\"\",INDEX(Data_raw!$B$2:$U$44,MATCH($J69,Data_raw!$A$2:$A$44,0),Data!U$6))","v":1},{"$f":"IF(ISNA(INDEX(Data_raw!$B$2:$U$44,MATCH($J69,Data_raw!$A$2:$A$44,0),Data!V$6)),\"\",INDEX(Data_raw!$B$2:$U$44,MATCH($J69,Data_raw!$A$2:$A$44,0),Data!V$6))","v":1},{"$f":"IF(ISNA(INDEX(Data_raw!$B$2:$U$44,MATCH($J69,Data_raw!$A$2:$A$44,0),Data!W$6)),\"\",INDEX(Data_raw!$B$2:$U$44,MATCH($J69,Data_raw!$A$2:$A$44,0),Data!W$6))","v":1},{"$f":"IF(ISNA(INDEX(Data_raw!$B$2:$U$44,MATCH($J69,Data_raw!$A$2:$A$44,0),Data!X$6)),\"\",INDEX(Data_raw!$B$2:$U$44,MATCH($J69,Data_raw!$A$2:$A$44,0),Data!X$6))","v":0},{"$f":"IF(ISNA(INDEX(Data_raw!$B$2:$U$44,MATCH($J69,Data_raw!$A$2:$A$44,0),Data!Y$6)),\"\",INDEX(Data_raw!$B$2:$U$44,MATCH($J69,Data_raw!$A$2:$A$44,0),Data!Y$6))","v":1},{"$f":"IF(ISNA(INDEX(Data_raw!$B$2:$U$44,MATCH($J69,Data_raw!$A$2:$A$44,0),Data!Z$6)),\"\",INDEX(Data_raw!$B$2:$U$44,MATCH($J69,Data_raw!$A$2:$A$44,0),Data!Z$6))","v":1},{"$f":"IF(ISNA(INDEX(Data_raw!$B$2:$U$44,MATCH($J69,Data_raw!$A$2:$A$44,0),Data!AA$6)),\"\",INDEX(Data_raw!$B$2:$U$44,MATCH($J69,Data_raw!$A$2:$A$44,0),Data!AA$6))","v":1},{"$f":"IF(ISNA(INDEX(Data_raw!$B$2:$U$44,MATCH($J69,Data_raw!$A$2:$A$44,0),Data!AB$6)),\"\",INDEX(Data_raw!$B$2:$U$44,MATCH($J69,Data_raw!$A$2:$A$44,0),Data!AB$6))","v":0},{"$f":"IF(ISNA(INDEX(Data_raw!$B$2:$U$44,MATCH($J69,Data_raw!$A$2:$A$44,0),Data!AC$6)),\"\",INDEX(Data_raw!$B$2:$U$44,MATCH($J69,Data_raw!$A$2:$A$44,0),Data!AC$6))","v":1},{"$f":"IF(ISNA(INDEX(Data_raw!$B$2:$U$44,MATCH($J69,Data_raw!$A$2:$A$44,0),Data!AD$6)),\"\",INDEX(Data_raw!$B$2:$U$44,MATCH($J69,Data_raw!$A$2:$A$44,0),Data!AD$6))","v":1},{"$f":"IF(ISNA(INDEX(Data_raw!$B$2:$U$44,MATCH($J69,Data_raw!$A$2:$A$44,0),Data!AE$6)),\"\",INDEX(Data_raw!$B$2:$U$44,MATCH($J69,Data_raw!$A$2:$A$44,0),Data!AE$6))","v":0},{"$f":"IF(ISNA(INDEX(Data_raw!$B$2:$U$44,MATCH($J69,Data_raw!$A$2:$A$44,0),Data!AF$6)),\"\",INDEX(Data_raw!$B$2:$U$44,MATCH($J69,Data_raw!$A$2:$A$44,0),Data!AF$6))","v":1},{"$f":"IF(ISNA(INDEX(Data_raw!$B$2:$U$44,MATCH($J69,Data_raw!$A$2:$A$44,0),Data!AG$6)),\"\",INDEX(Data_raw!$B$2:$U$44,MATCH($J69,Data_raw!$A$2:$A$44,0),Data!AG$6))","v":1},null,0]
[null,{"$f":"tblIndicators!B64","v":"LAND_3"},{"$f":"tblIndicators!C64","v":"LAND"},{"$f":"tblIndicators!D64","v":2},null,{"$f":"tblIndicators!X64","v":100},{"$f":"tblIndicators!D64","v":2},{"$f":"IF(G70=3,MIN($N70:$AG70),\"\")","v":""},{"$f":"IF(G70=3,MAX($N70:$AG70),\"\")","v":""},{"$f":"tblIndicators!E64","v":5.3},null,{"$f":"tblIndicators!AE64","v":"5.3) Government commitment to sustainability in coastal tourism development"},{"$f":"IF(tblIndicators!G64=\"\",\"\",IF(G70=3,tblIndicators!G64,\"\"))","v":""},{"$f":"IF(ISNA(INDEX(Data_raw!$B$2:$U$44,MATCH($J70,Data_raw!$A$2:$A$44,0),Data!N$6)),\"\",INDEX(Data_raw!$B$2:$U$44,MATCH($J70,Data_raw!$A$2:$A$44,0),Data!N$6))","v":""},{"$f":"IF(ISNA(INDEX(Data_raw!$B$2:$U$44,MATCH($J70,Data_raw!$A$2:$A$44,0),Data!O$6)),\"\",INDEX(Data_raw!$B$2:$U$44,MATCH($J70,Data_raw!$A$2:$A$44,0),Data!O$6))","v":""},{"$f":"IF(ISNA(INDEX(Data_raw!$B$2:$U$44,MATCH($J70,Data_raw!$A$2:$A$44,0),Data!P$6)),\"\",INDEX(Data_raw!$B$2:$U$44,MATCH($J70,Data_raw!$A$2:$A$44,0),Data!P$6))","v":""},{"$f":"IF(ISNA(INDEX(Data_raw!$B$2:$U$44,MATCH($J70,Data_raw!$A$2:$A$44,0),Data!Q$6)),\"\",INDEX(Data_raw!$B$2:$U$44,MATCH($J70,Data_raw!$A$2:$A$44,0),Data!Q$6))","v":""},{"$f":"IF(ISNA(INDEX(Data_raw!$B$2:$U$44,MATCH($J70,Data_raw!$A$2:$A$44,0),Data!R$6)),\"\",INDEX(Data_raw!$B$2:$U$44,MATCH($J70,Data_raw!$A$2:$A$44,0),Data!R$6))","v":""},{"$f":"IF(ISNA(INDEX(Data_raw!$B$2:$U$44,MATCH($J70,Data_raw!$A$2:$A$44,0),Data!S$6)),\"\",INDEX(Data_raw!$B$2:$U$44,MATCH($J70,Data_raw!$A$2:$A$44,0),Data!S$6))","v":""},{"$f":"IF(ISNA(INDEX(Data_raw!$B$2:$U$44,MATCH($J70,Data_raw!$A$2:$A$44,0),Data!T$6)),\"\",INDEX(Data_raw!$B$2:$U$44,MATCH($J70,Data_raw!$A$2:$A$44,0),Data!T$6))","v":""},{"$f":"IF(ISNA(INDEX(Data_raw!$B$2:$U$44,MATCH($J70,Data_raw!$A$2:$A$44,0),Data!U$6)),\"\",INDEX(Data_raw!$B$2:$U$44,MATCH($J70,Data_raw!$A$2:$A$44,0),Data!U$6))","v":""},{"$f":"IF(ISNA(INDEX(Data_raw!$B$2:$U$44,MATCH($J70,Data_raw!$A$2:$A$44,0),Data!V$6)),\"\",INDEX(Data_raw!$B$2:$U$44,MATCH($J70,Data_raw!$A$2:$A$44,0),Data!V$6))","v":""},{"$f":"IF(ISNA(INDEX(Data_raw!$B$2:$U$44,MATCH($J70,Data_raw!$A$2:$A$44,0),Data!W$6)),\"\",INDEX(Data_raw!$B$2:$U$44,MATCH($J70,Data_raw!$A$2:$A$44,0),Data!W$6))","v":""},{"$f":"IF(ISNA(INDEX(Data_raw!$B$2:$U$44,MATCH($J70,Data_raw!$A$2:$A$44,0),Data!X$6)),\"\",INDEX(Data_raw!$B$2:$U$44,MATCH($J70,Data_raw!$A$2:$A$44,0),Data!X$6))","v":""},{"$f":"IF(ISNA(INDEX(Data_raw!$B$2:$U$44,MATCH($J70,Data_raw!$A$2:$A$44,0),Data!Y$6)),\"\",INDEX(Data_raw!$B$2:$U$44,MATCH($J70,Data_raw!$A$2:$A$44,0),Data!Y$6))","v":""},{"$f":"IF(ISNA(INDEX(Data_raw!$B$2:$U$44,MATCH($J70,Data_raw!$A$2:$A$44,0),Data!Z$6)),\"\",INDEX(Data_raw!$B$2:$U$44,MATCH($J70,Data_raw!$A$2:$A$44,0),Data!Z$6))","v":""},{"$f":"IF(ISNA(INDEX(Data_raw!$B$2:$U$44,MATCH($J70,Data_raw!$A$2:$A$44,0),Data!AA$6)),\"\",INDEX(Data_raw!$B$2:$U$44,MATCH($J70,Data_raw!$A$2:$A$44,0),Data!AA$6))","v":""},{"$f":"IF(ISNA(INDEX(Data_raw!$B$2:$U$44,MATCH($J70,Data_raw!$A$2:$A$44,0),Data!AB$6)),\"\",INDEX(Data_raw!$B$2:$U$44,MATCH($J70,Data_raw!$A$2:$A$44,0),Data!AB$6))","v":""},{"$f":"IF(ISNA(INDEX(Data_raw!$B$2:$U$44,MATCH($J70,Data_raw!$A$2:$A$44,0),Data!AC$6)),\"\",INDEX(Data_raw!$B$2:$U$44,MATCH($J70,Data_raw!$A$2:$A$44,0),Data!AC$6))","v":""},{"$f":"IF(ISNA(INDEX(Data_raw!$B$2:$U$44,MATCH($J70,Data_raw!$A$2:$A$44,0),Data!AD$6)),\"\",INDEX(Data_raw!$B$2:$U$44,MATCH($J70,Data_raw!$A$2:$A$44,0),Data!AD$6))","v":""},{"$f":"IF(ISNA(INDEX(Data_raw!$B$2:$U$44,MATCH($J70,Data_raw!$A$2:$A$44,0),Data!AE$6)),\"\",INDEX(Data_raw!$B$2:$U$44,MATCH($J70,Data_raw!$A$2:$A$44,0),Data!AE$6))","v":""},{"$f":"IF(ISNA(INDEX(Data_raw!$B$2:$U$44,MATCH($J70,Data_raw!$A$2:$A$44,0),Data!AF$6)),\"\",INDEX(Data_raw!$B$2:$U$44,MATCH($J70,Data_raw!$A$2:$A$44,0),Data!AF$6))","v":""},{"$f":"IF(ISNA(INDEX(Data_raw!$B$2:$U$44,MATCH($J70,Data_raw!$A$2:$A$44,0),Data!AG$6)),\"\",INDEX(Data_raw!$B$2:$U$44,MATCH($J70,Data_raw!$A$2:$A$44,0),Data!AG$6))","v":""},null,0]
[null,{"$f":"tblIndicators!B65","v":"LAND_3_1"},{"$f":"tblIndicators!C65","v":"LAND_3"},{"$f":"tblIndicators!D65","v":3},null,{"$f":"tblIndicators!X65","v":6},{"$f":"tblIndicators!D65","v":3},2.2000000000000002,5.0599999999999996,{"$f":"tblIndicators!E65","v":"5.3.1"},null,{"$f":"tblIndicators!AE65","v":"5.3.1) Sustainability of tourism"},{"$f":"IF(tblIndicators!G65=\"\",\"\",IF(G71=3,tblIndicators!G65,\"\"))","v":"Scored 0-6 "},{"$f":"IF(ISNA(INDEX(Data_raw!$B$2:$U$44,MATCH($J71,Data_raw!$A$2:$A$44,0),Data!N$6)),\"\",INDEX(Data_raw!$B$2:$U$44,MATCH($J71,Data_raw!$A$2:$A$44,0),Data!N$6))","v":2.95},{"$f":"IF(ISNA(INDEX(Data_raw!$B$2:$U$44,MATCH($J71,Data_raw!$A$2:$A$44,0),Data!O$6)),\"\",INDEX(Data_raw!$B$2:$U$44,MATCH($J71,Data_raw!$A$2:$A$44,0),Data!O$6))","v":4.0199999999999996},{"$f":"IF(ISNA(INDEX(Data_raw!$B$2:$U$44,MATCH($J71,Data_raw!$A$2:$A$44,0),Data!P$6)),\"\",INDEX(Data_raw!$B$2:$U$44,MATCH($J71,Data_raw!$A$2:$A$44,0),Data!P$6))","v":3.4},{"$f":"IF(ISNA(INDEX(Data_raw!$B$2:$U$44,MATCH($J71,Data_raw!$A$2:$A$44,0),Data!Q$6)),\"\",INDEX(Data_raw!$B$2:$U$44,MATCH($J71,Data_raw!$A$2:$A$44,0),Data!Q$6))","v":3.72},{"$f":"IF(ISNA(INDEX(Data_raw!$B$2:$U$44,MATCH($J71,Data_raw!$A$2:$A$44,0),Data!R$6)),\"\",INDEX(Data_raw!$B$2:$U$44,MATCH($J71,Data_raw!$A$2:$A$44,0),Data!R$6))","v":3.99},{"$f":"IF(ISNA(INDEX(Data_raw!$B$2:$U$44,MATCH($J71,Data_raw!$A$2:$A$44,0),Data!S$6)),\"\",INDEX(Data_raw!$B$2:$U$44,MATCH($J71,Data_raw!$A$2:$A$44,0),Data!S$6))","v":3.09},{"$f":"IF(ISNA(INDEX(Data_raw!$B$2:$U$44,MATCH($J71,Data_raw!$A$2:$A$44,0),Data!T$6)),\"\",INDEX(Data_raw!$B$2:$U$44,MATCH($J71,Data_raw!$A$2:$A$44,0),Data!T$6))","v":3.32},{"$f":"IF(ISNA(INDEX(Data_raw!$B$2:$U$44,MATCH($J71,Data_raw!$A$2:$A$44,0),Data!U$6)),\"\",INDEX(Data_raw!$B$2:$U$44,MATCH($J71,Data_raw!$A$2:$A$44,0),Data!U$6))","v":3.53},{"$f":"IF(ISNA(INDEX(Data_raw!$B$2:$U$44,MATCH($J71,Data_raw!$A$2:$A$44,0),Data!V$6)),\"\",INDEX(Data_raw!$B$2:$U$44,MATCH($J71,Data_raw!$A$2:$A$44,0),Data!V$6))","v":3.63},{"$f":"IF(ISNA(INDEX(Data_raw!$B$2:$U$44,MATCH($J71,Data_raw!$A$2:$A$44,0),Data!W$6)),\"\",INDEX(Data_raw!$B$2:$U$44,MATCH($J71,Data_raw!$A$2:$A$44,0),Data!W$6))","v":5.0599999999999996},{"$f":"IF(ISNA(INDEX(Data_raw!$B$2:$U$44,MATCH($J71,Data_raw!$A$2:$A$44,0),Data!X$6)),\"\",INDEX(Data_raw!$B$2:$U$44,MATCH($J71,Data_raw!$A$2:$A$44,0),Data!X$6))","v":2.65},{"$f":"IF(ISNA(INDEX(Data_raw!$B$2:$U$44,MATCH($J71,Data_raw!$A$2:$A$44,0),Data!Y$6)),\"\",INDEX(Data_raw!$B$2:$U$44,MATCH($J71,Data_raw!$A$2:$A$44,0),Data!Y$6))","v":3.75},{"$f":"IF(ISNA(INDEX(Data_raw!$B$2:$U$44,MATCH($J71,Data_raw!$A$2:$A$44,0),Data!Z$6)),\"\",INDEX(Data_raw!$B$2:$U$44,MATCH($J71,Data_raw!$A$2:$A$44,0),Data!Z$6))","v":3.77},{"$f":"IF(ISNA(INDEX(Data_raw!$B$2:$U$44,MATCH($J71,Data_raw!$A$2:$A$44,0),Data!AA$6)),\"\",INDEX(Data_raw!$B$2:$U$44,MATCH($J71,Data_raw!$A$2:$A$44,0),Data!AA$6))","v":3.13},{"$f":"IF(ISNA(INDEX(Data_raw!$B$2:$U$44,MATCH($J71,Data_raw!$A$2:$A$44,0),Data!AB$6)),\"\",INDEX(Data_raw!$B$2:$U$44,MATCH($J71,Data_raw!$A$2:$A$44,0),Data!AB$6))","v":2.2000000000000002},{"$f":"IF(ISNA(INDEX(Data_raw!$B$2:$U$44,MATCH($J71,Data_raw!$A$2:$A$44,0),Data!AC$6)),\"\",INDEX(Data_raw!$B$2:$U$44,MATCH($J71,Data_raw!$A$2:$A$44,0),Data!AC$6))","v":3.96},{"$f":"IF(ISNA(INDEX(Data_raw!$B$2:$U$44,MATCH($J71,Data_raw!$A$2:$A$44,0),Data!AD$6)),\"\",INDEX(Data_raw!$B$2:$U$44,MATCH($J71,Data_raw!$A$2:$A$44,0),Data!AD$6))","v":3.1},{"$f":"IF(ISNA(INDEX(Data_raw!$B$2:$U$44,MATCH($J71,Data_raw!$A$2:$A$44,0),Data!AE$6)),\"\",INDEX(Data_raw!$B$2:$U$44,MATCH($J71,Data_raw!$A$2:$A$44,0),Data!AE$6))","v":4.08},{"$f":"IF(ISNA(INDEX(Data_raw!$B$2:$U$44,MATCH($J71,Data_raw!$A$2:$A$44,0),Data!AF$6)),\"\",INDEX(Data_raw!$B$2:$U$44,MATCH($J71,Data_raw!$A$2:$A$44,0),Data!AF$6))","v":3.99},{"$f":"IF(ISNA(INDEX(Data_raw!$B$2:$U$44,MATCH($J71,Data_raw!$A$2:$A$44,0),Data!AG$6)),\"\",INDEX(Data_raw!$B$2:$U$44,MATCH($J71,Data_raw!$A$2:$A$44,0),Data!AG$6))","v":2.77},null,0]
[null,{"$f":"tblIndicators!B66","v":"LAND_4"},{"$f":"tblIndicators!C66","v":"LAND"},{"$f":"tblIndicators!D66","v":2},null,{"$f":"tblIndicators!X66","v":100},{"$f":"tblIndicators!D66","v":2},"","",{"$f":"tblIndicators!E66","v":5.4},null,{"$f":"tblIndicators!AE66","v":"5.4) Natural disaster risk mitigation"},{"$f":"IF(tblIndicators!G66=\"\",\"\",IF(G72=3,tblIndicators!G66,\"\"))","v":""},{"$f":"IF(ISNA(INDEX(Data_raw!$B$2:$U$44,MATCH($J72,Data_raw!$A$2:$A$44,0),Data!N$6)),\"\",INDEX(Data_raw!$B$2:$U$44,MATCH($J72,Data_raw!$A$2:$A$44,0),Data!N$6))","v":""},{"$f":"IF(ISNA(INDEX(Data_raw!$B$2:$U$44,MATCH($J72,Data_raw!$A$2:$A$44,0),Data!O$6)),\"\",INDEX(Data_raw!$B$2:$U$44,MATCH($J72,Data_raw!$A$2:$A$44,0),Data!O$6))","v":""},{"$f":"IF(ISNA(INDEX(Data_raw!$B$2:$U$44,MATCH($J72,Data_raw!$A$2:$A$44,0),Data!P$6)),\"\",INDEX(Data_raw!$B$2:$U$44,MATCH($J72,Data_raw!$A$2:$A$44,0),Data!P$6))","v":""},{"$f":"IF(ISNA(INDEX(Data_raw!$B$2:$U$44,MATCH($J72,Data_raw!$A$2:$A$44,0),Data!Q$6)),\"\",INDEX(Data_raw!$B$2:$U$44,MATCH($J72,Data_raw!$A$2:$A$44,0),Data!Q$6))","v":""},{"$f":"IF(ISNA(INDEX(Data_raw!$B$2:$U$44,MATCH($J72,Data_raw!$A$2:$A$44,0),Data!R$6)),\"\",INDEX(Data_raw!$B$2:$U$44,MATCH($J72,Data_raw!$A$2:$A$44,0),Data!R$6))","v":""},{"$f":"IF(ISNA(INDEX(Data_raw!$B$2:$U$44,MATCH($J72,Data_raw!$A$2:$A$44,0),Data!S$6)),\"\",INDEX(Data_raw!$B$2:$U$44,MATCH($J72,Data_raw!$A$2:$A$44,0),Data!S$6))","v":""},{"$f":"IF(ISNA(INDEX(Data_raw!$B$2:$U$44,MATCH($J72,Data_raw!$A$2:$A$44,0),Data!T$6)),\"\",INDEX(Data_raw!$B$2:$U$44,MATCH($J72,Data_raw!$A$2:$A$44,0),Data!T$6))","v":""},{"$f":"IF(ISNA(INDEX(Data_raw!$B$2:$U$44,MATCH($J72,Data_raw!$A$2:$A$44,0),Data!U$6)),\"\",INDEX(Data_raw!$B$2:$U$44,MATCH($J72,Data_raw!$A$2:$A$44,0),Data!U$6))","v":""},{"$f":"IF(ISNA(INDEX(Data_raw!$B$2:$U$44,MATCH($J72,Data_raw!$A$2:$A$44,0),Data!V$6)),\"\",INDEX(Data_raw!$B$2:$U$44,MATCH($J72,Data_raw!$A$2:$A$44,0),Data!V$6))","v":""},{"$f":"IF(ISNA(INDEX(Data_raw!$B$2:$U$44,MATCH($J72,Data_raw!$A$2:$A$44,0),Data!W$6)),\"\",INDEX(Data_raw!$B$2:$U$44,MATCH($J72,Data_raw!$A$2:$A$44,0),Data!W$6))","v":""},{"$f":"IF(ISNA(INDEX(Data_raw!$B$2:$U$44,MATCH($J72,Data_raw!$A$2:$A$44,0),Data!X$6)),\"\",INDEX(Data_raw!$B$2:$U$44,MATCH($J72,Data_raw!$A$2:$A$44,0),Data!X$6))","v":""},{"$f":"IF(ISNA(INDEX(Data_raw!$B$2:$U$44,MATCH($J72,Data_raw!$A$2:$A$44,0),Data!Y$6)),\"\",INDEX(Data_raw!$B$2:$U$44,MATCH($J72,Data_raw!$A$2:$A$44,0),Data!Y$6))","v":""},{"$f":"IF(ISNA(INDEX(Data_raw!$B$2:$U$44,MATCH($J72,Data_raw!$A$2:$A$44,0),Data!Z$6)),\"\",INDEX(Data_raw!$B$2:$U$44,MATCH($J72,Data_raw!$A$2:$A$44,0),Data!Z$6))","v":""},{"$f":"IF(ISNA(INDEX(Data_raw!$B$2:$U$44,MATCH($J72,Data_raw!$A$2:$A$44,0),Data!AA$6)),\"\",INDEX(Data_raw!$B$2:$U$44,MATCH($J72,Data_raw!$A$2:$A$44,0),Data!AA$6))","v":""},{"$f":"IF(ISNA(INDEX(Data_raw!$B$2:$U$44,MATCH($J72,Data_raw!$A$2:$A$44,0),Data!AB$6)),\"\",INDEX(Data_raw!$B$2:$U$44,MATCH($J72,Data_raw!$A$2:$A$44,0),Data!AB$6))","v":""},{"$f":"IF(ISNA(INDEX(Data_raw!$B$2:$U$44,MATCH($J72,Data_raw!$A$2:$A$44,0),Data!AC$6)),\"\",INDEX(Data_raw!$B$2:$U$44,MATCH($J72,Data_raw!$A$2:$A$44,0),Data!AC$6))","v":""},{"$f":"IF(ISNA(INDEX(Data_raw!$B$2:$U$44,MATCH($J72,Data_raw!$A$2:$A$44,0),Data!AD$6)),\"\",INDEX(Data_raw!$B$2:$U$44,MATCH($J72,Data_raw!$A$2:$A$44,0),Data!AD$6))","v":""},{"$f":"IF(ISNA(INDEX(Data_raw!$B$2:$U$44,MATCH($J72,Data_raw!$A$2:$A$44,0),Data!AE$6)),\"\",INDEX(Data_raw!$B$2:$U$44,MATCH($J72,Data_raw!$A$2:$A$44,0),Data!AE$6))","v":""},{"$f":"IF(ISNA(INDEX(Data_raw!$B$2:$U$44,MATCH($J72,Data_raw!$A$2:$A$44,0),Data!AF$6)),\"\",INDEX(Data_raw!$B$2:$U$44,MATCH($J72,Data_raw!$A$2:$A$44,0),Data!AF$6))","v":""},{"$f":"IF(ISNA(INDEX(Data_raw!$B$2:$U$44,MATCH($J72,Data_raw!$A$2:$A$44,0),Data!AG$6)),\"\",INDEX(Data_raw!$B$2:$U$44,MATCH($J72,Data_raw!$A$2:$A$44,0),Data!AG$6))","v":""},null,0]
[null,{"$f":"tblIndicators!B67","v":"LAND_4_1"},{"$f":"tblIndicators!C67","v":"LAND_4"},{"$f":"tblIndicators!D67","v":3},null,{"$f":"tblIndicators!X67","v":1},{"$f":"tblIndicators!D67","v":3},0,1,{"$f":"tblIndicators!E67","v":"5.4.1"},null,{"$f":"tblIndicators!AE67","v":"5.4.1) Strategy for risk mitigation "},{"$f":"IF(tblIndicators!G67=\"\",\"\",IF(G73=3,tblIndicators!G67,\"\"))","v":"Scored 0-1 "},{"$f":"IF(ISNA(INDEX(Data_raw!$B$2:$U$44,MATCH($J73,Data_raw!$A$2:$A$44,0),Data!N$6)),\"\",INDEX(Data_raw!$B$2:$U$44,MATCH($J73,Data_raw!$A$2:$A$44,0),Data!N$6))","v":0},{"$f":"IF(ISNA(INDEX(Data_raw!$B$2:$U$44,MATCH($J73,Data_raw!$A$2:$A$44,0),Data!O$6)),\"\",INDEX(Data_raw!$B$2:$U$44,MATCH($J73,Data_raw!$A$2:$A$44,0),Data!O$6))","v":1},{"$f":"IF(ISNA(INDEX(Data_raw!$B$2:$U$44,MATCH($J73,Data_raw!$A$2:$A$44,0),Data!P$6)),\"\",INDEX(Data_raw!$B$2:$U$44,MATCH($J73,Data_raw!$A$2:$A$44,0),Data!P$6))","v":0},{"$f":"IF(ISNA(INDEX(Data_raw!$B$2:$U$44,MATCH($J73,Data_raw!$A$2:$A$44,0),Data!Q$6)),\"\",INDEX(Data_raw!$B$2:$U$44,MATCH($J73,Data_raw!$A$2:$A$44,0),Data!Q$6))","v":1},{"$f":"IF(ISNA(INDEX(Data_raw!$B$2:$U$44,MATCH($J73,Data_raw!$A$2:$A$44,0),Data!R$6)),\"\",INDEX(Data_raw!$B$2:$U$44,MATCH($J73,Data_raw!$A$2:$A$44,0),Data!R$6))","v":1},{"$f":"IF(ISNA(INDEX(Data_raw!$B$2:$U$44,MATCH($J73,Data_raw!$A$2:$A$44,0),Data!S$6)),\"\",INDEX(Data_raw!$B$2:$U$44,MATCH($J73,Data_raw!$A$2:$A$44,0),Data!S$6))","v":1},{"$f":"IF(ISNA(INDEX(Data_raw!$B$2:$U$44,MATCH($J73,Data_raw!$A$2:$A$44,0),Data!T$6)),\"\",INDEX(Data_raw!$B$2:$U$44,MATCH($J73,Data_raw!$A$2:$A$44,0),Data!T$6))","v":1},{"$f":"IF(ISNA(INDEX(Data_raw!$B$2:$U$44,MATCH($J73,Data_raw!$A$2:$A$44,0),Data!U$6)),\"\",INDEX(Data_raw!$B$2:$U$44,MATCH($J73,Data_raw!$A$2:$A$44,0),Data!U$6))","v":1},{"$f":"IF(ISNA(INDEX(Data_raw!$B$2:$U$44,MATCH($J73,Data_raw!$A$2:$A$44,0),Data!V$6)),\"\",INDEX(Data_raw!$B$2:$U$44,MATCH($J73,Data_raw!$A$2:$A$44,0),Data!V$6))","v":0},{"$f":"IF(ISNA(INDEX(Data_raw!$B$2:$U$44,MATCH($J73,Data_raw!$A$2:$A$44,0),Data!W$6)),\"\",INDEX(Data_raw!$B$2:$U$44,MATCH($J73,Data_raw!$A$2:$A$44,0),Data!W$6))","v":1},{"$f":"IF(ISNA(INDEX(Data_raw!$B$2:$U$44,MATCH($J73,Data_raw!$A$2:$A$44,0),Data!X$6)),\"\",INDEX(Data_raw!$B$2:$U$44,MATCH($J73,Data_raw!$A$2:$A$44,0),Data!X$6))","v":1},{"$f":"IF(ISNA(INDEX(Data_raw!$B$2:$U$44,MATCH($J73,Data_raw!$A$2:$A$44,0),Data!Y$6)),\"\",INDEX(Data_raw!$B$2:$U$44,MATCH($J73,Data_raw!$A$2:$A$44,0),Data!Y$6))","v":0},{"$f":"IF(ISNA(INDEX(Data_raw!$B$2:$U$44,MATCH($J73,Data_raw!$A$2:$A$44,0),Data!Z$6)),\"\",INDEX(Data_raw!$B$2:$U$44,MATCH($J73,Data_raw!$A$2:$A$44,0),Data!Z$6))","v":1},{"$f":"IF(ISNA(INDEX(Data_raw!$B$2:$U$44,MATCH($J73,Data_raw!$A$2:$A$44,0),Data!AA$6)),\"\",INDEX(Data_raw!$B$2:$U$44,MATCH($J73,Data_raw!$A$2:$A$44,0),Data!AA$6))","v":1},{"$f":"IF(ISNA(INDEX(Data_raw!$B$2:$U$44,MATCH($J73,Data_raw!$A$2:$A$44,0),Data!AB$6)),\"\",INDEX(Data_raw!$B$2:$U$44,MATCH($J73,Data_raw!$A$2:$A$44,0),Data!AB$6))","v":0},{"$f":"IF(ISNA(INDEX(Data_raw!$B$2:$U$44,MATCH($J73,Data_raw!$A$2:$A$44,0),Data!AC$6)),\"\",INDEX(Data_raw!$B$2:$U$44,MATCH($J73,Data_raw!$A$2:$A$44,0),Data!AC$6))","v":1},{"$f":"IF(ISNA(INDEX(Data_raw!$B$2:$U$44,MATCH($J73,Data_raw!$A$2:$A$44,0),Data!AD$6)),\"\",INDEX(Data_raw!$B$2:$U$44,MATCH($J73,Data_raw!$A$2:$A$44,0),Data!AD$6))","v":1},{"$f":"IF(ISNA(INDEX(Data_raw!$B$2:$U$44,MATCH($J73,Data_raw!$A$2:$A$44,0),Data!AE$6)),\"\",INDEX(Data_raw!$B$2:$U$44,MATCH($J73,Data_raw!$A$2:$A$44,0),Data!AE$6))","v":1},{"$f":"IF(ISNA(INDEX(Data_raw!$B$2:$U$44,MATCH($J73,Data_raw!$A$2:$A$44,0),Data!AF$6)),\"\",INDEX(Data_raw!$B$2:$U$44,MATCH($J73,Data_raw!$A$2:$A$44,0),Data!AF$6))","v":1},{"$f":"IF(ISNA(INDEX(Data_raw!$B$2:$U$44,MATCH($J73,Data_raw!$A$2:$A$44,0),Data!AG$6)),\"\",INDEX(Data_raw!$B$2:$U$44,MATCH($J73,Data_raw!$A$2:$A$44,0),Data!AG$6))","v":1},null,0]
[null,{"$f":"tblIndicators!B68","v":"LIVRES"},{"$f":"tblIndicators!C68","v":"OVERALL"},{"$f":"tblIndicators!D68","v":1},null,{"$f":"tblIndicators!X68","v":100},{"$f":"tblIndicators!D68","v":1},"","",{"$f":"tblIndicators!E68","v":6},null,{"$f":"tblIndicators!AE68","v":"6) LIVING RESOURCES"},{"$f":"IF(tblIndicators!G68=\"\",\"\",IF(G74=3,tblIndicators!G68,\"\"))","v":""},{"$f":"IF(ISNA(INDEX(Data_raw!$B$2:$U$44,MATCH($J74,Data_raw!$A$2:$A$44,0),Data!N$6)),\"\",INDEX(Data_raw!$B$2:$U$44,MATCH($J74,Data_raw!$A$2:$A$44,0),Data!N$6))","v":""},{"$f":"IF(ISNA(INDEX(Data_raw!$B$2:$U$44,MATCH($J74,Data_raw!$A$2:$A$44,0),Data!O$6)),\"\",INDEX(Data_raw!$B$2:$U$44,MATCH($J74,Data_raw!$A$2:$A$44,0),Data!O$6))","v":""},{"$f":"IF(ISNA(INDEX(Data_raw!$B$2:$U$44,MATCH($J74,Data_raw!$A$2:$A$44,0),Data!P$6)),\"\",INDEX(Data_raw!$B$2:$U$44,MATCH($J74,Data_raw!$A$2:$A$44,0),Data!P$6))","v":""},{"$f":"IF(ISNA(INDEX(Data_raw!$B$2:$U$44,MATCH($J74,Data_raw!$A$2:$A$44,0),Data!Q$6)),\"\",INDEX(Data_raw!$B$2:$U$44,MATCH($J74,Data_raw!$A$2:$A$44,0),Data!Q$6))","v":""},{"$f":"IF(ISNA(INDEX(Data_raw!$B$2:$U$44,MATCH($J74,Data_raw!$A$2:$A$44,0),Data!R$6)),\"\",INDEX(Data_raw!$B$2:$U$44,MATCH($J74,Data_raw!$A$2:$A$44,0),Data!R$6))","v":""},{"$f":"IF(ISNA(INDEX(Data_raw!$B$2:$U$44,MATCH($J74,Data_raw!$A$2:$A$44,0),Data!S$6)),\"\",INDEX(Data_raw!$B$2:$U$44,MATCH($J74,Data_raw!$A$2:$A$44,0),Data!S$6))","v":""},{"$f":"IF(ISNA(INDEX(Data_raw!$B$2:$U$44,MATCH($J74,Data_raw!$A$2:$A$44,0),Data!T$6)),\"\",INDEX(Data_raw!$B$2:$U$44,MATCH($J74,Data_raw!$A$2:$A$44,0),Data!T$6))","v":""},{"$f":"IF(ISNA(INDEX(Data_raw!$B$2:$U$44,MATCH($J74,Data_raw!$A$2:$A$44,0),Data!U$6)),\"\",INDEX(Data_raw!$B$2:$U$44,MATCH($J74,Data_raw!$A$2:$A$44,0),Data!U$6))","v":""},{"$f":"IF(ISNA(INDEX(Data_raw!$B$2:$U$44,MATCH($J74,Data_raw!$A$2:$A$44,0),Data!V$6)),\"\",INDEX(Data_raw!$B$2:$U$44,MATCH($J74,Data_raw!$A$2:$A$44,0),Data!V$6))","v":""},{"$f":"IF(ISNA(INDEX(Data_raw!$B$2:$U$44,MATCH($J74,Data_raw!$A$2:$A$44,0),Data!W$6)),\"\",INDEX(Data_raw!$B$2:$U$44,MATCH($J74,Data_raw!$A$2:$A$44,0),Data!W$6))","v":""},{"$f":"IF(ISNA(INDEX(Data_raw!$B$2:$U$44,MATCH($J74,Data_raw!$A$2:$A$44,0),Data!X$6)),\"\",INDEX(Data_raw!$B$2:$U$44,MATCH($J74,Data_raw!$A$2:$A$44,0),Data!X$6))","v":""},{"$f":"IF(ISNA(INDEX(Data_raw!$B$2:$U$44,MATCH($J74,Data_raw!$A$2:$A$44,0),Data!Y$6)),\"\",INDEX(Data_raw!$B$2:$U$44,MATCH($J74,Data_raw!$A$2:$A$44,0),Data!Y$6))","v":""},{"$f":"IF(ISNA(INDEX(Data_raw!$B$2:$U$44,MATCH($J74,Data_raw!$A$2:$A$44,0),Data!Z$6)),\"\",INDEX(Data_raw!$B$2:$U$44,MATCH($J74,Data_raw!$A$2:$A$44,0),Data!Z$6))","v":""},{"$f":"IF(ISNA(INDEX(Data_raw!$B$2:$U$44,MATCH($J74,Data_raw!$A$2:$A$44,0),Data!AA$6)),\"\",INDEX(Data_raw!$B$2:$U$44,MATCH($J74,Data_raw!$A$2:$A$44,0),Data!AA$6))","v":""},{"$f":"IF(ISNA(INDEX(Data_raw!$B$2:$U$44,MATCH($J74,Data_raw!$A$2:$A$44,0),Data!AB$6)),\"\",INDEX(Data_raw!$B$2:$U$44,MATCH($J74,Data_raw!$A$2:$A$44,0),Data!AB$6))","v":""},{"$f":"IF(ISNA(INDEX(Data_raw!$B$2:$U$44,MATCH($J74,Data_raw!$A$2:$A$44,0),Data!AC$6)),\"\",INDEX(Data_raw!$B$2:$U$44,MATCH($J74,Data_raw!$A$2:$A$44,0),Data!AC$6))","v":""},{"$f":"IF(ISNA(INDEX(Data_raw!$B$2:$U$44,MATCH($J74,Data_raw!$A$2:$A$44,0),Data!AD$6)),\"\",INDEX(Data_raw!$B$2:$U$44,MATCH($J74,Data_raw!$A$2:$A$44,0),Data!AD$6))","v":""},{"$f":"IF(ISNA(INDEX(Data_raw!$B$2:$U$44,MATCH($J74,Data_raw!$A$2:$A$44,0),Data!AE$6)),\"\",INDEX(Data_raw!$B$2:$U$44,MATCH($J74,Data_raw!$A$2:$A$44,0),Data!AE$6))","v":""},{"$f":"IF(ISNA(INDEX(Data_raw!$B$2:$U$44,MATCH($J74,Data_raw!$A$2:$A$44,0),Data!AF$6)),\"\",INDEX(Data_raw!$B$2:$U$44,MATCH($J74,Data_raw!$A$2:$A$44,0),Data!AF$6))","v":""},{"$f":"IF(ISNA(INDEX(Data_raw!$B$2:$U$44,MATCH($J74,Data_raw!$A$2:$A$44,0),Data!AG$6)),\"\",INDEX(Data_raw!$B$2:$U$44,MATCH($J74,Data_raw!$A$2:$A$44,0),Data!AG$6))","v":""},null,0]
[null,{"$f":"tblIndicators!B69","v":"LIVRES_1"},{"$f":"tblIndicators!C69","v":"LIVRES"},{"$f":"tblIndicators!D69","v":2},null,{"$f":"tblIndicators!X69","v":100},{"$f":"tblIndicators!D69","v":2},"","",{"$f":"tblIndicators!E69","v":6.1},null,{"$f":"tblIndicators!AE69","v":"6.1) Fisheries governance and management effectiveness"},{"$f":"IF(tblIndicators!G69=\"\",\"\",IF(G75=3,tblIndicators!G69,\"\"))","v":""},{"$f":"IF(ISNA(INDEX(Data_raw!$B$2:$U$44,MATCH($J75,Data_raw!$A$2:$A$44,0),Data!N$6)),\"\",INDEX(Data_raw!$B$2:$U$44,MATCH($J75,Data_raw!$A$2:$A$44,0),Data!N$6))","v":""},{"$f":"IF(ISNA(INDEX(Data_raw!$B$2:$U$44,MATCH($J75,Data_raw!$A$2:$A$44,0),Data!O$6)),\"\",INDEX(Data_raw!$B$2:$U$44,MATCH($J75,Data_raw!$A$2:$A$44,0),Data!O$6))","v":""},{"$f":"IF(ISNA(INDEX(Data_raw!$B$2:$U$44,MATCH($J75,Data_raw!$A$2:$A$44,0),Data!P$6)),\"\",INDEX(Data_raw!$B$2:$U$44,MATCH($J75,Data_raw!$A$2:$A$44,0),Data!P$6))","v":""},{"$f":"IF(ISNA(INDEX(Data_raw!$B$2:$U$44,MATCH($J75,Data_raw!$A$2:$A$44,0),Data!Q$6)),\"\",INDEX(Data_raw!$B$2:$U$44,MATCH($J75,Data_raw!$A$2:$A$44,0),Data!Q$6))","v":""},{"$f":"IF(ISNA(INDEX(Data_raw!$B$2:$U$44,MATCH($J75,Data_raw!$A$2:$A$44,0),Data!R$6)),\"\",INDEX(Data_raw!$B$2:$U$44,MATCH($J75,Data_raw!$A$2:$A$44,0),Data!R$6))","v":""},{"$f":"IF(ISNA(INDEX(Data_raw!$B$2:$U$44,MATCH($J75,Data_raw!$A$2:$A$44,0),Data!S$6)),\"\",INDEX(Data_raw!$B$2:$U$44,MATCH($J75,Data_raw!$A$2:$A$44,0),Data!S$6))","v":""},{"$f":"IF(ISNA(INDEX(Data_raw!$B$2:$U$44,MATCH($J75,Data_raw!$A$2:$A$44,0),Data!T$6)),\"\",INDEX(Data_raw!$B$2:$U$44,MATCH($J75,Data_raw!$A$2:$A$44,0),Data!T$6))","v":""},{"$f":"IF(ISNA(INDEX(Data_raw!$B$2:$U$44,MATCH($J75,Data_raw!$A$2:$A$44,0),Data!U$6)),\"\",INDEX(Data_raw!$B$2:$U$44,MATCH($J75,Data_raw!$A$2:$A$44,0),Data!U$6))","v":""},{"$f":"IF(ISNA(INDEX(Data_raw!$B$2:$U$44,MATCH($J75,Data_raw!$A$2:$A$44,0),Data!V$6)),\"\",INDEX(Data_raw!$B$2:$U$44,MATCH($J75,Data_raw!$A$2:$A$44,0),Data!V$6))","v":""},{"$f":"IF(ISNA(INDEX(Data_raw!$B$2:$U$44,MATCH($J75,Data_raw!$A$2:$A$44,0),Data!W$6)),\"\",INDEX(Data_raw!$B$2:$U$44,MATCH($J75,Data_raw!$A$2:$A$44,0),Data!W$6))","v":""},{"$f":"IF(ISNA(INDEX(Data_raw!$B$2:$U$44,MATCH($J75,Data_raw!$A$2:$A$44,0),Data!X$6)),\"\",INDEX(Data_raw!$B$2:$U$44,MATCH($J75,Data_raw!$A$2:$A$44,0),Data!X$6))","v":""},{"$f":"IF(ISNA(INDEX(Data_raw!$B$2:$U$44,MATCH($J75,Data_raw!$A$2:$A$44,0),Data!Y$6)),\"\",INDEX(Data_raw!$B$2:$U$44,MATCH($J75,Data_raw!$A$2:$A$44,0),Data!Y$6))","v":""},{"$f":"IF(ISNA(INDEX(Data_raw!$B$2:$U$44,MATCH($J75,Data_raw!$A$2:$A$44,0),Data!Z$6)),\"\",INDEX(Data_raw!$B$2:$U$44,MATCH($J75,Data_raw!$A$2:$A$44,0),Data!Z$6))","v":""},{"$f":"IF(ISNA(INDEX(Data_raw!$B$2:$U$44,MATCH($J75,Data_raw!$A$2:$A$44,0),Data!AA$6)),\"\",INDEX(Data_raw!$B$2:$U$44,MATCH($J75,Data_raw!$A$2:$A$44,0),Data!AA$6))","v":""},{"$f":"IF(ISNA(INDEX(Data_raw!$B$2:$U$44,MATCH($J75,Data_raw!$A$2:$A$44,0),Data!AB$6)),\"\",INDEX(Data_raw!$B$2:$U$44,MATCH($J75,Data_raw!$A$2:$A$44,0),Data!AB$6))","v":""},{"$f":"IF(ISNA(INDEX(Data_raw!$B$2:$U$44,MATCH($J75,Data_raw!$A$2:$A$44,0),Data!AC$6)),\"\",INDEX(Data_raw!$B$2:$U$44,MATCH($J75,Data_raw!$A$2:$A$44,0),Data!AC$6))","v":""},{"$f":"IF(ISNA(INDEX(Data_raw!$B$2:$U$44,MATCH($J75,Data_raw!$A$2:$A$44,0),Data!AD$6)),\"\",INDEX(Data_raw!$B$2:$U$44,MATCH($J75,Data_raw!$A$2:$A$44,0),Data!AD$6))","v":""},{"$f":"IF(ISNA(INDEX(Data_raw!$B$2:$U$44,MATCH($J75,Data_raw!$A$2:$A$44,0),Data!AE$6)),\"\",INDEX(Data_raw!$B$2:$U$44,MATCH($J75,Data_raw!$A$2:$A$44,0),Data!AE$6))","v":""},{"$f":"IF(ISNA(INDEX(Data_raw!$B$2:$U$44,MATCH($J75,Data_raw!$A$2:$A$44,0),Data!AF$6)),\"\",INDEX(Data_raw!$B$2:$U$44,MATCH($J75,Data_raw!$A$2:$A$44,0),Data!AF$6))","v":""},{"$f":"IF(ISNA(INDEX(Data_raw!$B$2:$U$44,MATCH($J75,Data_raw!$A$2:$A$44,0),Data!AG$6)),\"\",INDEX(Data_raw!$B$2:$U$44,MATCH($J75,Data_raw!$A$2:$A$44,0),Data!AG$6))","v":""},null,0]
[null,{"$f":"tblIndicators!B70","v":"LIVRES_1_1"},{"$f":"tblIndicators!C70","v":"LIVRES_1"},{"$f":"tblIndicators!D70","v":3},null,{"$f":"tblIndicators!X70","v":1},{"$f":"tblIndicators!D70","v":3},0.24752547275076348,0.9051819871981015,{"$f":"tblIndicators!E70","v":"6.1.1"},null,{"$f":"tblIndicators!AE70","v":"6.1.1) Fisheries governance and management effectiveness"},{"$f":"IF(tblIndicators!G70=\"\",\"\",IF(G76=3,tblIndicators!G70,\"\"))","v":"Scored 0-1"},{"$f":"IF(ISNA(INDEX(Data_raw!$B$2:$U$44,MATCH($J76,Data_raw!$A$2:$A$44,0),Data!N$6)),\"\",INDEX(Data_raw!$B$2:$U$44,MATCH($J76,Data_raw!$A$2:$A$44,0),Data!N$6))","v":0.34180933710538969},{"$f":"IF(ISNA(INDEX(Data_raw!$B$2:$U$44,MATCH($J76,Data_raw!$A$2:$A$44,0),Data!O$6)),\"\",INDEX(Data_raw!$B$2:$U$44,MATCH($J76,Data_raw!$A$2:$A$44,0),Data!O$6))","v":0.81264335517079789},{"$f":"IF(ISNA(INDEX(Data_raw!$B$2:$U$44,MATCH($J76,Data_raw!$A$2:$A$44,0),Data!P$6)),\"\",INDEX(Data_raw!$B$2:$U$44,MATCH($J76,Data_raw!$A$2:$A$44,0),Data!P$6))","v":0.63469730136964253},{"$f":"IF(ISNA(INDEX(Data_raw!$B$2:$U$44,MATCH($J76,Data_raw!$A$2:$A$44,0),Data!Q$6)),\"\",INDEX(Data_raw!$B$2:$U$44,MATCH($J76,Data_raw!$A$2:$A$44,0),Data!Q$6))","v":0.24752547275076348},{"$f":"IF(ISNA(INDEX(Data_raw!$B$2:$U$44,MATCH($J76,Data_raw!$A$2:$A$44,0),Data!R$6)),\"\",INDEX(Data_raw!$B$2:$U$44,MATCH($J76,Data_raw!$A$2:$A$44,0),Data!R$6))","v":0.739485127086837},{"$f":"IF(ISNA(INDEX(Data_raw!$B$2:$U$44,MATCH($J76,Data_raw!$A$2:$A$44,0),Data!S$6)),\"\",INDEX(Data_raw!$B$2:$U$44,MATCH($J76,Data_raw!$A$2:$A$44,0),Data!S$6))","v":0.44146773124507388},{"$f":"IF(ISNA(INDEX(Data_raw!$B$2:$U$44,MATCH($J76,Data_raw!$A$2:$A$44,0),Data!T$6)),\"\",INDEX(Data_raw!$B$2:$U$44,MATCH($J76,Data_raw!$A$2:$A$44,0),Data!T$6))","v":0.36772963765600791},{"$f":"IF(ISNA(INDEX(Data_raw!$B$2:$U$44,MATCH($J76,Data_raw!$A$2:$A$44,0),Data!U$6)),\"\",INDEX(Data_raw!$B$2:$U$44,MATCH($J76,Data_raw!$A$2:$A$44,0),Data!U$6))","v":0.59793148152207298},{"$f":"IF(ISNA(INDEX(Data_raw!$B$2:$U$44,MATCH($J76,Data_raw!$A$2:$A$44,0),Data!V$6)),\"\",INDEX(Data_raw!$B$2:$U$44,MATCH($J76,Data_raw!$A$2:$A$44,0),Data!V$6))","v":0.53760303533818754},{"$f":"IF(ISNA(INDEX(Data_raw!$B$2:$U$44,MATCH($J76,Data_raw!$A$2:$A$44,0),Data!W$6)),\"\",INDEX(Data_raw!$B$2:$U$44,MATCH($J76,Data_raw!$A$2:$A$44,0),Data!W$6))","v":0.81158446414107033},{"$f":"IF(ISNA(INDEX(Data_raw!$B$2:$U$44,MATCH($J76,Data_raw!$A$2:$A$44,0),Data!X$6)),\"\",INDEX(Data_raw!$B$2:$U$44,MATCH($J76,Data_raw!$A$2:$A$44,0),Data!X$6))","v":0.44264457773755606},{"$f":"IF(ISNA(INDEX(Data_raw!$B$2:$U$44,MATCH($J76,Data_raw!$A$2:$A$44,0),Data!Y$6)),\"\",INDEX(Data_raw!$B$2:$U$44,MATCH($J76,Data_raw!$A$2:$A$44,0),Data!Y$6))","v":0.88276020081512097},{"$f":"IF(ISNA(INDEX(Data_raw!$B$2:$U$44,MATCH($J76,Data_raw!$A$2:$A$44,0),Data!Z$6)),\"\",INDEX(Data_raw!$B$2:$U$44,MATCH($J76,Data_raw!$A$2:$A$44,0),Data!Z$6))","v":0.62472291091385157},{"$f":"IF(ISNA(INDEX(Data_raw!$B$2:$U$44,MATCH($J76,Data_raw!$A$2:$A$44,0),Data!AA$6)),\"\",INDEX(Data_raw!$B$2:$U$44,MATCH($J76,Data_raw!$A$2:$A$44,0),Data!AA$6))","v":0.42476065179190181},{"$f":"IF(ISNA(INDEX(Data_raw!$B$2:$U$44,MATCH($J76,Data_raw!$A$2:$A$44,0),Data!AB$6)),\"\",INDEX(Data_raw!$B$2:$U$44,MATCH($J76,Data_raw!$A$2:$A$44,0),Data!AB$6))","v":0.86238747017802986},{"$f":"IF(ISNA(INDEX(Data_raw!$B$2:$U$44,MATCH($J76,Data_raw!$A$2:$A$44,0),Data!AC$6)),\"\",INDEX(Data_raw!$B$2:$U$44,MATCH($J76,Data_raw!$A$2:$A$44,0),Data!AC$6))","v":0.8075307887569636},{"$f":"IF(ISNA(INDEX(Data_raw!$B$2:$U$44,MATCH($J76,Data_raw!$A$2:$A$44,0),Data!AD$6)),\"\",INDEX(Data_raw!$B$2:$U$44,MATCH($J76,Data_raw!$A$2:$A$44,0),Data!AD$6))","v":0.59356464041423551},{"$f":"IF(ISNA(INDEX(Data_raw!$B$2:$U$44,MATCH($J76,Data_raw!$A$2:$A$44,0),Data!AE$6)),\"\",INDEX(Data_raw!$B$2:$U$44,MATCH($J76,Data_raw!$A$2:$A$44,0),Data!AE$6))","v":0.7423047878907103},{"$f":"IF(ISNA(INDEX(Data_raw!$B$2:$U$44,MATCH($J76,Data_raw!$A$2:$A$44,0),Data!AF$6)),\"\",INDEX(Data_raw!$B$2:$U$44,MATCH($J76,Data_raw!$A$2:$A$44,0),Data!AF$6))","v":0.9051819871981015},{"$f":"IF(ISNA(INDEX(Data_raw!$B$2:$U$44,MATCH($J76,Data_raw!$A$2:$A$44,0),Data!AG$6)),\"\",INDEX(Data_raw!$B$2:$U$44,MATCH($J76,Data_raw!$A$2:$A$44,0),Data!AG$6))","v":0.53124627976190486},null,{"$f":"IF(AND(ISNUMBER(N76),N76=O76,O76=P76,P76=Q76,Q76=R76,R76=S76,S76=T76,T76=U76,U76=V76,V76=W76,W76=X76,X76=Y76,Y76=Z76,Z76=AA76,AA76=AB76,AB76=AC76,AC76=AD76,AD76=AE76,AE76=AF76,AF76=AG76:AG76),1,0)","v":0}]
[null,{"$f":"tblIndicators!B71","v":"LIVRES_2"},{"$f":"tblIndicators!C71","v":"LIVRES"},{"$f":"tblIndicators!D71","v":2},null,{"$f":"tblIndicators!X71","v":100},{"$f":"tblIndicators!D71","v":2},"","",{"$f":"tblIndicators!E71","v":6.2},null,{"$f":"tblIndicators!AE71","v":"6.2) Protection for marine/coastal species"},{"$f":"IF(tblIndicators!G71=\"\",\"\",IF(G77=3,tblIndicators!G71,\"\"))","v":""},{"$f":"IF(ISNA(INDEX(Data_raw!$B$2:$U$44,MATCH($J77,Data_raw!$A$2:$A$44,0),Data!N$6)),\"\",INDEX(Data_raw!$B$2:$U$44,MATCH($J77,Data_raw!$A$2:$A$44,0),Data!N$6))","v":""},{"$f":"IF(ISNA(INDEX(Data_raw!$B$2:$U$44,MATCH($J77,Data_raw!$A$2:$A$44,0),Data!O$6)),\"\",INDEX(Data_raw!$B$2:$U$44,MATCH($J77,Data_raw!$A$2:$A$44,0),Data!O$6))","v":""},{"$f":"IF(ISNA(INDEX(Data_raw!$B$2:$U$44,MATCH($J77,Data_raw!$A$2:$A$44,0),Data!P$6)),\"\",INDEX(Data_raw!$B$2:$U$44,MATCH($J77,Data_raw!$A$2:$A$44,0),Data!P$6))","v":""},{"$f":"IF(ISNA(INDEX(Data_raw!$B$2:$U$44,MATCH($J77,Data_raw!$A$2:$A$44,0),Data!Q$6)),\"\",INDEX(Data_raw!$B$2:$U$44,MATCH($J77,Data_raw!$A$2:$A$44,0),Data!Q$6))","v":""},{"$f":"IF(ISNA(INDEX(Data_raw!$B$2:$U$44,MATCH($J77,Data_raw!$A$2:$A$44,0),Data!R$6)),\"\",INDEX(Data_raw!$B$2:$U$44,MATCH($J77,Data_raw!$A$2:$A$44,0),Data!R$6))","v":""},{"$f":"IF(ISNA(INDEX(Data_raw!$B$2:$U$44,MATCH($J77,Data_raw!$A$2:$A$44,0),Data!S$6)),\"\",INDEX(Data_raw!$B$2:$U$44,MATCH($J77,Data_raw!$A$2:$A$44,0),Data!S$6))","v":""},{"$f":"IF(ISNA(INDEX(Data_raw!$B$2:$U$44,MATCH($J77,Data_raw!$A$2:$A$44,0),Data!T$6)),\"\",INDEX(Data_raw!$B$2:$U$44,MATCH($J77,Data_raw!$A$2:$A$44,0),Data!T$6))","v":""},{"$f":"IF(ISNA(INDEX(Data_raw!$B$2:$U$44,MATCH($J77,Data_raw!$A$2:$A$44,0),Data!U$6)),\"\",INDEX(Data_raw!$B$2:$U$44,MATCH($J77,Data_raw!$A$2:$A$44,0),Data!U$6))","v":""},{"$f":"IF(ISNA(INDEX(Data_raw!$B$2:$U$44,MATCH($J77,Data_raw!$A$2:$A$44,0),Data!V$6)),\"\",INDEX(Data_raw!$B$2:$U$44,MATCH($J77,Data_raw!$A$2:$A$44,0),Data!V$6))","v":""},{"$f":"IF(ISNA(INDEX(Data_raw!$B$2:$U$44,MATCH($J77,Data_raw!$A$2:$A$44,0),Data!W$6)),\"\",INDEX(Data_raw!$B$2:$U$44,MATCH($J77,Data_raw!$A$2:$A$44,0),Data!W$6))","v":""},{"$f":"IF(ISNA(INDEX(Data_raw!$B$2:$U$44,MATCH($J77,Data_raw!$A$2:$A$44,0),Data!X$6)),\"\",INDEX(Data_raw!$B$2:$U$44,MATCH($J77,Data_raw!$A$2:$A$44,0),Data!X$6))","v":""},{"$f":"IF(ISNA(INDEX(Data_raw!$B$2:$U$44,MATCH($J77,Data_raw!$A$2:$A$44,0),Data!Y$6)),\"\",INDEX(Data_raw!$B$2:$U$44,MATCH($J77,Data_raw!$A$2:$A$44,0),Data!Y$6))","v":""},{"$f":"IF(ISNA(INDEX(Data_raw!$B$2:$U$44,MATCH($J77,Data_raw!$A$2:$A$44,0),Data!Z$6)),\"\",INDEX(Data_raw!$B$2:$U$44,MATCH($J77,Data_raw!$A$2:$A$44,0),Data!Z$6))","v":""},{"$f":"IF(ISNA(INDEX(Data_raw!$B$2:$U$44,MATCH($J77,Data_raw!$A$2:$A$44,0),Data!AA$6)),\"\",INDEX(Data_raw!$B$2:$U$44,MATCH($J77,Data_raw!$A$2:$A$44,0),Data!AA$6))","v":""},{"$f":"IF(ISNA(INDEX(Data_raw!$B$2:$U$44,MATCH($J77,Data_raw!$A$2:$A$44,0),Data!AB$6)),\"\",INDEX(Data_raw!$B$2:$U$44,MATCH($J77,Data_raw!$A$2:$A$44,0),Data!AB$6))","v":""},{"$f":"IF(ISNA(INDEX(Data_raw!$B$2:$U$44,MATCH($J77,Data_raw!$A$2:$A$44,0),Data!AC$6)),\"\",INDEX(Data_raw!$B$2:$U$44,MATCH($J77,Data_raw!$A$2:$A$44,0),Data!AC$6))","v":""},{"$f":"IF(ISNA(INDEX(Data_raw!$B$2:$U$44,MATCH($J77,Data_raw!$A$2:$A$44,0),Data!AD$6)),\"\",INDEX(Data_raw!$B$2:$U$44,MATCH($J77,Data_raw!$A$2:$A$44,0),Data!AD$6))","v":""},{"$f":"IF(ISNA(INDEX(Data_raw!$B$2:$U$44,MATCH($J77,Data_raw!$A$2:$A$44,0),Data!AE$6)),\"\",INDEX(Data_raw!$B$2:$U$44,MATCH($J77,Data_raw!$A$2:$A$44,0),Data!AE$6))","v":""},{"$f":"IF(ISNA(INDEX(Data_raw!$B$2:$U$44,MATCH($J77,Data_raw!$A$2:$A$44,0),Data!AF$6)),\"\",INDEX(Data_raw!$B$2:$U$44,MATCH($J77,Data_raw!$A$2:$A$44,0),Data!AF$6))","v":""},{"$f":"IF(ISNA(INDEX(Data_raw!$B$2:$U$44,MATCH($J77,Data_raw!$A$2:$A$44,0),Data!AG$6)),\"\",INDEX(Data_raw!$B$2:$U$44,MATCH($J77,Data_raw!$A$2:$A$44,0),Data!AG$6))","v":""},null,0]
[null,{"$f":"tblIndicators!B72","v":"LIVRES_2_1"},{"$f":"tblIndicators!C72","v":"LIVRES_2"},{"$f":"tblIndicators!D72","v":3},null,{"$f":"tblIndicators!X72","v":1},{"$f":"tblIndicators!D72","v":3},0,1,{"$f":"tblIndicators!E72","v":"6.2.1"},null,{"$f":"tblIndicators!AE72","v":"6.2.1) Protection of threatened species and populations "},{"$f":"IF(tblIndicators!G72=\"\",\"\",IF(G78=3,tblIndicators!G72,\"\"))","v":"Scored 0-1"},{"$f":"IF(ISNA(INDEX(Data_raw!$B$2:$U$44,MATCH($J78,Data_raw!$A$2:$A$44,0),Data!N$6)),\"\",INDEX(Data_raw!$B$2:$U$44,MATCH($J78,Data_raw!$A$2:$A$44,0),Data!N$6))","v":1},{"$f":"IF(ISNA(INDEX(Data_raw!$B$2:$U$44,MATCH($J78,Data_raw!$A$2:$A$44,0),Data!O$6)),\"\",INDEX(Data_raw!$B$2:$U$44,MATCH($J78,Data_raw!$A$2:$A$44,0),Data!O$6))","v":1},{"$f":"IF(ISNA(INDEX(Data_raw!$B$2:$U$44,MATCH($J78,Data_raw!$A$2:$A$44,0),Data!P$6)),\"\",INDEX(Data_raw!$B$2:$U$44,MATCH($J78,Data_raw!$A$2:$A$44,0),Data!P$6))","v":1},{"$f":"IF(ISNA(INDEX(Data_raw!$B$2:$U$44,MATCH($J78,Data_raw!$A$2:$A$44,0),Data!Q$6)),\"\",INDEX(Data_raw!$B$2:$U$44,MATCH($J78,Data_raw!$A$2:$A$44,0),Data!Q$6))","v":1},{"$f":"IF(ISNA(INDEX(Data_raw!$B$2:$U$44,MATCH($J78,Data_raw!$A$2:$A$44,0),Data!R$6)),\"\",INDEX(Data_raw!$B$2:$U$44,MATCH($J78,Data_raw!$A$2:$A$44,0),Data!R$6))","v":1},{"$f":"IF(ISNA(INDEX(Data_raw!$B$2:$U$44,MATCH($J78,Data_raw!$A$2:$A$44,0),Data!S$6)),\"\",INDEX(Data_raw!$B$2:$U$44,MATCH($J78,Data_raw!$A$2:$A$44,0),Data!S$6))","v":1},{"$f":"IF(ISNA(INDEX(Data_raw!$B$2:$U$44,MATCH($J78,Data_raw!$A$2:$A$44,0),Data!T$6)),\"\",INDEX(Data_raw!$B$2:$U$44,MATCH($J78,Data_raw!$A$2:$A$44,0),Data!T$6))","v":1},{"$f":"IF(ISNA(INDEX(Data_raw!$B$2:$U$44,MATCH($J78,Data_raw!$A$2:$A$44,0),Data!U$6)),\"\",INDEX(Data_raw!$B$2:$U$44,MATCH($J78,Data_raw!$A$2:$A$44,0),Data!U$6))","v":0},{"$f":"IF(ISNA(INDEX(Data_raw!$B$2:$U$44,MATCH($J78,Data_raw!$A$2:$A$44,0),Data!V$6)),\"\",INDEX(Data_raw!$B$2:$U$44,MATCH($J78,Data_raw!$A$2:$A$44,0),Data!V$6))","v":1},{"$f":"IF(ISNA(INDEX(Data_raw!$B$2:$U$44,MATCH($J78,Data_raw!$A$2:$A$44,0),Data!W$6)),\"\",INDEX(Data_raw!$B$2:$U$44,MATCH($J78,Data_raw!$A$2:$A$44,0),Data!W$6))","v":1},{"$f":"IF(ISNA(INDEX(Data_raw!$B$2:$U$44,MATCH($J78,Data_raw!$A$2:$A$44,0),Data!X$6)),\"\",INDEX(Data_raw!$B$2:$U$44,MATCH($J78,Data_raw!$A$2:$A$44,0),Data!X$6))","v":1},{"$f":"IF(ISNA(INDEX(Data_raw!$B$2:$U$44,MATCH($J78,Data_raw!$A$2:$A$44,0),Data!Y$6)),\"\",INDEX(Data_raw!$B$2:$U$44,MATCH($J78,Data_raw!$A$2:$A$44,0),Data!Y$6))","v":1},{"$f":"IF(ISNA(INDEX(Data_raw!$B$2:$U$44,MATCH($J78,Data_raw!$A$2:$A$44,0),Data!Z$6)),\"\",INDEX(Data_raw!$B$2:$U$44,MATCH($J78,Data_raw!$A$2:$A$44,0),Data!Z$6))","v":1},{"$f":"IF(ISNA(INDEX(Data_raw!$B$2:$U$44,MATCH($J78,Data_raw!$A$2:$A$44,0),Data!AA$6)),\"\",INDEX(Data_raw!$B$2:$U$44,MATCH($J78,Data_raw!$A$2:$A$44,0),Data!AA$6))","v":1},{"$f":"IF(ISNA(INDEX(Data_raw!$B$2:$U$44,MATCH($J78,Data_raw!$A$2:$A$44,0),Data!AB$6)),\"\",INDEX(Data_raw!$B$2:$U$44,MATCH($J78,Data_raw!$A$2:$A$44,0),Data!AB$6))","v":1},{"$f":"IF(ISNA(INDEX(Data_raw!$B$2:$U$44,MATCH($J78,Data_raw!$A$2:$A$44,0),Data!AC$6)),\"\",INDEX(Data_raw!$B$2:$U$44,MATCH($J78,Data_raw!$A$2:$A$44,0),Data!AC$6))","v":1},{"$f":"IF(ISNA(INDEX(Data_raw!$B$2:$U$44,MATCH($J78,Data_raw!$A$2:$A$44,0),Data!AD$6)),\"\",INDEX(Data_raw!$B$2:$U$44,MATCH($J78,Data_raw!$A$2:$A$44,0),Data!AD$6))","v":1},{"$f":"IF(ISNA(INDEX(Data_raw!$B$2:$U$44,MATCH($J78,Data_raw!$A$2:$A$44,0),Data!AE$6)),\"\",INDEX(Data_raw!$B$2:$U$44,MATCH($J78,Data_raw!$A$2:$A$44,0),Data!AE$6))","v":1},{"$f":"IF(ISNA(INDEX(Data_raw!$B$2:$U$44,MATCH($J78,Data_raw!$A$2:$A$44,0),Data!AF$6)),\"\",INDEX(Data_raw!$B$2:$U$44,MATCH($J78,Data_raw!$A$2:$A$44,0),Data!AF$6))","v":1},{"$f":"IF(ISNA(INDEX(Data_raw!$B$2:$U$44,MATCH($J78,Data_raw!$A$2:$A$44,0),Data!AG$6)),\"\",INDEX(Data_raw!$B$2:$U$44,MATCH($J78,Data_raw!$A$2:$A$44,0),Data!AG$6))","v":1},null,0]
[null,{"$f":"tblIndicators!B73","v":"LIVRES_2_2"},{"$f":"tblIndicators!C73","v":"LIVRES_2"},{"$f":"tblIndicators!D73","v":3},null,{"$f":"tblIndicators!X73","v":2},{"$f":"tblIndicators!D73","v":3},0,2,{"$f":"tblIndicators!E73","v":"6.2.2"},null,{"$f":"tblIndicators!AE73","v":"6.2.2) Prevalence of marine protected areas"},{"$f":"IF(tblIndicators!G73=\"\",\"\",IF(G79=3,tblIndicators!G73,\"\"))","v":"Scored 0-2 "},{"$f":"IF(ISNA(INDEX(Data_raw!$B$2:$U$44,MATCH($J79,Data_raw!$A$2:$A$44,0),Data!N$6)),\"\",INDEX(Data_raw!$B$2:$U$44,MATCH($J79,Data_raw!$A$2:$A$44,0),Data!N$6))","v":2},{"$f":"IF(ISNA(INDEX(Data_raw!$B$2:$U$44,MATCH($J79,Data_raw!$A$2:$A$44,0),Data!O$6)),\"\",INDEX(Data_raw!$B$2:$U$44,MATCH($J79,Data_raw!$A$2:$A$44,0),Data!O$6))","v":0},{"$f":"IF(ISNA(INDEX(Data_raw!$B$2:$U$44,MATCH($J79,Data_raw!$A$2:$A$44,0),Data!P$6)),\"\",INDEX(Data_raw!$B$2:$U$44,MATCH($J79,Data_raw!$A$2:$A$44,0),Data!P$6))","v":0},{"$f":"IF(ISNA(INDEX(Data_raw!$B$2:$U$44,MATCH($J79,Data_raw!$A$2:$A$44,0),Data!Q$6)),\"\",INDEX(Data_raw!$B$2:$U$44,MATCH($J79,Data_raw!$A$2:$A$44,0),Data!Q$6))","v":0},{"$f":"IF(ISNA(INDEX(Data_raw!$B$2:$U$44,MATCH($J79,Data_raw!$A$2:$A$44,0),Data!R$6)),\"\",INDEX(Data_raw!$B$2:$U$44,MATCH($J79,Data_raw!$A$2:$A$44,0),Data!R$6))","v":2},{"$f":"IF(ISNA(INDEX(Data_raw!$B$2:$U$44,MATCH($J79,Data_raw!$A$2:$A$44,0),Data!S$6)),\"\",INDEX(Data_raw!$B$2:$U$44,MATCH($J79,Data_raw!$A$2:$A$44,0),Data!S$6))","v":0},{"$f":"IF(ISNA(INDEX(Data_raw!$B$2:$U$44,MATCH($J79,Data_raw!$A$2:$A$44,0),Data!T$6)),\"\",INDEX(Data_raw!$B$2:$U$44,MATCH($J79,Data_raw!$A$2:$A$44,0),Data!T$6))","v":1},{"$f":"IF(ISNA(INDEX(Data_raw!$B$2:$U$44,MATCH($J79,Data_raw!$A$2:$A$44,0),Data!U$6)),\"\",INDEX(Data_raw!$B$2:$U$44,MATCH($J79,Data_raw!$A$2:$A$44,0),Data!U$6))","v":1},{"$f":"IF(ISNA(INDEX(Data_raw!$B$2:$U$44,MATCH($J79,Data_raw!$A$2:$A$44,0),Data!V$6)),\"\",INDEX(Data_raw!$B$2:$U$44,MATCH($J79,Data_raw!$A$2:$A$44,0),Data!V$6))","v":2},{"$f":"IF(ISNA(INDEX(Data_raw!$B$2:$U$44,MATCH($J79,Data_raw!$A$2:$A$44,0),Data!W$6)),\"\",INDEX(Data_raw!$B$2:$U$44,MATCH($J79,Data_raw!$A$2:$A$44,0),Data!W$6))","v":2},{"$f":"IF(ISNA(INDEX(Data_raw!$B$2:$U$44,MATCH($J79,Data_raw!$A$2:$A$44,0),Data!X$6)),\"\",INDEX(Data_raw!$B$2:$U$44,MATCH($J79,Data_raw!$A$2:$A$44,0),Data!X$6))","v":0},{"$f":"IF(ISNA(INDEX(Data_raw!$B$2:$U$44,MATCH($J79,Data_raw!$A$2:$A$44,0),Data!Y$6)),\"\",INDEX(Data_raw!$B$2:$U$44,MATCH($J79,Data_raw!$A$2:$A$44,0),Data!Y$6))","v":0},{"$f":"IF(ISNA(INDEX(Data_raw!$B$2:$U$44,MATCH($J79,Data_raw!$A$2:$A$44,0),Data!Z$6)),\"\",INDEX(Data_raw!$B$2:$U$44,MATCH($J79,Data_raw!$A$2:$A$44,0),Data!Z$6))","v":0},{"$f":"IF(ISNA(INDEX(Data_raw!$B$2:$U$44,MATCH($J79,Data_raw!$A$2:$A$44,0),Data!AA$6)),\"\",INDEX(Data_raw!$B$2:$U$44,MATCH($J79,Data_raw!$A$2:$A$44,0),Data!AA$6))","v":0},{"$f":"IF(ISNA(INDEX(Data_raw!$B$2:$U$44,MATCH($J79,Data_raw!$A$2:$A$44,0),Data!AB$6)),\"\",INDEX(Data_raw!$B$2:$U$44,MATCH($J79,Data_raw!$A$2:$A$44,0),Data!AB$6))","v":2},{"$f":"IF(ISNA(INDEX(Data_raw!$B$2:$U$44,MATCH($J79,Data_raw!$A$2:$A$44,0),Data!AC$6)),\"\",INDEX(Data_raw!$B$2:$U$44,MATCH($J79,Data_raw!$A$2:$A$44,0),Data!AC$6))","v":2},{"$f":"IF(ISNA(INDEX(Data_raw!$B$2:$U$44,MATCH($J79,Data_raw!$A$2:$A$44,0),Data!AD$6)),\"\",INDEX(Data_raw!$B$2:$U$44,MATCH($J79,Data_raw!$A$2:$A$44,0),Data!AD$6))","v":0},{"$f":"IF(ISNA(INDEX(Data_raw!$B$2:$U$44,MATCH($J79,Data_raw!$A$2:$A$44,0),Data!AE$6)),\"\",INDEX(Data_raw!$B$2:$U$44,MATCH($J79,Data_raw!$A$2:$A$44,0),Data!AE$6))","v":1},{"$f":"IF(ISNA(INDEX(Data_raw!$B$2:$U$44,MATCH($J79,Data_raw!$A$2:$A$44,0),Data!AF$6)),\"\",INDEX(Data_raw!$B$2:$U$44,MATCH($J79,Data_raw!$A$2:$A$44,0),Data!AF$6))","v":2},{"$f":"IF(ISNA(INDEX(Data_raw!$B$2:$U$44,MATCH($J79,Data_raw!$A$2:$A$44,0),Data!AG$6)),\"\",INDEX(Data_raw!$B$2:$U$44,MATCH($J79,Data_raw!$A$2:$A$44,0),Data!AG$6))","v":0},null,0]
[null,{"$f":"tblIndicators!B74","v":"LIVRES_3"},{"$f":"tblIndicators!C74","v":"LIVRES"},{"$f":"tblIndicators!D74","v":2},null,{"$f":"tblIndicators!X74","v":100},{"$f":"tblIndicators!D74","v":2},"","",{"$f":"tblIndicators!E74","v":6.3},null,{"$f":"tblIndicators!AE74","v":"6.3) Ballast water treatment"},{"$f":"IF(tblIndicators!G74=\"\",\"\",IF(G80=3,tblIndicators!G74,\"\"))","v":""},{"$f":"IF(ISNA(INDEX(Data_raw!$B$2:$U$44,MATCH($J80,Data_raw!$A$2:$A$44,0),Data!N$6)),\"\",INDEX(Data_raw!$B$2:$U$44,MATCH($J80,Data_raw!$A$2:$A$44,0),Data!N$6))","v":""},{"$f":"IF(ISNA(INDEX(Data_raw!$B$2:$U$44,MATCH($J80,Data_raw!$A$2:$A$44,0),Data!O$6)),\"\",INDEX(Data_raw!$B$2:$U$44,MATCH($J80,Data_raw!$A$2:$A$44,0),Data!O$6))","v":""},{"$f":"IF(ISNA(INDEX(Data_raw!$B$2:$U$44,MATCH($J80,Data_raw!$A$2:$A$44,0),Data!P$6)),\"\",INDEX(Data_raw!$B$2:$U$44,MATCH($J80,Data_raw!$A$2:$A$44,0),Data!P$6))","v":""},{"$f":"IF(ISNA(INDEX(Data_raw!$B$2:$U$44,MATCH($J80,Data_raw!$A$2:$A$44,0),Data!Q$6)),\"\",INDEX(Data_raw!$B$2:$U$44,MATCH($J80,Data_raw!$A$2:$A$44,0),Data!Q$6))","v":""},{"$f":"IF(ISNA(INDEX(Data_raw!$B$2:$U$44,MATCH($J80,Data_raw!$A$2:$A$44,0),Data!R$6)),\"\",INDEX(Data_raw!$B$2:$U$44,MATCH($J80,Data_raw!$A$2:$A$44,0),Data!R$6))","v":""},{"$f":"IF(ISNA(INDEX(Data_raw!$B$2:$U$44,MATCH($J80,Data_raw!$A$2:$A$44,0),Data!S$6)),\"\",INDEX(Data_raw!$B$2:$U$44,MATCH($J80,Data_raw!$A$2:$A$44,0),Data!S$6))","v":""},{"$f":"IF(ISNA(INDEX(Data_raw!$B$2:$U$44,MATCH($J80,Data_raw!$A$2:$A$44,0),Data!T$6)),\"\",INDEX(Data_raw!$B$2:$U$44,MATCH($J80,Data_raw!$A$2:$A$44,0),Data!T$6))","v":""},{"$f":"IF(ISNA(INDEX(Data_raw!$B$2:$U$44,MATCH($J80,Data_raw!$A$2:$A$44,0),Data!U$6)),\"\",INDEX(Data_raw!$B$2:$U$44,MATCH($J80,Data_raw!$A$2:$A$44,0),Data!U$6))","v":""},{"$f":"IF(ISNA(INDEX(Data_raw!$B$2:$U$44,MATCH($J80,Data_raw!$A$2:$A$44,0),Data!V$6)),\"\",INDEX(Data_raw!$B$2:$U$44,MATCH($J80,Data_raw!$A$2:$A$44,0),Data!V$6))","v":""},{"$f":"IF(ISNA(INDEX(Data_raw!$B$2:$U$44,MATCH($J80,Data_raw!$A$2:$A$44,0),Data!W$6)),\"\",INDEX(Data_raw!$B$2:$U$44,MATCH($J80,Data_raw!$A$2:$A$44,0),Data!W$6))","v":""},{"$f":"IF(ISNA(INDEX(Data_raw!$B$2:$U$44,MATCH($J80,Data_raw!$A$2:$A$44,0),Data!X$6)),\"\",INDEX(Data_raw!$B$2:$U$44,MATCH($J80,Data_raw!$A$2:$A$44,0),Data!X$6))","v":""},{"$f":"IF(ISNA(INDEX(Data_raw!$B$2:$U$44,MATCH($J80,Data_raw!$A$2:$A$44,0),Data!Y$6)),\"\",INDEX(Data_raw!$B$2:$U$44,MATCH($J80,Data_raw!$A$2:$A$44,0),Data!Y$6))","v":""},{"$f":"IF(ISNA(INDEX(Data_raw!$B$2:$U$44,MATCH($J80,Data_raw!$A$2:$A$44,0),Data!Z$6)),\"\",INDEX(Data_raw!$B$2:$U$44,MATCH($J80,Data_raw!$A$2:$A$44,0),Data!Z$6))","v":""},{"$f":"IF(ISNA(INDEX(Data_raw!$B$2:$U$44,MATCH($J80,Data_raw!$A$2:$A$44,0),Data!AA$6)),\"\",INDEX(Data_raw!$B$2:$U$44,MATCH($J80,Data_raw!$A$2:$A$44,0),Data!AA$6))","v":""},{"$f":"IF(ISNA(INDEX(Data_raw!$B$2:$U$44,MATCH($J80,Data_raw!$A$2:$A$44,0),Data!AB$6)),\"\",INDEX(Data_raw!$B$2:$U$44,MATCH($J80,Data_raw!$A$2:$A$44,0),Data!AB$6))","v":""},{"$f":"IF(ISNA(INDEX(Data_raw!$B$2:$U$44,MATCH($J80,Data_raw!$A$2:$A$44,0),Data!AC$6)),\"\",INDEX(Data_raw!$B$2:$U$44,MATCH($J80,Data_raw!$A$2:$A$44,0),Data!AC$6))","v":""},{"$f":"IF(ISNA(INDEX(Data_raw!$B$2:$U$44,MATCH($J80,Data_raw!$A$2:$A$44,0),Data!AD$6)),\"\",INDEX(Data_raw!$B$2:$U$44,MATCH($J80,Data_raw!$A$2:$A$44,0),Data!AD$6))","v":""},{"$f":"IF(ISNA(INDEX(Data_raw!$B$2:$U$44,MATCH($J80,Data_raw!$A$2:$A$44,0),Data!AE$6)),\"\",INDEX(Data_raw!$B$2:$U$44,MATCH($J80,Data_raw!$A$2:$A$44,0),Data!AE$6))","v":""},{"$f":"IF(ISNA(INDEX(Data_raw!$B$2:$U$44,MATCH($J80,Data_raw!$A$2:$A$44,0),Data!AF$6)),\"\",INDEX(Data_raw!$B$2:$U$44,MATCH($J80,Data_raw!$A$2:$A$44,0),Data!AF$6))","v":""},{"$f":"IF(ISNA(INDEX(Data_raw!$B$2:$U$44,MATCH($J80,Data_raw!$A$2:$A$44,0),Data!AG$6)),\"\",INDEX(Data_raw!$B$2:$U$44,MATCH($J80,Data_raw!$A$2:$A$44,0),Data!AG$6))","v":""},null,0]
[null,{"$f":"tblIndicators!B75","v":"LIVRES_3_1"},{"$f":"tblIndicators!C75","v":"LIVRES_3"},{"$f":"tblIndicators!D75","v":3},null,{"$f":"tblIndicators!X75","v":1},{"$f":"tblIndicators!D75","v":3},0,1,{"$f":"tblIndicators!E75","v":"6.3.1"},null,{"$f":"tblIndicators!AE75","v":"6.3.1) Mechanisms to control pathways of introduction "},{"$f":"IF(tblIndicators!G75=\"\",\"\",IF(G81=3,tblIndicators!G75,\"\"))","v":"Scored 0-1 "},{"$f":"IF(ISNA(INDEX(Data_raw!$B$2:$U$44,MATCH($J81,Data_raw!$A$2:$A$44,0),Data!N$6)),\"\",INDEX(Data_raw!$B$2:$U$44,MATCH($J81,Data_raw!$A$2:$A$44,0),Data!N$6))","v":1},{"$f":"IF(ISNA(INDEX(Data_raw!$B$2:$U$44,MATCH($J81,Data_raw!$A$2:$A$44,0),Data!O$6)),\"\",INDEX(Data_raw!$B$2:$U$44,MATCH($J81,Data_raw!$A$2:$A$44,0),Data!O$6))","v":1},{"$f":"IF(ISNA(INDEX(Data_raw!$B$2:$U$44,MATCH($J81,Data_raw!$A$2:$A$44,0),Data!P$6)),\"\",INDEX(Data_raw!$B$2:$U$44,MATCH($J81,Data_raw!$A$2:$A$44,0),Data!P$6))","v":1},{"$f":"IF(ISNA(INDEX(Data_raw!$B$2:$U$44,MATCH($J81,Data_raw!$A$2:$A$44,0),Data!Q$6)),\"\",INDEX(Data_raw!$B$2:$U$44,MATCH($J81,Data_raw!$A$2:$A$44,0),Data!Q$6))","v":0},{"$f":"IF(ISNA(INDEX(Data_raw!$B$2:$U$44,MATCH($J81,Data_raw!$A$2:$A$44,0),Data!R$6)),\"\",INDEX(Data_raw!$B$2:$U$44,MATCH($J81,Data_raw!$A$2:$A$44,0),Data!R$6))","v":1},{"$f":"IF(ISNA(INDEX(Data_raw!$B$2:$U$44,MATCH($J81,Data_raw!$A$2:$A$44,0),Data!S$6)),\"\",INDEX(Data_raw!$B$2:$U$44,MATCH($J81,Data_raw!$A$2:$A$44,0),Data!S$6))","v":0},{"$f":"IF(ISNA(INDEX(Data_raw!$B$2:$U$44,MATCH($J81,Data_raw!$A$2:$A$44,0),Data!T$6)),\"\",INDEX(Data_raw!$B$2:$U$44,MATCH($J81,Data_raw!$A$2:$A$44,0),Data!T$6))","v":0},{"$f":"IF(ISNA(INDEX(Data_raw!$B$2:$U$44,MATCH($J81,Data_raw!$A$2:$A$44,0),Data!U$6)),\"\",INDEX(Data_raw!$B$2:$U$44,MATCH($J81,Data_raw!$A$2:$A$44,0),Data!U$6))","v":1},{"$f":"IF(ISNA(INDEX(Data_raw!$B$2:$U$44,MATCH($J81,Data_raw!$A$2:$A$44,0),Data!V$6)),\"\",INDEX(Data_raw!$B$2:$U$44,MATCH($J81,Data_raw!$A$2:$A$44,0),Data!V$6))","v":0},{"$f":"IF(ISNA(INDEX(Data_raw!$B$2:$U$44,MATCH($J81,Data_raw!$A$2:$A$44,0),Data!W$6)),\"\",INDEX(Data_raw!$B$2:$U$44,MATCH($J81,Data_raw!$A$2:$A$44,0),Data!W$6))","v":1},{"$f":"IF(ISNA(INDEX(Data_raw!$B$2:$U$44,MATCH($J81,Data_raw!$A$2:$A$44,0),Data!X$6)),\"\",INDEX(Data_raw!$B$2:$U$44,MATCH($J81,Data_raw!$A$2:$A$44,0),Data!X$6))","v":0},{"$f":"IF(ISNA(INDEX(Data_raw!$B$2:$U$44,MATCH($J81,Data_raw!$A$2:$A$44,0),Data!Y$6)),\"\",INDEX(Data_raw!$B$2:$U$44,MATCH($J81,Data_raw!$A$2:$A$44,0),Data!Y$6))","v":1},{"$f":"IF(ISNA(INDEX(Data_raw!$B$2:$U$44,MATCH($J81,Data_raw!$A$2:$A$44,0),Data!Z$6)),\"\",INDEX(Data_raw!$B$2:$U$44,MATCH($J81,Data_raw!$A$2:$A$44,0),Data!Z$6))","v":0},{"$f":"IF(ISNA(INDEX(Data_raw!$B$2:$U$44,MATCH($J81,Data_raw!$A$2:$A$44,0),Data!AA$6)),\"\",INDEX(Data_raw!$B$2:$U$44,MATCH($J81,Data_raw!$A$2:$A$44,0),Data!AA$6))","v":0},{"$f":"IF(ISNA(INDEX(Data_raw!$B$2:$U$44,MATCH($J81,Data_raw!$A$2:$A$44,0),Data!AB$6)),\"\",INDEX(Data_raw!$B$2:$U$44,MATCH($J81,Data_raw!$A$2:$A$44,0),Data!AB$6))","v":0},{"$f":"IF(ISNA(INDEX(Data_raw!$B$2:$U$44,MATCH($J81,Data_raw!$A$2:$A$44,0),Data!AC$6)),\"\",INDEX(Data_raw!$B$2:$U$44,MATCH($J81,Data_raw!$A$2:$A$44,0),Data!AC$6))","v":0},{"$f":"IF(ISNA(INDEX(Data_raw!$B$2:$U$44,MATCH($J81,Data_raw!$A$2:$A$44,0),Data!AD$6)),\"\",INDEX(Data_raw!$B$2:$U$44,MATCH($J81,Data_raw!$A$2:$A$44,0),Data!AD$6))","v":1},{"$f":"IF(ISNA(INDEX(Data_raw!$B$2:$U$44,MATCH($J81,Data_raw!$A$2:$A$44,0),Data!AE$6)),\"\",INDEX(Data_raw!$B$2:$U$44,MATCH($J81,Data_raw!$A$2:$A$44,0),Data!AE$6))","v":1},{"$f":"IF(ISNA(INDEX(Data_raw!$B$2:$U$44,MATCH($J81,Data_raw!$A$2:$A$44,0),Data!AF$6)),\"\",INDEX(Data_raw!$B$2:$U$44,MATCH($J81,Data_raw!$A$2:$A$44,0),Data!AF$6))","v":1},{"$f":"IF(ISNA(INDEX(Data_raw!$B$2:$U$44,MATCH($J81,Data_raw!$A$2:$A$44,0),Data!AG$6)),\"\",INDEX(Data_raw!$B$2:$U$44,MATCH($J81,Data_raw!$A$2:$A$44,0),Data!AG$6))","v":0},null,0]
[null,{"$f":"tblIndicators!B76","v":"BG"},{"$f":"tblIndicators!C76","v":"OVERALL"},{"$f":"tblIndicators!D76","v":"-"},null,{"$f":"tblIndicators!X76","v":0},{"$f":"tblIndicators!D76","v":"-"},{"$f":"IF(G82=3,MIN($N82:$AG82),\"\")","v":""},{"$f":"IF(G82=3,MAX($N82:$AG82),\"\")","v":""},{"$f":"tblIndicators!E76","v":7},null,{"$f":"tblIndicators!AE76","v":"7) BACKGROUND INDICATORS"},{"$f":"IF(tblIndicators!G76=\"\",\"\",IF(G82=3,tblIndicators!G76,\"\"))","v":""},{"$f":"IF(ISNA(INDEX(Data_raw!$B$2:$U$44,MATCH($J82,Data_raw!$A$2:$A$44,0),Data!N$6)),\"\",INDEX(Data_raw!$B$2:$U$44,MATCH($J82,Data_raw!$A$2:$A$44,0),Data!N$6))","v":""},{"$f":"IF(ISNA(INDEX(Data_raw!$B$2:$U$44,MATCH($J82,Data_raw!$A$2:$A$44,0),Data!O$6)),\"\",INDEX(Data_raw!$B$2:$U$44,MATCH($J82,Data_raw!$A$2:$A$44,0),Data!O$6))","v":""},{"$f":"IF(ISNA(INDEX(Data_raw!$B$2:$U$44,MATCH($J82,Data_raw!$A$2:$A$44,0),Data!P$6)),\"\",INDEX(Data_raw!$B$2:$U$44,MATCH($J82,Data_raw!$A$2:$A$44,0),Data!P$6))","v":""},{"$f":"IF(ISNA(INDEX(Data_raw!$B$2:$U$44,MATCH($J82,Data_raw!$A$2:$A$44,0),Data!Q$6)),\"\",INDEX(Data_raw!$B$2:$U$44,MATCH($J82,Data_raw!$A$2:$A$44,0),Data!Q$6))","v":""},{"$f":"IF(ISNA(INDEX(Data_raw!$B$2:$U$44,MATCH($J82,Data_raw!$A$2:$A$44,0),Data!R$6)),\"\",INDEX(Data_raw!$B$2:$U$44,MATCH($J82,Data_raw!$A$2:$A$44,0),Data!R$6))","v":""},{"$f":"IF(ISNA(INDEX(Data_raw!$B$2:$U$44,MATCH($J82,Data_raw!$A$2:$A$44,0),Data!S$6)),\"\",INDEX(Data_raw!$B$2:$U$44,MATCH($J82,Data_raw!$A$2:$A$44,0),Data!S$6))","v":""},{"$f":"IF(ISNA(INDEX(Data_raw!$B$2:$U$44,MATCH($J82,Data_raw!$A$2:$A$44,0),Data!T$6)),\"\",INDEX(Data_raw!$B$2:$U$44,MATCH($J82,Data_raw!$A$2:$A$44,0),Data!T$6))","v":""},{"$f":"IF(ISNA(INDEX(Data_raw!$B$2:$U$44,MATCH($J82,Data_raw!$A$2:$A$44,0),Data!U$6)),\"\",INDEX(Data_raw!$B$2:$U$44,MATCH($J82,Data_raw!$A$2:$A$44,0),Data!U$6))","v":""},{"$f":"IF(ISNA(INDEX(Data_raw!$B$2:$U$44,MATCH($J82,Data_raw!$A$2:$A$44,0),Data!V$6)),\"\",INDEX(Data_raw!$B$2:$U$44,MATCH($J82,Data_raw!$A$2:$A$44,0),Data!V$6))","v":""},{"$f":"IF(ISNA(INDEX(Data_raw!$B$2:$U$44,MATCH($J82,Data_raw!$A$2:$A$44,0),Data!W$6)),\"\",INDEX(Data_raw!$B$2:$U$44,MATCH($J82,Data_raw!$A$2:$A$44,0),Data!W$6))","v":""},{"$f":"IF(ISNA(INDEX(Data_raw!$B$2:$U$44,MATCH($J82,Data_raw!$A$2:$A$44,0),Data!X$6)),\"\",INDEX(Data_raw!$B$2:$U$44,MATCH($J82,Data_raw!$A$2:$A$44,0),Data!X$6))","v":""},{"$f":"IF(ISNA(INDEX(Data_raw!$B$2:$U$44,MATCH($J82,Data_raw!$A$2:$A$44,0),Data!Y$6)),\"\",INDEX(Data_raw!$B$2:$U$44,MATCH($J82,Data_raw!$A$2:$A$44,0),Data!Y$6))","v":""},{"$f":"IF(ISNA(INDEX(Data_raw!$B$2:$U$44,MATCH($J82,Data_raw!$A$2:$A$44,0),Data!Z$6)),\"\",INDEX(Data_raw!$B$2:$U$44,MATCH($J82,Data_raw!$A$2:$A$44,0),Data!Z$6))","v":""},{"$f":"IF(ISNA(INDEX(Data_raw!$B$2:$U$44,MATCH($J82,Data_raw!$A$2:$A$44,0),Data!AA$6)),\"\",INDEX(Data_raw!$B$2:$U$44,MATCH($J82,Data_raw!$A$2:$A$44,0),Data!AA$6))","v":""},{"$f":"IF(ISNA(INDEX(Data_raw!$B$2:$U$44,MATCH($J82,Data_raw!$A$2:$A$44,0),Data!AB$6)),\"\",INDEX(Data_raw!$B$2:$U$44,MATCH($J82,Data_raw!$A$2:$A$44,0),Data!AB$6))","v":""},{"$f":"IF(ISNA(INDEX(Data_raw!$B$2:$U$44,MATCH($J82,Data_raw!$A$2:$A$44,0),Data!AC$6)),\"\",INDEX(Data_raw!$B$2:$U$44,MATCH($J82,Data_raw!$A$2:$A$44,0),Data!AC$6))","v":""},{"$f":"IF(ISNA(INDEX(Data_raw!$B$2:$U$44,MATCH($J82,Data_raw!$A$2:$A$44,0),Data!AD$6)),\"\",INDEX(Data_raw!$B$2:$U$44,MATCH($J82,Data_raw!$A$2:$A$44,0),Data!AD$6))","v":""},{"$f":"IF(ISNA(INDEX(Data_raw!$B$2:$U$44,MATCH($J82,Data_raw!$A$2:$A$44,0),Data!AE$6)),\"\",INDEX(Data_raw!$B$2:$U$44,MATCH($J82,Data_raw!$A$2:$A$44,0),Data!AE$6))","v":""},{"$f":"IF(ISNA(INDEX(Data_raw!$B$2:$U$44,MATCH($J82,Data_raw!$A$2:$A$44,0),Data!AF$6)),\"\",INDEX(Data_raw!$B$2:$U$44,MATCH($J82,Data_raw!$A$2:$A$44,0),Data!AF$6))","v":""},{"$f":"IF(ISNA(INDEX(Data_raw!$B$2:$U$44,MATCH($J82,Data_raw!$A$2:$A$44,0),Data!AG$6)),\"\",INDEX(Data_raw!$B$2:$U$44,MATCH($J82,Data_raw!$A$2:$A$44,0),Data!AG$6))","v":""},null,{"$f":"IF(AND(ISNUMBER(N82),N82=O82,O82=P82,P82=Q82,Q82=R82,R82=S82,S82=T82,T82=U82,U82=V82,V82=W82,W82=X82,X82=Y82,Y82=Z82,Z82=AA82,AA82=AB82,AB82=AC82,AC82=AD82,AD82=AE82,AE82=AF82,AF82=AG82:AG82),1,0)","v":0}]
[null,{"$f":"tblIndicators!B77","v":"BG_01"},{"$f":"tblIndicators!C77","v":"BG"},{"$f":"tblIndicators!D77","v":"-"},null,{"$f":"tblIndicators!X77","v":0},{"$f":"tblIndicators!D77","v":"-"},"","",{"$f":"tblIndicators!E77","v":7.1},null,{"$f":"tblIndicators!AE77","v":"7.1) GDP per head (PPP, $, 2014)"},{"$f":"IF(tblIndicators!G77=\"\",\"\",IF(G83=3,tblIndicators!G77,\"\"))","v":""},{"$f":"Data_raw!B45","v":16050},{"$f":"Data_raw!C45","v":44295.9},{"$f":"Data_raw!D45","v":22450},{"$f":"Data_raw!E45","v":13390},{"$f":"Data_raw!F45","v":39000},{"$f":"Data_raw!G45","v":5850},{"$f":"Data_raw!H45","v":10540},{"$f":"Data_raw!I45","v":36820},{"$f":"Data_raw!J45","v":16773.099999999999},{"$f":"Data_raw!K45","v":35360},{"$f":"Data_raw!L45","v":5880},{"$f":"Data_raw!M45","v":68070},{"$f":"Data_raw!N45","v":10840},{"$f":"Data_raw!O45","v":6910},{"$f":"Data_raw!P45","v":24590},{"$f":"Data_raw!Q45","v":13404.6},{"$f":"Data_raw!R45","v":35140},{"$f":"Data_raw!S45","v":33710},{"$f":"Data_raw!T45","v":54633.9},{"$f":"Data_raw!U45","v":5520},null,0]
[null,{"$f":"tblIndicators!B78","v":"BG_02"},{"$f":"tblIndicators!C78","v":"BG"},{"$f":"tblIndicators!D78","v":"-"},null,{"$f":"tblIndicators!X78","v":0},{"$f":"tblIndicators!D78","v":"-"},"","",{"$f":"tblIndicators!E78","v":7.2},null,{"$f":"tblIndicators!AE78","v":"7.2) Environmental Performance Index scores (2014)"},{"$f":"IF(tblIndicators!G78=\"\",\"\",IF(G84=3,tblIndicators!G78,\"\"))","v":""},{"$f":"Data_raw!B46","v":52.97},{"$f":"Data_raw!C46","v":73.14},{"$f":"Data_raw!D46","v":69.63},{"$f":"Data_raw!E46","v":43},{"$f":"Data_raw!F46","v":71.05},{"$f":"Data_raw!G46","v":31.23},{"$f":"Data_raw!H46","v":44.36},{"$f":"Data_raw!I46","v":72.349999999999994},{"$f":"Data_raw!J46","v":55.03},{"$f":"Data_raw!K46","v":76.41},{"$f":"Data_raw!L46","v":39.200000000000003},{"$f":"Data_raw!M46","v":78.040000000000006},{"$f":"Data_raw!N46","v":45.05},{"$f":"Data_raw!O46","v":44.02},{"$f":"Data_raw!P46","v":53.45},{"$f":"Data_raw!Q46","v":53.51},{"$f":"Data_raw!R46","v":63.79},{"$f":"Data_raw!S46","v":79.790000000000006},{"$f":"Data_raw!T46","v":67.52},{"$f":"Data_raw!U46","v":38.17},null,0]
[null,{"$f":"tblIndicators!B79","v":"BG_03"},{"$f":"tblIndicators!C79","v":"BG"},{"$f":"tblIndicators!D79","v":"-"},null,{"$f":"tblIndicators!X79","v":0},{"$f":"tblIndicators!D79","v":"-"},"","",{"$f":"tblIndicators!E79","v":7.3},null,{"$f":"tblIndicators!AE79","v":"7.3) Human Development Index (2013)"},{"$f":"IF(tblIndicators!G79=\"\",\"\",IF(G85=3,tblIndicators!G79,\"\"))","v":""},{"$f":"Data_raw!B47","v":0.74399999999999999},{"$f":"Data_raw!C47","v":0.90200000000000002},{"$f":"Data_raw!D47","v":0.82199999999999995},{"$f":"Data_raw!E47","v":0.71899999999999997},{"$f":"Data_raw!F47","v":0.88400000000000001},{"$f":"Data_raw!G47","v":0.58599999999999997},{"$f":"Data_raw!H47","v":0.68400000000000005},{"$f":"Data_raw!I47","v":0.89},{"$f":"Data_raw!J47","v":0.75600000000000001},{"$f":"Data_raw!K47","v":0.91},{"$f":"Data_raw!L47","v":0.504},{"$f":"Data_raw!M47","v":0.94399999999999995},{"$f":"Data_raw!N47","v":0.73699999999999999},{"$f":"Data_raw!O47","v":0.66},{"$f":"Data_raw!P47","v":0.77800000000000002},{"$f":"Data_raw!Q47","v":0.65800000000000003},{"$f":"Data_raw!R47","v":0.89100000000000001},{"$f":"Data_raw!S47","v":0.86899999999999999},{"$f":"Data_raw!T47","v":0.91400000000000003},{"$f":"Data_raw!U47","v":0.63800000000000001},null,0]
[null,{"$f":"tblIndicators!B80","v":"BG_04"},{"$f":"tblIndicators!C80","v":"BG"},{"$f":"tblIndicators!D80","v":"-"},null,{"$f":"tblIndicators!X80","v":0},{"$f":"tblIndicators!D80","v":"-"},{"$f":"IF(G86=3,MIN($N86:$AG86),\"\")","v":""},{"$f":"IF(G86=3,MAX($N86:$AG86),\"\")","v":""},{"$f":"tblIndicators!E80","v":7.4},null,{"$f":"tblIndicators!AE80","v":"7.4) Democracy Index (2014)"},{"$f":"IF(tblIndicators!G80=\"\",\"\",IF(G86=3,tblIndicators!G80,\"\"))","v":""},{"$f":"Data_raw!B48","v":7.3790849673202619},{"$f":"Data_raw!C48","v":9.0793650793650791},{"$f":"Data_raw!D48","v":7.7963352007469648},{"$f":"Data_raw!E48","v":3.0004668534080299},{"$f":"Data_raw!F48","v":8.0404995331465923},{"$f":"Data_raw!G48","v":7.9220354808590105},{"$f":"Data_raw!H48","v":6.9491596638655464},{"$f":"Data_raw!I48","v":8.0807656395891687},{"$f":"Data_raw!J48","v":6.6848739495798313},{"$f":"Data_raw!K48","v":9.2599206349206362},{"$f":"Data_raw!L48","v":3.7611344537815121},{"$f":"Data_raw!M48","v":9.928571428571427},{"$f":"Data_raw!N48","v":6.5392156862745097},{"$f":"Data_raw!O48","v":6.7699579831932768},{"$f":"Data_raw!P48","v":3.3939775910364149},{"$f":"Data_raw!Q48","v":7.8209617180205413},{"$f":"Data_raw!R48","v":8.0550887021475255},{"$f":"Data_raw!S48","v":8.0470354808590105},{"$f":"Data_raw!T48","v":8.1086601307189543},{"$f":"Data_raw!U48","v":3.4090802987861806},null,{"$f":"IF(AND(ISNUMBER(N86),N86=O86,O86=P86,P86=Q86,Q86=R86,R86=S86,S86=T86,T86=U86,U86=V86,V86=W86,W86=X86,X86=Y86,Y86=Z86,Z86=AA86,AA86=AB86,AB86=AC86,AC86=AD86,AD86=AE86,AE86=AF86,AF86=AG86:AG86),1,0)","v":0}]

{"sheet":"Scores","index":24,"n_rows":81,"n_cols":35,"rows_kept":81,"cut":false,"hidden":false,"merged":[]}
["NORMALIZED SCORES"]
[]
[]
[]
[]
[null,null,null,null,null,null,null,null,null,null,null,null,null,null,null,1,2,3,4,5,6,7,8,9,10,11,12,13,14,15,16,17,18,19,20]
["Scored 0-100 where 100=most favorable conditions","ID","INDI_CODE","PARENT_CODE","DEPTH","HIGH_IS","NORM_ID (1=sumproduct, 2=min max set by data values, 3=min max set by user here)","Set Min","Set Max","MIN","MAX","RANGE",null,null,null,{"$f":"INDEX(luCountries,P6)","v":"Brazil"},"Canada","Chile","China","France","India","Indonesia","Japan","Mexico","New Zealand","Nigeria","Norway","Peru","Philippines","Russia","South Africa","South Korea","Spain","United States","Vietnam"]
[null,{"$f":"tblIndicators!A2","v":1},{"$f":"tblIndicators!B2","v":"OVERALL"},{"$f":"tblIndicators!C2","v":0},{"$f":"tblIndicators!D2","v":0},{"$f":"tblIndicators!L2","v":0},{"$f":"tblIndicators!V2","v":1},{"$f":"tblIndicators!W2","v":0},{"$f":"tblIndicators!X2","v":100},{"$f":"CHOOSE(G8,\"-\",Data!H8,H8)","v":"-"},{"$f":"CHOOSE(G8,\"-\",Data!I8,I8)","v":"-"},{"$f":"CHOOSE(G8,\"-\",K8-J8,K8-J8)","v":"-"},{"$f":"tblIndicators!AE2","v":"OVERALL SCORE"},null,null,{"$f":"IF(Data!$AI8=1,50,IF($G8=0,0,CHOOSE($G8,SUMPRODUCT($O9:$O$81*P9:P$81*($D9:$D$81=$C8)),IF(ISNUMBER(Data!N8),100*ABS($F8-(Data!N8-$J8)/$L8),0),IF(ISNUMBER(Data!N8),100*ABS($F8-(Data!N8-$J8)/$L8),0))))","v":66.512663123204533},{"$f":"IF(Data!$AI8=1,50,IF($G8=0,0,CHOOSE($G8,SUMPRODUCT($O9:$O$81*Q9:Q$81*($D9:$D$81=$C8)),IF(ISNUMBER(Data!O8),100*ABS($F8-(Data!O8-$J8)/$L8),0),IF(ISNUMBER(Data!O8),100*ABS($F8-(Data!O8-$J8)/$L8),0))))","v":76.203113504321877},{"$f":"IF(Data!$AI8=1,50,IF($G8=0,0,CHOOSE($G8,SUMPRODUCT($O9:$O$81*R9:R$81*($D9:$D$81=$C8)),IF(ISNUMBER(Data!P8),100*ABS($F8-(Data!P8-$J8)/$L8),0),IF(ISNUMBER(Data!P8),100*ABS($F8-(Data!P8-$J8)/$L8),0))))","v":67.326099454897474},{"$f":"IF(Data!$AI8=1,50,IF($G8=0,0,CHOOSE($G8,SUMPRODUCT($O9:$O$81*S9:S$81*($D9:$D$81=$C8)),IF(ISNUMBER(Data!Q8),100*ABS($F8-(Data!Q8-$J8)/$L8),0),IF(ISNUMBER(Data!Q8),100*ABS($F8-(Data!Q8-$J8)/$L8),0))))","v":60.654296618192063},{"$f":"IF(Data!$AI8=1,50,IF($G8=0,0,CHOOSE($G8,SUMPRODUCT($O9:$O$81*T9:T$81*($D9:$D$81=$C8)),IF(ISNUMBER(Data!R8),100*ABS($F8-(Data!R8-$J8)/$L8),0),IF(ISNUMBER(Data!R8),100*ABS($F8-(Data!R8-$J8)/$L8),0))))","v":81.988128793868668},{"$f":"IF(Data!$AI8=1,50,IF($G8=0,0,CHOOSE($G8,SUMPRODUCT($O9:$O$81*U9:U$81*($D9:$D$81=$C8)),IF(ISNUMBER(Data!S8),100*ABS($F8-(Data!S8-$J8)/$L8),0),IF(ISNUMBER(Data!S8),100*ABS($F8-(Data!S8-$J8)/$L8),0))))","v":56.073805389192202},{"$f":"IF(Data!$AI8=1,50,IF($G8=0,0,CHOOSE($G8,SUMPRODUCT($O9:$O$81*V9:V$81*($D9:$D$81=$C8)),IF(ISNUMBER(Data!T8),100*ABS($F8-(Data!T8-$J8)/$L8),0),IF(ISNUMBER(Data!T8),100*ABS($F8-(Data!T8-$J8)/$L8),0))))","v":56.953006340747656},{"$f":"IF(Data!$AI8=1,50,IF($G8=0,0,CHOOSE($G8,SUMPRODUCT($O9:$O$81*W9:W$81*($D9:$D$81=$C8)),IF(ISNUMBER(Data!U8),100*ABS($F8-(Data!U8-$J8)/$L8),0),IF(ISNUMBER(Data!U8),100*ABS($F8-(Data!U8-$J8)/$L8),0))))","v":78.164155255545907},{"$f":"IF(Data!$AI8=1,50,IF($G8=0,0,CHOOSE($G8,SUMPRODUCT($O9:$O$81*X9:X$81*($D9:$D$81=$C8)),IF(ISNUMBER(Data!V8),100*ABS($F8-(Data!V8-$J8)/$L8),0),IF(ISNUMBER(Data!V8),100*ABS($F8-(Data!V8-$J8)/$L8),0))))","v":59.80011143170686},{"$f":"IF(Data!$AI8=1,50,IF($G8=0,0,CHOOSE($G8,SUMPRODUCT($O9:$O$81*Y9:Y$81*($D9:$D$81=$C8)),IF(ISNUMBER(Data!W8),100*ABS($F8-(Data!W8-$J8)/$L8),0),IF(ISNUMBER(Data!W8),100*ABS($F8-(Data!W8-$J8)/$L8),0))))","v":86.163366424857784},{"$f":"IF(Data!$AI8=1,50,IF($G8=0,0,CHOOSE($G8,SUMPRODUCT($O9:$O$81*Z9:Z$81*($D9:$D$81=$C8)),IF(ISNUMBER(Data!X8),100*ABS($F8-(Data!X8-$J8)/$L8),0),IF(ISNUMBER(Data!X8),100*ABS($F8-(Data!X8-$J8)/$L8),0))))","v":50.075062285380596},{"$f":"IF(Data!$AI8=1,50,IF($G8=0,0,CHOOSE($G8,SUMPRODUCT($O9:$O$81*AA9:AA$81*($D9:$D$81=$C8)),IF(ISNUMBER(Data!Y8),100*ABS($F8-(Data!Y8-$J8)/$L8),0),IF(ISNUMBER(Data!Y8),100*ABS($F8-(Data!Y8-$J8)/$L8),0))))","v":79.098093232372349},{"$f":"IF(Data!$AI8=1,50,IF($G8=0,0,CHOOSE($G8,SUMPRODUCT($O9:$O$81*AB9:AB$81*($D9:$D$81=$C8)),IF(ISNUMBER(Data!Z8),100*ABS($F8-(Data!Z8-$J8)/$L8),0),IF(ISNUMBER(Data!Z8),100*ABS($F8-(Data!Z8-$J8)/$L8),0))))","v":55.138376508516096},{"$f":"IF(Data!$AI8=1,50,IF($G8=0,0,CHOOSE($G8,SUMPRODUCT($O9:$O$81*AC9:AC$81*($D9:$D$81=$C8)),IF(ISNUMBER(Data!AA8),100*ABS($F8-(Data!AA8-$J8)/$L8),0),IF(ISNUMBER(Data!AA8),100*ABS($F8-(Data!AA8-$J8)/$L8),0))))","v":59.344767032375628},{"$f":"IF(Data!$AI8=1,50,IF($G8=0,0,CHOOSE($G8,SUMPRODUCT($O9:$O$81*AD9:AD$81*($D9:$D$81=$C8)),IF(ISNUMBER(Data!AB8),100*ABS($F8-(Data!AB8-$J8)/$L8),0),IF(ISNUMBER(Data!AB8),100*ABS($F8-(Data!AB8-$J8)/$L8),0))))","v":42.268904992589576},{"$f":"IF(Data!$AI8=1,50,IF($G8=0,0,CHOOSE($G8,SUMPRODUCT($O9:$O$81*AE9:AE$81*($D9:$D$81=$C8)),IF(ISNUMBER(Data!AC8),100*ABS($F8-(Data!AC8-$J8)/$L8),0),IF(ISNUMBER(Data!AC8),100*ABS($F8-(Data!AC8-$J8)/$L8),0))))","v":67.871569791374654},{"$f":"IF(Data!$AI8=1,50,IF($G8=0,0,CHOOSE($G8,SUMPRODUCT($O9:$O$81*AF9:AF$81*($D9:$D$81=$C8)),IF(ISNUMBER(Data!AD8),100*ABS($F8-(Data!AD8-$J8)/$L8),0),IF(ISNUMBER(Data!AD8),100*ABS($F8-(Data!AD8-$J8)/$L8),0))))","v":72.027699919695479},{"$f":"IF(Data!$AI8=1,50,IF($G8=0,0,CHOOSE($G8,SUMPRODUCT($O9:$O$81*AG9:AG$81*($D9:$D$81=$C8)),IF(ISNUMBER(Data!AE8),100*ABS($F8-(Data!AE8-$J8)/$L8),0),IF(ISNUMBER(Data!AE8),100*ABS($F8-(Data!AE8-$J8)/$L8),0))))","v":79.820005731403398},{"$f":"IF(Data!$AI8=1,50,IF($G8=0,0,CHOOSE($G8,SUMPRODUCT($O9:$O$81*AH9:AH$81*($D9:$D$81=$C8)),IF(ISNUMBER(Data!AF8),100*ABS($F8-(Data!AF8-$J8)/$L8),0),IF(ISNUMBER(Data!AF8),100*ABS($F8-(Data!AF8-$J8)/$L8),0))))","v":85.422888393957692},{"$f":"IF(Data!$AI8=1,50,IF($G8=0,0,CHOOSE($G8,SUMPRODUCT($O9:$O$81*AI9:AI$81*($D9:$D$81=$C8)),IF(ISNUMBER(Data!AG8),100*ABS($F8-(Data!AG8-$J8)/$L8),0),IF(ISNUMBER(Data!AG8),100*ABS($F8-(Data!AG8-$J8)/$L8),0))))","v":56.704826834920624}]
[null,{"$f":"tblIndicators!A3","v":2},{"$f":"tblIndicators!B3","v":"PLCAP"},{"$f":"tblIndicators!C3","v":"OVERALL"},{"$f":"tblIndicators!D3","v":1},{"$f":"tblIndicators!L3","v":0},{"$f":"tblIndicators!V3","v":1},{"$f":"tblIndicators!W3","v":0},{"$f":"tblIndicators!X3","v":100},{"$f":"CHOOSE(G9,\"-\",Data!H9,H9)","v":"-"},{"$f":"CHOOSE(G9,\"-\",Data!I9,I9)","v":"-"},{"$f":"CHOOSE(G9,\"-\",K9-J9,K9-J9)","v":"-"},{"$f":"tblIndicators!AE3","v":"1) POLICY AND INSTITUTIONAL CAPACITY"},{"$f":"IF(E9=3,\"\",O9)","v":0.16666666666666666},{"$f":"tblIndicators!AJ3","v":0.16666666666666666},{"$f":"IF(Data!$AI9=1,50,IF($G9=0,0,CHOOSE($G9,SUMPRODUCT($O10:$O$81*P10:P$81*($D10:$D$81=$C9)),IF(ISNUMBER(Data!N9),100*ABS($F9-(Data!N9-$J9)/$L9),0),IF(ISNUMBER(Data!N9),100*ABS($F9-(Data!N9-$J9)/$L9),0))))","v":64.285714285714278},{"$f":"IF(Data!$AI9=1,50,IF($G9=0,0,CHOOSE($G9,SUMPRODUCT($O10:$O$81*Q10:Q$81*($D10:$D$81=$C9)),IF(ISNUMBER(Data!O9),100*ABS($F9-(Data!O9-$J9)/$L9),0),IF(ISNUMBER(Data!O9),100*ABS($F9-(Data!O9-$J9)/$L9),0))))","v":71.428571428571416},{"$f":"IF(Data!$AI9=1,50,IF($G9=0,0,CHOOSE($G9,SUMPRODUCT($O10:$O$81*R10:R$81*($D10:$D$81=$C9)),IF(ISNUMBER(Data!P9),100*ABS($F9-(Data!P9-$J9)/$L9),0),IF(ISNUMBER(Data!P9),100*ABS($F9-(Data!P9-$J9)/$L9),0))))","v":35.714285714285708},{"$f":"IF(Data!$AI9=1,50,IF($G9=0,0,CHOOSE($G9,SUMPRODUCT($O10:$O$81*S10:S$81*($D10:$D$81=$C9)),IF(ISNUMBER(Data!Q9),100*ABS($F9-(Data!Q9-$J9)/$L9),0),IF(ISNUMBER(Data!Q9),100*ABS($F9-(Data!Q9-$J9)/$L9),0))))","v":71.428571428571416},{"$f":"IF(Data!$AI9=1,50,IF($G9=0,0,CHOOSE($G9,SUMPRODUCT($O10:$O$81*T10:T$81*($D10:$D$81=$C9)),IF(ISNUMBER(Data!R9),100*ABS($F9-(Data!R9-$J9)/$L9),0),IF(ISNUMBER(Data!R9),100*ABS($F9-(Data!R9-$J9)/$L9),0))))","v":78.571428571428555},{"$f":"IF(Data!$AI9=1,50,IF($G9=0,0,CHOOSE($G9,SUMPRODUCT($O10:$O$81*U10:U$81*($D10:$D$81=$C9)),IF(ISNUMBER(Data!S9),100*ABS($F9-(Data!S9-$J9)/$L9),0),IF(ISNUMBER(Data!S9),100*ABS($F9-(Data!S9-$J9)/$L9),0))))","v":53.571428571428562},{"$f":"IF(Data!$AI9=1,50,IF($G9=0,0,CHOOSE($G9,SUMPRODUCT($O10:$O$81*V10:V$81*($D10:$D$81=$C9)),IF(ISNUMBER(Data!T9),100*ABS($F9-(Data!T9-$J9)/$L9),0),IF(ISNUMBER(Data!T9),100*ABS($F9-(Data!T9-$J9)/$L9),0))))","v":69.047619047619037},{"$f":"IF(Data!$AI9=1,50,IF($G9=0,0,CHOOSE($G9,SUMPRODUCT($O10:$O$81*W10:W$81*($D10:$D$81=$C9)),IF(ISNUMBER(Data!U9),100*ABS($F9-(Data!U9-$J9)/$L9),0),IF(ISNUMBER(Data!U9),100*ABS($F9-(Data!U9-$J9)/$L9),0))))","v":78.571428571428555},{"$f":"IF(Data!$AI9=1,50,IF($G9=0,0,CHOOSE($G9,SUMPRODUCT($O10:$O$81*X10:X$81*($D10:$D$81=$C9)),IF(ISNUMBER(Data!V9),100*ABS($F9-(Data!V9-$J9)/$L9),0),IF(ISNUMBER(Data!V9),100*ABS($F9-(Data!V9-$J9)/$L9),0))))","v":57.142857142857132},{"$f":"IF(Data!$AI9=1,50,IF($G9=0,0,CHOOSE($G9,SUMPRODUCT($O10:$O$81*Y10:Y$81*($D10:$D$81=$C9)),IF(ISNUMBER(Data!W9),100*ABS($F9-(Data!W9-$J9)/$L9),0),IF(ISNUMBER(Data!W9),100*ABS($F9-(Data!W9-$J9)/$L9),0))))","v":74.999999999999986},{"$f":"IF(Data!$AI9=1,50,IF($G9=0,0,CHOOSE($G9,SUMPRODUCT($O10:$O$81*Z10:Z$81*($D10:$D$81=$C9)),IF(ISNUMBER(Data!X9),100*ABS($F9-(Data!X9-$J9)/$L9),0),IF(ISNUMBER(Data!X9),100*ABS($F9-(Data!X9-$J9)/$L9),0))))","v":42.857142857142854},{"$f":"IF(Data!$AI9=1,50,IF($G9=0,0,CHOOSE($G9,SUMPRODUCT($O10:$O$81*AA10:AA$81*($D10:$D$81=$C9)),IF(ISNUMBER(Data!Y9),100*ABS($F9-(Data!Y9-$J9)/$L9),0),IF(ISNUMBER(Data!Y9),100*ABS($F9-(Data!Y9-$J9)/$L9),0))))","v":85.714285714285694},{"$f":"IF(Data!$AI9=1,50,IF($G9=0,0,CHOOSE($G9,SUMPRODUCT($O10:$O$81*AB10:AB$81*($D10:$D$81=$C9)),IF(ISNUMBER(Data!Z9),100*ABS($F9-(Data!Z9-$J9)/$L9),0),IF(ISNUMBER(Data!Z9),100*ABS($F9-(Data!Z9-$J9)/$L9),0))))","v":32.142857142857139},{"$f":"IF(Data!$AI9=1,50,IF($G9=0,0,CHOOSE($G9,SUMPRODUCT($O10:$O$81*AC10:AC$81*($D10:$D$81=$C9)),IF(ISNUMBER(Data!AA9),100*ABS($F9-(Data!AA9-$J9)/$L9),0),IF(ISNUMBER(Data!AA9),100*ABS($F9-(Data!AA9-$J9)/$L9),0))))","v":73.809523809523796},{"$f":"IF(Data!$AI9=1,50,IF($G9=0,0,CHOOSE($G9,SUMPRODUCT($O10:$O$81*AD10:AD$81*($D10:$D$81=$C9)),IF(ISNUMBER(Data!AB9),100*ABS($F9-(Data!AB9-$J9)/$L9),0),IF(ISNUMBER(Data!AB9),100*ABS($F9-(Data!AB9-$J9)/$L9),0))))","v":14.285714285714285},{"$f":"IF(Data!$AI9=1,50,IF($G9=0,0,CHOOSE($G9,SUMPRODUCT($O10:$O$81*AE10:AE$81*($D10:$D$81=$C9)),IF(ISNUMBER(Data!AC9),100*ABS($F9-(Data!AC9-$J9)/$L9),0),IF(ISNUMBER(Data!AC9),100*ABS($F9-(Data!AC9-$J9)/$L9),0))))","v":71.428571428571416},{"$f":"IF(Data!$AI9=1,50,IF($G9=0,0,CHOOSE($G9,SUMPRODUCT($O10:$O$81*AF10:AF$81*($D10:$D$81=$C9)),IF(ISNUMBER(Data!AD9),100*ABS($F9-(Data!AD9-$J9)/$L9),0),IF(ISNUMBER(Data!AD9),100*ABS($F9-(Data!AD9-$J9)/$L9),0))))","v":67.857142857142847},{"$f":"IF(Data!$AI9=1,50,IF($G9=0,0,CHOOSE($G9,SUMPRODUCT($O10:$O$81*AG10:AG$81*($D10:$D$81=$C9)),IF(ISNUMBER(Data!AE9),100*ABS($F9-(Data!AE9-$J9)/$L9),0),IF(ISNUMBER(Data!AE9),100*ABS($F9-(Data!AE9-$J9)/$L9),0))))","v":85.714285714285694},{"$f":"IF(Data!$AI9=1,50,IF($G9=0,0,CHOOSE($G9,SUMPRODUCT($O10:$O$81*AH10:AH$81*($D10:$D$81=$C9)),IF(ISNUMBER(Data!AF9),100*ABS($F9-(Data!AF9-$J9)/$L9),0),IF(ISNUMBER(Data!AF9),100*ABS($F9-(Data!AF9-$J9)/$L9),0))))","v":84.523809523809518},{"$f":"IF(Data!$AI9=1,50,IF($G9=0,0,CHOOSE($G9,SUMPRODUCT($O10:$O$81*AI10:AI$81*($D10:$D$81=$C9)),IF(ISNUMBER(Data!AG9),100*ABS($F9-(Data!AG9-$J9)/$L9),0),IF(ISNUMBER(Data!AG9),100*ABS($F9-(Data!AG9-$J9)/$L9),0))))","v":71.428571428571416}]
[null,{"$f":"tblIndicators!A4","v":3},{"$f":"tblIndicators!B4","v":"PLCAP_1"},{"$f":"tblIndicators!C4","v":"PLCAP"},{"$f":"tblIndicators!D4","v":2},{"$f":"tblIndicators!L4","v":0},{"$f":"tblIndicators!V4","v":1},{"$f":"tblIndicators!W4","v":0},{"$f":"tblIndicators!X4","v":100},{"$f":"CHOOSE(G10,\"-\",Data!H10,H10)","v":"-"},{"$f":"CHOOSE(G10,\"-\",Data!I10,I10)","v":"-"},"-",{"$f":"tblIndicators!AE4","v":"1.1) Coastal management policy and strategy"},{"$f":"IF(E10=3,\"\",O10)","v":0.14285714285714285},{"$f":"tblIndicators!AJ4","v":0.14285714285714285},{"$f":"IF(Data!$AI10=1,50,IF($G10=0,0,CHOOSE($G10,SUMPRODUCT($O11:$O$81*P11:P$81*($D11:$D$81=$C10)),IF(ISNUMBER(Data!N10),100*ABS($F10-(Data!N10-$J10)/$L10),0),IF(ISNUMBER(Data!N10),100*ABS($F10-(Data!N10-$J10)/$L10),0))))","v":100},{"$f":"IF(Data!$AI10=1,50,IF($G10=0,0,CHOOSE($G10,SUMPRODUCT($O11:$O$81*Q11:Q$81*($D11:$D$81=$C10)),IF(ISNUMBER(Data!O10),100*ABS($F10-(Data!O10-$J10)/$L10),0),IF(ISNUMBER(Data!O10),100*ABS($F10-(Data!O10-$J10)/$L10),0))))","v":100},{"$f":"IF(Data!$AI10=1,50,IF($G10=0,0,CHOOSE($G10,SUMPRODUCT($O11:$O$81*R11:R$81*($D11:$D$81=$C10)),IF(ISNUMBER(Data!P10),100*ABS($F10-(Data!P10-$J10)/$L10),0),IF(ISNUMBER(Data!P10),100*ABS($F10-(Data!P10-$J10)/$L10),0))))","v":50},{"$f":"IF(Data!$AI10=1,50,IF($G10=0,0,CHOOSE($G10,SUMPRODUCT($O11:$O$81*S11:S$81*($D11:$D$81=$C10)),IF(ISNUMBER(Data!Q10),100*ABS($F10-(Data!Q10-$J10)/$L10),0),IF(ISNUMBER(Data!Q10),100*ABS($F10-(Data!Q10-$J10)/$L10),0))))","v":100},{"$f":"IF(Data!$AI10=1,50,IF($G10=0,0,CHOOSE($G10,SUMPRODUCT($O11:$O$81*T11:T$81*($D11:$D$81=$C10)),IF(ISNUMBER(Data!R10),100*ABS($F10-(Data!R10-$J10)/$L10),0),IF(ISNUMBER(Data!R10),100*ABS($F10-(Data!R10-$J10)/$L10),0))))","v":50},{"$f":"IF(Data!$AI10=1,50,IF($G10=0,0,CHOOSE($G10,SUMPRODUCT($O11:$O$81*U11:U$81*($D11:$D$81=$C10)),IF(ISNUMBER(Data!S10),100*ABS($F10-(Data!S10-$J10)/$L10),0),IF(ISNUMBER(Data!S10),100*ABS($F10-(Data!S10-$J10)/$L10),0))))","v":75},{"$f":"IF(Data!$AI10=1,50,IF($G10=0,0,CHOOSE($G10,SUMPRODUCT($O11:$O$81*V11:V$81*($D11:$D$81=$C10)),IF(ISNUMBER(Data!T10),100*ABS($F10-(Data!T10-$J10)/$L10),0),IF(ISNUMBER(Data!T10),100*ABS($F10-(Data!T10-$J10)/$L10),0))))","v":100},{"$f":"IF(Data!$AI10=1,50,IF($G10=0,0,CHOOSE($G10,SUMPRODUCT($O11:$O$81*W11:W$81*($D11:$D$81=$C10)),IF(ISNUMBER(Data!U10),100*ABS($F10-(Data!U10-$J10)/$L10),0),IF(ISNUMBER(Data!U10),100*ABS($F10-(Data!U10-$J10)/$L10),0))))","v":100},{"$f":"IF(Data!$AI10=1,50,IF($G10=0,0,CHOOSE($G10,SUMPRODUCT($O11:$O$81*X11:X$81*($D11:$D$81=$C10)),IF(ISNUMBER(Data!V10),100*ABS($F10-(Data!V10-$J10)/$L10),0),IF(ISNUMBER(Data!V10),100*ABS($F10-(Data!V10-$J10)/$L10),0))))","v":75},{"$f":"IF(Data!$AI10=1,50,IF($G10=0,0,CHOOSE($G10,SUMPRODUCT($O11:$O$81*Y11:Y$81*($D11:$D$81=$C10)),IF(ISNUMBER(Data!W10),100*ABS($F10-(Data!W10-$J10)/$L10),0),IF(ISNUMBER(Data!W10),100*ABS($F10-(Data!W10-$J10)/$L10),0))))","v":75},{"$f":"IF(Data!$AI10=1,50,IF($G10=0,0,CHOOSE($G10,SUMPRODUCT($O11:$O$81*Z11:Z$81*($D11:$D$81=$C10)),IF(ISNUMBER(Data!X10),100*ABS($F10-(Data!X10-$J10)/$L10),0),IF(ISNUMBER(Data!X10),100*ABS($F10-(Data!X10-$J10)/$L10),0))))","v":0},{"$f":"IF(Data!$AI10=1,50,IF($G10=0,0,CHOOSE($G10,SUMPRODUCT($O11:$O$81*AA11:AA$81*($D11:$D$81=$C10)),IF(ISNUMBER(Data!Y10),100*ABS($F10-(Data!Y10-$J10)/$L10),0),IF(ISNUMBER(Data!Y10),100*ABS($F10-(Data!Y10-$J10)/$L10),0))))","v":100},{"$f":"IF(Data!$AI10=1,50,IF($G10=0,0,CHOOSE($G10,SUMPRODUCT($O11:$O$81*AB11:AB$81*($D11:$D$81=$C10)),IF(ISNUMBER(Data!Z10),100*ABS($F10-(Data!Z10-$J10)/$L10),0),IF(ISNUMBER(Data!Z10),100*ABS($F10-(Data!Z10-$J10)/$L10),0))))","v":0},{"$f":"IF(Data!$AI10=1,50,IF($G10=0,0,CHOOSE($G10,SUMPRODUCT($O11:$O$81*AC11:AC$81*($D11:$D$81=$C10)),IF(ISNUMBER(Data!AA10),100*ABS($F10-(Data!AA10-$J10)/$L10),0),IF(ISNUMBER(Data!AA10),100*ABS($F10-(Data!AA10-$J10)/$L10),0))))","v":100},{"$f":"IF(Data!$AI10=1,50,IF($G10=0,0,CHOOSE($G10,SUMPRODUCT($O11:$O$81*AD11:AD$81*($D11:$D$81=$C10)),IF(ISNUMBER(Data!AB10),100*ABS($F10-(Data!AB10-$J10)/$L10),0),IF(ISNUMBER(Data!AB10),100*ABS($F10-(Data!AB10-$J10)/$L10),0))))","v":0},{"$f":"IF(Data!$AI10=1,50,IF($G10=0,0,CHOOSE($G10,SUMPRODUCT($O11:$O$81*AE11:AE$81*($D11:$D$81=$C10)),IF(ISNUMBER(Data!AC10),100*ABS($F10-(Data!AC10-$J10)/$L10),0),IF(ISNUMBER(Data!AC10),100*ABS($F10-(Data!AC10-$J10)/$L10),0))))","v":75},{"$f":"IF(Data!$AI10=1,50,IF($G10=0,0,CHOOSE($G10,SUMPRODUCT($O11:$O$81*AF11:AF$81*($D11:$D$81=$C10)),IF(ISNUMBER(Data!AD10),100*ABS($F10-(Data!AD10-$J10)/$L10),0),IF(ISNUMBER(Data!AD10),100*ABS($F10-(Data!AD10-$J10)/$L10),0))))","v":100},{"$f":"IF(Data!$AI10=1,50,IF($G10=0,0,CHOOSE($G10,SUMPRODUCT($O11:$O$81*AG11:AG$81*($D11:$D$81=$C10)),IF(ISNUMBER(Data!AE10),100*ABS($F10-(Data!AE10-$J10)/$L10),0),IF(ISNUMBER(Data!AE10),100*ABS($F10-(Data!AE10-$J10)/$L10),0))))","v":100},{"$f":"IF(Data!$AI10=1,50,IF($G10=0,0,CHOOSE($G10,SUMPRODUCT($O11:$O$81*AH11:AH$81*($D11:$D$81=$C10)),IF(ISNUMBER(Data!AF10),100*ABS($F10-(Data!AF10-$J10)/$L10),0),IF(ISNUMBER(Data!AF10),100*ABS($F10-(Data!AF10-$J10)/$L10),0))))","v":100},{"$f":"IF(Data!$AI10=1,50,IF($G10=0,0,CHOOSE($G10,SUMPRODUCT($O11:$O$81*AI11:AI$81*($D11:$D$81=$C10)),IF(ISNUMBER(Data!AG10),100*ABS($F10-(Data!AG10-$J10)/$L10),0),IF(ISNUMBER(Data!AG10),100*ABS($F10-(Data!AG10-$J10)/$L10),0))))","v":100}]
[null,{"$f":"tblIndicators!A5","v":4},{"$f":"tblIndicators!B5","v":"PLCAP_1_1"},{"$f":"tblIndicators!C5","v":"PLCAP_1"},{"$f":"tblIndicators!D5","v":3},{"$f":"tblIndicators!L5","v":0},{"$f":"tblIndicators!V5","v":3},{"$f":"tblIndicators!W5","v":0},{"$f":"tblIndicators!X5","v":1},{"$f":"CHOOSE(G11,\"-\",Data!H11,H11)","v":0},{"$f":"CHOOSE(G11,\"-\",Data!I11,I11)","v":1},1,{"$f":"tblIndicators!AE5","v":"1.1.1) Coastal management policy"},"",{"$f":"tblIndicators!AJ5","v":0.5},{"$f":"IF(Data!$AI11=1,50,IF($G11=0,0,CHOOSE($G11,SUMPRODUCT($O12:$O$81*P12:P$81*($D12:$D$81=$C11)),IF(ISNUMBER(Data!N11),100*ABS($F11-(Data!N11-$J11)/$L11),0),IF(ISNUMBER(Data!N11),100*ABS($F11-(Data!N11-$J11)/$L11),0))))","v":100},{"$f":"IF(Data!$AI11=1,50,IF($G11=0,0,CHOOSE($G11,SUMPRODUCT($O12:$O$81*Q12:Q$81*($D12:$D$81=$C11)),IF(ISNUMBER(Data!O11),100*ABS($F11-(Data!O11-$J11)/$L11),0),IF(ISNUMBER(Data!O11),100*ABS($F11-(Data!O11-$J11)/$L11),0))))","v":100},{"$f":"IF(Data!$AI11=1,50,IF($G11=0,0,CHOOSE($G11,SUMPRODUCT($O12:$O$81*R12:R$81*($D12:$D$81=$C11)),IF(ISNUMBER(Data!P11),100*ABS($F11-(Data!P11-$J11)/$L11),0),IF(ISNUMBER(Data!P11),100*ABS($F11-(Data!P11-$J11)/$L11),0))))","v":100},{"$f":"IF(Data!$AI11=1,50,IF($G11=0,0,CHOOSE($G11,SUMPRODUCT($O12:$O$81*S12:S$81*($D12:$D$81=$C11)),IF(ISNUMBER(Data!Q11),100*ABS($F11-(Data!Q11-$J11)/$L11),0),IF(ISNUMBER(Data!Q11),100*ABS($F11-(Data!Q11-$J11)/$L11),0))))","v":100},{"$f":"IF(Data!$AI11=1,50,IF($G11=0,0,CHOOSE($G11,SUMPRODUCT($O12:$O$81*T12:T$81*($D12:$D$81=$C11)),IF(ISNUMBER(Data!R11),100*ABS($F11-(Data!R11-$J11)/$L11),0),IF(ISNUMBER(Data!R11),100*ABS($F11-(Data!R11-$J11)/$L11),0))))","v":100},{"$f":"IF(Data!$AI11=1,50,IF($G11=0,0,CHOOSE($G11,SUMPRODUCT($O12:$O$81*U12:U$81*($D12:$D$81=$C11)),IF(ISNUMBER(Data!S11),100*ABS($F11-(Data!S11-$J11)/$L11),0),IF(ISNUMBER(Data!S11),100*ABS($F11-(Data!S11-$J11)/$L11),0))))","v":100},{"$f":"IF(Data!$AI11=1,50,IF($G11=0,0,CHOOSE($G11,SUMPRODUCT($O12:$O$81*V12:V$81*($D12:$D$81=$C11)),IF(ISNUMBER(Data!T11),100*ABS($F11-(Data!T11-$J11)/$L11),0),IF(ISNUMBER(Data!T11),100*ABS($F11-(Data!T11-$J11)/$L11),0))))","v":100},{"$f":"IF(Data!$AI11=1,50,IF($G11=0,0,CHOOSE($G11,SUMPRODUCT($O12:$O$81*W12:W$81*($D12:$D$81=$C11)),IF(ISNUMBER(Data!U11),100*ABS($F11-(Data!U11-$J11)/$L11),0),IF(ISNUMBER(Data!U11),100*ABS($F11-(Data!U11-$J11)/$L11),0))))","v":100},{"$f":"IF(Data!$AI11=1,50,IF($G11=0,0,CHOOSE($G11,SUMPRODUCT($O12:$O$81*X12:X$81*($D12:$D$81=$C11)),IF(ISNUMBER(Data!V11),100*ABS($F11-(Data!V11-$J11)/$L11),0),IF(ISNUMBER(Data!V11),100*ABS($F11-(Data!V11-$J11)/$L11),0))))","v":100},{"$f":"IF(Data!$AI11=1,50,IF($G11=0,0,CHOOSE($G11,SUMPRODUCT($O12:$O$81*Y12:Y$81*($D12:$D$81=$C11)),IF(ISNUMBER(Data!W11),100*ABS($F11-(Data!W11-$J11)/$L11),0),IF(ISNUMBER(Data!W11),100*ABS($F11-(Data!W11-$J11)/$L11),0))))","v":100},{"$f":"IF(Data!$AI11=1,50,IF($G11=0,0,CHOOSE($G11,SUMPRODUCT($O12:$O$81*Z12:Z$81*($D12:$D$81=$C11)),IF(ISNUMBER(Data!X11),100*ABS($F11-(Data!X11-$J11)/$L11),0),IF(ISNUMBER(Data!X11),100*ABS($F11-(Data!X11-$J11)/$L11),0))))","v":0},{"$f":"IF(Data!$AI11=1,50,IF($G11=0,0,CHOOSE($G11,SUMPRODUCT($O12:$O$81*AA12:AA$81*($D12:$D$81=$C11)),IF(ISNUMBER(Data!Y11),100*ABS($F11-(Data!Y11-$J11)/$L11),0),IF(ISNUMBER(Data!Y11),100*ABS($F11-(Data!Y11-$J11)/$L11),0))))","v":100},{"$f":"IF(Data!$AI11=1,50,IF($G11=0,0,CHOOSE($G11,SUMPRODUCT($O12:$O$81*AB12:AB$81*($D12:$D$81=$C11)),IF(ISNUMBER(Data!Z11),100*ABS($F11-(Data!Z11-$J11)/$L11),0),IF(ISNUMBER(Data!Z11),100*ABS($F11-(Data!Z11-$J11)/$L11),0))))","v":0},{"$f":"IF(Data!$AI11=1,50,IF($G11=0,0,CHOOSE($G11,SUMPRODUCT($O12:$O$81*AC12:AC$81*($D12:$D$81=$C11)),IF(ISNUMBER(Data!AA11),100*ABS($F11-(Data!AA11-$J11)/$L11),0),IF(ISNUMBER(Data!AA11),100*ABS($F11-(Data!AA11-$J11)/$L11),0))))","v":100},{"$f":"IF(Data!$AI11=1,50,IF($G11=0,0,CHOOSE($G11,SUMPRODUCT($O12:$O$81*AD12:AD$81*($D12:$D$81=$C11)),IF(ISNUMBER(Data!AB11),100*ABS($F11-(Data!AB11-$J11)/$L11),0),IF(ISNUMBER(Data!AB11),100*ABS($F11-(Data!AB11-$J11)/$L11),0))))","v":0},{"$f":"IF(Data!$AI11=1,50,IF($G11=0,0,CHOOSE($G11,SUMPRODUCT($O12:$O$81*AE12:AE$81*($D12:$D$81=$C11)),IF(ISNUMBER(Data!AC11),100*ABS($F11-(Data!AC11-$J11)/$L11),0),IF(ISNUMBER(Data!AC11),100*ABS($F11-(Data!AC11-$J11)/$L11),0))))","v":100},{"$f":"IF(Data!$AI11=1,50,IF($G11=0,0,CHOOSE($G11,SUMPRODUCT($O12:$O$81*AF12:AF$81*($D12:$D$81=$C11)),IF(ISNUMBER(Data!AD11),100*ABS($F11-(Data!AD11-$J11)/$L11),0),IF(ISNUMBER(Data!AD11),100*ABS($F11-(Data!AD11-$J11)/$L11),0))))","v":100},{"$f":"IF(Data!$AI11=1,50,IF($G11=0,0,CHOOSE($G11,SUMPRODUCT($O12:$O$81*AG12:AG$81*($D12:$D$81=$C11)),IF(ISNUMBER(Data!AE11),100*ABS($F11-(Data!AE11-$J11)/$L11),0),IF(ISNUMBER(Data!AE11),100*ABS($F11-(Data!AE11-$J11)/$L11),0))))","v":100},{"$f":"IF(Data!$AI11=1,50,IF($G11=0,0,CHOOSE($G11,SUMPRODUCT($O12:$O$81*AH12:AH$81*($D12:$D$81=$C11)),IF(ISNUMBER(Data!AF11),100*ABS($F11-(Data!AF11-$J11)/$L11),0),IF(ISNUMBER(Data!AF11),100*ABS($F11-(Data!AF11-$J11)/$L11),0))))","v":100},{"$f":"IF(Data!$AI11=1,50,IF($G11=0,0,CHOOSE($G11,SUMPRODUCT($O12:$O$81*AI12:AI$81*($D12:$D$81=$C11)),IF(ISNUMBER(Data!AG11),100*ABS($F11-(Data!AG11-$J11)/$L11),0),IF(ISNUMBER(Data!AG11),100*ABS($F11-(Data!AG11-$J11)/$L11),0))))","v":100}]
[null,{"$f":"tblIndicators!A6","v":5},{"$f":"tblIndicators!B6","v":"PLCAP_1_2"},{"$f":"tblIndicators!C6","v":"PLCAP_1"},{"$f":"tblIndicators!D6","v":3},{"$f":"tblIndicators!L6","v":0},{"$f":"tblIndicators!V6","v":3},{"$f":"tblIndicators!W6","v":0},{"$f":"tblIndicators!X6","v":2},{"$f":"CHOOSE(G12,\"-\",Data!H12,H12)","v":0},{"$f":"CHOOSE(G12,\"-\",Data!I12,I12)","v":2},2,{"$f":"tblIndicators!AE6","v":"1.1.2) Coastal management strategy"},"",{"$f":"tblIndicators!AJ6","v":0.5},{"$f":"IF(Data!$AI12=1,50,IF($G12=0,0,CHOOSE($G12,SUMPRODUCT($O13:$O$81*P13:P$81*($D13:$D$81=$C12)),IF(ISNUMBER(Data!N12),100*ABS($F12-(Data!N12-$J12)/$L12),0),IF(ISNUMBER(Data!N12),100*ABS($F12-(Data!N12-$J12)/$L12),0))))","v":100},{"$f":"IF(Data!$AI12=1,50,IF($G12=0,0,CHOOSE($G12,SUMPRODUCT($O13:$O$81*Q13:Q$81*($D13:$D$81=$C12)),IF(ISNUMBER(Data!O12),100*ABS($F12-(Data!O12-$J12)/$L12),0),IF(ISNUMBER(Data!O12),100*ABS($F12-(Data!O12-$J12)/$L12),0))))","v":100},{"$f":"IF(Data!$AI12=1,50,IF($G12=0,0,CHOOSE($G12,SUMPRODUCT($O13:$O$81*R13:R$81*($D13:$D$81=$C12)),IF(ISNUMBER(Data!P12),100*ABS($F12-(Data!P12-$J12)/$L12),0),IF(ISNUMBER(Data!P12),100*ABS($F12-(Data!P12-$J12)/$L12),0))))","v":0},{"$f":"IF(Data!$AI12=1,50,IF($G12=0,0,CHOOSE($G12,SUMPRODUCT($O13:$O$81*S13:S$81*($D13:$D$81=$C12)),IF(ISNUMBER(Data!Q12),100*ABS($F12-(Data!Q12-$J12)/$L12),0),IF(ISNUMBER(Data!Q12),100*ABS($F12-(Data!Q12-$J12)/$L12),0))))","v":100},{"$f":"IF(Data!$AI12=1,50,IF($G12=0,0,CHOOSE($G12,SUMPRODUCT($O13:$O$81*T13:T$81*($D13:$D$81=$C12)),IF(ISNUMBER(Data!R12),100*ABS($F12-(Data!R12-$J12)/$L12),0),IF(ISNUMBER(Data!R12),100*ABS($F12-(Data!R12-$J12)/$L12),0))))","v":0},{"$f":"IF(Data!$AI12=1,50,IF($G12=0,0,CHOOSE($G12,SUMPRODUCT($O13:$O$81*U13:U$81*($D13:$D$81=$C12)),IF(ISNUMBER(Data!S12),100*ABS($F12-(Data!S12-$J12)/$L12),0),IF(ISNUMBER(Data!S12),100*ABS($F12-(Data!S12-$J12)/$L12),0))))","v":50},{"$f":"IF(Data!$AI12=1,50,IF($G12=0,0,CHOOSE($G12,SUMPRODUCT($O13:$O$81*V13:V$81*($D13:$D$81=$C12)),IF(ISNUMBER(Data!T12),100*ABS($F12-(Data!T12-$J12)/$L12),0),IF(ISNUMBER(Data!T12),100*ABS($F12-(Data!T12-$J12)/$L12),0))))","v":100},{"$f":"IF(Data!$AI12=1,50,IF($G12=0,0,CHOOSE($G12,SUMPRODUCT($O13:$O$81*W13:W$81*($D13:$D$81=$C12)),IF(ISNUMBER(Data!U12),100*ABS($F12-(Data!U12-$J12)/$L12),0),IF(ISNUMBER(Data!U12),100*ABS($F12-(Data!U12-$J12)/$L12),0))))","v":100},{"$f":"IF(Data!$AI12=1,50,IF($G12=0,0,CHOOSE($G12,SUMPRODUCT($O13:$O$81*X13:X$81*($D13:$D$81=$C12)),IF(ISNUMBER(Data!V12),100*ABS($F12-(Data!V12-$J12)/$L12),0),IF(ISNUMBER(Data!V12),100*ABS($F12-(Data!V12-$J12)/$L12),0))))","v":50},{"$f":"IF(Data!$AI12=1,50,IF($G12=0,0,CHOOSE($G12,SUMPRODUCT($O13:$O$81*Y13:Y$81*($D13:$D$81=$C12)),IF(ISNUMBER(Data!W12),100*ABS($F12-(Data!W12-$J12)/$L12),0),IF(ISNUMBER(Data!W12),100*ABS($F12-(Data!W12-$J12)/$L12),0))))","v":50},{"$f":"IF(Data!$AI12=1,50,IF($G12=0,0,CHOOSE($G12,SUMPRODUCT($O13:$O$81*Z13:Z$81*($D13:$D$81=$C12)),IF(ISNUMBER(Data!X12),100*ABS($F12-(Data!X12-$J12)/$L12),0),IF(ISNUMBER(Data!X12),100*ABS($F12-(Data!X12-$J12)/$L12),0))))","v":0},{"$f":"IF(Data!$AI12=1,50,IF($G12=0,0,CHOOSE($G12,SUMPRODUCT($O13:$O$81*AA13:AA$81*($D13:$D$81=$C12)),IF(ISNUMBER(Data!Y12),100*ABS($F12-(Data!Y12-$J12)/$L12),0),IF(ISNUMBER(Data!Y12),100*ABS($F12-(Data!Y12-$J12)/$L12),0))))","v":100},{"$f":"IF(Data!$AI12=1,50,IF($G12=0,0,CHOOSE($G12,SUMPRODUCT($O13:$O$81*AB13:AB$81*($D13:$D$81=$C12)),IF(ISNUMBER(Data!Z12),100*ABS($F12-(Data!Z12-$J12)/$L12),0),IF(ISNUMBER(Data!Z12),100*ABS($F12-(Data!Z12-$J12)/$L12),0))))","v":0},{"$f":"IF(Data!$AI12=1,50,IF($G12=0,0,CHOOSE($G12,SUMPRODUCT($O13:$O$81*AC13:AC$81*($D13:$D$81=$C12)),IF(ISNUMBER(Data!AA12),100*ABS($F12-(Data!AA12-$J12)/$L12),0),IF(ISNUMBER(Data!AA12),100*ABS($F12-(Data!AA12-$J12)/$L12),0))))","v":100},{"$f":"IF(Data!$AI12=1,50,IF($G12=0,0,CHOOSE($G12,SUMPRODUCT($O13:$O$81*AD13:AD$81*($D13:$D$81=$C12)),IF(ISNUMBER(Data!AB12),100*ABS($F12-(Data!AB12-$J12)/$L12),0),IF(ISNUMBER(Data!AB12),100*ABS($F12-(Data!AB12-$J12)/$L12),0))))","v":0},{"$f":"IF(Data!$AI12=1,50,IF($G12=0,0,CHOOSE($G12,SUMPRODUCT($O13:$O$81*AE13:AE$81*($D13:$D$81=$C12)),IF(ISNUMBER(Data!AC12),100*ABS($F12-(Data!AC12-$J12)/$L12),0),IF(ISNUMBER(Data!AC12),100*ABS($F12-(Data!AC12-$J12)/$L12),0))))","v":50},{"$f":"IF(Data!$AI12=1,50,IF($G12=0,0,CHOOSE($G12,SUMPRODUCT($O13:$O$81*AF13:AF$81*($D13:$D$81=$C12)),IF(ISNUMBER(Data!AD12),100*ABS($F12-(Data!AD12-$J12)/$L12),0),IF(ISNUMBER(Data!AD12),100*ABS($F12-(Data!AD12-$J12)/$L12),0))))","v":100},{"$f":"IF(Data!$AI12=1,50,IF($G12=0,0,CHOOSE($G12,SUMPRODUCT($O13:$O$81*AG13:AG$81*($D13:$D$81=$C12)),IF(ISNUMBER(Data!AE12),100*ABS($F12-(Data!AE12-$J12)/$L12),0),IF(ISNUMBER(Data!AE12),100*ABS($F12-(Data!AE12-$J12)/$L12),0))))","v":100},{"$f":"IF(Data!$AI12=1,50,IF($G12=0,0,CHOOSE($G12,SUMPRODUCT($O13:$O$81*AH13:AH$81*($D13:$D$81=$C12)),IF(ISNUMBER(Data!AF12),100*ABS($F12-(Data!AF12-$J12)/$L12),0),IF(ISNUMBER(Data!AF12),100*ABS($F12-(Data!AF12-$J12)/$L12),0))))","v":100},{"$f":"IF(Data!$AI12=1,50,IF($G12=0,0,CHOOSE($G12,SUMPRODUCT($O13:$O$81*AI13:AI$81*($D13:$D$81=$C12)),IF(ISNUMBER(Data!AG12),100*ABS($F12-(Data!AG12-$J12)/$L12),0),IF(ISNUMBER(Data!AG12),100*ABS($F12-(Data!AG12-$J12)/$L12),0))))","v":100}]
[null,{"$f":"tblIndicators!A7","v":6},{"$f":"tblIndicators!B7","v":"PLCAP_2"},{"$f":"tblIndicators!C7","v":"PLCAP"},{"$f":"tblIndicators!D7","v":2},{"$f":"tblIndicators!L7","v":0},{"$f":"tblIndicators!V7","v":1},{"$f":"tblIndicators!W7","v":0},{"$f":"tblIndicators!X7","v":100},{"$f":"CHOOSE(G13,\"-\",Data!H13,H13)","v":"-"},{"$f":"CHOOSE(G13,\"-\",Data!I13,I13)","v":"-"},"-",{"$f":"tblIndicators!AE7","v":"1.2) Presence of established institution(s)"},0.14285714285714285,{"$f":"tblIndicators!AJ7","v":0.14285714285714285},{"$f":"IF(Data!$AI13=1,50,IF($G13=0,0,CHOOSE($G13,SUMPRODUCT($O14:$O$81*P14:P$81*($D14:$D$81=$C13)),IF(ISNUMBER(Data!N13),100*ABS($F13-(Data!N13-$J13)/$L13),0),IF(ISNUMBER(Data!N13),100*ABS($F13-(Data!N13-$J13)/$L13),0))))","v":100},{"$f":"IF(Data!$AI13=1,50,IF($G13=0,0,CHOOSE($G13,SUMPRODUCT($O14:$O$81*Q14:Q$81*($D14:$D$81=$C13)),IF(ISNUMBER(Data!O13),100*ABS($F13-(Data!O13-$J13)/$L13),0),IF(ISNUMBER(Data!O13),100*ABS($F13-(Data!O13-$J13)/$L13),0))))","v":50},{"$f":"IF(Data!$AI13=1,50,IF($G13=0,0,CHOOSE($G13,SUMPRODUCT($O14:$O$81*R14:R$81*($D14:$D$81=$C13)),IF(ISNUMBER(Data!P13),100*ABS($F13-(Data!P13-$J13)/$L13),0),IF(ISNUMBER(Data!P13),100*ABS($F13-(Data!P13-$J13)/$L13),0))))","v":0},{"$f":"IF(Data!$AI13=1,50,IF($G13=0,0,CHOOSE($G13,SUMPRODUCT($O14:$O$81*S14:S$81*($D14:$D$81=$C13)),IF(ISNUMBER(Data!Q13),100*ABS($F13-(Data!Q13-$J13)/$L13),0),IF(ISNUMBER(Data!Q13),100*ABS($F13-(Data!Q13-$J13)/$L13),0))))","v":100},{"$f":"IF(Data!$AI13=1,50,IF($G13=0,0,CHOOSE($G13,SUMPRODUCT($O14:$O$81*T14:T$81*($D14:$D$81=$C13)),IF(ISNUMBER(Data!R13),100*ABS($F13-(Data!R13-$J13)/$L13),0),IF(ISNUMBER(Data!R13),100*ABS($F13-(Data!R13-$J13)/$L13),0))))","v":100},{"$f":"IF(Data!$AI13=1,50,IF($G13=0,0,CHOOSE($G13,SUMPRODUCT($O14:$O$81*U14:U$81*($D14:$D$81=$C13)),IF(ISNUMBER(Data!S13),100*ABS($F13-(Data!S13-$J13)/$L13),0),IF(ISNUMBER(Data!S13),100*ABS($F13-(Data!S13-$J13)/$L13),0))))","v":50},{"$f":"IF(Data!$AI13=1,50,IF($G13=0,0,CHOOSE($G13,SUMPRODUCT($O14:$O$81*V14:V$81*($D14:$D$81=$C13)),IF(ISNUMBER(Data!T13),100*ABS($F13-(Data!T13-$J13)/$L13),0),IF(ISNUMBER(Data!T13),100*ABS($F13-(Data!T13-$J13)/$L13),0))))","v":50},{"$f":"IF(Data!$AI13=1,50,IF($G13=0,0,CHOOSE($G13,SUMPRODUCT($O14:$O$81*W14:W$81*($D14:$D$81=$C13)),IF(ISNUMBER(Data!U13),100*ABS($F13-(Data!U13-$J13)/$L13),0),IF(ISNUMBER(Data!U13),100*ABS($F13-(Data!U13-$J13)/$L13),0))))","v":100},{"$f":"IF(Data!$AI13=1,50,IF($G13=0,0,CHOOSE($G13,SUMPRODUCT($O14:$O$81*X14:X$81*($D14:$D$81=$C13)),IF(ISNUMBER(Data!V13),100*ABS($F13-(Data!V13-$J13)/$L13),0),IF(ISNUMBER(Data!V13),100*ABS($F13-(Data!V13-$J13)/$L13),0))))","v":50},{"$f":"IF(Data!$AI13=1,50,IF($G13=0,0,CHOOSE($G13,SUMPRODUCT($O14:$O$81*Y14:Y$81*($D14:$D$81=$C13)),IF(ISNUMBER(Data!W13),100*ABS($F13-(Data!W13-$J13)/$L13),0),IF(ISNUMBER(Data!W13),100*ABS($F13-(Data!W13-$J13)/$L13),0))))","v":50},{"$f":"IF(Data!$AI13=1,50,IF($G13=0,0,CHOOSE($G13,SUMPRODUCT($O14:$O$81*Z14:Z$81*($D14:$D$81=$C13)),IF(ISNUMBER(Data!X13),100*ABS($F13-(Data!X13-$J13)/$L13),0),IF(ISNUMBER(Data!X13),100*ABS($F13-(Data!X13-$J13)/$L13),0))))","v":0},{"$f":"IF(Data!$AI13=1,50,IF($G13=0,0,CHOOSE($G13,SUMPRODUCT($O14:$O$81*AA14:AA$81*($D14:$D$81=$C13)),IF(ISNUMBER(Data!Y13),100*ABS($F13-(Data!Y13-$J13)/$L13),0),IF(ISNUMBER(Data!Y13),100*ABS($F13-(Data!Y13-$J13)/$L13),0))))","v":100},{"$f":"IF(Data!$AI13=1,50,IF($G13=0,0,CHOOSE($G13,SUMPRODUCT($O14:$O$81*AB14:AB$81*($D14:$D$81=$C13)),IF(ISNUMBER(Data!Z13),100*ABS($F13-(Data!Z13-$J13)/$L13),0),IF(ISNUMBER(Data!Z13),100*ABS($F13-(Data!Z13-$J13)/$L13),0))))","v":50},{"$f":"IF(Data!$AI13=1,50,IF($G13=0,0,CHOOSE($G13,SUMPRODUCT($O14:$O$81*AC14:AC$81*($D14:$D$81=$C13)),IF(ISNUMBER(Data!AA13),100*ABS($F13-(Data!AA13-$J13)/$L13),0),IF(ISNUMBER(Data!AA13),100*ABS($F13-(Data!AA13-$J13)/$L13),0))))","v":50},{"$f":"IF(Data!$AI13=1,50,IF($G13=0,0,CHOOSE($G13,SUMPRODUCT($O14:$O$81*AD14:AD$81*($D14:$D$81=$C13)),IF(ISNUMBER(Data!AB13),100*ABS($F13-(Data!AB13-$J13)/$L13),0),IF(ISNUMBER(Data!AB13),100*ABS($F13-(Data!AB13-$J13)/$L13),0))))","v":0},{"$f":"IF(Data!$AI13=1,50,IF($G13=0,0,CHOOSE($G13,SUMPRODUCT($O14:$O$81*AE14:AE$81*($D14:$D$81=$C13)),IF(ISNUMBER(Data!AC13),100*ABS($F13-(Data!AC13-$J13)/$L13),0),IF(ISNUMBER(Data!AC13),100*ABS($F13-(Data!AC13-$J13)/$L13),0))))","v":100},{"$f":"IF(Data!$AI13=1,50,IF($G13=0,0,CHOOSE($G13,SUMPRODUCT($O14:$O$81*AF14:AF$81*($D14:$D$81=$C13)),IF(ISNUMBER(Data!AD13),100*ABS($F13-(Data!AD13-$J13)/$L13),0),IF(ISNUMBER(Data!AD13),100*ABS($F13-(Data!AD13-$J13)/$L13),0))))","v":50},{"$f":"IF(Data!$AI13=1,50,IF($G13=0,0,CHOOSE($G13,SUMPRODUCT($O14:$O$81*AG14:AG$81*($D14:$D$81=$C13)),IF(ISNUMBER(Data!AE13),100*ABS($F13-(Data!AE13-$J13)/$L13),0),IF(ISNUMBER(Data!AE13),100*ABS($F13-(Data!AE13-$J13)/$L13),0))))","v":100},{"$f":"IF(Data!$AI13=1,50,IF($G13=0,0,CHOOSE($G13,SUMPRODUCT($O14:$O$81*AH14:AH$81*($D14:$D$81=$C13)),IF(ISNUMBER(Data!AF13),100*ABS($F13-(Data!AF13-$J13)/$L13),0),IF(ISNUMBER(Data!AF13),100*ABS($F13-(Data!AF13-$J13)/$L13),0))))","v":100},{"$f":"IF(Data!$AI13=1,50,IF($G13=0,0,CHOOSE($G13,SUMPRODUCT($O14:$O$81*AI14:AI$81*($D14:$D$81=$C13)),IF(ISNUMBER(Data!AG13),100*ABS($F13-(Data!AG13-$J13)/$L13),0),IF(ISNUMBER(Data!AG13),100*ABS($F13-(Data!AG13-$J13)/$L13),0))))","v":100}]
[null,{"$f":"tblIndicators!A8","v":7},{"$f":"tblIndicators!B8","v":"PLCAP_2_1"},{"$f":"tblIndicators!C8","v":"PLCAP_2"},{"$f":"tblIndicators!D8","v":3},{"$f":"tblIndicators!L8","v":0},{"$f":"tblIndicators!V8","v":3},{"$f":"tblIndicators!W8","v":0},{"$f":"tblIndicators!X8","v":2},{"$f":"CHOOSE(G14,\"-\",Data!H14,H14)","v":0},{"$f":"CHOOSE(G14,\"-\",Data!I14,I14)","v":2},2,{"$f":"tblIndicators!AE8","v":"1.2.1) Presence of coastal management strategy authority"},"",{"$f":"tblIndicators!AJ8","v":1},{"$f":"IF(Data!$AI14=1,50,IF($G14=0,0,CHOOSE($G14,SUMPRODUCT($O15:$O$81*P15:P$81*($D15:$D$81=$C14)),IF(ISNUMBER(Data!N14),100*ABS($F14-(Data!N14-$J14)/$L14),0),IF(ISNUMBER(Data!N14),100*ABS($F14-(Data!N14-$J14)/$L14),0))))","v":100},{"$f":"IF(Data!$AI14=1,50,IF($G14=0,0,CHOOSE($G14,SUMPRODUCT($O15:$O$81*Q15:Q$81*($D15:$D$81=$C14)),IF(ISNUMBER(Data!O14),100*ABS($F14-(Data!O14-$J14)/$L14),0),IF(ISNUMBER(Data!O14),100*ABS($F14-(Data!O14-$J14)/$L14),0))))","v":50},{"$f":"IF(Data!$AI14=1,50,IF($G14=0,0,CHOOSE($G14,SUMPRODUCT($O15:$O$81*R15:R$81*($D15:$D$81=$C14)),IF(ISNUMBER(Data!P14),100*ABS($F14-(Data!P14-$J14)/$L14),0),IF(ISNUMBER(Data!P14),100*ABS($F14-(Data!P14-$J14)/$L14),0))))","v":0},{"$f":"IF(Data!$AI14=1,50,IF($G14=0,0,CHOOSE($G14,SUMPRODUCT($O15:$O$81*S15:S$81*($D15:$D$81=$C14)),IF(ISNUMBER(Data!Q14),100*ABS($F14-(Data!Q14-$J14)/$L14),0),IF(ISNUMBER(Data!Q14),100*ABS($F14-(Data!Q14-$J14)/$L14),0))))","v":100},{"$f":"IF(Data!$AI14=1,50,IF($G14=0,0,CHOOSE($G14,SUMPRODUCT($O15:$O$81*T15:T$81*($D15:$D$81=$C14)),IF(ISNUMBER(Data!R14),100*ABS($F14-(Data!R14-$J14)/$L14),0),IF(ISNUMBER(Data!R14),100*ABS($F14-(Data!R14-$J14)/$L14),0))))","v":100},{"$f":"IF(Data!$AI14=1,50,IF($G14=0,0,CHOOSE($G14,SUMPRODUCT($O15:$O$81*U15:U$81*($D15:$D$81=$C14)),IF(ISNUMBER(Data!S14),100*ABS($F14-(Data!S14-$J14)/$L14),0),IF(ISNUMBER(Data!S14),100*ABS($F14-(Data!S14-$J14)/$L14),0))))","v":50},{"$f":"IF(Data!$AI14=1,50,IF($G14=0,0,CHOOSE($G14,SUMPRODUCT($O15:$O$81*V15:V$81*($D15:$D$81=$C14)),IF(ISNUMBER(Data!T14),100*ABS($F14-(Data!T14-$J14)/$L14),0),IF(ISNUMBER(Data!T14),100*ABS($F14-(Data!T14-$J14)/$L14),0))))","v":50},{"$f":"IF(Data!$AI14=1,50,IF($G14=0,0,CHOOSE($G14,SUMPRODUCT($O15:$O$81*W15:W$81*($D15:$D$81=$C14)),IF(ISNUMBER(Data!U14),100*ABS($F14-(Data!U14-$J14)/$L14),0),IF(ISNUMBER(Data!U14),100*ABS($F14-(Data!U14-$J14)/$L14),0))))","v":100},{"$f":"IF(Data!$AI14=1,50,IF($G14=0,0,CHOOSE($G14,SUMPRODUCT($O15:$O$81*X15:X$81*($D15:$D$81=$C14)),IF(ISNUMBER(Data!V14),100*ABS($F14-(Data!V14-$J14)/$L14),0),IF(ISNUMBER(Data!V14),100*ABS($F14-(Data!V14-$J14)/$L14),0))))","v":50},{"$f":"IF(Data!$AI14=1,50,IF($G14=0,0,CHOOSE($G14,SUMPRODUCT($O15:$O$81*Y15:Y$81*($D15:$D$81=$C14)),IF(ISNUMBER(Data!W14),100*ABS($F14-(Data!W14-$J14)/$L14),0),IF(ISNUMBER(Data!W14),100*ABS($F14-(Data!W14-$J14)/$L14),0))))","v":50},{"$f":"IF(Data!$AI14=1,50,IF($G14=0,0,CHOOSE($G14,SUMPRODUCT($O15:$O$81*Z15:Z$81*($D15:$D$81=$C14)),IF(ISNUMBER(Data!X14),100*ABS($F14-(Data!X14-$J14)/$L14),0),IF(ISNUMBER(Data!X14),100*ABS($F14-(Data!X14-$J14)/$L14),0))))","v":0},{"$f":"IF(Data!$AI14=1,50,IF($G14=0,0,CHOOSE($G14,SUMPRODUCT($O15:$O$81*AA15:AA$81*($D15:$D$81=$C14)),IF(ISNUMBER(Data!Y14),100*ABS($F14-(Data!Y14-$J14)/$L14),0),IF(ISNUMBER(Data!Y14),100*ABS($F14-(Data!Y14-$J14)/$L14),0))))","v":100},{"$f":"IF(Data!$AI14=1,50,IF($G14=0,0,CHOOSE($G14,SUMPRODUCT($O15:$O$81*AB15:AB$81*($D15:$D$81=$C14)),IF(ISNUMBER(Data!Z14),100*ABS($F14-(Data!Z14-$J14)/$L14),0),IF(ISNUMBER(Data!Z14),100*ABS($F14-(Data!Z14-$J14)/$L14),0))))","v":50},{"$f":"IF(Data!$AI14=1,50,IF($G14=0,0,CHOOSE($G14,SUMPRODUCT($O15:$O$81*AC15:AC$81*($D15:$D$81=$C14)),IF(ISNUMBER(Data!AA14),100*ABS($F14-(Data!AA14-$J14)/$L14),0),IF(ISNUMBER(Data!AA14),100*ABS($F14-(Data!AA14-$J14)/$L14),0))))","v":50},{"$f":"IF(Data!$AI14=1,50,IF($G14=0,0,CHOOSE($G14,SUMPRODUCT($O15:$O$81*AD15:AD$81*($D15:$D$81=$C14)),IF(ISNUMBER(Data!AB14),100*ABS($F14-(Data!AB14-$J14)/$L14),0),IF(ISNUMBER(Data!AB14),100*ABS($F14-(Data!AB14-$J14)/$L14),0))))","v":0},{"$f":"IF(Data!$AI14=1,50,IF($G14=0,0,CHOOSE($G14,SUMPRODUCT($O15:$O$81*AE15:AE$81*($D15:$D$81=$C14)),IF(ISNUMBER(Data!AC14),100*ABS($F14-(Data!AC14-$J14)/$L14),0),IF(ISNUMBER(Data!AC14),100*ABS($F14-(Data!AC14-$J14)/$L14),0))))","v":100},{"$f":"IF(Data!$AI14=1,50,IF($G14=0,0,CHOOSE($G14,SUMPRODUCT($O15:$O$81*AF15:AF$81*($D15:$D$81=$C14)),IF(ISNUMBER(Data!AD14),100*ABS($F14-(Data!AD14-$J14)/$L14),0),IF(ISNUMBER(Data!AD14),100*ABS($F14-(Data!AD14-$J14)/$L14),0))))","v":50},{"$f":"IF(Data!$AI14=1,50,IF($G14=0,0,CHOOSE($G14,SUMPRODUCT($O15:$O$81*AG15:AG$81*($D15:$D$81=$C14)),IF(ISNUMBER(Data!AE14),100*ABS($F14-(Data!AE14-$J14)/$L14),0),IF(ISNUMBER(Data!AE14),100*ABS($F14-(Data!AE14-$J14)/$L14),0))))","v":100},{"$f":"IF(Data!$AI14=1,50,IF($G14=0,0,CHOOSE($G14,SUMPRODUCT($O15:$O$81*AH15:AH$81*($D15:$D$81=$C14)),IF(ISNUMBER(Data!AF14),100*ABS($F14-(Data!AF14-$J14)/$L14),0),IF(ISNUMBER(Data!AF14),100*ABS($F14-(Data!AF14-$J14)/$L14),0))))","v":100},{"$f":"IF(Data!$AI14=1,50,IF($G14=0,0,CHOOSE($G14,SUMPRODUCT($O15:$O$81*AI15:AI$81*($D15:$D$81=$C14)),IF(ISNUMBER(Data!AG14),100*ABS($F14-(Data!AG14-$J14)/$L14),0),IF(ISNUMBER(Data!AG14),100*ABS($F14-(Data!AG14-$J14)/$L14),0))))","v":100}]
[null,{"$f":"tblIndicators!A9","v":8},{"$f":"tblIndicators!B9","v":"PLCAP_3"},{"$f":"tblIndicators!C9","v":"PLCAP"},{"$f":"tblIndicators!D9","v":2},{"$f":"tblIndicators!L9","v":0},{"$f":"tblIndicators!V9","v":1},{"$f":"tblIndicators!W9","v":0},{"$f":"tblIndicators!X9","v":100},{"$f":"CHOOSE(G15,\"-\",Data!H15,H15)","v":"-"},{"$f":"CHOOSE(G15,\"-\",Data!I15,I15)","v":"-"},"-",{"$f":"tblIndicators!AE9","v":"1.3) National strategy to adapt to climate change"},0.14285714285714285,{"$f":"tblIndicators!AJ9","v":0.14285714285714285},{"$f":"IF(Data!$AI15=1,50,IF($G15=0,0,CHOOSE($G15,SUMPRODUCT($O16:$O$81*P16:P$81*($D16:$D$81=$C15)),IF(ISNUMBER(Data!N15),100*ABS($F15-(Data!N15-$J15)/$L15),0),IF(ISNUMBER(Data!N15),100*ABS($F15-(Data!N15-$J15)/$L15),0))))","v":50},{"$f":"IF(Data!$AI15=1,50,IF($G15=0,0,CHOOSE($G15,SUMPRODUCT($O16:$O$81*Q16:Q$81*($D16:$D$81=$C15)),IF(ISNUMBER(Data!O15),100*ABS($F15-(Data!O15-$J15)/$L15),0),IF(ISNUMBER(Data!O15),100*ABS($F15-(Data!O15-$J15)/$L15),0))))","v":100},{"$f":"IF(Data!$AI15=1,50,IF($G15=0,0,CHOOSE($G15,SUMPRODUCT($O16:$O$81*R16:R$81*($D16:$D$81=$C15)),IF(ISNUMBER(Data!P15),100*ABS($F15-(Data!P15-$J15)/$L15),0),IF(ISNUMBER(Data!P15),100*ABS($F15-(Data!P15-$J15)/$L15),0))))","v":50},{"$f":"IF(Data!$AI15=1,50,IF($G15=0,0,CHOOSE($G15,SUMPRODUCT($O16:$O$81*S16:S$81*($D16:$D$81=$C15)),IF(ISNUMBER(Data!Q15),100*ABS($F15-(Data!Q15-$J15)/$L15),0),IF(ISNUMBER(Data!Q15),100*ABS($F15-(Data!Q15-$J15)/$L15),0))))","v":100},{"$f":"IF(Data!$AI15=1,50,IF($G15=0,0,CHOOSE($G15,SUMPRODUCT($O16:$O$81*T16:T$81*($D16:$D$81=$C15)),IF(ISNUMBER(Data!R15),100*ABS($F15-(Data!R15-$J15)/$L15),0),IF(ISNUMBER(Data!R15),100*ABS($F15-(Data!R15-$J15)/$L15),0))))","v":100},{"$f":"IF(Data!$AI15=1,50,IF($G15=0,0,CHOOSE($G15,SUMPRODUCT($O16:$O$81*U16:U$81*($D16:$D$81=$C15)),IF(ISNUMBER(Data!S15),100*ABS($F15-(Data!S15-$J15)/$L15),0),IF(ISNUMBER(Data!S15),100*ABS($F15-(Data!S15-$J15)/$L15),0))))","v":50},{"$f":"IF(Data!$AI15=1,50,IF($G15=0,0,CHOOSE($G15,SUMPRODUCT($O16:$O$81*V16:V$81*($D16:$D$81=$C15)),IF(ISNUMBER(Data!T15),100*ABS($F15-(Data!T15-$J15)/$L15),0),IF(ISNUMBER(Data!T15),100*ABS($F15-(Data!T15-$J15)/$L15),0))))","v":100},{"$f":"IF(Data!$AI15=1,50,IF($G15=0,0,CHOOSE($G15,SUMPRODUCT($O16:$O$81*W16:W$81*($D16:$D$81=$C15)),IF(ISNUMBER(Data!U15),100*ABS($F15-(Data!U15-$J15)/$L15),0),IF(ISNUMBER(Data!U15),100*ABS($F15-(Data!U15-$J15)/$L15),0))))","v":50},{"$f":"IF(Data!$AI15=1,50,IF($G15=0,0,CHOOSE($G15,SUMPRODUCT($O16:$O$81*X16:X$81*($D16:$D$81=$C15)),IF(ISNUMBER(Data!V15),100*ABS($F15-(Data!V15-$J15)/$L15),0),IF(ISNUMBER(Data!V15),100*ABS($F15-(Data!V15-$J15)/$L15),0))))","v":50},{"$f":"IF(Data!$AI15=1,50,IF($G15=0,0,CHOOSE($G15,SUMPRODUCT($O16:$O$81*Y16:Y$81*($D16:$D$81=$C15)),IF(ISNUMBER(Data!W15),100*ABS($F15-(Data!W15-$J15)/$L15),0),IF(ISNUMBER(Data!W15),100*ABS($F15-(Data!W15-$J15)/$L15),0))))","v":100},{"$f":"IF(Data!$AI15=1,50,IF($G15=0,0,CHOOSE($G15,SUMPRODUCT($O16:$O$81*Z16:Z$81*($D16:$D$81=$C15)),IF(ISNUMBER(Data!X15),100*ABS($F15-(Data!X15-$J15)/$L15),0),IF(ISNUMBER(Data!X15),100*ABS($F15-(Data!X15-$J15)/$L15),0))))","v":100},{"$f":"IF(Data!$AI15=1,50,IF($G15=0,0,CHOOSE($G15,SUMPRODUCT($O16:$O$81*AA16:AA$81*($D16:$D$81=$C15)),IF(ISNUMBER(Data!Y15),100*ABS($F15-(Data!Y15-$J15)/$L15),0),IF(ISNUMBER(Data!Y15),100*ABS($F15-(Data!Y15-$J15)/$L15),0))))","v":50},{"$f":"IF(Data!$AI15=1,50,IF($G15=0,0,CHOOSE($G15,SUMPRODUCT($O16:$O$81*AB16:AB$81*($D16:$D$81=$C15)),IF(ISNUMBER(Data!Z15),100*ABS($F15-(Data!Z15-$J15)/$L15),0),IF(ISNUMBER(Data!Z15),100*ABS($F15-(Data!Z15-$J15)/$L15),0))))","v":50},{"$f":"IF(Data!$AI15=1,50,IF($G15=0,0,CHOOSE($G15,SUMPRODUCT($O16:$O$81*AC16:AC$81*($D16:$D$81=$C15)),IF(ISNUMBER(Data!AA15),100*ABS($F15-(Data!AA15-$J15)/$L15),0),IF(ISNUMBER(Data!AA15),100*ABS($F15-(Data!AA15-$J15)/$L15),0))))","v":50},{"$f":"IF(Data!$AI15=1,50,IF($G15=0,0,CHOOSE($G15,SUMPRODUCT($O16:$O$81*AD16:AD$81*($D16:$D$81=$C15)),IF(ISNUMBER(Data!AB15),100*ABS($F15-(Data!AB15-$J15)/$L15),0),IF(ISNUMBER(Data!AB15),100*ABS($F15-(Data!AB15-$J15)/$L15),0))))","v":0},{"$f":"IF(Data!$AI15=1,50,IF($G15=0,0,CHOOSE($G15,SUMPRODUCT($O16:$O$81*AE16:AE$81*($D16:$D$81=$C15)),IF(ISNUMBER(Data!AC15),100*ABS($F15-(Data!AC15-$J15)/$L15),0),IF(ISNUMBER(Data!AC15),100*ABS($F15-(Data!AC15-$J15)/$L15),0))))","v":100},{"$f":"IF(Data!$AI15=1,50,IF($G15=0,0,CHOOSE($G15,SUMPRODUCT($O16:$O$81*AF16:AF$81*($D16:$D$81=$C15)),IF(ISNUMBER(Data!AD15),100*ABS($F15-(Data!AD15-$J15)/$L15),0),IF(ISNUMBER(Data!AD15),100*ABS($F15-(Data!AD15-$J15)/$L15),0))))","v":100},{"$f":"IF(Data!$AI15=1,50,IF($G15=0,0,CHOOSE($G15,SUMPRODUCT($O16:$O$81*AG16:AG$81*($D16:$D$81=$C15)),IF(ISNUMBER(Data!AE15),100*ABS($F15-(Data!AE15-$J15)/$L15),0),IF(ISNUMBER(Data!AE15),100*ABS($F15-(Data!AE15-$J15)/$L15),0))))","v":100},{"$f":"IF(Data!$AI15=1,50,IF($G15=0,0,CHOOSE($G15,SUMPRODUCT($O16:$O$81*AH16:AH$81*($D16:$D$81=$C15)),IF(ISNUMBER(Data!AF15),100*ABS($F15-(Data!AF15-$J15)/$L15),0),IF(ISNUMBER(Data!AF15),100*ABS($F15-(Data!AF15-$J15)/$L15),0))))","v":100},{"$f":"IF(Data!$AI15=1,50,IF($G15=0,0,CHOOSE($G15,SUMPRODUCT($O16:$O$81*AI16:AI$81*($D16:$D$81=$C15)),IF(ISNUMBER(Data!AG15),100*ABS($F15-(Data!AG15-$J15)/$L15),0),IF(ISNUMBER(Data!AG15),100*ABS($F15-(Data!AG15-$J15)/$L15),0))))","v":50}]
[null,{"$f":"tblIndicators!A10","v":9},{"$f":"tblIndicators!B10","v":"PLCAP_3_1"},{"$f":"tblIndicators!C10","v":"PLCAP_3"},{"$f":"tblIndicators!D10","v":3},{"$f":"tblIndicators!L10","v":0},{"$f":"tblIndicators!V10","v":3},{"$f":"tblIndicators!W10","v":0},{"$f":"tblIndicators!X10","v":2},{"$f":"CHOOSE(G16,\"-\",Data!H16,H16)","v":0},{"$f":"CHOOSE(G16,\"-\",Data!I16,I16)","v":2},2,{"$f":"tblIndicators!AE10","v":"1.3.1) Strategy to adapt coastal areas to climate change"},"",{"$f":"tblIndicators!AJ10","v":1},{"$f":"IF(Data!$AI16=1,50,IF($G16=0,0,CHOOSE($G16,SUMPRODUCT($O17:$O$81*P17:P$81*($D17:$D$81=$C16)),IF(ISNUMBER(Data!N16),100*ABS($F16-(Data!N16-$J16)/$L16),0),IF(ISNUMBER(Data!N16),100*ABS($F16-(Data!N16-$J16)/$L16),0))))","v":50},{"$f":"IF(Data!$AI16=1,50,IF($G16=0,0,CHOOSE($G16,SUMPRODUCT($O17:$O$81*Q17:Q$81*($D17:$D$81=$C16)),IF(ISNUMBER(Data!O16),100*ABS($F16-(Data!O16-$J16)/$L16),0),IF(ISNUMBER(Data!O16),100*ABS($F16-(Data!O16-$J16)/$L16),0))))","v":100},{"$f":"IF(Data!$AI16=1,50,IF($G16=0,0,CHOOSE($G16,SUMPRODUCT($O17:$O$81*R17:R$81*($D17:$D$81=$C16)),IF(ISNUMBER(Data!P16),100*ABS($F16-(Data!P16-$J16)/$L16),0),IF(ISNUMBER(Data!P16),100*ABS($F16-(Data!P16-$J16)/$L16),0))))","v":50},{"$f":"IF(Data!$AI16=1,50,IF($G16=0,0,CHOOSE($G16,SUMPRODUCT($O17:$O$81*S17:S$81*($D17:$D$81=$C16)),IF(ISNUMBER(Data!Q16),100*ABS($F16-(Data!Q16-$J16)/$L16),0),IF(ISNUMBER(Data!Q16),100*ABS($F16-(Data!Q16-$J16)/$L16),0))))","v":100},{"$f":"IF(Data!$AI16=1,50,IF($G16=0,0,CHOOSE($G16,SUMPRODUCT($O17:$O$81*T17:T$81*($D17:$D$81=$C16)),IF(ISNUMBER(Data!R16),100*ABS($F16-(Data!R16-$J16)/$L16),0),IF(ISNUMBER(Data!R16),100*ABS($F16-(Data!R16-$J16)/$L16),0))))","v":100},{"$f":"IF(Data!$AI16=1,50,IF($G16=0,0,CHOOSE($G16,SUMPRODUCT($O17:$O$81*U17:U$81*($D17:$D$81=$C16)),IF(ISNUMBER(Data!S16),100*ABS($F16-(Data!S16-$J16)/$L16),0),IF(ISNUMBER(Data!S16),100*ABS($F16-(Data!S16-$J16)/$L16),0))))","v":50},{"$f":"IF(Data!$AI16=1,50,IF($G16=0,0,CHOOSE($G16,SUMPRODUCT($O17:$O$81*V17:V$81*($D17:$D$81=$C16)),IF(ISNUMBER(Data!T16),100*ABS($F16-(Data!T16-$J16)/$L16),0),IF(ISNUMBER(Data!T16),100*ABS($F16-(Data!T16-$J16)/$L16),0))))","v":100},{"$f":"IF(Data!$AI16=1,50,IF($G16=0,0,CHOOSE($G16,SUMPRODUCT($O17:$O$81*W17:W$81*($D17:$D$81=$C16)),IF(ISNUMBER(Data!U16),100*ABS($F16-(Data!U16-$J16)/$L16),0),IF(ISNUMBER(Data!U16),100*ABS($F16-(Data!U16-$J16)/$L16),0))))","v":50},{"$f":"IF(Data!$AI16=1,50,IF($G16=0,0,CHOOSE($G16,SUMPRODUCT($O17:$O$81*X17:X$81*($D17:$D$81=$C16)),IF(ISNUMBER(Data!V16),100*ABS($F16-(Data!V16-$J16)/$L16),0),IF(ISNUMBER(Data!V16),100*ABS($F16-(Data!V16-$J16)/$L16),0))))","v":50},{"$f":"IF(Data!$AI16=1,50,IF($G16=0,0,CHOOSE($G16,SUMPRODUCT($O17:$O$81*Y17:Y$81*($D17:$D$81=$C16)),IF(ISNUMBER(Data!W16),100*ABS($F16-(Data!W16-$J16)/$L16),0),IF(ISNUMBER(Data!W16),100*ABS($F16-(Data!W16-$J16)/$L16),0))))","v":100},{"$f":"IF(Data!$AI16=1,50,IF($G16=0,0,CHOOSE($G16,SUMPRODUCT($O17:$O$81*Z17:Z$81*($D17:$D$81=$C16)),IF(ISNUMBER(Data!X16),100*ABS($F16-(Data!X16-$J16)/$L16),0),IF(ISNUMBER(Data!X16),100*ABS($F16-(Data!X16-$J16)/$L16),0))))","v":100},{"$f":"IF(Data!$AI16=1,50,IF($G16=0,0,CHOOSE($G16,SUMPRODUCT($O17:$O$81*AA17:AA$81*($D17:$D$81=$C16)),IF(ISNUMBER(Data!Y16),100*ABS($F16-(Data!Y16-$J16)/$L16),0),IF(ISNUMBER(Data!Y16),100*ABS($F16-(Data!Y16-$J16)/$L16),0))))","v":50},{"$f":"IF(Data!$AI16=1,50,IF($G16=0,0,CHOOSE($G16,SUMPRODUCT($O17:$O$81*AB17:AB$81*($D17:$D$81=$C16)),IF(ISNUMBER(Data!Z16),100*ABS($F16-(Data!Z16-$J16)/$L16),0),IF(ISNUMBER(Data!Z16),100*ABS($F16-(Data!Z16-$J16)/$L16),0))))","v":50},{"$f":"IF(Data!$AI16=1,50,IF($G16=0,0,CHOOSE($G16,SUMPRODUCT($O17:$O$81*AC17:AC$81*($D17:$D$81=$C16)),IF(ISNUMBER(Data!AA16),100*ABS($F16-(Data!AA16-$J16)/$L16),0),IF(ISNUMBER(Data!AA16),100*ABS($F16-(Data!AA16-$J16)/$L16),0))))","v":50},{"$f":"IF(Data!$AI16=1,50,IF($G16=0,0,CHOOSE($G16,SUMPRODUCT($O17:$O$81*AD17:AD$81*($D17:$D$81=$C16)),IF(ISNUMBER(Data!AB16),100*ABS($F16-(Data!AB16-$J16)/$L16),0),IF(ISNUMBER(Data!AB16),100*ABS($F16-(Data!AB16-$J16)/$L16),0))))","v":0},{"$f":"IF(Data!$AI16=1,50,IF($G16=0,0,CHOOSE($G16,SUMPRODUCT($O17:$O$81*AE17:AE$81*($D17:$D$81=$C16)),IF(ISNUMBER(Data!AC16),100*ABS($F16-(Data!AC16-$J16)/$L16),0),IF(ISNUMBER(Data!AC16),100*ABS($F16-(Data!AC16-$J16)/$L16),0))))","v":100},{"$f":"IF(Data!$AI16=1,50,IF($G16=0,0,CHOOSE($G16,SUMPRODUCT($O17:$O$81*AF17:AF$81*($D17:$D$81=$C16)),IF(ISNUMBER(Data!AD16),100*ABS($F16-(Data!AD16-$J16)/$L16),0),IF(ISNUMBER(Data!AD16),100*ABS($F16-(Data!AD16-$J16)/$L16),0))))","v":100},{"$f":"IF(Data!$AI16=1,50,IF($G16=0,0,CHOOSE($G16,SUMPRODUCT($O17:$O$81*AG17:AG$81*($D17:$D$81=$C16)),IF(ISNUMBER(Data!AE16),100*ABS($F16-(Data!AE16-$J16)/$L16),0),IF(ISNUMBER(Data!AE16),100*ABS($F16-(Data!AE16-$J16)/$L16),0))))","v":100},{"$f":"IF(Data!$AI16=1,50,IF($G16=0,0,CHOOSE($G16,SUMPRODUCT($O17:$O$81*AH17:AH$81*($D17:$D$81=$C16)),IF(ISNUMBER(Data!AF16),100*ABS($F16-(Data!AF16-$J16)/$L16),0),IF(ISNUMBER(Data!AF16),100*ABS($F16-(Data!AF16-$J16)/$L16),0))))","v":100},{"$f":"IF(Data!$AI16=1,50,IF($G16=0,0,CHOOSE($G16,SUMPRODUCT($O17:$O$81*AI17:AI$81*($D17:$D$81=$C16)),IF(ISNUMBER(Data!AG16),100*ABS($F16-(Data!AG16-$J16)/$L16),0),IF(ISNUMBER(Data!AG16),100*ABS($F16-(Data!AG16-$J16)/$L16),0))))","v":50}]
[null,{"$f":"tblIndicators!A11","v":10},{"$f":"tblIndicators!B11","v":"PLCAP_4"},{"$f":"tblIndicators!C11","v":"PLCAP"},{"$f":"tblIndicators!D11","v":2},{"$f":"tblIndicators!L11","v":0},{"$f":"tblIndicators!V11","v":1},{"$f":"tblIndicators!W11","v":0},{"$f":"tblIndicators!X11","v":100},{"$f":"CHOOSE(G17,\"-\",Data!H17,H17)","v":"-"},{"$f":"CHOOSE(G17,\"-\",Data!I17,I17)","v":"-"},"-",{"$f":"tblIndicators!AE11","v":"1.4) Maritime Spatial Planning"},0.14285714285714285,{"$f":"tblIndicators!AJ11","v":0.14285714285714285},{"$f":"IF(Data!$AI17=1,50,IF($G17=0,0,CHOOSE($G17,SUMPRODUCT($O18:$O$81*P18:P$81*($D18:$D$81=$C17)),IF(ISNUMBER(Data!N17),100*ABS($F17-(Data!N17-$J17)/$L17),0),IF(ISNUMBER(Data!N17),100*ABS($F17-(Data!N17-$J17)/$L17),0))))","v":0},{"$f":"IF(Data!$AI17=1,50,IF($G17=0,0,CHOOSE($G17,SUMPRODUCT($O18:$O$81*Q18:Q$81*($D18:$D$81=$C17)),IF(ISNUMBER(Data!O17),100*ABS($F17-(Data!O17-$J17)/$L17),0),IF(ISNUMBER(Data!O17),100*ABS($F17-(Data!O17-$J17)/$L17),0))))","v":50},{"$f":"IF(Data!$AI17=1,50,IF($G17=0,0,CHOOSE($G17,SUMPRODUCT($O18:$O$81*R18:R$81*($D18:$D$81=$C17)),IF(ISNUMBER(Data!P17),100*ABS($F17-(Data!P17-$J17)/$L17),0),IF(ISNUMBER(Data!P17),100*ABS($F17-(Data!P17-$J17)/$L17),0))))","v":0},{"$f":"IF(Data!$AI17=1,50,IF($G17=0,0,CHOOSE($G17,SUMPRODUCT($O18:$O$81*S18:S$81*($D18:$D$81=$C17)),IF(ISNUMBER(Data!Q17),100*ABS($F17-(Data!Q17-$J17)/$L17),0),IF(ISNUMBER(Data!Q17),100*ABS($F17-(Data!Q17-$J17)/$L17),0))))","v":100},{"$f":"IF(Data!$AI17=1,50,IF($G17=0,0,CHOOSE($G17,SUMPRODUCT($O18:$O$81*T18:T$81*($D18:$D$81=$C17)),IF(ISNUMBER(Data!R17),100*ABS($F17-(Data!R17-$J17)/$L17),0),IF(ISNUMBER(Data!R17),100*ABS($F17-(Data!R17-$J17)/$L17),0))))","v":50},{"$f":"IF(Data!$AI17=1,50,IF($G17=0,0,CHOOSE($G17,SUMPRODUCT($O18:$O$81*U18:U$81*($D18:$D$81=$C17)),IF(ISNUMBER(Data!S17),100*ABS($F17-(Data!S17-$J17)/$L17),0),IF(ISNUMBER(Data!S17),100*ABS($F17-(Data!S17-$J17)/$L17),0))))","v":0},{"$f":"IF(Data!$AI17=1,50,IF($G17=0,0,CHOOSE($G17,SUMPRODUCT($O18:$O$81*V18:V$81*($D18:$D$81=$C17)),IF(ISNUMBER(Data!T17),100*ABS($F17-(Data!T17-$J17)/$L17),0),IF(ISNUMBER(Data!T17),100*ABS($F17-(Data!T17-$J17)/$L17),0))))","v":25},{"$f":"IF(Data!$AI17=1,50,IF($G17=0,0,CHOOSE($G17,SUMPRODUCT($O18:$O$81*W18:W$81*($D18:$D$81=$C17)),IF(ISNUMBER(Data!U17),100*ABS($F17-(Data!U17-$J17)/$L17),0),IF(ISNUMBER(Data!U17),100*ABS($F17-(Data!U17-$J17)/$L17),0))))","v":0},{"$f":"IF(Data!$AI17=1,50,IF($G17=0,0,CHOOSE($G17,SUMPRODUCT($O18:$O$81*X18:X$81*($D18:$D$81=$C17)),IF(ISNUMBER(Data!V17),100*ABS($F17-(Data!V17-$J17)/$L17),0),IF(ISNUMBER(Data!V17),100*ABS($F17-(Data!V17-$J17)/$L17),0))))","v":100},{"$f":"IF(Data!$AI17=1,50,IF($G17=0,0,CHOOSE($G17,SUMPRODUCT($O18:$O$81*Y18:Y$81*($D18:$D$81=$C17)),IF(ISNUMBER(Data!W17),100*ABS($F17-(Data!W17-$J17)/$L17),0),IF(ISNUMBER(Data!W17),100*ABS($F17-(Data!W17-$J17)/$L17),0))))","v":50},{"$f":"IF(Data!$AI17=1,50,IF($G17=0,0,CHOOSE($G17,SUMPRODUCT($O18:$O$81*Z18:Z$81*($D18:$D$81=$C17)),IF(ISNUMBER(Data!X17),100*ABS($F17-(Data!X17-$J17)/$L17),0),IF(ISNUMBER(Data!X17),100*ABS($F17-(Data!X17-$J17)/$L17),0))))","v":0},{"$f":"IF(Data!$AI17=1,50,IF($G17=0,0,CHOOSE($G17,SUMPRODUCT($O18:$O$81*AA18:AA$81*($D18:$D$81=$C17)),IF(ISNUMBER(Data!Y17),100*ABS($F17-(Data!Y17-$J17)/$L17),0),IF(ISNUMBER(Data!Y17),100*ABS($F17-(Data!Y17-$J17)/$L17),0))))","v":100},{"$f":"IF(Data!$AI17=1,50,IF($G17=0,0,CHOOSE($G17,SUMPRODUCT($O18:$O$81*AB18:AB$81*($D18:$D$81=$C17)),IF(ISNUMBER(Data!Z17),100*ABS($F17-(Data!Z17-$J17)/$L17),0),IF(ISNUMBER(Data!Z17),100*ABS($F17-(Data!Z17-$J17)/$L17),0))))","v":0},{"$f":"IF(Data!$AI17=1,50,IF($G17=0,0,CHOOSE($G17,SUMPRODUCT($O18:$O$81*AC18:AC$81*($D18:$D$81=$C17)),IF(ISNUMBER(Data!AA17),100*ABS($F17-(Data!AA17-$J17)/$L17),0),IF(ISNUMBER(Data!AA17),100*ABS($F17-(Data!AA17-$J17)/$L17),0))))","v":50},{"$f":"IF(Data!$AI17=1,50,IF($G17=0,0,CHOOSE($G17,SUMPRODUCT($O18:$O$81*AD18:AD$81*($D18:$D$81=$C17)),IF(ISNUMBER(Data!AB17),100*ABS($F17-(Data!AB17-$J17)/$L17),0),IF(ISNUMBER(Data!AB17),100*ABS($F17-(Data!AB17-$J17)/$L17),0))))","v":0},{"$f":"IF(Data!$AI17=1,50,IF($G17=0,0,CHOOSE($G17,SUMPRODUCT($O18:$O$81*AE18:AE$81*($D18:$D$81=$C17)),IF(ISNUMBER(Data!AC17),100*ABS($F17-(Data!AC17-$J17)/$L17),0),IF(ISNUMBER(Data!AC17),100*ABS($F17-(Data!AC17-$J17)/$L17),0))))","v":25},{"$f":"IF(Data!$AI17=1,50,IF($G17=0,0,CHOOSE($G17,SUMPRODUCT($O18:$O$81*AF18:AF$81*($D18:$D$81=$C17)),IF(ISNUMBER(Data!AD17),100*ABS($F17-(Data!AD17-$J17)/$L17),0),IF(ISNUMBER(Data!AD17),100*ABS($F17-(Data!AD17-$J17)/$L17),0))))","v":0},{"$f":"IF(Data!$AI17=1,50,IF($G17=0,0,CHOOSE($G17,SUMPRODUCT($O18:$O$81*AG18:AG$81*($D18:$D$81=$C17)),IF(ISNUMBER(Data!AE17),100*ABS($F17-(Data!AE17-$J17)/$L17),0),IF(ISNUMBER(Data!AE17),100*ABS($F17-(Data!AE17-$J17)/$L17),0))))","v":100},{"$f":"IF(Data!$AI17=1,50,IF($G17=0,0,CHOOSE($G17,SUMPRODUCT($O18:$O$81*AH18:AH$81*($D18:$D$81=$C17)),IF(ISNUMBER(Data!AF17),100*ABS($F17-(Data!AF17-$J17)/$L17),0),IF(ISNUMBER(Data!AF17),100*ABS($F17-(Data!AF17-$J17)/$L17),0))))","v":75},{"$f":"IF(Data!$AI17=1,50,IF($G17=0,0,CHOOSE($G17,SUMPRODUCT($O18:$O$81*AI18:AI$81*($D18:$D$81=$C17)),IF(ISNUMBER(Data!AG17),100*ABS($F17-(Data!AG17-$J17)/$L17),0),IF(ISNUMBER(Data!AG17),100*ABS($F17-(Data!AG17-$J17)/$L17),0))))","v":100}]
[null,{"$f":"tblIndicators!A12","v":11},{"$f":"tblIndicators!B12","v":"PLCAP_4_1"},{"$f":"tblIndicators!C12","v":"PLCAP_4"},{"$f":"tblIndicators!D12","v":3},{"$f":"tblIndicators!L12","v":0},{"$f":"tblIndicators!V12","v":3},{"$f":"tblIndicators!W12","v":0},{"$f":"tblIndicators!X12","v":2},{"$f":"CHOOSE(G18,\"-\",Data!H18,H18)","v":0},{"$f":"CHOOSE(G18,\"-\",Data!I18,I18)","v":2},2,{"$f":"tblIndicators!AE12","v":"1.4.1) Legal basis for maritime spatial planning"},"",{"$f":"tblIndicators!AJ12","v":0.5},{"$f":"IF(Data!$AI18=1,50,IF($G18=0,0,CHOOSE($G18,SUMPRODUCT($O19:$O$81*P19:P$81*($D19:$D$81=$C18)),IF(ISNUMBER(Data!N18),100*ABS($F18-(Data!N18-$J18)/$L18),0),IF(ISNUMBER(Data!N18),100*ABS($F18-(Data!N18-$J18)/$L18),0))))","v":0},{"$f":"IF(Data!$AI18=1,50,IF($G18=0,0,CHOOSE($G18,SUMPRODUCT($O19:$O$81*Q19:Q$81*($D19:$D$81=$C18)),IF(ISNUMBER(Data!O18),100*ABS($F18-(Data!O18-$J18)/$L18),0),IF(ISNUMBER(Data!O18),100*ABS($F18-(Data!O18-$J18)/$L18),0))))","v":50},{"$f":"IF(Data!$AI18=1,50,IF($G18=0,0,CHOOSE($G18,SUMPRODUCT($O19:$O$81*R19:R$81*($D19:$D$81=$C18)),IF(ISNUMBER(Data!P18),100*ABS($F18-(Data!P18-$J18)/$L18),0),IF(ISNUMBER(Data!P18),100*ABS($F18-(Data!P18-$J18)/$L18),0))))","v":0},{"$f":"IF(Data!$AI18=1,50,IF($G18=0,0,CHOOSE($G18,SUMPRODUCT($O19:$O$81*S19:S$81*($D19:$D$81=$C18)),IF(ISNUMBER(Data!Q18),100*ABS($F18-(Data!Q18-$J18)/$L18),0),IF(ISNUMBER(Data!Q18),100*ABS($F18-(Data!Q18-$J18)/$L18),0))))","v":100},{"$f":"IF(Data!$AI18=1,50,IF($G18=0,0,CHOOSE($G18,SUMPRODUCT($O19:$O$81*T19:T$81*($D19:$D$81=$C18)),IF(ISNUMBER(Data!R18),100*ABS($F18-(Data!R18-$J18)/$L18),0),IF(ISNUMBER(Data!R18),100*ABS($F18-(Data!R18-$J18)/$L18),0))))","v":50},{"$f":"IF(Data!$AI18=1,50,IF($G18=0,0,CHOOSE($G18,SUMPRODUCT($O19:$O$81*U19:U$81*($D19:$D$81=$C18)),IF(ISNUMBER(Data!S18),100*ABS($F18-(Data!S18-$J18)/$L18),0),IF(ISNUMBER(Data!S18),100*ABS($F18-(Data!S18-$J18)/$L18),0))))","v":0},{"$f":"IF(Data!$AI18=1,50,IF($G18=0,0,CHOOSE($G18,SUMPRODUCT($O19:$O$81*V19:V$81*($D19:$D$81=$C18)),IF(ISNUMBER(Data!T18),100*ABS($F18-(Data!T18-$J18)/$L18),0),IF(ISNUMBER(Data!T18),100*ABS($F18-(Data!T18-$J18)/$L18),0))))","v":0},{"$f":"IF(Data!$AI18=1,50,IF($G18=0,0,CHOOSE($G18,SUMPRODUCT($O19:$O$81*W19:W$81*($D19:$D$81=$C18)),IF(ISNUMBER(Data!U18),100*ABS($F18-(Data!U18-$J18)/$L18),0),IF(ISNUMBER(Data!U18),100*ABS($F18-(Data!U18-$J18)/$L18),0))))","v":0},{"$f":"IF(Data!$AI18=1,50,IF($G18=0,0,CHOOSE($G18,SUMPRODUCT($O19:$O$81*X19:X$81*($D19:$D$81=$C18)),IF(ISNUMBER(Data!V18),100*ABS($F18-(Data!V18-$J18)/$L18),0),IF(ISNUMBER(Data!V18),100*ABS($F18-(Data!V18-$J18)/$L18),0))))","v":100},{"$f":"IF(Data!$AI18=1,50,IF($G18=0,0,CHOOSE($G18,SUMPRODUCT($O19:$O$81*Y19:Y$81*($D19:$D$81=$C18)),IF(ISNUMBER(Data!W18),100*ABS($F18-(Data!W18-$J18)/$L18),0),IF(ISNUMBER(Data!W18),100*ABS($F18-(Data!W18-$J18)/$L18),0))))","v":50},{"$f":"IF(Data!$AI18=1,50,IF($G18=0,0,CHOOSE($G18,SUMPRODUCT($O19:$O$81*Z19:Z$81*($D19:$D$81=$C18)),IF(ISNUMBER(Data!X18),100*ABS($F18-(Data!X18-$J18)/$L18),0),IF(ISNUMBER(Data!X18),100*ABS($F18-(Data!X18-$J18)/$L18),0))))","v":0},{"$f":"IF(Data!$AI18=1,50,IF($G18=0,0,CHOOSE($G18,SUMPRODUCT($O19:$O$81*AA19:AA$81*($D19:$D$81=$C18)),IF(ISNUMBER(Data!Y18),100*ABS($F18-(Data!Y18-$J18)/$L18),0),IF(ISNUMBER(Data!Y18),100*ABS($F18-(Data!Y18-$J18)/$L18),0))))","v":100},{"$f":"IF(Data!$AI18=1,50,IF($G18=0,0,CHOOSE($G18,SUMPRODUCT($O19:$O$81*AB19:AB$81*($D19:$D$81=$C18)),IF(ISNUMBER(Data!Z18),100*ABS($F18-(Data!Z18-$J18)/$L18),0),IF(ISNUMBER(Data!Z18),100*ABS($F18-(Data!Z18-$J18)/$L18),0))))","v":0},{"$f":"IF(Data!$AI18=1,50,IF($G18=0,0,CHOOSE($G18,SUMPRODUCT($O19:$O$81*AC19:AC$81*($D19:$D$81=$C18)),IF(ISNUMBER(Data!AA18),100*ABS($F18-(Data!AA18-$J18)/$L18),0),IF(ISNUMBER(Data!AA18),100*ABS($F18-(Data!AA18-$J18)/$L18),0))))","v":50},{"$f":"IF(Data!$AI18=1,50,IF($G18=0,0,CHOOSE($G18,SUMPRODUCT($O19:$O$81*AD19:AD$81*($D19:$D$81=$C18)),IF(ISNUMBER(Data!AB18),100*ABS($F18-(Data!AB18-$J18)/$L18),0),IF(ISNUMBER(Data!AB18),100*ABS($F18-(Data!AB18-$J18)/$L18),0))))","v":0},{"$f":"IF(Data!$AI18=1,50,IF($G18=0,0,CHOOSE($G18,SUMPRODUCT($O19:$O$81*AE19:AE$81*($D19:$D$81=$C18)),IF(ISNUMBER(Data!AC18),100*ABS($F18-(Data!AC18-$J18)/$L18),0),IF(ISNUMBER(Data!AC18),100*ABS($F18-(Data!AC18-$J18)/$L18),0))))","v":50},{"$f":"IF(Data!$AI18=1,50,IF($G18=0,0,CHOOSE($G18,SUMPRODUCT($O19:$O$81*AF19:AF$81*($D19:$D$81=$C18)),IF(ISNUMBER(Data!AD18),100*ABS($F18-(Data!AD18-$J18)/$L18),0),IF(ISNUMBER(Data!AD18),100*ABS($F18-(Data!AD18-$J18)/$L18),0))))","v":0},{"$f":"IF(Data!$AI18=1,50,IF($G18=0,0,CHOOSE($G18,SUMPRODUCT($O19:$O$81*AG19:AG$81*($D19:$D$81=$C18)),IF(ISNUMBER(Data!AE18),100*ABS($F18-(Data!AE18-$J18)/$L18),0),IF(ISNUMBER(Data!AE18),100*ABS($F18-(Data!AE18-$J18)/$L18),0))))","v":100},{"$f":"IF(Data!$AI18=1,50,IF($G18=0,0,CHOOSE($G18,SUMPRODUCT($O19:$O$81*AH19:AH$81*($D19:$D$81=$C18)),IF(ISNUMBER(Data!AF18),100*ABS($F18-(Data!AF18-$J18)/$L18),0),IF(ISNUMBER(Data!AF18),100*ABS($F18-(Data!AF18-$J18)/$L18),0))))","v":50},{"$f":"IF(Data!$AI18=1,50,IF($G18=0,0,CHOOSE($G18,SUMPRODUCT($O19:$O$81*AI19:AI$81*($D19:$D$81=$C18)),IF(ISNUMBER(Data!AG18),100*ABS($F18-(Data!AG18-$J18)/$L18),0),IF(ISNUMBER(Data!AG18),100*ABS($F18-(Data!AG18-$J18)/$L18),0))))","v":100}]
[null,{"$f":"tblIndicators!A13","v":12},{"$f":"tblIndicators!B13","v":"PLCAP_4_2"},{"$f":"tblIndicators!C13","v":"PLCAP_4"},{"$f":"tblIndicators!D13","v":3},{"$f":"tblIndicators!L13","v":0},{"$f":"tblIndicators!V13","v":3},{"$f":"tblIndicators!W13","v":0},{"$f":"tblIndicators!X13","v":2},{"$f":"CHOOSE(G19,\"-\",Data!H19,H19)","v":0},{"$f":"CHOOSE(G19,\"-\",Data!I19,I19)","v":2},2,{"$f":"tblIndicators!AE13","v":"1.4.2) Institution for maritime spatial planning"},"",{"$f":"tblIndicators!AJ13","v":0.5},{"$f":"IF(Data!$AI19=1,50,IF($G19=0,0,CHOOSE($G19,SUMPRODUCT($O20:$O$81*P20:P$81*($D20:$D$81=$C19)),IF(ISNUMBER(Data!N19),100*ABS($F19-(Data!N19-$J19)/$L19),0),IF(ISNUMBER(Data!N19),100*ABS($F19-(Data!N19-$J19)/$L19),0))))","v":0},{"$f":"IF(Data!$AI19=1,50,IF($G19=0,0,CHOOSE($G19,SUMPRODUCT($O20:$O$81*Q20:Q$81*($D20:$D$81=$C19)),IF(ISNUMBER(Data!O19),100*ABS($F19-(Data!O19-$J19)/$L19),0),IF(ISNUMBER(Data!O19),100*ABS($F19-(Data!O19-$J19)/$L19),0))))","v":50},{"$f":"IF(Data!$AI19=1,50,IF($G19=0,0,CHOOSE($G19,SUMPRODUCT($O20:$O$81*R20:R$81*($D20:$D$81=$C19)),IF(ISNUMBER(Data!P19),100*ABS($F19-(Data!P19-$J19)/$L19),0),IF(ISNUMBER(Data!P19),100*ABS($F19-(Data!P19-$J19)/$L19),0))))","v":0},{"$f":"IF(Data!$AI19=1,50,IF($G19=0,0,CHOOSE($G19,SUMPRODUCT($O20:$O$81*S20:S$81*($D20:$D$81=$C19)),IF(ISNUMBER(Data!Q19),100*ABS($F19-(Data!Q19-$J19)/$L19),0),IF(ISNUMBER(Data!Q19),100*ABS($F19-(Data!Q19-$J19)/$L19),0))))","v":100},{"$f":"IF(Data!$AI19=1,50,IF($G19=0,0,CHOOSE($G19,SUMPRODUCT($O20:$O$81*T20:T$81*($D20:$D$81=$C19)),IF(ISNUMBER(Data!R19),100*ABS($F19-(Data!R19-$J19)/$L19),0),IF(ISNUMBER(Data!R19),100*ABS($F19-(Data!R19-$J19)/$L19),0))))","v":50},{"$f":"IF(Data!$AI19=1,50,IF($G19=0,0,CHOOSE($G19,SUMPRODUCT($O20:$O$81*U20:U$81*($D20:$D$81=$C19)),IF(ISNUMBER(Data!S19),100*ABS($F19-(Data!S19-$J19)/$L19),0),IF(ISNUMBER(Data!S19),100*ABS($F19-(Data!S19-$J19)/$L19),0))))","v":0},{"$f":"IF(Data!$AI19=1,50,IF($G19=0,0,CHOOSE($G19,SUMPRODUCT($O20:$O$81*V20:V$81*($D20:$D$81=$C19)),IF(ISNUMBER(Data!T19),100*ABS($F19-(Data!T19-$J19)/$L19),0),IF(ISNUMBER(Data!T19),100*ABS($F19-(Data!T19-$J19)/$L19),0))))","v":50},{"$f":"IF(Data!$AI19=1,50,IF($G19=0,0,CHOOSE($G19,SUMPRODUCT($O20:$O$81*W20:W$81*($D20:$D$81=$C19)),IF(ISNUMBER(Data!U19),100*ABS($F19-(Data!U19-$J19)/$L19),0),IF(ISNUMBER(Data!U19),100*ABS($F19-(Data!U19-$J19)/$L19),0))))","v":0},{"$f":"IF(Data!$AI19=1,50,IF($G19=0,0,CHOOSE($G19,SUMPRODUCT($O20:$O$81*X20:X$81*($D20:$D$81=$C19)),IF(ISNUMBER(Data!V19),100*ABS($F19-(Data!V19-$J19)/$L19),0),IF(ISNUMBER(Data!V19),100*ABS($F19-(Data!V19-$J19)/$L19),0))))","v":100},{"$f":"IF(Data!$AI19=1,50,IF($G19=0,0,CHOOSE($G19,SUMPRODUCT($O20:$O$81*Y20:Y$81*($D20:$D$81=$C19)),IF(ISNUMBER(Data!W19),100*ABS($F19-(Data!W19-$J19)/$L19),0),IF(ISNUMBER(Data!W19),100*ABS($F19-(Data!W19-$J19)/$L19),0))))","v":50},{"$f":"IF(Data!$AI19=1,50,IF($G19=0,0,CHOOSE($G19,SUMPRODUCT($O20:$O$81*Z20:Z$81*($D20:$D$81=$C19)),IF(ISNUMBER(Data!X19),100*ABS($F19-(Data!X19-$J19)/$L19),0),IF(ISNUMBER(Data!X19),100*ABS($F19-(Data!X19-$J19)/$L19),0))))","v":0},{"$f":"IF(Data!$AI19=1,50,IF($G19=0,0,CHOOSE($G19,SUMPRODUCT($O20:$O$81*AA20:AA$81*($D20:$D$81=$C19)),IF(ISNUMBER(Data!Y19),100*ABS($F19-(Data!Y19-$J19)/$L19),0),IF(ISNUMBER(Data!Y19),100*ABS($F19-(Data!Y19-$J19)/$L19),0))))","v":100},{"$f":"IF(Data!$AI19=1,50,IF($G19=0,0,CHOOSE($G19,SUMPRODUCT($O20:$O$81*AB20:AB$81*($D20:$D$81=$C19)),IF(ISNUMBER(Data!Z19),100*ABS($F19-(Data!Z19-$J19)/$L19),0),IF(ISNUMBER(Data!Z19),100*ABS($F19-(Data!Z19-$J19)/$L19),0))))","v":0},{"$f":"IF(Data!$AI19=1,50,IF($G19=0,0,CHOOSE($G19,SUMPRODUCT($O20:$O$81*AC20:AC$81*($D20:$D$81=$C19)),IF(ISNUMBER(Data!AA19),100*ABS($F19-(Data!AA19-$J19)/$L19),0),IF(ISNUMBER(Data!AA19),100*ABS($F19-(Data!AA19-$J19)/$L19),0))))","v":50},{"$f":"IF(Data!$AI19=1,50,IF($G19=0,0,CHOOSE($G19,SUMPRODUCT($O20:$O$81*AD20:AD$81*($D20:$D$81=$C19)),IF(ISNUMBER(Data!AB19),100*ABS($F19-(Data!AB19-$J19)/$L19),0),IF(ISNUMBER(Data!AB19),100*ABS($F19-(Data!AB19-$J19)/$L19),0))))","v":0},{"$f":"IF(Data!$AI19=1,50,IF($G19=0,0,CHOOSE($G19,SUMPRODUCT($O20:$O$81*AE20:AE$81*($D20:$D$81=$C19)),IF(ISNUMBER(Data!AC19),100*ABS($F19-(Data!AC19-$J19)/$L19),0),IF(ISNUMBER(Data!AC19),100*ABS($F19-(Data!AC19-$J19)/$L19),0))))","v":0},{"$f":"IF(Data!$AI19=1,50,IF($G19=0,0,CHOOSE($G19,SUMPRODUCT($O20:$O$81*AF20:AF$81*($D20:$D$81=$C19)),IF(ISNUMBER(Data!AD19),100*ABS($F19-(Data!AD19-$J19)/$L19),0),IF(ISNUMBER(Data!AD19),100*ABS($F19-(Data!AD19-$J19)/$L19),0))))","v":0},{"$f":"IF(Data!$AI19=1,50,IF($G19=0,0,CHOOSE($G19,SUMPRODUCT($O20:$O$81*AG20:AG$81*($D20:$D$81=$C19)),IF(ISNUMBER(Data!AE19),100*ABS($F19-(Data!AE19-$J19)/$L19),0),IF(ISNUMBER(Data!AE19),100*ABS($F19-(Data!AE19-$J19)/$L19),0))))","v":100},{"$f":"IF(Data!$AI19=1,50,IF($G19=0,0,CHOOSE($G19,SUMPRODUCT($O20:$O$81*AH20:AH$81*($D20:$D$81=$C19)),IF(ISNUMBER(Data!AF19),100*ABS($F19-(Data!AF19-$J19)/$L19),0),IF(ISNUMBER(Data!AF19),100*ABS($F19-(Data!AF19-$J19)/$L19),0))))","v":100},{"$f":"IF(Data!$AI19=1,50,IF($G19=0,0,CHOOSE($G19,SUMPRODUCT($O20:$O$81*AI20:AI$81*($D20:$D$81=$C19)),IF(ISNUMBER(Data!AG19),100*ABS($F19-(Data!AG19-$J19)/$L19),0),IF(ISNUMBER(Data!AG19),100*ABS($F19-(Data!AG19-$J19)/$L19),0))))","v":100}]
[null,{"$f":"tblIndicators!A14","v":13},{"$f":"tblIndicators!B14","v":"PLCAP_5"},{"$f":"tblIndicators!C14","v":"PLCAP"},{"$f":"tblIndicators!D14","v":2},{"$f":"tblIndicators!L14","v":0},{"$f":"tblIndicators!V14","v":1},{"$f":"tblIndicators!W14","v":0},{"$f":"tblIndicators!X14","v":100},{"$f":"CHOOSE(G20,\"-\",Data!H20,H20)","v":"-"},{"$f":"CHOOSE(G20,\"-\",Data!I20,I20)","v":"-"},"-",{"$f":"tblIndicators!AE14","v":"1.5) Stakeholder engagement"},0.14285714285714285,{"$f":"tblIndicators!AJ14","v":0.14285714285714285},{"$f":"IF(Data!$AI20=1,50,IF($G20=0,0,CHOOSE($G20,SUMPRODUCT($O21:$O$81*P21:P$81*($D21:$D$81=$C20)),IF(ISNUMBER(Data!N20),100*ABS($F20-(Data!N20-$J20)/$L20),0),IF(ISNUMBER(Data!N20),100*ABS($F20-(Data!N20-$J20)/$L20),0))))","v":100},{"$f":"IF(Data!$AI20=1,50,IF($G20=0,0,CHOOSE($G20,SUMPRODUCT($O21:$O$81*Q21:Q$81*($D21:$D$81=$C20)),IF(ISNUMBER(Data!O20),100*ABS($F20-(Data!O20-$J20)/$L20),0),IF(ISNUMBER(Data!O20),100*ABS($F20-(Data!O20-$J20)/$L20),0))))","v":100},{"$f":"IF(Data!$AI20=1,50,IF($G20=0,0,CHOOSE($G20,SUMPRODUCT($O21:$O$81*R21:R$81*($D21:$D$81=$C20)),IF(ISNUMBER(Data!P20),100*ABS($F20-(Data!P20-$J20)/$L20),0),IF(ISNUMBER(Data!P20),100*ABS($F20-(Data!P20-$J20)/$L20),0))))","v":50},{"$f":"IF(Data!$AI20=1,50,IF($G20=0,0,CHOOSE($G20,SUMPRODUCT($O21:$O$81*S21:S$81*($D21:$D$81=$C20)),IF(ISNUMBER(Data!Q20),100*ABS($F20-(Data!Q20-$J20)/$L20),0),IF(ISNUMBER(Data!Q20),100*ABS($F20-(Data!Q20-$J20)/$L20),0))))","v":0},{"$f":"IF(Data!$AI20=1,50,IF($G20=0,0,CHOOSE($G20,SUMPRODUCT($O21:$O$81*T21:T$81*($D21:$D$81=$C20)),IF(ISNUMBER(Data!R20),100*ABS($F20-(Data!R20-$J20)/$L20),0),IF(ISNUMBER(Data!R20),100*ABS($F20-(Data!R20-$J20)/$L20),0))))","v":50},{"$f":"IF(Data!$AI20=1,50,IF($G20=0,0,CHOOSE($G20,SUMPRODUCT($O21:$O$81*U21:U$81*($D21:$D$81=$C20)),IF(ISNUMBER(Data!S20),100*ABS($F20-(Data!S20-$J20)/$L20),0),IF(ISNUMBER(Data!S20),100*ABS($F20-(Data!S20-$J20)/$L20),0))))","v":100},{"$f":"IF(Data!$AI20=1,50,IF($G20=0,0,CHOOSE($G20,SUMPRODUCT($O21:$O$81*V21:V$81*($D21:$D$81=$C20)),IF(ISNUMBER(Data!T20),100*ABS($F20-(Data!T20-$J20)/$L20),0),IF(ISNUMBER(Data!T20),100*ABS($F20-(Data!T20-$J20)/$L20),0))))","v":75},{"$f":"IF(Data!$AI20=1,50,IF($G20=0,0,CHOOSE($G20,SUMPRODUCT($O21:$O$81*W21:W$81*($D21:$D$81=$C20)),IF(ISNUMBER(Data!U20),100*ABS($F20-(Data!U20-$J20)/$L20),0),IF(ISNUMBER(Data!U20),100*ABS($F20-(Data!U20-$J20)/$L20),0))))","v":100},{"$f":"IF(Data!$AI20=1,50,IF($G20=0,0,CHOOSE($G20,SUMPRODUCT($O21:$O$81*X21:X$81*($D21:$D$81=$C20)),IF(ISNUMBER(Data!V20),100*ABS($F20-(Data!V20-$J20)/$L20),0),IF(ISNUMBER(Data!V20),100*ABS($F20-(Data!V20-$J20)/$L20),0))))","v":25},{"$f":"IF(Data!$AI20=1,50,IF($G20=0,0,CHOOSE($G20,SUMPRODUCT($O21:$O$81*Y21:Y$81*($D21:$D$81=$C20)),IF(ISNUMBER(Data!W20),100*ABS($F20-(Data!W20-$J20)/$L20),0),IF(ISNUMBER(Data!W20),100*ABS($F20-(Data!W20-$J20)/$L20),0))))","v":50},{"$f":"IF(Data!$AI20=1,50,IF($G20=0,0,CHOOSE($G20,SUMPRODUCT($O21:$O$81*Z21:Z$81*($D21:$D$81=$C20)),IF(ISNUMBER(Data!X20),100*ABS($F20-(Data!X20-$J20)/$L20),0),IF(ISNUMBER(Data!X20),100*ABS($F20-(Data!X20-$J20)/$L20),0))))","v":0},{"$f":"IF(Data!$AI20=1,50,IF($G20=0,0,CHOOSE($G20,SUMPRODUCT($O21:$O$81*AA21:AA$81*($D21:$D$81=$C20)),IF(ISNUMBER(Data!Y20),100*ABS($F20-(Data!Y20-$J20)/$L20),0),IF(ISNUMBER(Data!Y20),100*ABS($F20-(Data!Y20-$J20)/$L20),0))))","v":50},{"$f":"IF(Data!$AI20=1,50,IF($G20=0,0,CHOOSE($G20,SUMPRODUCT($O21:$O$81*AB21:AB$81*($D21:$D$81=$C20)),IF(ISNUMBER(Data!Z20),100*ABS($F20-(Data!Z20-$J20)/$L20),0),IF(ISNUMBER(Data!Z20),100*ABS($F20-(Data!Z20-$J20)/$L20),0))))","v":25},{"$f":"IF(Data!$AI20=1,50,IF($G20=0,0,CHOOSE($G20,SUMPRODUCT($O21:$O$81*AC21:AC$81*($D21:$D$81=$C20)),IF(ISNUMBER(Data!AA20),100*ABS($F20-(Data!AA20-$J20)/$L20),0),IF(ISNUMBER(Data!AA20),100*ABS($F20-(Data!AA20-$J20)/$L20),0))))","v":100},{"$f":"IF(Data!$AI20=1,50,IF($G20=0,0,CHOOSE($G20,SUMPRODUCT($O21:$O$81*AD21:AD$81*($D21:$D$81=$C20)),IF(ISNUMBER(Data!AB20),100*ABS($F20-(Data!AB20-$J20)/$L20),0),IF(ISNUMBER(Data!AB20),100*ABS($F20-(Data!AB20-$J20)/$L20),0))))","v":0},{"$f":"IF(Data!$AI20=1,50,IF($G20=0,0,CHOOSE($G20,SUMPRODUCT($O21:$O$81*AE21:AE$81*($D21:$D$81=$C20)),IF(ISNUMBER(Data!AC20),100*ABS($F20-(Data!AC20-$J20)/$L20),0),IF(ISNUMBER(Data!AC20),100*ABS($F20-(Data!AC20-$J20)/$L20),0))))","v":100},{"$f":"IF(Data!$AI20=1,50,IF($G20=0,0,CHOOSE($G20,SUMPRODUCT($O21:$O$81*AF21:AF$81*($D21:$D$81=$C20)),IF(ISNUMBER(Data!AD20),100*ABS($F20-(Data!AD20-$J20)/$L20),0),IF(ISNUMBER(Data!AD20),100*ABS($F20-(Data!AD20-$J20)/$L20),0))))","v":25},{"$f":"IF(Data!$AI20=1,50,IF($G20=0,0,CHOOSE($G20,SUMPRODUCT($O21:$O$81*AG21:AG$81*($D21:$D$81=$C20)),IF(ISNUMBER(Data!AE20),100*ABS($F20-(Data!AE20-$J20)/$L20),0),IF(ISNUMBER(Data!AE20),100*ABS($F20-(Data!AE20-$J20)/$L20),0))))","v":100},{"$f":"IF(Data!$AI20=1,50,IF($G20=0,0,CHOOSE($G20,SUMPRODUCT($O21:$O$81*AH21:AH$81*($D21:$D$81=$C20)),IF(ISNUMBER(Data!AF20),100*ABS($F20-(Data!AF20-$J20)/$L20),0),IF(ISNUMBER(Data!AF20),100*ABS($F20-(Data!AF20-$J20)/$L20),0))))","v":100},{"$f":"IF(Data!$AI20=1,50,IF($G20=0,0,CHOOSE($G20,SUMPRODUCT($O21:$O$81*AI21:AI$81*($D21:$D$81=$C20)),IF(ISNUMBER(Data!AG20),100*ABS($F20-(Data!AG20-$J20)/$L20),0),IF(ISNUMBER(Data!AG20),100*ABS($F20-(Data!AG20-$J20)/$L20),0))))","v":50}]
[null,{"$f":"tblIndicators!A15","v":14},{"$f":"tblIndicators!B15","v":"PLCAP_5_1"},{"$f":"tblIndicators!C15","v":"PLCAP_5"},{"$f":"tblIndicators!D15","v":3},{"$f":"tblIndicators!L15","v":0},{"$f":"tblIndicators!V15","v":3},{"$f":"tblIndicators!W15","v":0},{"$f":"tblIndicators!X15","v":2},{"$f":"CHOOSE(G21,\"-\",Data!H21,H21)","v":0},{"$f":"CHOOSE(G21,\"-\",Data!I21,I21)","v":2},2,{"$f":"tblIndicators!AE15","v":"1.5.1) Grievance redress"},"",{"$f":"tblIndicators!AJ15","v":0.5},{"$f":"IF(Data!$AI21=1,50,IF($G21=0,0,CHOOSE($G21,SUMPRODUCT($O22:$O$81*P22:P$81*($D22:$D$81=$C21)),IF(ISNUMBER(Data!N21),100*ABS($F21-(Data!N21-$J21)/$L21),0),IF(ISNUMBER(Data!N21),100*ABS($F21-(Data!N21-$J21)/$L21),0))))","v":100},{"$f":"IF(Data!$AI21=1,50,IF($G21=0,0,CHOOSE($G21,SUMPRODUCT($O22:$O$81*Q22:Q$81*($D22:$D$81=$C21)),IF(ISNUMBER(Data!O21),100*ABS($F21-(Data!O21-$J21)/$L21),0),IF(ISNUMBER(Data!O21),100*ABS($F21-(Data!O21-$J21)/$L21),0))))","v":100},{"$f":"IF(Data!$AI21=1,50,IF($G21=0,0,CHOOSE($G21,SUMPRODUCT($O22:$O$81*R22:R$81*($D22:$D$81=$C21)),IF(ISNUMBER(Data!P21),100*ABS($F21-(Data!P21-$J21)/$L21),0),IF(ISNUMBER(Data!P21),100*ABS($F21-(Data!P21-$J21)/$L21),0))))","v":100},{"$f":"IF(Data!$AI21=1,50,IF($G21=0,0,CHOOSE($G21,SUMPRODUCT($O22:$O$81*S22:S$81*($D22:$D$81=$C21)),IF(ISNUMBER(Data!Q21),100*ABS($F21-(Data!Q21-$J21)/$L21),0),IF(ISNUMBER(Data!Q21),100*ABS($F21-(Data!Q21-$J21)/$L21),0))))","v":0},{"$f":"IF(Data!$AI21=1,50,IF($G21=0,0,CHOOSE($G21,SUMPRODUCT($O22:$O$81*T22:T$81*($D22:$D$81=$C21)),IF(ISNUMBER(Data!R21),100*ABS($F21-(Data!R21-$J21)/$L21),0),IF(ISNUMBER(Data!R21),100*ABS($F21-(Data!R21-$J21)/$L21),0))))","v":100},{"$f":"IF(Data!$AI21=1,50,IF($G21=0,0,CHOOSE($G21,SUMPRODUCT($O22:$O$81*U22:U$81*($D22:$D$81=$C21)),IF(ISNUMBER(Data!S21),100*ABS($F21-(Data!S21-$J21)/$L21),0),IF(ISNUMBER(Data!S21),100*ABS($F21-(Data!S21-$J21)/$L21),0))))","v":100},{"$f":"IF(Data!$AI21=1,50,IF($G21=0,0,CHOOSE($G21,SUMPRODUCT($O22:$O$81*V22:V$81*($D22:$D$81=$C21)),IF(ISNUMBER(Data!T21),100*ABS($F21-(Data!T21-$J21)/$L21),0),IF(ISNUMBER(Data!T21),100*ABS($F21-(Data!T21-$J21)/$L21),0))))","v":50},{"$f":"IF(Data!$AI21=1,50,IF($G21=0,0,CHOOSE($G21,SUMPRODUCT($O22:$O$81*W22:W$81*($D22:$D$81=$C21)),IF(ISNUMBER(Data!U21),100*ABS($F21-(Data!U21-$J21)/$L21),0),IF(ISNUMBER(Data!U21),100*ABS($F21-(Data!U21-$J21)/$L21),0))))","v":100},{"$f":"IF(Data!$AI21=1,50,IF($G21=0,0,CHOOSE($G21,SUMPRODUCT($O22:$O$81*X22:X$81*($D22:$D$81=$C21)),IF(ISNUMBER(Data!V21),100*ABS($F21-(Data!V21-$J21)/$L21),0),IF(ISNUMBER(Data!V21),100*ABS($F21-(Data!V21-$J21)/$L21),0))))","v":50},{"$f":"IF(Data!$AI21=1,50,IF($G21=0,0,CHOOSE($G21,SUMPRODUCT($O22:$O$81*Y22:Y$81*($D22:$D$81=$C21)),IF(ISNUMBER(Data!W21),100*ABS($F21-(Data!W21-$J21)/$L21),0),IF(ISNUMBER(Data!W21),100*ABS($F21-(Data!W21-$J21)/$L21),0))))","v":100},{"$f":"IF(Data!$AI21=1,50,IF($G21=0,0,CHOOSE($G21,SUMPRODUCT($O22:$O$81*Z22:Z$81*($D22:$D$81=$C21)),IF(ISNUMBER(Data!X21),100*ABS($F21-(Data!X21-$J21)/$L21),0),IF(ISNUMBER(Data!X21),100*ABS($F21-(Data!X21-$J21)/$L21),0))))","v":0},{"$f":"IF(Data!$AI21=1,50,IF($G21=0,0,CHOOSE($G21,SUMPRODUCT($O22:$O$81*AA22:AA$81*($D22:$D$81=$C21)),IF(ISNUMBER(Data!Y21),100*ABS($F21-(Data!Y21-$J21)/$L21),0),IF(ISNUMBER(Data!Y21),100*ABS($F21-(Data!Y21-$J21)/$L21),0))))","v":100},{"$f":"IF(Data!$AI21=1,50,IF($G21=0,0,CHOOSE($G21,SUMPRODUCT($O22:$O$81*AB22:AB$81*($D22:$D$81=$C21)),IF(ISNUMBER(Data!Z21),100*ABS($F21-(Data!Z21-$J21)/$L21),0),IF(ISNUMBER(Data!Z21),100*ABS($F21-(Data!Z21-$J21)/$L21),0))))","v":50},{"$f":"IF(Data!$AI21=1,50,IF($G21=0,0,CHOOSE($G21,SUMPRODUCT($O22:$O$81*AC22:AC$81*($D22:$D$81=$C21)),IF(ISNUMBER(Data!AA21),100*ABS($F21-(Data!AA21-$J21)/$L21),0),IF(ISNUMBER(Data!AA21),100*ABS($F21-(Data!AA21-$J21)/$L21),0))))","v":100},{"$f":"IF(Data!$AI21=1,50,IF($G21=0,0,CHOOSE($G21,SUMPRODUCT($O22:$O$81*AD22:AD$81*($D22:$D$81=$C21)),IF(ISNUMBER(Data!AB21),100*ABS($F21-(Data!AB21-$J21)/$L21),0),IF(ISNUMBER(Data!AB21),100*ABS($F21-(Data!AB21-$J21)/$L21),0))))","v":0},{"$f":"IF(Data!$AI21=1,50,IF($G21=0,0,CHOOSE($G21,SUMPRODUCT($O22:$O$81*AE22:AE$81*($D22:$D$81=$C21)),IF(ISNUMBER(Data!AC21),100*ABS($F21-(Data!AC21-$J21)/$L21),0),IF(ISNUMBER(Data!AC21),100*ABS($F21-(Data!AC21-$J21)/$L21),0))))","v":100},{"$f":"IF(Data!$AI21=1,50,IF($G21=0,0,CHOOSE($G21,SUMPRODUCT($O22:$O$81*AF22:AF$81*($D22:$D$81=$C21)),IF(ISNUMBER(Data!AD21),100*ABS($F21-(Data!AD21-$J21)/$L21),0),IF(ISNUMBER(Data!AD21),100*ABS($F21-(Data!AD21-$J21)/$L21),0))))","v":50},{"$f":"IF(Data!$AI21=1,50,IF($G21=0,0,CHOOSE($G21,SUMPRODUCT($O22:$O$81*AG22:AG$81*($D22:$D$81=$C21)),IF(ISNUMBER(Data!AE21),100*ABS($F21-(Data!AE21-$J21)/$L21),0),IF(ISNUMBER(Data!AE21),100*ABS($F21-(Data!AE21-$J21)/$L21),0))))","v":100},{"$f":"IF(Data!$AI21=1,50,IF($G21=0,0,CHOOSE($G21,SUMPRODUCT($O22:$O$81*AH22:AH$81*($D22:$D$81=$C21)),IF(ISNUMBER(Data!AF21),100*ABS($F21-(Data!AF21-$J21)/$L21),0),IF(ISNUMBER(Data!AF21),100*ABS($F21-(Data!AF21-$J21)/$L21),0))))","v":100},{"$f":"IF(Data!$AI21=1,50,IF($G21=0,0,CHOOSE($G21,SUMPRODUCT($O22:$O$81*AI22:AI$81*($D22:$D$81=$C21)),IF(ISNUMBER(Data!AG21),100*ABS($F21-(Data!AG21-$J21)/$L21),0),IF(ISNUMBER(Data!AG21),100*ABS($F21-(Data!AG21-$J21)/$L21),0))))","v":0}]
[null,{"$f":"tblIndicators!A16","v":15},{"$f":"tblIndicators!B16","v":"PLCAP_5_2"},{"$f":"tblIndicators!C16","v":"PLCAP_5"},{"$f":"tblIndicators!D16","v":3},{"$f":"tblIndicators!L16","v":0},{"$f":"tblIndicators!V16","v":3},{"$f":"tblIndicators!W16","v":0},{"$f":"tblIndicators!X16","v":1},{"$f":"CHOOSE(G22,\"-\",Data!H22,H22)","v":0},{"$f":"CHOOSE(G22,\"-\",Data!I22,I22)","v":1},1,{"$f":"tblIndicators!AE16","v":"1.5.2) Multi-stakeholder engagement"},"",{"$f":"tblIndicators!AJ16","v":0.5},{"$f":"IF(Data!$AI22=1,50,IF($G22=0,0,CHOOSE($G22,SUMPRODUCT($O23:$O$81*P23:P$81*($D23:$D$81=$C22)),IF(ISNUMBER(Data!N22),100*ABS($F22-(Data!N22-$J22)/$L22),0),IF(ISNUMBER(Data!N22),100*ABS($F22-(Data!N22-$J22)/$L22),0))))","v":100},{"$f":"IF(Data!$AI22=1,50,IF($G22=0,0,CHOOSE($G22,SUMPRODUCT($O23:$O$81*Q23:Q$81*($D23:$D$81=$C22)),IF(ISNUMBER(Data!O22),100*ABS($F22-(Data!O22-$J22)/$L22),0),IF(ISNUMBER(Data!O22),100*ABS($F22-(Data!O22-$J22)/$L22),0))))","v":100},{"$f":"IF(Data!$AI22=1,50,IF($G22=0,0,CHOOSE($G22,SUMPRODUCT($O23:$O$81*R23:R$81*($D23:$D$81=$C22)),IF(ISNUMBER(Data!P22),100*ABS($F22-(Data!P22-$J22)/$L22),0),IF(ISNUMBER(Data!P22),100*ABS($F22-(Data!P22-$J22)/$L22),0))))","v":0},{"$f":"IF(Data!$AI22=1,50,IF($G22=0,0,CHOOSE($G22,SUMPRODUCT($O23:$O$81*S23:S$81*($D23:$D$81=$C22)),IF(ISNUMBER(Data!Q22),100*ABS($F22-(Data!Q22-$J22)/$L22),0),IF(ISNUMBER(Data!Q22),100*ABS($F22-(Data!Q22-$J22)/$L22),0))))","v":0},{"$f":"IF(Data!$AI22=1,50,IF($G22=0,0,CHOOSE($G22,SUMPRODUCT($O23:$O$81*T23:T$81*($D23:$D$81=$C22)),IF(ISNUMBER(Data!R22),100*ABS($F22-(Data!R22-$J22)/$L22),0),IF(ISNUMBER(Data!R22),100*ABS($F22-(Data!R22-$J22)/$L22),0))))","v":0},{"$f":"IF(Data!$AI22=1,50,IF($G22=0,0,CHOOSE($G22,SUMPRODUCT($O23:$O$81*U23:U$81*($D23:$D$81=$C22)),IF(ISNUMBER(Data!S22),100*ABS($F22-(Data!S22-$J22)/$L22),0),IF(ISNUMBER(Data!S22),100*ABS($F22-(Data!S22-$J22)/$L22),0))))","v":100},{"$f":"IF(Data!$AI22=1,50,IF($G22=0,0,CHOOSE($G22,SUMPRODUCT($O23:$O$81*V23:V$81*($D23:$D$81=$C22)),IF(ISNUMBER(Data!T22),100*ABS($F22-(Data!T22-$J22)/$L22),0),IF(ISNUMBER(Data!T22),100*ABS($F22-(Data!T22-$J22)/$L22),0))))","v":100},{"$f":"IF(Data!$AI22=1,50,IF($G22=0,0,CHOOSE($G22,SUMPRODUCT($O23:$O$81*W23:W$81*($D23:$D$81=$C22)),IF(ISNUMBER(Data!U22),100*ABS($F22-(Data!U22-$J22)/$L22),0),IF(ISNUMBER(Data!U22),100*ABS($F22-(Data!U22-$J22)/$L22),0))))","v":100},{"$f":"IF(Data!$AI22=1,50,IF($G22=0,0,CHOOSE($G22,SUMPRODUCT($O23:$O$81*X23:X$81*($D23:$D$81=$C22)),IF(ISNUMBER(Data!V22),100*ABS($F22-(Data!V22-$J22)/$L22),0),IF(ISNUMBER(Data!V22),100*ABS($F22-(Data!V22-$J22)/$L22),0))))","v":0},{"$f":"IF(Data!$AI22=1,50,IF($G22=0,0,CHOOSE($G22,SUMPRODUCT($O23:$O$81*Y23:Y$81*($D23:$D$81=$C22)),IF(ISNUMBER(Data!W22),100*ABS($F22-(Data!W22-$J22)/$L22),0),IF(ISNUMBER(Data!W22),100*ABS($F22-(Data!W22-$J22)/$L22),0))))","v":0},{"$f":"IF(Data!$AI22=1,50,IF($G22=0,0,CHOOSE($G22,SUMPRODUCT($O23:$O$81*Z23:Z$81*($D23:$D$81=$C22)),IF(ISNUMBER(Data!X22),100*ABS($F22-(Data!X22-$J22)/$L22),0),IF(ISNUMBER(Data!X22),100*ABS($F22-(Data!X22-$J22)/$L22),0))))","v":0},{"$f":"IF(Data!$AI22=1,50,IF($G22=0,0,CHOOSE($G22,SUMPRODUCT($O23:$O$81*AA23:AA$81*($D23:$D$81=$C22)),IF(ISNUMBER(Data!Y22),100*ABS($F22-(Data!Y22-$J22)/$L22),0),IF(ISNUMBER(Data!Y22),100*ABS($F22-(Data!Y22-$J22)/$L22),0))))","v":0},{"$f":"IF(Data!$AI22=1,50,IF($G22=0,0,CHOOSE($G22,SUMPRODUCT($O23:$O$81*AB23:AB$81*($D23:$D$81=$C22)),IF(ISNUMBER(Data!Z22),100*ABS($F22-(Data!Z22-$J22)/$L22),0),IF(ISNUMBER(Data!Z22),100*ABS($F22-(Data!Z22-$J22)/$L22),0))))","v":0},{"$f":"IF(Data!$AI22=1,50,IF($G22=0,0,CHOOSE($G22,SUMPRODUCT($O23:$O$81*AC23:AC$81*($D23:$D$81=$C22)),IF(ISNUMBER(Data!AA22),100*ABS($F22-(Data!AA22-$J22)/$L22),0),IF(ISNUMBER(Data!AA22),100*ABS($F22-(Data!AA22-$J22)/$L22),0))))","v":100},{"$f":"IF(Data!$AI22=1,50,IF($G22=0,0,CHOOSE($G22,SUMPRODUCT($O23:$O$81*AD23:AD$81*($D23:$D$81=$C22)),IF(ISNUMBER(Data!AB22),100*ABS($F22-(Data!AB22-$J22)/$L22),0),IF(ISNUMBER(Data!AB22),100*ABS($F22-(Data!AB22-$J22)/$L22),0))))","v":0},{"$f":"IF(Data!$AI22=1,50,IF($G22=0,0,CHOOSE($G22,SUMPRODUCT($O23:$O$81*AE23:AE$81*($D23:$D$81=$C22)),IF(ISNUMBER(Data!AC22),100*ABS($F22-(Data!AC22-$J22)/$L22),0),IF(ISNUMBER(Data!AC22),100*ABS($F22-(Data!AC22-$J22)/$L22),0))))","v":100},{"$f":"IF(Data!$AI22=1,50,IF($G22=0,0,CHOOSE($G22,SUMPRODUCT($O23:$O$81*AF23:AF$81*($D23:$D$81=$C22)),IF(ISNUMBER(Data!AD22),100*ABS($F22-(Data!AD22-$J22)/$L22),0),IF(ISNUMBER(Data!AD22),100*ABS($F22-(Data!AD22-$J22)/$L22),0))))","v":0},{"$f":"IF(Data!$AI22=1,50,IF($G22=0,0,CHOOSE($G22,SUMPRODUCT($O23:$O$81*AG23:AG$81*($D23:$D$81=$C22)),IF(ISNUMBER(Data!AE22),100*ABS($F22-(Data!AE22-$J22)/$L22),0),IF(ISNUMBER(Data!AE22),100*ABS($F22-(Data!AE22-$J22)/$L22),0))))","v":100},{"$f":"IF(Data!$AI22=1,50,IF($G22=0,0,CHOOSE($G22,SUMPRODUCT($O23:$O$81*AH23:AH$81*($D23:$D$81=$C22)),IF(ISNUMBER(Data!AF22),100*ABS($F22-(Data!AF22-$J22)/$L22),0),IF(ISNUMBER(Data!AF22),100*ABS($F22-(Data!AF22-$J22)/$L22),0))))","v":100},{"$f":"IF(Data!$AI22=1,50,IF($G22=0,0,CHOOSE($G22,SUMPRODUCT($O23:$O$81*AI23:AI$81*($D23:$D$81=$C22)),IF(ISNUMBER(Data!AG22),100*ABS($F22-(Data!AG22-$J22)/$L22),0),IF(ISNUMBER(Data!AG22),100*ABS($F22-(Data!AG22-$J22)/$L22),0))))","v":100}]
[null,{"$f":"tblIndicators!A17","v":16},{"$f":"tblIndicators!B17","v":"PLCAP_6"},{"$f":"tblIndicators!C17","v":"PLCAP"},{"$f":"tblIndicators!D17","v":2},{"$f":"tblIndicators!L17","v":0},{"$f":"tblIndicators!V17","v":1},{"$f":"tblIndicators!W17","v":0},{"$f":"tblIndicators!X17","v":100},{"$f":"CHOOSE(G23,\"-\",Data!H23,H23)","v":"-"},{"$f":"CHOOSE(G23,\"-\",Data!I23,I23)","v":"-"},"-",{"$f":"tblIndicators!AE17","v":"1.6) Extractive industries transparency"},0.14285714285714285,{"$f":"tblIndicators!AJ17","v":0.14285714285714285},{"$f":"IF(Data!$AI23=1,50,IF($G23=0,0,CHOOSE($G23,SUMPRODUCT($O24:$O$81*P24:P$81*($D24:$D$81=$C23)),IF(ISNUMBER(Data!N23),100*ABS($F23-(Data!N23-$J23)/$L23),0),IF(ISNUMBER(Data!N23),100*ABS($F23-(Data!N23-$J23)/$L23),0))))","v":0},{"$f":"IF(Data!$AI23=1,50,IF($G23=0,0,CHOOSE($G23,SUMPRODUCT($O24:$O$81*Q24:Q$81*($D24:$D$81=$C23)),IF(ISNUMBER(Data!O23),100*ABS($F23-(Data!O23-$J23)/$L23),0),IF(ISNUMBER(Data!O23),100*ABS($F23-(Data!O23-$J23)/$L23),0))))","v":0},{"$f":"IF(Data!$AI23=1,50,IF($G23=0,0,CHOOSE($G23,SUMPRODUCT($O24:$O$81*R24:R$81*($D24:$D$81=$C23)),IF(ISNUMBER(Data!P23),100*ABS($F23-(Data!P23-$J23)/$L23),0),IF(ISNUMBER(Data!P23),100*ABS($F23-(Data!P23-$J23)/$L23),0))))","v":0},{"$f":"IF(Data!$AI23=1,50,IF($G23=0,0,CHOOSE($G23,SUMPRODUCT($O24:$O$81*S24:S$81*($D24:$D$81=$C23)),IF(ISNUMBER(Data!Q23),100*ABS($F23-(Data!Q23-$J23)/$L23),0),IF(ISNUMBER(Data!Q23),100*ABS($F23-(Data!Q23-$J23)/$L23),0))))","v":0},{"$f":"IF(Data!$AI23=1,50,IF($G23=0,0,CHOOSE($G23,SUMPRODUCT($O24:$O$81*T24:T$81*($D24:$D$81=$C23)),IF(ISNUMBER(Data!R23),100*ABS($F23-(Data!R23-$J23)/$L23),0),IF(ISNUMBER(Data!R23),100*ABS($F23-(Data!R23-$J23)/$L23),0))))","v":100},{"$f":"IF(Data!$AI23=1,50,IF($G23=0,0,CHOOSE($G23,SUMPRODUCT($O24:$O$81*U24:U$81*($D24:$D$81=$C23)),IF(ISNUMBER(Data!S23),100*ABS($F23-(Data!S23-$J23)/$L23),0),IF(ISNUMBER(Data!S23),100*ABS($F23-(Data!S23-$J23)/$L23),0))))","v":0},{"$f":"IF(Data!$AI23=1,50,IF($G23=0,0,CHOOSE($G23,SUMPRODUCT($O24:$O$81*V24:V$81*($D24:$D$81=$C23)),IF(ISNUMBER(Data!T23),100*ABS($F23-(Data!T23-$J23)/$L23),0),IF(ISNUMBER(Data!T23),100*ABS($F23-(Data!T23-$J23)/$L23),0))))","v":33.333333333333329},{"$f":"IF(Data!$AI23=1,50,IF($G23=0,0,CHOOSE($G23,SUMPRODUCT($O24:$O$81*W24:W$81*($D24:$D$81=$C23)),IF(ISNUMBER(Data!U23),100*ABS($F23-(Data!U23-$J23)/$L23),0),IF(ISNUMBER(Data!U23),100*ABS($F23-(Data!U23-$J23)/$L23),0))))","v":100},{"$f":"IF(Data!$AI23=1,50,IF($G23=0,0,CHOOSE($G23,SUMPRODUCT($O24:$O$81*X24:X$81*($D24:$D$81=$C23)),IF(ISNUMBER(Data!V23),100*ABS($F23-(Data!V23-$J23)/$L23),0),IF(ISNUMBER(Data!V23),100*ABS($F23-(Data!V23-$J23)/$L23),0))))","v":0},{"$f":"IF(Data!$AI23=1,50,IF($G23=0,0,CHOOSE($G23,SUMPRODUCT($O24:$O$81*Y24:Y$81*($D24:$D$81=$C23)),IF(ISNUMBER(Data!W23),100*ABS($F23-(Data!W23-$J23)/$L23),0),IF(ISNUMBER(Data!W23),100*ABS($F23-(Data!W23-$J23)/$L23),0))))","v":100},{"$f":"IF(Data!$AI23=1,50,IF($G23=0,0,CHOOSE($G23,SUMPRODUCT($O24:$O$81*Z24:Z$81*($D24:$D$81=$C23)),IF(ISNUMBER(Data!X23),100*ABS($F23-(Data!X23-$J23)/$L23),0),IF(ISNUMBER(Data!X23),100*ABS($F23-(Data!X23-$J23)/$L23),0))))","v":100},{"$f":"IF(Data!$AI23=1,50,IF($G23=0,0,CHOOSE($G23,SUMPRODUCT($O24:$O$81*AA24:AA$81*($D24:$D$81=$C23)),IF(ISNUMBER(Data!Y23),100*ABS($F23-(Data!Y23-$J23)/$L23),0),IF(ISNUMBER(Data!Y23),100*ABS($F23-(Data!Y23-$J23)/$L23),0))))","v":100},{"$f":"IF(Data!$AI23=1,50,IF($G23=0,0,CHOOSE($G23,SUMPRODUCT($O24:$O$81*AB24:AB$81*($D24:$D$81=$C23)),IF(ISNUMBER(Data!Z23),100*ABS($F23-(Data!Z23-$J23)/$L23),0),IF(ISNUMBER(Data!Z23),100*ABS($F23-(Data!Z23-$J23)/$L23),0))))","v":100},{"$f":"IF(Data!$AI23=1,50,IF($G23=0,0,CHOOSE($G23,SUMPRODUCT($O24:$O$81*AC24:AC$81*($D24:$D$81=$C23)),IF(ISNUMBER(Data!AA23),100*ABS($F23-(Data!AA23-$J23)/$L23),0),IF(ISNUMBER(Data!AA23),100*ABS($F23-(Data!AA23-$J23)/$L23),0))))","v":66.666666666666657},{"$f":"IF(Data!$AI23=1,50,IF($G23=0,0,CHOOSE($G23,SUMPRODUCT($O24:$O$81*AD24:AD$81*($D24:$D$81=$C23)),IF(ISNUMBER(Data!AB23),100*ABS($F23-(Data!AB23-$J23)/$L23),0),IF(ISNUMBER(Data!AB23),100*ABS($F23-(Data!AB23-$J23)/$L23),0))))","v":0},{"$f":"IF(Data!$AI23=1,50,IF($G23=0,0,CHOOSE($G23,SUMPRODUCT($O24:$O$81*AE24:AE$81*($D24:$D$81=$C23)),IF(ISNUMBER(Data!AC23),100*ABS($F23-(Data!AC23-$J23)/$L23),0),IF(ISNUMBER(Data!AC23),100*ABS($F23-(Data!AC23-$J23)/$L23),0))))","v":0},{"$f":"IF(Data!$AI23=1,50,IF($G23=0,0,CHOOSE($G23,SUMPRODUCT($O24:$O$81*AF24:AF$81*($D24:$D$81=$C23)),IF(ISNUMBER(Data!AD23),100*ABS($F23-(Data!AD23-$J23)/$L23),0),IF(ISNUMBER(Data!AD23),100*ABS($F23-(Data!AD23-$J23)/$L23),0))))","v":100},{"$f":"IF(Data!$AI23=1,50,IF($G23=0,0,CHOOSE($G23,SUMPRODUCT($O24:$O$81*AG24:AG$81*($D24:$D$81=$C23)),IF(ISNUMBER(Data!AE23),100*ABS($F23-(Data!AE23-$J23)/$L23),0),IF(ISNUMBER(Data!AE23),100*ABS($F23-(Data!AE23-$J23)/$L23),0))))","v":0},{"$f":"IF(Data!$AI23=1,50,IF($G23=0,0,CHOOSE($G23,SUMPRODUCT($O24:$O$81*AH24:AH$81*($D24:$D$81=$C23)),IF(ISNUMBER(Data!AF23),100*ABS($F23-(Data!AF23-$J23)/$L23),0),IF(ISNUMBER(Data!AF23),100*ABS($F23-(Data!AF23-$J23)/$L23),0))))","v":66.666666666666657},{"$f":"IF(Data!$AI23=1,50,IF($G23=0,0,CHOOSE($G23,SUMPRODUCT($O24:$O$81*AI24:AI$81*($D24:$D$81=$C23)),IF(ISNUMBER(Data!AG23),100*ABS($F23-(Data!AG23-$J23)/$L23),0),IF(ISNUMBER(Data!AG23),100*ABS($F23-(Data!AG23-$J23)/$L23),0))))","v":0}]
[null,{"$f":"tblIndicators!A18","v":17},{"$f":"tblIndicators!B18","v":"PLCAP_6_1"},{"$f":"tblIndicators!C18","v":"PLCAP_6"},{"$f":"tblIndicators!D18","v":3},{"$f":"tblIndicators!L18","v":0},{"$f":"tblIndicators!V18","v":3},{"$f":"tblIndicators!W18","v":0},{"$f":"tblIndicators!X18","v":3},{"$f":"CHOOSE(G24,\"-\",Data!H24,H24)","v":0},{"$f":"CHOOSE(G24,\"-\",Data!I24,I24)","v":3},3,{"$f":"tblIndicators!AE18","v":"1.6.1) Adoption of EITI standards"},"",{"$f":"tblIndicators!AJ18","v":1},{"$f":"IF(Data!$AI24=1,50,IF($G24=0,0,CHOOSE($G24,SUMPRODUCT($O25:$O$81*P25:P$81*($D25:$D$81=$C24)),IF(ISNUMBER(Data!N24),100*ABS($F24-(Data!N24-$J24)/$L24),0),IF(ISNUMBER(Data!N24),100*ABS($F24-(Data!N24-$J24)/$L24),0))))","v":0},{"$f":"IF(Data!$AI24=1,50,IF($G24=0,0,CHOOSE($G24,SUMPRODUCT($O25:$O$81*Q25:Q$81*($D25:$D$81=$C24)),IF(ISNUMBER(Data!O24),100*ABS($F24-(Data!O24-$J24)/$L24),0),IF(ISNUMBER(Data!O24),100*ABS($F24-(Data!O24-$J24)/$L24),0))))","v":0},{"$f":"IF(Data!$AI24=1,50,IF($G24=0,0,CHOOSE($G24,SUMPRODUCT($O25:$O$81*R25:R$81*($D25:$D$81=$C24)),IF(ISNUMBER(Data!P24),100*ABS($F24-(Data!P24-$J24)/$L24),0),IF(ISNUMBER(Data!P24),100*ABS($F24-(Data!P24-$J24)/$L24),0))))","v":0},{"$f":"IF(Data!$AI24=1,50,IF($G24=0,0,CHOOSE($G24,SUMPRODUCT($O25:$O$81*S25:S$81*($D25:$D$81=$C24)),IF(ISNUMBER(Data!Q24),100*ABS($F24-(Data!Q24-$J24)/$L24),0),IF(ISNUMBER(Data!Q24),100*ABS($F24-(Data!Q24-$J24)/$L24),0))))","v":0},{"$f":"IF(Data!$AI24=1,50,IF($G24=0,0,CHOOSE($G24,SUMPRODUCT($O25:$O$81*T25:T$81*($D25:$D$81=$C24)),IF(ISNUMBER(Data!R24),100*ABS($F24-(Data!R24-$J24)/$L24),0),IF(ISNUMBER(Data!R24),100*ABS($F24-(Data!R24-$J24)/$L24),0))))","v":100},{"$f":"IF(Data!$AI24=1,50,IF($G24=0,0,CHOOSE($G24,SUMPRODUCT($O25:$O$81*U25:U$81*($D25:$D$81=$C24)),IF(ISNUMBER(Data!S24),100*ABS($F24-(Data!S24-$J24)/$L24),0),IF(ISNUMBER(Data!S24),100*ABS($F24-(Data!S24-$J24)/$L24),0))))","v":0},{"$f":"IF(Data!$AI24=1,50,IF($G24=0,0,CHOOSE($G24,SUMPRODUCT($O25:$O$81*V25:V$81*($D25:$D$81=$C24)),IF(ISNUMBER(Data!T24),100*ABS($F24-(Data!T24-$J24)/$L24),0),IF(ISNUMBER(Data!T24),100*ABS($F24-(Data!T24-$J24)/$L24),0))))","v":33.333333333333329},{"$f":"IF(Data!$AI24=1,50,IF($G24=0,0,CHOOSE($G24,SUMPRODUCT($O25:$O$81*W25:W$81*($D25:$D$81=$C24)),IF(ISNUMBER(Data!U24),100*ABS($F24-(Data!U24-$J24)/$L24),0),IF(ISNUMBER(Data!U24),100*ABS($F24-(Data!U24-$J24)/$L24),0))))","v":100},{"$f":"IF(Data!$AI24=1,50,IF($G24=0,0,CHOOSE($G24,SUMPRODUCT($O25:$O$81*X25:X$81*($D25:$D$81=$C24)),IF(ISNUMBER(Data!V24),100*ABS($F24-(Data!V24-$J24)/$L24),0),IF(ISNUMBER(Data!V24),100*ABS($F24-(Data!V24-$J24)/$L24),0))))","v":0},{"$f":"IF(Data!$AI24=1,50,IF($G24=0,0,CHOOSE($G24,SUMPRODUCT($O25:$O$81*Y25:Y$81*($D25:$D$81=$C24)),IF(ISNUMBER(Data!W24),100*ABS($F24-(Data!W24-$J24)/$L24),0),IF(ISNUMBER(Data!W24),100*ABS($F24-(Data!W24-$J24)/$L24),0))))","v":100},{"$f":"IF(Data!$AI24=1,50,IF($G24=0,0,CHOOSE($G24,SUMPRODUCT($O25:$O$81*Z25:Z$81*($D25:$D$81=$C24)),IF(ISNUMBER(Data!X24),100*ABS($F24-(Data!X24-$J24)/$L24),0),IF(ISNUMBER(Data!X24),100*ABS($F24-(Data!X24-$J24)/$L24),0))))","v":100},{"$f":"IF(Data!$AI24=1,50,IF($G24=0,0,CHOOSE($G24,SUMPRODUCT($O25:$O$81*AA25:AA$81*($D25:$D$81=$C24)),IF(ISNUMBER(Data!Y24),100*ABS($F24-(Data!Y24-$J24)/$L24),0),IF(ISNUMBER(Data!Y24),100*ABS($F24-(Data!Y24-$J24)/$L24),0))))","v":100},{"$f":"IF(Data!$AI24=1,50,IF($G24=0,0,CHOOSE($G24,SUMPRODUCT($O25:$O$81*AB25:AB$81*($D25:$D$81=$C24)),IF(ISNUMBER(Data!Z24),100*ABS($F24-(Data!Z24-$J24)/$L24),0),IF(ISNUMBER(Data!Z24),100*ABS($F24-(Data!Z24-$J24)/$L24),0))))","v":100},{"$f":"IF(Data!$AI24=1,50,IF($G24=0,0,CHOOSE($G24,SUMPRODUCT($O25:$O$81*AC25:AC$81*($D25:$D$81=$C24)),IF(ISNUMBER(Data!AA24),100*ABS($F24-(Data!AA24-$J24)/$L24),0),IF(ISNUMBER(Data!AA24),100*ABS($F24-(Data!AA24-$J24)/$L24),0))))","v":66.666666666666657},{"$f":"IF(Data!$AI24=1,50,IF($G24=0,0,CHOOSE($G24,SUMPRODUCT($O25:$O$81*AD25:AD$81*($D25:$D$81=$C24)),IF(ISNUMBER(Data!AB24),100*ABS($F24-(Data!AB24-$J24)/$L24),0),IF(ISNUMBER(Data!AB24),100*ABS($F24-(Data!AB24-$J24)/$L24),0))))","v":0},{"$f":"IF(Data!$AI24=1,50,IF($G24=0,0,CHOOSE($G24,SUMPRODUCT($O25:$O$81*AE25:AE$81*($D25:$D$81=$C24)),IF(ISNUMBER(Data!AC24),100*ABS($F24-(Data!AC24-$J24)/$L24),0),IF(ISNUMBER(Data!AC24),100*ABS($F24-(Data!AC24-$J24)/$L24),0))))","v":0},{"$f":"IF(Data!$AI24=1,50,IF($G24=0,0,CHOOSE($G24,SUMPRODUCT($O25:$O$81*AF25:AF$81*($D25:$D$81=$C24)),IF(ISNUMBER(Data!AD24),100*ABS($F24-(Data!AD24-$J24)/$L24),0),IF(ISNUMBER(Data!AD24),100*ABS($F24-(Data!AD24-$J24)/$L24),0))))","v":100},{"$f":"IF(Data!$AI24=1,50,IF($G24=0,0,CHOOSE($G24,SUMPRODUCT($O25:$O$81*AG25:AG$81*($D25:$D$81=$C24)),IF(ISNUMBER(Data!AE24),100*ABS($F24-(Data!AE24-$J24)/$L24),0),IF(ISNUMBER(Data!AE24),100*ABS($F24-(Data!AE24-$J24)/$L24),0))))","v":0},{"$f":"IF(Data!$AI24=1,50,IF($G24=0,0,CHOOSE($G24,SUMPRODUCT($O25:$O$81*AH25:AH$81*($D25:$D$81=$C24)),IF(ISNUMBER(Data!AF24),100*ABS($F24-(Data!AF24-$J24)/$L24),0),IF(ISNUMBER(Data!AF24),100*ABS($F24-(Data!AF24-$J24)/$L24),0))))","v":66.666666666666657},{"$f":"IF(Data!$AI24=1,50,IF($G24=0,0,CHOOSE($G24,SUMPRODUCT($O25:$O$81*AI25:AI$81*($D25:$D$81=$C24)),IF(ISNUMBER(Data!AG24),100*ABS($F24-(Data!AG24-$J24)/$L24),0),IF(ISNUMBER(Data!AG24),100*ABS($F24-(Data!AG24-$J24)/$L24),0))))","v":0}]
[null,{"$f":"tblIndicators!A19","v":18},{"$f":"tblIndicators!B19","v":"PLCAP_7"},{"$f":"tblIndicators!C19","v":"PLCAP"},{"$f":"tblIndicators!D19","v":2},{"$f":"tblIndicators!L19","v":0},{"$f":"tblIndicators!V19","v":1},{"$f":"tblIndicators!W19","v":0},{"$f":"tblIndicators!X19","v":100},{"$f":"CHOOSE(G25,\"-\",Data!H25,H25)","v":"-"},{"$f":"CHOOSE(G25,\"-\",Data!I25,I25)","v":"-"},"-",{"$f":"tblIndicators!AE19","v":"1.7) Adoption of the United Nations Convention on the Law of the Sea (UNCLOS)"},0.14285714285714285,{"$f":"tblIndicators!AJ19","v":0.14285714285714285},{"$f":"IF(Data!$AI25=1,50,IF($G25=0,0,CHOOSE($G25,SUMPRODUCT($O26:$O$81*P26:P$81*($D26:$D$81=$C25)),IF(ISNUMBER(Data!N25),100*ABS($F25-(Data!N25-$J25)/$L25),0),IF(ISNUMBER(Data!N25),100*ABS($F25-(Data!N25-$J25)/$L25),0))))","v":100},{"$f":"IF(Data!$AI25=1,50,IF($G25=0,0,CHOOSE($G25,SUMPRODUCT($O26:$O$81*Q26:Q$81*($D26:$D$81=$C25)),IF(ISNUMBER(Data!O25),100*ABS($F25-(Data!O25-$J25)/$L25),0),IF(ISNUMBER(Data!O25),100*ABS($F25-(Data!O25-$J25)/$L25),0))))","v":100},{"$f":"IF(Data!$AI25=1,50,IF($G25=0,0,CHOOSE($G25,SUMPRODUCT($O26:$O$81*R26:R$81*($D26:$D$81=$C25)),IF(ISNUMBER(Data!P25),100*ABS($F25-(Data!P25-$J25)/$L25),0),IF(ISNUMBER(Data!P25),100*ABS($F25-(Data!P25-$J25)/$L25),0))))","v":100},{"$f":"IF(Data!$AI25=1,50,IF($G25=0,0,CHOOSE($G25,SUMPRODUCT($O26:$O$81*S26:S$81*($D26:$D$81=$C25)),IF(ISNUMBER(Data!Q25),100*ABS($F25-(Data!Q25-$J25)/$L25),0),IF(ISNUMBER(Data!Q25),100*ABS($F25-(Data!Q25-$J25)/$L25),0))))","v":100},{"$f":"IF(Data!$AI25=1,50,IF($G25=0,0,CHOOSE($G25,SUMPRODUCT($O26:$O$81*T26:T$81*($D26:$D$81=$C25)),IF(ISNUMBER(Data!R25),100*ABS($F25-(Data!R25-$J25)/$L25),0),IF(ISNUMBER(Data!R25),100*ABS($F25-(Data!R25-$J25)/$L25),0))))","v":100},{"$f":"IF(Data!$AI25=1,50,IF($G25=0,0,CHOOSE($G25,SUMPRODUCT($O26:$O$81*U26:U$81*($D26:$D$81=$C25)),IF(ISNUMBER(Data!S25),100*ABS($F25-(Data!S25-$J25)/$L25),0),IF(ISNUMBER(Data!S25),100*ABS($F25-(Data!S25-$J25)/$L25),0))))","v":100},{"$f":"IF(Data!$AI25=1,50,IF($G25=0,0,CHOOSE($G25,SUMPRODUCT($O26:$O$81*V26:V$81*($D26:$D$81=$C25)),IF(ISNUMBER(Data!T25),100*ABS($F25-(Data!T25-$J25)/$L25),0),IF(ISNUMBER(Data!T25),100*ABS($F25-(Data!T25-$J25)/$L25),0))))","v":100},{"$f":"IF(Data!$AI25=1,50,IF($G25=0,0,CHOOSE($G25,SUMPRODUCT($O26:$O$81*W26:W$81*($D26:$D$81=$C25)),IF(ISNUMBER(Data!U25),100*ABS($F25-(Data!U25-$J25)/$L25),0),IF(ISNUMBER(Data!U25),100*ABS($F25-(Data!U25-$J25)/$L25),0))))","v":100},{"$f":"IF(Data!$AI25=1,50,IF($G25=0,0,CHOOSE($G25,SUMPRODUCT($O26:$O$81*X26:X$81*($D26:$D$81=$C25)),IF(ISNUMBER(Data!V25),100*ABS($F25-(Data!V25-$J25)/$L25),0),IF(ISNUMBER(Data!V25),100*ABS($F25-(Data!V25-$J25)/$L25),0))))","v":100},{"$f":"IF(Data!$AI25=1,50,IF($G25=0,0,CHOOSE($G25,SUMPRODUCT($O26:$O$81*Y26:Y$81*($D26:$D$81=$C25)),IF(ISNUMBER(Data!W25),100*ABS($F25-(Data!W25-$J25)/$L25),0),IF(ISNUMBER(Data!W25),100*ABS($F25-(Data!W25-$J25)/$L25),0))))","v":100},{"$f":"IF(Data!$AI25=1,50,IF($G25=0,0,CHOOSE($G25,SUMPRODUCT($O26:$O$81*Z26:Z$81*($D26:$D$81=$C25)),IF(ISNUMBER(Data!X25),100*ABS($F25-(Data!X25-$J25)/$L25),0),IF(ISNUMBER(Data!X25),100*ABS($F25-(Data!X25-$J25)/$L25),0))))","v":100},{"$f":"IF(Data!$AI25=1,50,IF($G25=0,0,CHOOSE($G25,SUMPRODUCT($O26:$O$81*AA26:AA$81*($D26:$D$81=$C25)),IF(ISNUMBER(Data!Y25),100*ABS($F25-(Data!Y25-$J25)/$L25),0),IF(ISNUMBER(Data!Y25),100*ABS($F25-(Data!Y25-$J25)/$L25),0))))","v":100},{"$f":"IF(Data!$AI25=1,50,IF($G25=0,0,CHOOSE($G25,SUMPRODUCT($O26:$O$81*AB26:AB$81*($D26:$D$81=$C25)),IF(ISNUMBER(Data!Z25),100*ABS($F25-(Data!Z25-$J25)/$L25),0),IF(ISNUMBER(Data!Z25),100*ABS($F25-(Data!Z25-$J25)/$L25),0))))","v":0},{"$f":"IF(Data!$AI25=1,50,IF($G25=0,0,CHOOSE($G25,SUMPRODUCT($O26:$O$81*AC26:AC$81*($D26:$D$81=$C25)),IF(ISNUMBER(Data!AA25),100*ABS($F25-(Data!AA25-$J25)/$L25),0),IF(ISNUMBER(Data!AA25),100*ABS($F25-(Data!AA25-$J25)/$L25),0))))","v":100},{"$f":"IF(Data!$AI25=1,50,IF($G25=0,0,CHOOSE($G25,SUMPRODUCT($O26:$O$81*AD26:AD$81*($D26:$D$81=$C25)),IF(ISNUMBER(Data!AB25),100*ABS($F25-(Data!AB25-$J25)/$L25),0),IF(ISNUMBER(Data!AB25),100*ABS($F25-(Data!AB25-$J25)/$L25),0))))","v":100},{"$f":"IF(Data!$AI25=1,50,IF($G25=0,0,CHOOSE($G25,SUMPRODUCT($O26:$O$81*AE26:AE$81*($D26:$D$81=$C25)),IF(ISNUMBER(Data!AC25),100*ABS($F25-(Data!AC25-$J25)/$L25),0),IF(ISNUMBER(Data!AC25),100*ABS($F25-(Data!AC25-$J25)/$L25),0))))","v":100},{"$f":"IF(Data!$AI25=1,50,IF($G25=0,0,CHOOSE($G25,SUMPRODUCT($O26:$O$81*AF26:AF$81*($D26:$D$81=$C25)),IF(ISNUMBER(Data!AD25),100*ABS($F25-(Data!AD25-$J25)/$L25),0),IF(ISNUMBER(Data!AD25),100*ABS($F25-(Data!AD25-$J25)/$L25),0))))","v":100},{"$f":"IF(Data!$AI25=1,50,IF($G25=0,0,CHOOSE($G25,SUMPRODUCT($O26:$O$81*AG26:AG$81*($D26:$D$81=$C25)),IF(ISNUMBER(Data!AE25),100*ABS($F25-(Data!AE25-$J25)/$L25),0),IF(ISNUMBER(Data!AE25),100*ABS($F25-(Data!AE25-$J25)/$L25),0))))","v":100},{"$f":"IF(Data!$AI25=1,50,IF($G25=0,0,CHOOSE($G25,SUMPRODUCT($O26:$O$81*AH26:AH$81*($D26:$D$81=$C25)),IF(ISNUMBER(Data!AF25),100*ABS($F25-(Data!AF25-$J25)/$L25),0),IF(ISNUMBER(Data!AF25),100*ABS($F25-(Data!AF25-$J25)/$L25),0))))","v":50},{"$f":"IF(Data!$AI25=1,50,IF($G25=0,0,CHOOSE($G25,SUMPRODUCT($O26:$O$81*AI26:AI$81*($D26:$D$81=$C25)),IF(ISNUMBER(Data!AG25),100*ABS($F25-(Data!AG25-$J25)/$L25),0),IF(ISNUMBER(Data!AG25),100*ABS($F25-(Data!AG25-$J25)/$L25),0))))","v":100}]
[null,{"$f":"tblIndicators!A20","v":19},{"$f":"tblIndicators!B20","v":"PLCAP_7_1"},{"$f":"tblIndicators!C20","v":"PLCAP_7"},{"$f":"tblIndicators!D20","v":3},{"$f":"tblIndicators!L20","v":0},{"$f":"tblIndicators!V20","v":3},{"$f":"tblIndicators!W20","v":0},{"$f":"tblIndicators!X20","v":2},{"$f":"CHOOSE(G26,\"-\",Data!H26,H26)","v":0},{"$f":"CHOOSE(G26,\"-\",Data!I26,I26)","v":2},2,{"$f":"tblIndicators!AE20","v":"1.7.1) Adoption of UNCLOS"},"",{"$f":"tblIndicators!AJ20","v":1},{"$f":"IF(Data!$AI26=1,50,IF($G26=0,0,CHOOSE($G26,SUMPRODUCT($O27:$O$81*P27:P$81*($D27:$D$81=$C26)),IF(ISNUMBER(Data!N26),100*ABS($F26-(Data!N26-$J26)/$L26),0),IF(ISNUMBER(Data!N26),100*ABS($F26-(Data!N26-$J26)/$L26),0))))","v":100},{"$f":"IF(Data!$AI26=1,50,IF($G26=0,0,CHOOSE($G26,SUMPRODUCT($O27:$O$81*Q27:Q$81*($D27:$D$81=$C26)),IF(ISNUMBER(Data!O26),100*ABS($F26-(Data!O26-$J26)/$L26),0),IF(ISNUMBER(Data!O26),100*ABS($F26-(Data!O26-$J26)/$L26),0))))","v":100},{"$f":"IF(Data!$AI26=1,50,IF($G26=0,0,CHOOSE($G26,SUMPRODUCT($O27:$O$81*R27:R$81*($D27:$D$81=$C26)),IF(ISNUMBER(Data!P26),100*ABS($F26-(Data!P26-$J26)/$L26),0),IF(ISNUMBER(Data!P26),100*ABS($F26-(Data!P26-$J26)/$L26),0))))","v":100},{"$f":"IF(Data!$AI26=1,50,IF($G26=0,0,CHOOSE($G26,SUMPRODUCT($O27:$O$81*S27:S$81*($D27:$D$81=$C26)),IF(ISNUMBER(Data!Q26),100*ABS($F26-(Data!Q26-$J26)/$L26),0),IF(ISNUMBER(Data!Q26),100*ABS($F26-(Data!Q26-$J26)/$L26),0))))","v":100},{"$f":"IF(Data!$AI26=1,50,IF($G26=0,0,CHOOSE($G26,SUMPRODUCT($O27:$O$81*T27:T$81*($D27:$D$81=$C26)),IF(ISNUMBER(Data!R26),100*ABS($F26-(Data!R26-$J26)/$L26),0),IF(ISNUMBER(Data!R26),100*ABS($F26-(Data!R26-$J26)/$L26),0))))","v":100},{"$f":"IF(Data!$AI26=1,50,IF($G26=0,0,CHOOSE($G26,SUMPRODUCT($O27:$O$81*U27:U$81*($D27:$D$81=$C26)),IF(ISNUMBER(Data!S26),100*ABS($F26-(Data!S26-$J26)/$L26),0),IF(ISNUMBER(Data!S26),100*ABS($F26-(Data!S26-$J26)/$L26),0))))","v":100},{"$f":"IF(Data!$AI26=1,50,IF($G26=0,0,CHOOSE($G26,SUMPRODUCT($O27:$O$81*V27:V$81*($D27:$D$81=$C26)),IF(ISNUMBER(Data!T26),100*ABS($F26-(Data!T26-$J26)/$L26),0),IF(ISNUMBER(Data!T26),100*ABS($F26-(Data!T26-$J26)/$L26),0))))","v":100},{"$f":"IF(Data!$AI26=1,50,IF($G26=0,0,CHOOSE($G26,SUMPRODUCT($O27:$O$81*W27:W$81*($D27:$D$81=$C26)),IF(ISNUMBER(Data!U26),100*ABS($F26-(Data!U26-$J26)/$L26),0),IF(ISNUMBER(Data!U26),100*ABS($F26-(Data!U26-$J26)/$L26),0))))","v":100},{"$f":"IF(Data!$AI26=1,50,IF($G26=0,0,CHOOSE($G26,SUMPRODUCT($O27:$O$81*X27:X$81*($D27:$D$81=$C26)),IF(ISNUMBER(Data!V26),100*ABS($F26-(Data!V26-$J26)/$L26),0),IF(ISNUMBER(Data!V26),100*ABS($F26-(Data!V26-$J26)/$L26),0))))","v":100},{"$f":"IF(Data!$AI26=1,50,IF($G26=0,0,CHOOSE($G26,SUMPRODUCT($O27:$O$81*Y27:Y$81*($D27:$D$81=$C26)),IF(ISNUMBER(Data!W26),100*ABS($F26-(Data!W26-$J26)/$L26),0),IF(ISNUMBER(Data!W26),100*ABS($F26-(Data!W26-$J26)/$L26),0))))","v":100},{"$f":"IF(Data!$AI26=1,50,IF($G26=0,0,CHOOSE($G26,SUMPRODUCT($O27:$O$81*Z27:Z$81*($D27:$D$81=$C26)),IF(ISNUMBER(Data!X26),100*ABS($F26-(Data!X26-$J26)/$L26),0),IF(ISNUMBER(Data!X26),100*ABS($F26-(Data!X26-$J26)/$L26),0))))","v":100},{"$f":"IF(Data!$AI26=1,50,IF($G26=0,0,CHOOSE($G26,SUMPRODUCT($O27:$O$81*AA27:AA$81*($D27:$D$81=$C26)),IF(ISNUMBER(Data!Y26),100*ABS($F26-(Data!Y26-$J26)/$L26),0),IF(ISNUMBER(Data!Y26),100*ABS($F26-(Data!Y26-$J26)/$L26),0))))","v":100},{"$f":"IF(Data!$AI26=1,50,IF($G26=0,0,CHOOSE($G26,SUMPRODUCT($O27:$O$81*AB27:AB$81*($D27:$D$81=$C26)),IF(ISNUMBER(Data!Z26),100*ABS($F26-(Data!Z26-$J26)/$L26),0),IF(ISNUMBER(Data!Z26),100*ABS($F26-(Data!Z26-$J26)/$L26),0))))","v":0},{"$f":"IF(Data!$AI26=1,50,IF($G26=0,0,CHOOSE($G26,SUMPRODUCT($O27:$O$81*AC27:AC$81*($D27:$D$81=$C26)),IF(ISNUMBER(Data!AA26),100*ABS($F26-(Data!AA26-$J26)/$L26),0),IF(ISNUMBER(Data!AA26),100*ABS($F26-(Data!AA26-$J26)/$L26),0))))","v":100},{"$f":"IF(Data!$AI26=1,50,IF($G26=0,0,CHOOSE($G26,SUMPRODUCT($O27:$O$81*AD27:AD$81*($D27:$D$81=$C26)),IF(ISNUMBER(Data!AB26),100*ABS($F26-(Data!AB26-$J26)/$L26),0),IF(ISNUMBER(Data!AB26),100*ABS($F26-(Data!AB26-$J26)/$L26),0))))","v":100},{"$f":"IF(Data!$AI26=1,50,IF($G26=0,0,CHOOSE($G26,SUMPRODUCT($O27:$O$81*AE27:AE$81*($D27:$D$81=$C26)),IF(ISNUMBER(Data!AC26),100*ABS($F26-(Data!AC26-$J26)/$L26),0),IF(ISNUMBER(Data!AC26),100*ABS($F26-(Data!AC26-$J26)/$L26),0))))","v":100},{"$f":"IF(Data!$AI26=1,50,IF($G26=0,0,CHOOSE($G26,SUMPRODUCT($O27:$O$81*AF27:AF$81*($D27:$D$81=$C26)),IF(ISNUMBER(Data!AD26),100*ABS($F26-(Data!AD26-$J26)/$L26),0),IF(ISNUMBER(Data!AD26),100*ABS($F26-(Data!AD26-$J26)/$L26),0))))","v":100},{"$f":"IF(Data!$AI26=1,50,IF($G26=0,0,CHOOSE($G26,SUMPRODUCT($O27:$O$81*AG27:AG$81*($D27:$D$81=$C26)),IF(ISNUMBER(Data!AE26),100*ABS($F26-(Data!AE26-$J26)/$L26),0),IF(ISNUMBER(Data!AE26),100*ABS($F26-(Data!AE26-$J26)/$L26),0))))","v":100},{"$f":"IF(Data!$AI26=1,50,IF($G26=0,0,CHOOSE($G26,SUMPRODUCT($O27:$O$81*AH27:AH$81*($D27:$D$81=$C26)),IF(ISNUMBER(Data!AF26),100*ABS($F26-(Data!AF26-$J26)/$L26),0),IF(ISNUMBER(Data!AF26),100*ABS($F26-(Data!AF26-$J26)/$L26),0))))","v":50},{"$f":"IF(Data!$AI26=1,50,IF($G26=0,0,CHOOSE($G26,SUMPRODUCT($O27:$O$81*AI27:AI$81*($D27:$D$81=$C26)),IF(ISNUMBER(Data!AG26),100*ABS($F26-(Data!AG26-$J26)/$L26),0),IF(ISNUMBER(Data!AG26),100*ABS($F26-(Data!AG26-$J26)/$L26),0))))","v":100}]
[null,{"$f":"tblIndicators!A21","v":20},{"$f":"tblIndicators!B21","v":"BUSENV"},{"$f":"tblIndicators!C21","v":"OVERALL"},{"$f":"tblIndicators!D21","v":1},{"$f":"tblIndicators!L21","v":0},{"$f":"tblIndicators!V21","v":1},{"$f":"tblIndicators!W21","v":0},{"$f":"tblIndicators!X21","v":100},{"$f":"CHOOSE(G27,\"-\",Data!H27,H27)","v":"-"},{"$f":"CHOOSE(G27,\"-\",Data!I27,I27)","v":"-"},"-",{"$f":"tblIndicators!AE21","v":"2) BUSINESS ENVIRONMENT FOR COASTAL ACTIVITIES"},0.16666666666666666,{"$f":"tblIndicators!AJ21","v":0.16666666666666666},{"$f":"IF(Data!$AI27=1,50,IF($G27=0,0,CHOOSE($G27,SUMPRODUCT($O28:$O$81*P28:P$81*($D28:$D$81=$C27)),IF(ISNUMBER(Data!N27),100*ABS($F27-(Data!N27-$J27)/$L27),0),IF(ISNUMBER(Data!N27),100*ABS($F27-(Data!N27-$J27)/$L27),0))))","v":50.119397661111115},{"$f":"IF(Data!$AI27=1,50,IF($G27=0,0,CHOOSE($G27,SUMPRODUCT($O28:$O$81*Q28:Q$81*($D28:$D$81=$C27)),IF(ISNUMBER(Data!O27),100*ABS($F27-(Data!O27-$J27)/$L27),0),IF(ISNUMBER(Data!O27),100*ABS($F27-(Data!O27-$J27)/$L27),0))))","v":89.016442202777782},{"$f":"IF(Data!$AI27=1,50,IF($G27=0,0,CHOOSE($G27,SUMPRODUCT($O28:$O$81*R28:R$81*($D28:$D$81=$C27)),IF(ISNUMBER(Data!P27),100*ABS($F27-(Data!P27-$J27)/$L27),0),IF(ISNUMBER(Data!P27),100*ABS($F27-(Data!P27-$J27)/$L27),0))))","v":76.157956525000003},{"$f":"IF(Data!$AI27=1,50,IF($G27=0,0,CHOOSE($G27,SUMPRODUCT($O28:$O$81*S28:S$81*($D28:$D$81=$C27)),IF(ISNUMBER(Data!Q27),100*ABS($F27-(Data!Q27-$J27)/$L27),0),IF(ISNUMBER(Data!Q27),100*ABS($F27-(Data!Q27-$J27)/$L27),0))))","v":47.059692522222221},{"$f":"IF(Data!$AI27=1,50,IF($G27=0,0,CHOOSE($G27,SUMPRODUCT($O28:$O$81*T28:T$81*($D28:$D$81=$C27)),IF(ISNUMBER(Data!R27),100*ABS($F27-(Data!R27-$J27)/$L27),0),IF(ISNUMBER(Data!R27),100*ABS($F27-(Data!R27-$J27)/$L27),0))))","v":83.105062177777782},{"$f":"IF(Data!$AI27=1,50,IF($G27=0,0,CHOOSE($G27,SUMPRODUCT($O28:$O$81*U28:U$81*($D28:$D$81=$C27)),IF(ISNUMBER(Data!S27),100*ABS($F27-(Data!S27-$J27)/$L27),0),IF(ISNUMBER(Data!S27),100*ABS($F27-(Data!S27-$J27)/$L27),0))))","v":39.72636827777778},{"$f":"IF(Data!$AI27=1,50,IF($G27=0,0,CHOOSE($G27,SUMPRODUCT($O28:$O$81*V28:V$81*($D28:$D$81=$C27)),IF(ISNUMBER(Data!T27),100*ABS($F27-(Data!T27-$J27)/$L27),0),IF(ISNUMBER(Data!T27),100*ABS($F27-(Data!T27-$J27)/$L27),0))))","v":38.632764408333337},{"$f":"IF(Data!$AI27=1,50,IF($G27=0,0,CHOOSE($G27,SUMPRODUCT($O28:$O$81*W28:W$81*($D28:$D$81=$C27)),IF(ISNUMBER(Data!U27),100*ABS($F27-(Data!U27-$J27)/$L27),0),IF(ISNUMBER(Data!U27),100*ABS($F27-(Data!U27-$J27)/$L27),0))))","v":77.911898022222218},{"$f":"IF(Data!$AI27=1,50,IF($G27=0,0,CHOOSE($G27,SUMPRODUCT($O28:$O$81*X28:X$81*($D28:$D$81=$C27)),IF(ISNUMBER(Data!V27),100*ABS($F27-(Data!V27-$J27)/$L27),0),IF(ISNUMBER(Data!V27),100*ABS($F27-(Data!V27-$J27)/$L27),0))))","v":54.173821380555552},{"$f":"IF(Data!$AI27=1,50,IF($G27=0,0,CHOOSE($G27,SUMPRODUCT($O28:$O$81*Y28:Y$81*($D28:$D$81=$C27)),IF(ISNUMBER(Data!W27),100*ABS($F27-(Data!W27-$J27)/$L27),0),IF(ISNUMBER(Data!W27),100*ABS($F27-(Data!W27-$J27)/$L27),0))))","v":87.021827522222225},{"$f":"IF(Data!$AI27=1,50,IF($G27=0,0,CHOOSE($G27,SUMPRODUCT($O28:$O$81*Z28:Z$81*($D28:$D$81=$C27)),IF(ISNUMBER(Data!X27),100*ABS($F27-(Data!X27-$J27)/$L27),0),IF(ISNUMBER(Data!X27),100*ABS($F27-(Data!X27-$J27)/$L27),0))))","v":16.787856041666668},{"$f":"IF(Data!$AI27=1,50,IF($G27=0,0,CHOOSE($G27,SUMPRODUCT($O28:$O$81*AA28:AA$81*($D28:$D$81=$C27)),IF(ISNUMBER(Data!Y27),100*ABS($F27-(Data!Y27-$J27)/$L27),0),IF(ISNUMBER(Data!Y27),100*ABS($F27-(Data!Y27-$J27)/$L27),0))))","v":87.540600319444451},{"$f":"IF(Data!$AI27=1,50,IF($G27=0,0,CHOOSE($G27,SUMPRODUCT($O28:$O$81*AB28:AB$81*($D28:$D$81=$C27)),IF(ISNUMBER(Data!Z27),100*ABS($F27-(Data!Z27-$J27)/$L27),0),IF(ISNUMBER(Data!Z27),100*ABS($F27-(Data!Z27-$J27)/$L27),0))))","v":40.76830487777778},{"$f":"IF(Data!$AI27=1,50,IF($G27=0,0,CHOOSE($G27,SUMPRODUCT($O28:$O$81*AC28:AC$81*($D28:$D$81=$C27)),IF(ISNUMBER(Data!AA27),100*ABS($F27-(Data!AA27-$J27)/$L27),0),IF(ISNUMBER(Data!AA27),100*ABS($F27-(Data!AA27-$J27)/$L27),0))))","v":44.222056658333329},{"$f":"IF(Data!$AI27=1,50,IF($G27=0,0,CHOOSE($G27,SUMPRODUCT($O28:$O$81*AD28:AD$81*($D28:$D$81=$C27)),IF(ISNUMBER(Data!AB27),100*ABS($F27-(Data!AB27-$J27)/$L27),0),IF(ISNUMBER(Data!AB27),100*ABS($F27-(Data!AB27-$J27)/$L27),0))))","v":32.414799997222225},{"$f":"IF(Data!$AI27=1,50,IF($G27=0,0,CHOOSE($G27,SUMPRODUCT($O28:$O$81*AE28:AE$81*($D28:$D$81=$C27)),IF(ISNUMBER(Data!AC27),100*ABS($F27-(Data!AC27-$J27)/$L27),0),IF(ISNUMBER(Data!AC27),100*ABS($F27-(Data!AC27-$J27)/$L27),0))))","v":55.898709916666668},{"$f":"IF(Data!$AI27=1,50,IF($G27=0,0,CHOOSE($G27,SUMPRODUCT($O28:$O$81*AF28:AF$81*($D28:$D$81=$C27)),IF(ISNUMBER(Data!AD27),100*ABS($F27-(Data!AD27-$J27)/$L27),0),IF(ISNUMBER(Data!AD27),100*ABS($F27-(Data!AD27-$J27)/$L27),0))))","v":73.198013091666667},{"$f":"IF(Data!$AI27=1,50,IF($G27=0,0,CHOOSE($G27,SUMPRODUCT($O28:$O$81*AG28:AG$81*($D28:$D$81=$C27)),IF(ISNUMBER(Data!AE27),100*ABS($F27-(Data!AE27-$J27)/$L27),0),IF(ISNUMBER(Data!AE27),100*ABS($F27-(Data!AE27-$J27)/$L27),0))))","v":79.536700188888886},{"$f":"IF(Data!$AI27=1,50,IF($G27=0,0,CHOOSE($G27,SUMPRODUCT($O28:$O$81*AH28:AH$81*($D28:$D$81=$C27)),IF(ISNUMBER(Data!AF27),100*ABS($F27-(Data!AF27-$J27)/$L27),0),IF(ISNUMBER(Data!AF27),100*ABS($F27-(Data!AF27-$J27)/$L27),0))))","v":86.085787933333336},{"$f":"IF(Data!$AI27=1,50,IF($G27=0,0,CHOOSE($G27,SUMPRODUCT($O28:$O$81*AI28:AI$81*($D28:$D$81=$C27)),IF(ISNUMBER(Data!AG27),100*ABS($F27-(Data!AG27-$J27)/$L27),0),IF(ISNUMBER(Data!AG27),100*ABS($F27-(Data!AG27-$J27)/$L27),0))))","v":42.257180255555554}]
[null,{"$f":"tblIndicators!A22","v":21},{"$f":"tblIndicators!B22","v":"BUSENV_1"},{"$f":"tblIndicators!C22","v":"BUSENV"},{"$f":"tblIndicators!D22","v":2},{"$f":"tblIndicators!L22","v":0},{"$f":"tblIndicators!V22","v":1},{"$f":"tblIndicators!W22","v":0},{"$f":"tblIndicators!X22","v":100},{"$f":"CHOOSE(G28,\"-\",Data!H28,H28)","v":"-"},{"$f":"CHOOSE(G28,\"-\",Data!I28,I28)","v":"-"},"-",{"$f":"tblIndicators!AE22","v":"2.1) Ease of doing business"},0.25,{"$f":"tblIndicators!AJ22","v":0.25},{"$f":"IF(Data!$AI28=1,50,IF($G28=0,0,CHOOSE($G28,SUMPRODUCT($O29:$O$81*P29:P$81*($D29:$D$81=$C28)),IF(ISNUMBER(Data!N28),100*ABS($F28-(Data!N28-$J28)/$L28),0),IF(ISNUMBER(Data!N28),100*ABS($F28-(Data!N28-$J28)/$L28),0))))","v":61.111111111111114},{"$f":"IF(Data!$AI28=1,50,IF($G28=0,0,CHOOSE($G28,SUMPRODUCT($O29:$O$81*Q29:Q$81*($D29:$D$81=$C28)),IF(ISNUMBER(Data!O28),100*ABS($F28-(Data!O28-$J28)/$L28),0),IF(ISNUMBER(Data!O28),100*ABS($F28-(Data!O28-$J28)/$L28),0))))","v":81.111111111111114},{"$f":"IF(Data!$AI28=1,50,IF($G28=0,0,CHOOSE($G28,SUMPRODUCT($O29:$O$81*R29:R$81*($D29:$D$81=$C28)),IF(ISNUMBER(Data!P28),100*ABS($F28-(Data!P28-$J28)/$L28),0),IF(ISNUMBER(Data!P28),100*ABS($F28-(Data!P28-$J28)/$L28),0))))","v":76.666666666666671},{"$f":"IF(Data!$AI28=1,50,IF($G28=0,0,CHOOSE($G28,SUMPRODUCT($O29:$O$81*S29:S$81*($D29:$D$81=$C28)),IF(ISNUMBER(Data!Q28),100*ABS($F28-(Data!Q28-$J28)/$L28),0),IF(ISNUMBER(Data!Q28),100*ABS($F28-(Data!Q28-$J28)/$L28),0))))","v":58.888888888888893},{"$f":"IF(Data!$AI28=1,50,IF($G28=0,0,CHOOSE($G28,SUMPRODUCT($O29:$O$81*T29:T$81*($D29:$D$81=$C28)),IF(ISNUMBER(Data!R28),100*ABS($F28-(Data!R28-$J28)/$L28),0),IF(ISNUMBER(Data!R28),100*ABS($F28-(Data!R28-$J28)/$L28),0))))","v":71.111111111111114},{"$f":"IF(Data!$AI28=1,50,IF($G28=0,0,CHOOSE($G28,SUMPRODUCT($O29:$O$81*U29:U$81*($D29:$D$81=$C28)),IF(ISNUMBER(Data!S28),100*ABS($F28-(Data!S28-$J28)/$L28),0),IF(ISNUMBER(Data!S28),100*ABS($F28-(Data!S28-$J28)/$L28),0))))","v":54.44444444444445},{"$f":"IF(Data!$AI28=1,50,IF($G28=0,0,CHOOSE($G28,SUMPRODUCT($O29:$O$81*V29:V$81*($D29:$D$81=$C28)),IF(ISNUMBER(Data!T28),100*ABS($F28-(Data!T28-$J28)/$L28),0),IF(ISNUMBER(Data!T28),100*ABS($F28-(Data!T28-$J28)/$L28),0))))","v":53.333333333333336},{"$f":"IF(Data!$AI28=1,50,IF($G28=0,0,CHOOSE($G28,SUMPRODUCT($O29:$O$81*W29:W$81*($D29:$D$81=$C28)),IF(ISNUMBER(Data!U28),100*ABS($F28-(Data!U28-$J28)/$L28),0),IF(ISNUMBER(Data!U28),100*ABS($F28-(Data!U28-$J28)/$L28),0))))","v":68.888888888888886},{"$f":"IF(Data!$AI28=1,50,IF($G28=0,0,CHOOSE($G28,SUMPRODUCT($O29:$O$81*X29:X$81*($D29:$D$81=$C28)),IF(ISNUMBER(Data!V28),100*ABS($F28-(Data!V28-$J28)/$L28),0),IF(ISNUMBER(Data!V28),100*ABS($F28-(Data!V28-$J28)/$L28),0))))","v":65.555555555555557},{"$f":"IF(Data!$AI28=1,50,IF($G28=0,0,CHOOSE($G28,SUMPRODUCT($O29:$O$81*Y29:Y$81*($D29:$D$81=$C28)),IF(ISNUMBER(Data!W28),100*ABS($F28-(Data!W28-$J28)/$L28),0),IF(ISNUMBER(Data!W28),100*ABS($F28-(Data!W28-$J28)/$L28),0))))","v":78.888888888888886},{"$f":"IF(Data!$AI28=1,50,IF($G28=0,0,CHOOSE($G28,SUMPRODUCT($O29:$O$81*Z29:Z$81*($D29:$D$81=$C28)),IF(ISNUMBER(Data!X28),100*ABS($F28-(Data!X28-$J28)/$L28),0),IF(ISNUMBER(Data!X28),100*ABS($F28-(Data!X28-$J28)/$L28),0))))","v":40},{"$f":"IF(Data!$AI28=1,50,IF($G28=0,0,CHOOSE($G28,SUMPRODUCT($O29:$O$81*AA29:AA$81*($D29:$D$81=$C28)),IF(ISNUMBER(Data!Y28),100*ABS($F28-(Data!Y28-$J28)/$L28),0),IF(ISNUMBER(Data!Y28),100*ABS($F28-(Data!Y28-$J28)/$L28),0))))","v":77.777777777777786},{"$f":"IF(Data!$AI28=1,50,IF($G28=0,0,CHOOSE($G28,SUMPRODUCT($O29:$O$81*AB29:AB$81*($D29:$D$81=$C28)),IF(ISNUMBER(Data!Z28),100*ABS($F28-(Data!Z28-$J28)/$L28),0),IF(ISNUMBER(Data!Z28),100*ABS($F28-(Data!Z28-$J28)/$L28),0))))","v":57.777777777777786},{"$f":"IF(Data!$AI28=1,50,IF($G28=0,0,CHOOSE($G28,SUMPRODUCT($O29:$O$81*AC29:AC$81*($D29:$D$81=$C28)),IF(ISNUMBER(Data!AA28),100*ABS($F28-(Data!AA28-$J28)/$L28),0),IF(ISNUMBER(Data!AA28),100*ABS($F28-(Data!AA28-$J28)/$L28),0))))","v":56.666666666666664},{"$f":"IF(Data!$AI28=1,50,IF($G28=0,0,CHOOSE($G28,SUMPRODUCT($O29:$O$81*AD29:AD$81*($D29:$D$81=$C28)),IF(ISNUMBER(Data!AB28),100*ABS($F28-(Data!AB28-$J28)/$L28),0),IF(ISNUMBER(Data!AB28),100*ABS($F28-(Data!AB28-$J28)/$L28),0))))","v":52.222222222222229},{"$f":"IF(Data!$AI28=1,50,IF($G28=0,0,CHOOSE($G28,SUMPRODUCT($O29:$O$81*AE29:AE$81*($D29:$D$81=$C28)),IF(ISNUMBER(Data!AC28),100*ABS($F28-(Data!AC28-$J28)/$L28),0),IF(ISNUMBER(Data!AC28),100*ABS($F28-(Data!AC28-$J28)/$L28),0))))","v":56.666666666666664},{"$f":"IF(Data!$AI28=1,50,IF($G28=0,0,CHOOSE($G28,SUMPRODUCT($O29:$O$81*AF29:AF$81*($D29:$D$81=$C28)),IF(ISNUMBER(Data!AD28),100*ABS($F28-(Data!AD28-$J28)/$L28),0),IF(ISNUMBER(Data!AD28),100*ABS($F28-(Data!AD28-$J28)/$L28),0))))","v":70},{"$f":"IF(Data!$AI28=1,50,IF($G28=0,0,CHOOSE($G28,SUMPRODUCT($O29:$O$81*AG29:AG$81*($D29:$D$81=$C28)),IF(ISNUMBER(Data!AE28),100*ABS($F28-(Data!AE28-$J28)/$L28),0),IF(ISNUMBER(Data!AE28),100*ABS($F28-(Data!AE28-$J28)/$L28),0))))","v":68.888888888888886},{"$f":"IF(Data!$AI28=1,50,IF($G28=0,0,CHOOSE($G28,SUMPRODUCT($O29:$O$81*AH29:AH$81*($D29:$D$81=$C28)),IF(ISNUMBER(Data!AF28),100*ABS($F28-(Data!AF28-$J28)/$L28),0),IF(ISNUMBER(Data!AF28),100*ABS($F28-(Data!AF28-$J28)/$L28),0))))","v":80},{"$f":"IF(Data!$AI28=1,50,IF($G28=0,0,CHOOSE($G28,SUMPRODUCT($O29:$O$81*AI29:AI$81*($D29:$D$81=$C28)),IF(ISNUMBER(Data!AG28),100*ABS($F28-(Data!AG28-$J28)/$L28),0),IF(ISNUMBER(Data!AG28),100*ABS($F28-(Data!AG28-$J28)/$L28),0))))","v":52.222222222222229}]
[null,{"$f":"tblIndicators!A23","v":22},{"$f":"tblIndicators!B23","v":"BUSENV_1_1"},{"$f":"tblIndicators!C23","v":"BUSENV_1"},{"$f":"tblIndicators!D23","v":3},{"$f":"tblIndicators!L23","v":0},{"$f":"tblIndicators!V23","v":3},{"$f":"tblIndicators!W23","v":0},{"$f":"tblIndicators!X23","v":9},{"$f":"CHOOSE(G29,\"-\",Data!H29,H29)","v":0},{"$f":"CHOOSE(G29,\"-\",Data!I29,I29)","v":9},9,{"$f":"tblIndicators!AE23","v":"2.1.1) Business environment"},"",{"$f":"tblIndicators!AJ23","v":1},{"$f":"IF(Data!$AI29=1,50,IF($G29=0,0,CHOOSE($G29,SUMPRODUCT($O30:$O$81*P30:P$81*($D30:$D$81=$C29)),IF(ISNUMBER(Data!N29),100*ABS($F29-(Data!N29-$J29)/$L29),0),IF(ISNUMBER(Data!N29),100*ABS($F29-(Data!N29-$J29)/$L29),0))))","v":61.111111111111114},{"$f":"IF(Data!$AI29=1,50,IF($G29=0,0,CHOOSE($G29,SUMPRODUCT($O30:$O$81*Q30:Q$81*($D30:$D$81=$C29)),IF(ISNUMBER(Data!O29),100*ABS($F29-(Data!O29-$J29)/$L29),0),IF(ISNUMBER(Data!O29),100*ABS($F29-(Data!O29-$J29)/$L29),0))))","v":81.111111111111114},{"$f":"IF(Data!$AI29=1,50,IF($G29=0,0,CHOOSE($G29,SUMPRODUCT($O30:$O$81*R30:R$81*($D30:$D$81=$C29)),IF(ISNUMBER(Data!P29),100*ABS($F29-(Data!P29-$J29)/$L29),0),IF(ISNUMBER(Data!P29),100*ABS($F29-(Data!P29-$J29)/$L29),0))))","v":76.666666666666671},{"$f":"IF(Data!$AI29=1,50,IF($G29=0,0,CHOOSE($G29,SUMPRODUCT($O30:$O$81*S30:S$81*($D30:$D$81=$C29)),IF(ISNUMBER(Data!Q29),100*ABS($F29-(Data!Q29-$J29)/$L29),0),IF(ISNUMBER(Data!Q29),100*ABS($F29-(Data!Q29-$J29)/$L29),0))))","v":58.888888888888893},{"$f":"IF(Data!$AI29=1,50,IF($G29=0,0,CHOOSE($G29,SUMPRODUCT($O30:$O$81*T30:T$81*($D30:$D$81=$C29)),IF(ISNUMBER(Data!R29),100*ABS($F29-(Data!R29-$J29)/$L29),0),IF(ISNUMBER(Data!R29),100*ABS($F29-(Data!R29-$J29)/$L29),0))))","v":71.111111111111114},{"$f":"IF(Data!$AI29=1,50,IF($G29=0,0,CHOOSE($G29,SUMPRODUCT($O30:$O$81*U30:U$81*($D30:$D$81=$C29)),IF(ISNUMBER(Data!S29),100*ABS($F29-(Data!S29-$J29)/$L29),0),IF(ISNUMBER(Data!S29),100*ABS($F29-(Data!S29-$J29)/$L29),0))))","v":54.44444444444445},{"$f":"IF(Data!$AI29=1,50,IF($G29=0,0,CHOOSE($G29,SUMPRODUCT($O30:$O$81*V30:V$81*($D30:$D$81=$C29)),IF(ISNUMBER(Data!T29),100*ABS($F29-(Data!T29-$J29)/$L29),0),IF(ISNUMBER(Data!T29),100*ABS($F29-(Data!T29-$J29)/$L29),0))))","v":53.333333333333336},{"$f":"IF(Data!$AI29=1,50,IF($G29=0,0,CHOOSE($G29,SUMPRODUCT($O30:$O$81*W30:W$81*($D30:$D$81=$C29)),IF(ISNUMBER(Data!U29),100*ABS($F29-(Data!U29-$J29)/$L29),0),IF(ISNUMBER(Data!U29),100*ABS($F29-(Data!U29-$J29)/$L29),0))))","v":68.888888888888886},{"$f":"IF(Data!$AI29=1,50,IF($G29=0,0,CHOOSE($G29,SUMPRODUCT($O30:$O$81*X30:X$81*($D30:$D$81=$C29)),IF(ISNUMBER(Data!V29),100*ABS($F29-(Data!V29-$J29)/$L29),0),IF(ISNUMBER(Data!V29),100*ABS($F29-(Data!V29-$J29)/$L29),0))))","v":65.555555555555557},{"$f":"IF(Data!$AI29=1,50,IF($G29=0,0,CHOOSE($G29,SUMPRODUCT($O30:$O$81*Y30:Y$81*($D30:$D$81=$C29)),IF(ISNUMBER(Data!W29),100*ABS($F29-(Data!W29-$J29)/$L29),0),IF(ISNUMBER(Data!W29),100*ABS($F29-(Data!W29-$J29)/$L29),0))))","v":78.888888888888886},{"$f":"IF(Data!$AI29=1,50,IF($G29=0,0,CHOOSE($G29,SUMPRODUCT($O30:$O$81*Z30:Z$81*($D30:$D$81=$C29)),IF(ISNUMBER(Data!X29),100*ABS($F29-(Data!X29-$J29)/$L29),0),IF(ISNUMBER(Data!X29),100*ABS($F29-(Data!X29-$J29)/$L29),0))))","v":40},{"$f":"IF(Data!$AI29=1,50,IF($G29=0,0,CHOOSE($G29,SUMPRODUCT($O30:$O$81*AA30:AA$81*($D30:$D$81=$C29)),IF(ISNUMBER(Data!Y29),100*ABS($F29-(Data!Y29-$J29)/$L29),0),IF(ISNUMBER(Data!Y29),100*ABS($F29-(Data!Y29-$J29)/$L29),0))))","v":77.777777777777786},{"$f":"IF(Data!$AI29=1,50,IF($G29=0,0,CHOOSE($G29,SUMPRODUCT($O30:$O$81*AB30:AB$81*($D30:$D$81=$C29)),IF(ISNUMBER(Data!Z29),100*ABS($F29-(Data!Z29-$J29)/$L29),0),IF(ISNUMBER(Data!Z29),100*ABS($F29-(Data!Z29-$J29)/$L29),0))))","v":57.777777777777786},{"$f":"IF(Data!$AI29=1,50,IF($G29=0,0,CHOOSE($G29,SUMPRODUCT($O30:$O$81*AC30:AC$81*($D30:$D$81=$C29)),IF(ISNUMBER(Data!AA29),100*ABS($F29-(Data!AA29-$J29)/$L29),0),IF(ISNUMBER(Data!AA29),100*ABS($F29-(Data!AA29-$J29)/$L29),0))))","v":56.666666666666664},{"$f":"IF(Data!$AI29=1,50,IF($G29=0,0,CHOOSE($G29,SUMPRODUCT($O30:$O$81*AD30:AD$81*($D30:$D$81=$C29)),IF(ISNUMBER(Data!AB29),100*ABS($F29-(Data!AB29-$J29)/$L29),0),IF(ISNUMBER(Data!AB29),100*ABS($F29-(Data!AB29-$J29)/$L29),0))))","v":52.222222222222229},{"$f":"IF(Data!$AI29=1,50,IF($G29=0,0,CHOOSE($G29,SUMPRODUCT($O30:$O$81*AE30:AE$81*($D30:$D$81=$C29)),IF(ISNUMBER(Data!AC29),100*ABS($F29-(Data!AC29-$J29)/$L29),0),IF(ISNUMBER(Data!AC29),100*ABS($F29-(Data!AC29-$J29)/$L29),0))))","v":56.666666666666664},{"$f":"IF(Data!$AI29=1,50,IF($G29=0,0,CHOOSE($G29,SUMPRODUCT($O30:$O$81*AF30:AF$81*($D30:$D$81=$C29)),IF(ISNUMBER(Data!AD29),100*ABS($F29-(Data!AD29-$J29)/$L29),0),IF(ISNUMBER(Data!AD29),100*ABS($F29-(Data!AD29-$J29)/$L29),0))))","v":70},{"$f":"IF(Data!$AI29=1,50,IF($G29=0,0,CHOOSE($G29,SUMPRODUCT($O30:$O$81*AG30:AG$81*($D30:$D$81=$C29)),IF(ISNUMBER(Data!AE29),100*ABS($F29-(Data!AE29-$J29)/$L29),0),IF(ISNUMBER(Data!AE29),100*ABS($F29-(Data!AE29-$J29)/$L29),0))))","v":68.888888888888886},{"$f":"IF(Data!$AI29=1,50,IF($G29=0,0,CHOOSE($G29,SUMPRODUCT($O30:$O$81*AH30:AH$81*($D30:$D$81=$C29)),IF(ISNUMBER(Data!AF29),100*ABS($F29-(Data!AF29-$J29)/$L29),0),IF(ISNUMBER(Data!AF29),100*ABS($F29-(Data!AF29-$J29)/$L29),0))))","v":80},{"$f":"IF(Data!$AI29=1,50,IF($G29=0,0,CHOOSE($G29,SUMPRODUCT($O30:$O$81*AI30:AI$81*($D30:$D$81=$C29)),IF(ISNUMBER(Data!AG29),100*ABS($F29-(Data!AG29-$J29)/$L29),0),IF(ISNUMBER(Data!AG29),100*ABS($F29-(Data!AG29-$J29)/$L29),0))))","v":52.222222222222229}]
[null,{"$f":"tblIndicators!A24","v":23},{"$f":"tblIndicators!B24","v":"BUSENV_2"},{"$f":"tblIndicators!C24","v":"BUSENV"},{"$f":"tblIndicators!D24","v":2},{"$f":"tblIndicators!L24","v":0},{"$f":"tblIndicators!V24","v":1},{"$f":"tblIndicators!W24","v":0},{"$f":"tblIndicators!X24","v":100},{"$f":"CHOOSE(G30,\"-\",Data!H30,H30)","v":"-"},{"$f":"CHOOSE(G30,\"-\",Data!I30,I30)","v":"-"},"-",{"$f":"tblIndicators!AE24","v":"2.2) Corruption perception"},0.25,{"$f":"tblIndicators!AJ24","v":0.25},{"$f":"IF(Data!$AI30=1,50,IF($G30=0,0,CHOOSE($G30,SUMPRODUCT($O31:$O$81*P31:P$81*($D31:$D$81=$C30)),IF(ISNUMBER(Data!N30),100*ABS($F30-(Data!N30-$J30)/$L30),0),IF(ISNUMBER(Data!N30),100*ABS($F30-(Data!N30-$J30)/$L30),0))))","v":55.02391999999999},{"$f":"IF(Data!$AI30=1,50,IF($G30=0,0,CHOOSE($G30,SUMPRODUCT($O31:$O$81*Q31:Q$81*($D31:$D$81=$C30)),IF(ISNUMBER(Data!O30),100*ABS($F30-(Data!O30-$J30)/$L30),0),IF(ISNUMBER(Data!O30),100*ABS($F30-(Data!O30-$J30)/$L30),0))))","v":95.215310000000002},{"$f":"IF(Data!$AI30=1,50,IF($G30=0,0,CHOOSE($G30,SUMPRODUCT($O31:$O$81*R31:R$81*($D31:$D$81=$C30)),IF(ISNUMBER(Data!P30),100*ABS($F30-(Data!P30-$J30)/$L30),0),IF(ISNUMBER(Data!P30),100*ABS($F30-(Data!P30-$J30)/$L30),0))))","v":90.430620000000005},{"$f":"IF(Data!$AI30=1,50,IF($G30=0,0,CHOOSE($G30,SUMPRODUCT($O31:$O$81*S31:S$81*($D31:$D$81=$C30)),IF(ISNUMBER(Data!Q30),100*ABS($F30-(Data!Q30-$J30)/$L30),0),IF(ISNUMBER(Data!Q30),100*ABS($F30-(Data!Q30-$J30)/$L30),0))))","v":46.889949999999999},{"$f":"IF(Data!$AI30=1,50,IF($G30=0,0,CHOOSE($G30,SUMPRODUCT($O31:$O$81*T31:T$81*($D31:$D$81=$C30)),IF(ISNUMBER(Data!R30),100*ABS($F30-(Data!R30-$J30)/$L30),0),IF(ISNUMBER(Data!R30),100*ABS($F30-(Data!R30-$J30)/$L30),0))))","v":88.03828},{"$f":"IF(Data!$AI30=1,50,IF($G30=0,0,CHOOSE($G30,SUMPRODUCT($O31:$O$81*U31:U$81*($D31:$D$81=$C30)),IF(ISNUMBER(Data!S30),100*ABS($F30-(Data!S30-$J30)/$L30),0),IF(ISNUMBER(Data!S30),100*ABS($F30-(Data!S30-$J30)/$L30),0))))","v":35.885170000000002},{"$f":"IF(Data!$AI30=1,50,IF($G30=0,0,CHOOSE($G30,SUMPRODUCT($O31:$O$81*V31:V$81*($D31:$D$81=$C30)),IF(ISNUMBER(Data!T30),100*ABS($F30-(Data!T30-$J30)/$L30),0),IF(ISNUMBER(Data!T30),100*ABS($F30-(Data!T30-$J30)/$L30),0))))","v":31.578949999999999},{"$f":"IF(Data!$AI30=1,50,IF($G30=0,0,CHOOSE($G30,SUMPRODUCT($O31:$O$81*W31:W$81*($D31:$D$81=$C30)),IF(ISNUMBER(Data!U30),100*ABS($F30-(Data!U30-$J30)/$L30),0),IF(ISNUMBER(Data!U30),100*ABS($F30-(Data!U30-$J30)/$L30),0))))","v":92.822969999999998},{"$f":"IF(Data!$AI30=1,50,IF($G30=0,0,CHOOSE($G30,SUMPRODUCT($O31:$O$81*X31:X$81*($D31:$D$81=$C30)),IF(ISNUMBER(Data!V30),100*ABS($F30-(Data!V30-$J30)/$L30),0),IF(ISNUMBER(Data!V30),100*ABS($F30-(Data!V30-$J30)/$L30),0))))","v":39.234450000000002},{"$f":"IF(Data!$AI30=1,50,IF($G30=0,0,CHOOSE($G30,SUMPRODUCT($O31:$O$81*Y31:Y$81*($D31:$D$81=$C30)),IF(ISNUMBER(Data!W30),100*ABS($F30-(Data!W30-$J30)/$L30),0),IF(ISNUMBER(Data!W30),100*ABS($F30-(Data!W30-$J30)/$L30),0))))","v":99.521529999999998},{"$f":"IF(Data!$AI30=1,50,IF($G30=0,0,CHOOSE($G30,SUMPRODUCT($O31:$O$81*Z31:Z$81*($D31:$D$81=$C30)),IF(ISNUMBER(Data!X30),100*ABS($F30-(Data!X30-$J30)/$L30),0),IF(ISNUMBER(Data!X30),100*ABS($F30-(Data!X30-$J30)/$L30),0))))","v":9.0909099999999992},{"$f":"IF(Data!$AI30=1,50,IF($G30=0,0,CHOOSE($G30,SUMPRODUCT($O31:$O$81*AA31:AA$81*($D31:$D$81=$C30)),IF(ISNUMBER(Data!Y30),100*ABS($F30-(Data!Y30-$J30)/$L30),0),IF(ISNUMBER(Data!Y30),100*ABS($F30-(Data!Y30-$J30)/$L30),0))))","v":98.564589999999995},{"$f":"IF(Data!$AI30=1,50,IF($G30=0,0,CHOOSE($G30,SUMPRODUCT($O31:$O$81*AB31:AB$81*($D31:$D$81=$C30)),IF(ISNUMBER(Data!Z30),100*ABS($F30-(Data!Z30-$J30)/$L30),0),IF(ISNUMBER(Data!Z30),100*ABS($F30-(Data!Z30-$J30)/$L30),0))))","v":42.105260000000001},{"$f":"IF(Data!$AI30=1,50,IF($G30=0,0,CHOOSE($G30,SUMPRODUCT($O31:$O$81*AC31:AC$81*($D31:$D$81=$C30)),IF(ISNUMBER(Data!AA30),100*ABS($F30-(Data!AA30-$J30)/$L30),0),IF(ISNUMBER(Data!AA30),100*ABS($F30-(Data!AA30-$J30)/$L30),0))))","v":43.540669999999999},{"$f":"IF(Data!$AI30=1,50,IF($G30=0,0,CHOOSE($G30,SUMPRODUCT($O31:$O$81*AD31:AD$81*($D31:$D$81=$C30)),IF(ISNUMBER(Data!AB30),100*ABS($F30-(Data!AB30-$J30)/$L30),0),IF(ISNUMBER(Data!AB30),100*ABS($F30-(Data!AB30-$J30)/$L30),0))))","v":16.746410000000001},{"$f":"IF(Data!$AI30=1,50,IF($G30=0,0,CHOOSE($G30,SUMPRODUCT($O31:$O$81*AE31:AE$81*($D31:$D$81=$C30)),IF(ISNUMBER(Data!AC30),100*ABS($F30-(Data!AC30-$J30)/$L30),0),IF(ISNUMBER(Data!AC30),100*ABS($F30-(Data!AC30-$J30)/$L30),0))))","v":54.545459999999999},{"$f":"IF(Data!$AI30=1,50,IF($G30=0,0,CHOOSE($G30,SUMPRODUCT($O31:$O$81*AF31:AF$81*($D31:$D$81=$C30)),IF(ISNUMBER(Data!AD30),100*ABS($F30-(Data!AD30-$J30)/$L30),0),IF(ISNUMBER(Data!AD30),100*ABS($F30-(Data!AD30-$J30)/$L30),0))))","v":70.33493},{"$f":"IF(Data!$AI30=1,50,IF($G30=0,0,CHOOSE($G30,SUMPRODUCT($O31:$O$81*AG31:AG$81*($D31:$D$81=$C30)),IF(ISNUMBER(Data!AE30),100*ABS($F30-(Data!AE30-$J30)/$L30),0),IF(ISNUMBER(Data!AE30),100*ABS($F30-(Data!AE30-$J30)/$L30),0))))","v":75.119609999999994},{"$f":"IF(Data!$AI30=1,50,IF($G30=0,0,CHOOSE($G30,SUMPRODUCT($O31:$O$81*AH31:AH$81*($D31:$D$81=$C30)),IF(ISNUMBER(Data!AF30),100*ABS($F30-(Data!AF30-$J30)/$L30),0),IF(ISNUMBER(Data!AF30),100*ABS($F30-(Data!AF30-$J30)/$L30),0))))","v":85.167469999999994},{"$f":"IF(Data!$AI30=1,50,IF($G30=0,0,CHOOSE($G30,SUMPRODUCT($O31:$O$81*AI31:AI$81*($D31:$D$81=$C30)),IF(ISNUMBER(Data!AG30),100*ABS($F30-(Data!AG30-$J30)/$L30),0),IF(ISNUMBER(Data!AG30),100*ABS($F30-(Data!AG30-$J30)/$L30),0))))","v":36.842109999999998}]
[null,{"$f":"tblIndicators!A25","v":24},{"$f":"tblIndicators!B25","v":"BUSENV_2_1"},{"$f":"tblIndicators!C25","v":"BUSENV_2"},{"$f":"tblIndicators!D25","v":3},{"$f":"tblIndicators!L25","v":0},{"$f":"tblIndicators!V25","v":3},{"$f":"tblIndicators!W25","v":0},{"$f":"tblIndicators!X25","v":100},{"$f":"CHOOSE(G31,\"-\",Data!H31,H31)","v":0},{"$f":"CHOOSE(G31,\"-\",Data!I31,I31)","v":100},100,{"$f":"tblIndicators!AE25","v":"2.2.1) Control of corruption"},"",{"$f":"tblIndicators!AJ25","v":1},{"$f":"IF(Data!$AI31=1,50,IF($G31=0,0,CHOOSE($G31,SUMPRODUCT($O32:$O$81*P32:P$81*($D32:$D$81=$C31)),IF(ISNUMBER(Data!N31),100*ABS($F31-(Data!N31-$J31)/$L31),0),IF(ISNUMBER(Data!N31),100*ABS($F31-(Data!N31-$J31)/$L31),0))))","v":55.02391999999999},{"$f":"IF(Data!$AI31=1,50,IF($G31=0,0,CHOOSE($G31,SUMPRODUCT($O32:$O$81*Q32:Q$81*($D32:$D$81=$C31)),IF(ISNUMBER(Data!O31),100*ABS($F31-(Data!O31-$J31)/$L31),0),IF(ISNUMBER(Data!O31),100*ABS($F31-(Data!O31-$J31)/$L31),0))))","v":95.215310000000002},{"$f":"IF(Data!$AI31=1,50,IF($G31=0,0,CHOOSE($G31,SUMPRODUCT($O32:$O$81*R32:R$81*($D32:$D$81=$C31)),IF(ISNUMBER(Data!P31),100*ABS($F31-(Data!P31-$J31)/$L31),0),IF(ISNUMBER(Data!P31),100*ABS($F31-(Data!P31-$J31)/$L31),0))))","v":90.430620000000005},{"$f":"IF(Data!$AI31=1,50,IF($G31=0,0,CHOOSE($G31,SUMPRODUCT($O32:$O$81*S32:S$81*($D32:$D$81=$C31)),IF(ISNUMBER(Data!Q31),100*ABS($F31-(Data!Q31-$J31)/$L31),0),IF(ISNUMBER(Data!Q31),100*ABS($F31-(Data!Q31-$J31)/$L31),0))))","v":46.889949999999999},{"$f":"IF(Data!$AI31=1,50,IF($G31=0,0,CHOOSE($G31,SUMPRODUCT($O32:$O$81*T32:T$81*($D32:$D$81=$C31)),IF(ISNUMBER(Data!R31),100*ABS($F31-(Data!R31-$J31)/$L31),0),IF(ISNUMBER(Data!R31),100*ABS($F31-(Data!R31-$J31)/$L31),0))))","v":88.03828},{"$f":"IF(Data!$AI31=1,50,IF($G31=0,0,CHOOSE($G31,SUMPRODUCT($O32:$O$81*U32:U$81*($D32:$D$81=$C31)),IF(ISNUMBER(Data!S31),100*ABS($F31-(Data!S31-$J31)/$L31),0),IF(ISNUMBER(Data!S31),100*ABS($F31-(Data!S31-$J31)/$L31),0))))","v":35.885170000000002},{"$f":"IF(Data!$AI31=1,50,IF($G31=0,0,CHOOSE($G31,SUMPRODUCT($O32:$O$81*V32:V$81*($D32:$D$81=$C31)),IF(ISNUMBER(Data!T31),100*ABS($F31-(Data!T31-$J31)/$L31),0),IF(ISNUMBER(Data!T31),100*ABS($F31-(Data!T31-$J31)/$L31),0))))","v":31.578949999999999},{"$f":"IF(Data!$AI31=1,50,IF($G31=0,0,CHOOSE($G31,SUMPRODUCT($O32:$O$81*W32:W$81*($D32:$D$81=$C31)),IF(ISNUMBER(Data!U31),100*ABS($F31-(Data!U31-$J31)/$L31),0),IF(ISNUMBER(Data!U31),100*ABS($F31-(Data!U31-$J31)/$L31),0))))","v":92.822969999999998},{"$f":"IF(Data!$AI31=1,50,IF($G31=0,0,CHOOSE($G31,SUMPRODUCT($O32:$O$81*X32:X$81*($D32:$D$81=$C31)),IF(ISNUMBER(Data!V31),100*ABS($F31-(Data!V31-$J31)/$L31),0),IF(ISNUMBER(Data!V31),100*ABS($F31-(Data!V31-$J31)/$L31),0))))","v":39.234450000000002},{"$f":"IF(Data!$AI31=1,50,IF($G31=0,0,CHOOSE($G31,SUMPRODUCT($O32:$O$81*Y32:Y$81*($D32:$D$81=$C31)),IF(ISNUMBER(Data!W31),100*ABS($F31-(Data!W31-$J31)/$L31),0),IF(ISNUMBER(Data!W31),100*ABS($F31-(Data!W31-$J31)/$L31),0))))","v":99.521529999999998},{"$f":"IF(Data!$AI31=1,50,IF($G31=0,0,CHOOSE($G31,SUMPRODUCT($O32:$O$81*Z32:Z$81*($D32:$D$81=$C31)),IF(ISNUMBER(Data!X31),100*ABS($F31-(Data!X31-$J31)/$L31),0),IF(ISNUMBER(Data!X31),100*ABS($F31-(Data!X31-$J31)/$L31),0))))","v":9.0909099999999992},{"$f":"IF(Data!$AI31=1,50,IF($G31=0,0,CHOOSE($G31,SUMPRODUCT($O32:$O$81*AA32:AA$81*($D32:$D$81=$C31)),IF(ISNUMBER(Data!Y31),100*ABS($F31-(Data!Y31-$J31)/$L31),0),IF(ISNUMBER(Data!Y31),100*ABS($F31-(Data!Y31-$J31)/$L31),0))))","v":98.564589999999995},{"$f":"IF(Data!$AI31=1,50,IF($G31=0,0,CHOOSE($G31,SUMPRODUCT($O32:$O$81*AB32:AB$81*($D32:$D$81=$C31)),IF(ISNUMBER(Data!Z31),100*ABS($F31-(Data!Z31-$J31)/$L31),0),IF(ISNUMBER(Data!Z31),100*ABS($F31-(Data!Z31-$J31)/$L31),0))))","v":42.105260000000001},{"$f":"IF(Data!$AI31=1,50,IF($G31=0,0,CHOOSE($G31,SUMPRODUCT($O32:$O$81*AC32:AC$81*($D32:$D$81=$C31)),IF(ISNUMBER(Data!AA31),100*ABS($F31-(Data!AA31-$J31)/$L31),0),IF(ISNUMBER(Data!AA31),100*ABS($F31-(Data!AA31-$J31)/$L31),0))))","v":43.540669999999999},{"$f":"IF(Data!$AI31=1,50,IF($G31=0,0,CHOOSE($G31,SUMPRODUCT($O32:$O$81*AD32:AD$81*($D32:$D$81=$C31)),IF(ISNUMBER(Data!AB31),100*ABS($F31-(Data!AB31-$J31)/$L31),0),IF(ISNUMBER(Data!AB31),100*ABS($F31-(Data!AB31-$J31)/$L31),0))))","v":16.746410000000001},{"$f":"IF(Data!$AI31=1,50,IF($G31=0,0,CHOOSE($G31,SUMPRODUCT($O32:$O$81*AE32:AE$81*($D32:$D$81=$C31)),IF(ISNUMBER(Data!AC31),100*ABS($F31-(Data!AC31-$J31)/$L31),0),IF(ISNUMBER(Data!AC31),100*ABS($F31-(Data!AC31-$J31)/$L31),0))))","v":54.545459999999999},{"$f":"IF(Data!$AI31=1,50,IF($G31=0,0,CHOOSE($G31,SUMPRODUCT($O32:$O$81*AF32:AF$81*($D32:$D$81=$C31)),IF(ISNUMBER(Data!AD31),100*ABS($F31-(Data!AD31-$J31)/$L31),0),IF(ISNUMBER(Data!AD31),100*ABS($F31-(Data!AD31-$J31)/$L31),0))))","v":70.33493},{"$f":"IF(Data!$AI31=1,50,IF($G31=0,0,CHOOSE($G31,SUMPRODUCT($O32:$O$81*AG32:AG$81*($D32:$D$81=$C31)),IF(ISNUMBER(Data!AE31),100*ABS($F31-(Data!AE31-$J31)/$L31),0),IF(ISNUMBER(Data!AE31),100*ABS($F31-(Data!AE31-$J31)/$L31),0))))","v":75.119609999999994},{"$f":"IF(Data!$AI31=1,50,IF($G31=0,0,CHOOSE($G31,SUMPRODUCT($O32:$O$81*AH32:AH$81*($D32:$D$81=$C31)),IF(ISNUMBER(Data!AF31),100*ABS($F31-(Data!AF31-$J31)/$L31),0),IF(ISNUMBER(Data!AF31),100*ABS($F31-(Data!AF31-$J31)/$L31),0))))","v":85.167469999999994},{"$f":"IF(Data!$AI31=1,50,IF($G31=0,0,CHOOSE($G31,SUMPRODUCT($O32:$O$81*AI32:AI$81*($D32:$D$81=$C31)),IF(ISNUMBER(Data!AG31),100*ABS($F31-(Data!AG31-$J31)/$L31),0),IF(ISNUMBER(Data!AG31),100*ABS($F31-(Data!AG31-$J31)/$L31),0))))","v":36.842109999999998}]
[null,{"$f":"tblIndicators!A26","v":25},{"$f":"tblIndicators!B26","v":"BUSENV_3"},{"$f":"tblIndicators!C26","v":"BUSENV"},{"$f":"tblIndicators!D26","v":2},{"$f":"tblIndicators!L26","v":0},{"$f":"tblIndicators!V26","v":1},{"$f":"tblIndicators!W26","v":0},{"$f":"tblIndicators!X26","v":100},{"$f":"CHOOSE(G32,\"-\",Data!H32,H32)","v":"-"},{"$f":"CHOOSE(G32,\"-\",Data!I32,I32)","v":"-"},"-",{"$f":"tblIndicators!AE26","v":"2.3) Effectiveness of dispute resolution mechanisms"},0.25,{"$f":"tblIndicators!AJ26","v":0.25},{"$f":"IF(Data!$AI32=1,50,IF($G32=0,0,CHOOSE($G32,SUMPRODUCT($O33:$O$81*P33:P$81*($D33:$D$81=$C32)),IF(ISNUMBER(Data!N32),100*ABS($F32-(Data!N32-$J32)/$L32),0),IF(ISNUMBER(Data!N32),100*ABS($F32-(Data!N32-$J32)/$L32),0))))","v":50},{"$f":"IF(Data!$AI32=1,50,IF($G32=0,0,CHOOSE($G32,SUMPRODUCT($O33:$O$81*Q33:Q$81*($D33:$D$81=$C32)),IF(ISNUMBER(Data!O32),100*ABS($F32-(Data!O32-$J32)/$L32),0),IF(ISNUMBER(Data!O32),100*ABS($F32-(Data!O32-$J32)/$L32),0))))","v":100},{"$f":"IF(Data!$AI32=1,50,IF($G32=0,0,CHOOSE($G32,SUMPRODUCT($O33:$O$81*R33:R$81*($D33:$D$81=$C32)),IF(ISNUMBER(Data!P32),100*ABS($F32-(Data!P32-$J32)/$L32),0),IF(ISNUMBER(Data!P32),100*ABS($F32-(Data!P32-$J32)/$L32),0))))","v":75},{"$f":"IF(Data!$AI32=1,50,IF($G32=0,0,CHOOSE($G32,SUMPRODUCT($O33:$O$81*S33:S$81*($D33:$D$81=$C32)),IF(ISNUMBER(Data!Q32),100*ABS($F32-(Data!Q32-$J32)/$L32),0),IF(ISNUMBER(Data!Q32),100*ABS($F32-(Data!Q32-$J32)/$L32),0))))","v":25},{"$f":"IF(Data!$AI32=1,50,IF($G32=0,0,CHOOSE($G32,SUMPRODUCT($O33:$O$81*T33:T$81*($D33:$D$81=$C32)),IF(ISNUMBER(Data!R32),100*ABS($F32-(Data!R32-$J32)/$L32),0),IF(ISNUMBER(Data!R32),100*ABS($F32-(Data!R32-$J32)/$L32),0))))","v":87.5},{"$f":"IF(Data!$AI32=1,50,IF($G32=0,0,CHOOSE($G32,SUMPRODUCT($O33:$O$81*U33:U$81*($D33:$D$81=$C32)),IF(ISNUMBER(Data!S32),100*ABS($F32-(Data!S32-$J32)/$L32),0),IF(ISNUMBER(Data!S32),100*ABS($F32-(Data!S32-$J32)/$L32),0))))","v":25},{"$f":"IF(Data!$AI32=1,50,IF($G32=0,0,CHOOSE($G32,SUMPRODUCT($O33:$O$81*V33:V$81*($D33:$D$81=$C32)),IF(ISNUMBER(Data!T32),100*ABS($F32-(Data!T32-$J32)/$L32),0),IF(ISNUMBER(Data!T32),100*ABS($F32-(Data!T32-$J32)/$L32),0))))","v":25},{"$f":"IF(Data!$AI32=1,50,IF($G32=0,0,CHOOSE($G32,SUMPRODUCT($O33:$O$81*W33:W$81*($D33:$D$81=$C32)),IF(ISNUMBER(Data!U32),100*ABS($F32-(Data!U32-$J32)/$L32),0),IF(ISNUMBER(Data!U32),100*ABS($F32-(Data!U32-$J32)/$L32),0))))","v":62.5},{"$f":"IF(Data!$AI32=1,50,IF($G32=0,0,CHOOSE($G32,SUMPRODUCT($O33:$O$81*X33:X$81*($D33:$D$81=$C32)),IF(ISNUMBER(Data!V32),100*ABS($F32-(Data!V32-$J32)/$L32),0),IF(ISNUMBER(Data!V32),100*ABS($F32-(Data!V32-$J32)/$L32),0))))","v":62.5},{"$f":"IF(Data!$AI32=1,50,IF($G32=0,0,CHOOSE($G32,SUMPRODUCT($O33:$O$81*Y33:Y$81*($D33:$D$81=$C32)),IF(ISNUMBER(Data!W32),100*ABS($F32-(Data!W32-$J32)/$L32),0),IF(ISNUMBER(Data!W32),100*ABS($F32-(Data!W32-$J32)/$L32),0))))","v":100},{"$f":"IF(Data!$AI32=1,50,IF($G32=0,0,CHOOSE($G32,SUMPRODUCT($O33:$O$81*Z33:Z$81*($D33:$D$81=$C32)),IF(ISNUMBER(Data!X32),100*ABS($F32-(Data!X32-$J32)/$L32),0),IF(ISNUMBER(Data!X32),100*ABS($F32-(Data!X32-$J32)/$L32),0))))","v":0},{"$f":"IF(Data!$AI32=1,50,IF($G32=0,0,CHOOSE($G32,SUMPRODUCT($O33:$O$81*AA33:AA$81*($D33:$D$81=$C32)),IF(ISNUMBER(Data!Y32),100*ABS($F32-(Data!Y32-$J32)/$L32),0),IF(ISNUMBER(Data!Y32),100*ABS($F32-(Data!Y32-$J32)/$L32),0))))","v":100},{"$f":"IF(Data!$AI32=1,50,IF($G32=0,0,CHOOSE($G32,SUMPRODUCT($O33:$O$81*AB33:AB$81*($D33:$D$81=$C32)),IF(ISNUMBER(Data!Z32),100*ABS($F32-(Data!Z32-$J32)/$L32),0),IF(ISNUMBER(Data!Z32),100*ABS($F32-(Data!Z32-$J32)/$L32),0))))","v":25},{"$f":"IF(Data!$AI32=1,50,IF($G32=0,0,CHOOSE($G32,SUMPRODUCT($O33:$O$81*AC33:AC$81*($D33:$D$81=$C32)),IF(ISNUMBER(Data!AA32),100*ABS($F32-(Data!AA32-$J32)/$L32),0),IF(ISNUMBER(Data!AA32),100*ABS($F32-(Data!AA32-$J32)/$L32),0))))","v":37.5},{"$f":"IF(Data!$AI32=1,50,IF($G32=0,0,CHOOSE($G32,SUMPRODUCT($O33:$O$81*AD33:AD$81*($D33:$D$81=$C32)),IF(ISNUMBER(Data!AB32),100*ABS($F32-(Data!AB32-$J32)/$L32),0),IF(ISNUMBER(Data!AB32),100*ABS($F32-(Data!AB32-$J32)/$L32),0))))","v":12.5},{"$f":"IF(Data!$AI32=1,50,IF($G32=0,0,CHOOSE($G32,SUMPRODUCT($O33:$O$81*AE33:AE$81*($D33:$D$81=$C32)),IF(ISNUMBER(Data!AC32),100*ABS($F32-(Data!AC32-$J32)/$L32),0),IF(ISNUMBER(Data!AC32),100*ABS($F32-(Data!AC32-$J32)/$L32),0))))","v":62.5},{"$f":"IF(Data!$AI32=1,50,IF($G32=0,0,CHOOSE($G32,SUMPRODUCT($O33:$O$81*AF33:AF$81*($D33:$D$81=$C32)),IF(ISNUMBER(Data!AD32),100*ABS($F32-(Data!AD32-$J32)/$L32),0),IF(ISNUMBER(Data!AD32),100*ABS($F32-(Data!AD32-$J32)/$L32),0))))","v":75},{"$f":"IF(Data!$AI32=1,50,IF($G32=0,0,CHOOSE($G32,SUMPRODUCT($O33:$O$81*AG33:AG$81*($D33:$D$81=$C32)),IF(ISNUMBER(Data!AE32),100*ABS($F32-(Data!AE32-$J32)/$L32),0),IF(ISNUMBER(Data!AE32),100*ABS($F32-(Data!AE32-$J32)/$L32),0))))","v":87.5},{"$f":"IF(Data!$AI32=1,50,IF($G32=0,0,CHOOSE($G32,SUMPRODUCT($O33:$O$81*AH33:AH$81*($D33:$D$81=$C32)),IF(ISNUMBER(Data!AF32),100*ABS($F32-(Data!AF32-$J32)/$L32),0),IF(ISNUMBER(Data!AF32),100*ABS($F32-(Data!AF32-$J32)/$L32),0))))","v":100},{"$f":"IF(Data!$AI32=1,50,IF($G32=0,0,CHOOSE($G32,SUMPRODUCT($O33:$O$81*AI33:AI$81*($D33:$D$81=$C32)),IF(ISNUMBER(Data!AG32),100*ABS($F32-(Data!AG32-$J32)/$L32),0),IF(ISNUMBER(Data!AG32),100*ABS($F32-(Data!AG32-$J32)/$L32),0))))","v":37.5}]
[null,{"$f":"tblIndicators!A27","v":26},{"$f":"tblIndicators!B27","v":"BUSENV_3_1"},{"$f":"tblIndicators!C27","v":"BUSENV_3"},{"$f":"tblIndicators!D27","v":3},{"$f":"tblIndicators!L27","v":0},{"$f":"tblIndicators!V27","v":3},{"$f":"tblIndicators!W27","v":0},{"$f":"tblIndicators!X27","v":4},{"$f":"CHOOSE(G33,\"-\",Data!H33,H33)","v":0},{"$f":"CHOOSE(G33,\"-\",Data!I33,I33)","v":4},4,{"$f":"tblIndicators!AE27","v":"2.3.1) Fairness of judicial process"},"",{"$f":"tblIndicators!AJ27","v":0.5},{"$f":"IF(Data!$AI33=1,50,IF($G33=0,0,CHOOSE($G33,SUMPRODUCT($O34:$O$81*P34:P$81*($D34:$D$81=$C33)),IF(ISNUMBER(Data!N33),100*ABS($F33-(Data!N33-$J33)/$L33),0),IF(ISNUMBER(Data!N33),100*ABS($F33-(Data!N33-$J33)/$L33),0))))","v":50},{"$f":"IF(Data!$AI33=1,50,IF($G33=0,0,CHOOSE($G33,SUMPRODUCT($O34:$O$81*Q34:Q$81*($D34:$D$81=$C33)),IF(ISNUMBER(Data!O33),100*ABS($F33-(Data!O33-$J33)/$L33),0),IF(ISNUMBER(Data!O33),100*ABS($F33-(Data!O33-$J33)/$L33),0))))","v":100},{"$f":"IF(Data!$AI33=1,50,IF($G33=0,0,CHOOSE($G33,SUMPRODUCT($O34:$O$81*R34:R$81*($D34:$D$81=$C33)),IF(ISNUMBER(Data!P33),100*ABS($F33-(Data!P33-$J33)/$L33),0),IF(ISNUMBER(Data!P33),100*ABS($F33-(Data!P33-$J33)/$L33),0))))","v":75},{"$f":"IF(Data!$AI33=1,50,IF($G33=0,0,CHOOSE($G33,SUMPRODUCT($O34:$O$81*S34:S$81*($D34:$D$81=$C33)),IF(ISNUMBER(Data!Q33),100*ABS($F33-(Data!Q33-$J33)/$L33),0),IF(ISNUMBER(Data!Q33),100*ABS($F33-(Data!Q33-$J33)/$L33),0))))","v":25},{"$f":"IF(Data!$AI33=1,50,IF($G33=0,0,CHOOSE($G33,SUMPRODUCT($O34:$O$81*T34:T$81*($D34:$D$81=$C33)),IF(ISNUMBER(Data!R33),100*ABS($F33-(Data!R33-$J33)/$L33),0),IF(ISNUMBER(Data!R33),100*ABS($F33-(Data!R33-$J33)/$L33),0))))","v":75},{"$f":"IF(Data!$AI33=1,50,IF($G33=0,0,CHOOSE($G33,SUMPRODUCT($O34:$O$81*U34:U$81*($D34:$D$81=$C33)),IF(ISNUMBER(Data!S33),100*ABS($F33-(Data!S33-$J33)/$L33),0),IF(ISNUMBER(Data!S33),100*ABS($F33-(Data!S33-$J33)/$L33),0))))","v":25},{"$f":"IF(Data!$AI33=1,50,IF($G33=0,0,CHOOSE($G33,SUMPRODUCT($O34:$O$81*V34:V$81*($D34:$D$81=$C33)),IF(ISNUMBER(Data!T33),100*ABS($F33-(Data!T33-$J33)/$L33),0),IF(ISNUMBER(Data!T33),100*ABS($F33-(Data!T33-$J33)/$L33),0))))","v":25},{"$f":"IF(Data!$AI33=1,50,IF($G33=0,0,CHOOSE($G33,SUMPRODUCT($O34:$O$81*W34:W$81*($D34:$D$81=$C33)),IF(ISNUMBER(Data!U33),100*ABS($F33-(Data!U33-$J33)/$L33),0),IF(ISNUMBER(Data!U33),100*ABS($F33-(Data!U33-$J33)/$L33),0))))","v":75},{"$f":"IF(Data!$AI33=1,50,IF($G33=0,0,CHOOSE($G33,SUMPRODUCT($O34:$O$81*X34:X$81*($D34:$D$81=$C33)),IF(ISNUMBER(Data!V33),100*ABS($F33-(Data!V33-$J33)/$L33),0),IF(ISNUMBER(Data!V33),100*ABS($F33-(Data!V33-$J33)/$L33),0))))","v":50},{"$f":"IF(Data!$AI33=1,50,IF($G33=0,0,CHOOSE($G33,SUMPRODUCT($O34:$O$81*Y34:Y$81*($D34:$D$81=$C33)),IF(ISNUMBER(Data!W33),100*ABS($F33-(Data!W33-$J33)/$L33),0),IF(ISNUMBER(Data!W33),100*ABS($F33-(Data!W33-$J33)/$L33),0))))","v":100},{"$f":"IF(Data!$AI33=1,50,IF($G33=0,0,CHOOSE($G33,SUMPRODUCT($O34:$O$81*Z34:Z$81*($D34:$D$81=$C33)),IF(ISNUMBER(Data!X33),100*ABS($F33-(Data!X33-$J33)/$L33),0),IF(ISNUMBER(Data!X33),100*ABS($F33-(Data!X33-$J33)/$L33),0))))","v":0},{"$f":"IF(Data!$AI33=1,50,IF($G33=0,0,CHOOSE($G33,SUMPRODUCT($O34:$O$81*AA34:AA$81*($D34:$D$81=$C33)),IF(ISNUMBER(Data!Y33),100*ABS($F33-(Data!Y33-$J33)/$L33),0),IF(ISNUMBER(Data!Y33),100*ABS($F33-(Data!Y33-$J33)/$L33),0))))","v":100},{"$f":"IF(Data!$AI33=1,50,IF($G33=0,0,CHOOSE($G33,SUMPRODUCT($O34:$O$81*AB34:AB$81*($D34:$D$81=$C33)),IF(ISNUMBER(Data!Z33),100*ABS($F33-(Data!Z33-$J33)/$L33),0),IF(ISNUMBER(Data!Z33),100*ABS($F33-(Data!Z33-$J33)/$L33),0))))","v":25},{"$f":"IF(Data!$AI33=1,50,IF($G33=0,0,CHOOSE($G33,SUMPRODUCT($O34:$O$81*AC34:AC$81*($D34:$D$81=$C33)),IF(ISNUMBER(Data!AA33),100*ABS($F33-(Data!AA33-$J33)/$L33),0),IF(ISNUMBER(Data!AA33),100*ABS($F33-(Data!AA33-$J33)/$L33),0))))","v":50},{"$f":"IF(Data!$AI33=1,50,IF($G33=0,0,CHOOSE($G33,SUMPRODUCT($O34:$O$81*AD34:AD$81*($D34:$D$81=$C33)),IF(ISNUMBER(Data!AB33),100*ABS($F33-(Data!AB33-$J33)/$L33),0),IF(ISNUMBER(Data!AB33),100*ABS($F33-(Data!AB33-$J33)/$L33),0))))","v":0},{"$f":"IF(Data!$AI33=1,50,IF($G33=0,0,CHOOSE($G33,SUMPRODUCT($O34:$O$81*AE34:AE$81*($D34:$D$81=$C33)),IF(ISNUMBER(Data!AC33),100*ABS($F33-(Data!AC33-$J33)/$L33),0),IF(ISNUMBER(Data!AC33),100*ABS($F33-(Data!AC33-$J33)/$L33),0))))","v":75},{"$f":"IF(Data!$AI33=1,50,IF($G33=0,0,CHOOSE($G33,SUMPRODUCT($O34:$O$81*AF34:AF$81*($D34:$D$81=$C33)),IF(ISNUMBER(Data!AD33),100*ABS($F33-(Data!AD33-$J33)/$L33),0),IF(ISNUMBER(Data!AD33),100*ABS($F33-(Data!AD33-$J33)/$L33),0))))","v":75},{"$f":"IF(Data!$AI33=1,50,IF($G33=0,0,CHOOSE($G33,SUMPRODUCT($O34:$O$81*AG34:AG$81*($D34:$D$81=$C33)),IF(ISNUMBER(Data!AE33),100*ABS($F33-(Data!AE33-$J33)/$L33),0),IF(ISNUMBER(Data!AE33),100*ABS($F33-(Data!AE33-$J33)/$L33),0))))","v":75},{"$f":"IF(Data!$AI33=1,50,IF($G33=0,0,CHOOSE($G33,SUMPRODUCT($O34:$O$81*AH34:AH$81*($D34:$D$81=$C33)),IF(ISNUMBER(Data!AF33),100*ABS($F33-(Data!AF33-$J33)/$L33),0),IF(ISNUMBER(Data!AF33),100*ABS($F33-(Data!AF33-$J33)/$L33),0))))","v":100},{"$f":"IF(Data!$AI33=1,50,IF($G33=0,0,CHOOSE($G33,SUMPRODUCT($O34:$O$81*AI34:AI$81*($D34:$D$81=$C33)),IF(ISNUMBER(Data!AG33),100*ABS($F33-(Data!AG33-$J33)/$L33),0),IF(ISNUMBER(Data!AG33),100*ABS($F33-(Data!AG33-$J33)/$L33),0))))","v":25}]
[null,{"$f":"tblIndicators!A28","v":27},{"$f":"tblIndicators!B28","v":"BUSENV_3_2"},{"$f":"tblIndicators!C28","v":"BUSENV_3"},{"$f":"tblIndicators!D28","v":3},{"$f":"tblIndicators!L28","v":0},{"$f":"tblIndicators!V28","v":3},{"$f":"tblIndicators!W28","v":0},{"$f":"tblIndicators!X28","v":4},{"$f":"CHOOSE(G34,\"-\",Data!H34,H34)","v":0},{"$f":"CHOOSE(G34,\"-\",Data!I34,I34)","v":4},4,{"$f":"tblIndicators!AE28","v":"2.3.2) Enforceability of contracts"},"",{"$f":"tblIndicators!AJ28","v":0.5},{"$f":"IF(Data!$AI34=1,50,IF($G34=0,0,CHOOSE($G34,SUMPRODUCT($O35:$O$81*P35:P$81*($D35:$D$81=$C34)),IF(ISNUMBER(Data!N34),100*ABS($F34-(Data!N34-$J34)/$L34),0),IF(ISNUMBER(Data!N34),100*ABS($F34-(Data!N34-$J34)/$L34),0))))","v":50},{"$f":"IF(Data!$AI34=1,50,IF($G34=0,0,CHOOSE($G34,SUMPRODUCT($O35:$O$81*Q35:Q$81*($D35:$D$81=$C34)),IF(ISNUMBER(Data!O34),100*ABS($F34-(Data!O34-$J34)/$L34),0),IF(ISNUMBER(Data!O34),100*ABS($F34-(Data!O34-$J34)/$L34),0))))","v":100},{"$f":"IF(Data!$AI34=1,50,IF($G34=0,0,CHOOSE($G34,SUMPRODUCT($O35:$O$81*R35:R$81*($D35:$D$81=$C34)),IF(ISNUMBER(Data!P34),100*ABS($F34-(Data!P34-$J34)/$L34),0),IF(ISNUMBER(Data!P34),100*ABS($F34-(Data!P34-$J34)/$L34),0))))","v":75},{"$f":"IF(Data!$AI34=1,50,IF($G34=0,0,CHOOSE($G34,SUMPRODUCT($O35:$O$81*S35:S$81*($D35:$D$81=$C34)),IF(ISNUMBER(Data!Q34),100*ABS($F34-(Data!Q34-$J34)/$L34),0),IF(ISNUMBER(Data!Q34),100*ABS($F34-(Data!Q34-$J34)/$L34),0))))","v":25},{"$f":"IF(Data!$AI34=1,50,IF($G34=0,0,CHOOSE($G34,SUMPRODUCT($O35:$O$81*T35:T$81*($D35:$D$81=$C34)),IF(ISNUMBER(Data!R34),100*ABS($F34-(Data!R34-$J34)/$L34),0),IF(ISNUMBER(Data!R34),100*ABS($F34-(Data!R34-$J34)/$L34),0))))","v":100},{"$f":"IF(Data!$AI34=1,50,IF($G34=0,0,CHOOSE($G34,SUMPRODUCT($O35:$O$81*U35:U$81*($D35:$D$81=$C34)),IF(ISNUMBER(Data!S34),100*ABS($F34-(Data!S34-$J34)/$L34),0),IF(ISNUMBER(Data!S34),100*ABS($F34-(Data!S34-$J34)/$L34),0))))","v":25},{"$f":"IF(Data!$AI34=1,50,IF($G34=0,0,CHOOSE($G34,SUMPRODUCT($O35:$O$81*V35:V$81*($D35:$D$81=$C34)),IF(ISNUMBER(Data!T34),100*ABS($F34-(Data!T34-$J34)/$L34),0),IF(ISNUMBER(Data!T34),100*ABS($F34-(Data!T34-$J34)/$L34),0))))","v":25},{"$f":"IF(Data!$AI34=1,50,IF($G34=0,0,CHOOSE($G34,SUMPRODUCT($O35:$O$81*W35:W$81*($D35:$D$81=$C34)),IF(ISNUMBER(Data!U34),100*ABS($F34-(Data!U34-$J34)/$L34),0),IF(ISNUMBER(Data!U34),100*ABS($F34-(Data!U34-$J34)/$L34),0))))","v":50},{"$f":"IF(Data!$AI34=1,50,IF($G34=0,0,CHOOSE($G34,SUMPRODUCT($O35:$O$81*X35:X$81*($D35:$D$81=$C34)),IF(ISNUMBER(Data!V34),100*ABS($F34-(Data!V34-$J34)/$L34),0),IF(ISNUMBER(Data!V34),100*ABS($F34-(Data!V34-$J34)/$L34),0))))","v":75},{"$f":"IF(Data!$AI34=1,50,IF($G34=0,0,CHOOSE($G34,SUMPRODUCT($O35:$O$81*Y35:Y$81*($D35:$D$81=$C34)),IF(ISNUMBER(Data!W34),100*ABS($F34-(Data!W34-$J34)/$L34),0),IF(ISNUMBER(Data!W34),100*ABS($F34-(Data!W34-$J34)/$L34),0))))","v":100},{"$f":"IF(Data!$AI34=1,50,IF($G34=0,0,CHOOSE($G34,SUMPRODUCT($O35:$O$81*Z35:Z$81*($D35:$D$81=$C34)),IF(ISNUMBER(Data!X34),100*ABS($F34-(Data!X34-$J34)/$L34),0),IF(ISNUMBER(Data!X34),100*ABS($F34-(Data!X34-$J34)/$L34),0))))","v":0},{"$f":"IF(Data!$AI34=1,50,IF($G34=0,0,CHOOSE($G34,SUMPRODUCT($O35:$O$81*AA35:AA$81*($D35:$D$81=$C34)),IF(ISNUMBER(Data!Y34),100*ABS($F34-(Data!Y34-$J34)/$L34),0),IF(ISNUMBER(Data!Y34),100*ABS($F34-(Data!Y34-$J34)/$L34),0))))","v":100},{"$f":"IF(Data!$AI34=1,50,IF($G34=0,0,CHOOSE($G34,SUMPRODUCT($O35:$O$81*AB35:AB$81*($D35:$D$81=$C34)),IF(ISNUMBER(Data!Z34),100*ABS($F34-(Data!Z34-$J34)/$L34),0),IF(ISNUMBER(Data!Z34),100*ABS($F34-(Data!Z34-$J34)/$L34),0))))","v":25},{"$f":"IF(Data!$AI34=1,50,IF($G34=0,0,CHOOSE($G34,SUMPRODUCT($O35:$O$81*AC35:AC$81*($D35:$D$81=$C34)),IF(ISNUMBER(Data!AA34),100*ABS($F34-(Data!AA34-$J34)/$L34),0),IF(ISNUMBER(Data!AA34),100*ABS($F34-(Data!AA34-$J34)/$L34),0))))","v":25},{"$f":"IF(Data!$AI34=1,50,IF($G34=0,0,CHOOSE($G34,SUMPRODUCT($O35:$O$81*AD35:AD$81*($D35:$D$81=$C34)),IF(ISNUMBER(Data!AB34),100*ABS($F34-(Data!AB34-$J34)/$L34),0),IF(ISNUMBER(Data!AB34),100*ABS($F34-(Data!AB34-$J34)/$L34),0))))","v":25},{"$f":"IF(Data!$AI34=1,50,IF($G34=0,0,CHOOSE($G34,SUMPRODUCT($O35:$O$81*AE35:AE$81*($D35:$D$81=$C34)),IF(ISNUMBER(Data!AC34),100*ABS($F34-(Data!AC34-$J34)/$L34),0),IF(ISNUMBER(Data!AC34),100*ABS($F34-(Data!AC34-$J34)/$L34),0))))","v":50},{"$f":"IF(Data!$AI34=1,50,IF($G34=0,0,CHOOSE($G34,SUMPRODUCT($O35:$O$81*AF35:AF$81*($D35:$D$81=$C34)),IF(ISNUMBER(Data!AD34),100*ABS($F34-(Data!AD34-$J34)/$L34),0),IF(ISNUMBER(Data!AD34),100*ABS($F34-(Data!AD34-$J34)/$L34),0))))","v":75},{"$f":"IF(Data!$AI34=1,50,IF($G34=0,0,CHOOSE($G34,SUMPRODUCT($O35:$O$81*AG35:AG$81*($D35:$D$81=$C34)),IF(ISNUMBER(Data!AE34),100*ABS($F34-(Data!AE34-$J34)/$L34),0),IF(ISNUMBER(Data!AE34),100*ABS($F34-(Data!AE34-$J34)/$L34),0))))","v":100},{"$f":"IF(Data!$AI34=1,50,IF($G34=0,0,CHOOSE($G34,SUMPRODUCT($O35:$O$81*AH35:AH$81*($D35:$D$81=$C34)),IF(ISNUMBER(Data!AF34),100*ABS($F34-(Data!AF34-$J34)/$L34),0),IF(ISNUMBER(Data!AF34),100*ABS($F34-(Data!AF34-$J34)/$L34),0))))","v":100},{"$f":"IF(Data!$AI34=1,50,IF($G34=0,0,CHOOSE($G34,SUMPRODUCT($O35:$O$81*AI35:AI$81*($D35:$D$81=$C34)),IF(ISNUMBER(Data!AG34),100*ABS($F34-(Data!AG34-$J34)/$L34),0),IF(ISNUMBER(Data!AG34),100*ABS($F34-(Data!AG34-$J34)/$L34),0))))","v":50}]
[null,{"$f":"tblIndicators!A29","v":28},{"$f":"tblIndicators!B29","v":"BUSENV_4"},{"$f":"tblIndicators!C29","v":"BUSENV"},{"$f":"tblIndicators!D29","v":2},{"$f":"tblIndicators!L29","v":0},{"$f":"tblIndicators!V29","v":1},{"$f":"tblIndicators!W29","v":0},{"$f":"tblIndicators!X29","v":100},{"$f":"CHOOSE(G35,\"-\",Data!H35,H35)","v":"-"},{"$f":"CHOOSE(G35,\"-\",Data!I35,I35)","v":"-"},"-",{"$f":"tblIndicators!AE29","v":"2.4) Quality of coastal infrastructure"},0.25,{"$f":"tblIndicators!AJ29","v":0.25},{"$f":"IF(Data!$AI35=1,50,IF($G35=0,0,CHOOSE($G35,SUMPRODUCT($O36:$O$81*P36:P$81*($D36:$D$81=$C35)),IF(ISNUMBER(Data!N35),100*ABS($F35-(Data!N35-$J35)/$L35),0),IF(ISNUMBER(Data!N35),100*ABS($F35-(Data!N35-$J35)/$L35),0))))","v":34.342559533333336},{"$f":"IF(Data!$AI35=1,50,IF($G35=0,0,CHOOSE($G35,SUMPRODUCT($O36:$O$81*Q36:Q$81*($D36:$D$81=$C35)),IF(ISNUMBER(Data!O35),100*ABS($F35-(Data!O35-$J35)/$L35),0),IF(ISNUMBER(Data!O35),100*ABS($F35-(Data!O35-$J35)/$L35),0))))","v":79.739347699999996},{"$f":"IF(Data!$AI35=1,50,IF($G35=0,0,CHOOSE($G35,SUMPRODUCT($O36:$O$81*R36:R$81*($D36:$D$81=$C35)),IF(ISNUMBER(Data!P35),100*ABS($F35-(Data!P35-$J35)/$L35),0),IF(ISNUMBER(Data!P35),100*ABS($F35-(Data!P35-$J35)/$L35),0))))","v":62.534539433333336},{"$f":"IF(Data!$AI35=1,50,IF($G35=0,0,CHOOSE($G35,SUMPRODUCT($O36:$O$81*S36:S$81*($D36:$D$81=$C35)),IF(ISNUMBER(Data!Q35),100*ABS($F35-(Data!Q35-$J35)/$L35),0),IF(ISNUMBER(Data!Q35),100*ABS($F35-(Data!Q35-$J35)/$L35),0))))","v":57.459931200000007},{"$f":"IF(Data!$AI35=1,50,IF($G35=0,0,CHOOSE($G35,SUMPRODUCT($O36:$O$81*T36:T$81*($D36:$D$81=$C35)),IF(ISNUMBER(Data!R35),100*ABS($F35-(Data!R35-$J35)/$L35),0),IF(ISNUMBER(Data!R35),100*ABS($F35-(Data!R35-$J35)/$L35),0))))","v":85.770857599999999},{"$f":"IF(Data!$AI35=1,50,IF($G35=0,0,CHOOSE($G35,SUMPRODUCT($O36:$O$81*U36:U$81*($D36:$D$81=$C35)),IF(ISNUMBER(Data!S35),100*ABS($F35-(Data!S35-$J35)/$L35),0),IF(ISNUMBER(Data!S35),100*ABS($F35-(Data!S35-$J35)/$L35),0))))","v":43.575858666666669},{"$f":"IF(Data!$AI35=1,50,IF($G35=0,0,CHOOSE($G35,SUMPRODUCT($O36:$O$81*V36:V$81*($D36:$D$81=$C35)),IF(ISNUMBER(Data!T35),100*ABS($F35-(Data!T35-$J35)/$L35),0),IF(ISNUMBER(Data!T35),100*ABS($F35-(Data!T35-$J35)/$L35),0))))","v":44.618774300000013},{"$f":"IF(Data!$AI35=1,50,IF($G35=0,0,CHOOSE($G35,SUMPRODUCT($O36:$O$81*W36:W$81*($D36:$D$81=$C35)),IF(ISNUMBER(Data!U35),100*ABS($F35-(Data!U35-$J35)/$L35),0),IF(ISNUMBER(Data!U35),100*ABS($F35-(Data!U35-$J35)/$L35),0))))","v":87.435733200000001},{"$f":"IF(Data!$AI35=1,50,IF($G35=0,0,CHOOSE($G35,SUMPRODUCT($O36:$O$81*X36:X$81*($D36:$D$81=$C35)),IF(ISNUMBER(Data!V35),100*ABS($F35-(Data!V35-$J35)/$L35),0),IF(ISNUMBER(Data!V35),100*ABS($F35-(Data!V35-$J35)/$L35),0))))","v":49.405279966666669},{"$f":"IF(Data!$AI35=1,50,IF($G35=0,0,CHOOSE($G35,SUMPRODUCT($O36:$O$81*Y36:Y$81*($D36:$D$81=$C35)),IF(ISNUMBER(Data!W35),100*ABS($F35-(Data!W35-$J35)/$L35),0),IF(ISNUMBER(Data!W35),100*ABS($F35-(Data!W35-$J35)/$L35),0))))","v":69.6768912},{"$f":"IF(Data!$AI35=1,50,IF($G35=0,0,CHOOSE($G35,SUMPRODUCT($O36:$O$81*Z36:Z$81*($D36:$D$81=$C35)),IF(ISNUMBER(Data!X35),100*ABS($F35-(Data!X35-$J35)/$L35),0),IF(ISNUMBER(Data!X35),100*ABS($F35-(Data!X35-$J35)/$L35),0))))","v":18.060514166666668},{"$f":"IF(Data!$AI35=1,50,IF($G35=0,0,CHOOSE($G35,SUMPRODUCT($O36:$O$81*AA36:AA$81*($D36:$D$81=$C35)),IF(ISNUMBER(Data!Y35),100*ABS($F35-(Data!Y35-$J35)/$L35),0),IF(ISNUMBER(Data!Y35),100*ABS($F35-(Data!Y35-$J35)/$L35),0))))","v":73.820033499999994},{"$f":"IF(Data!$AI35=1,50,IF($G35=0,0,CHOOSE($G35,SUMPRODUCT($O36:$O$81*AB36:AB$81*($D36:$D$81=$C35)),IF(ISNUMBER(Data!Z35),100*ABS($F35-(Data!Z35-$J35)/$L35),0),IF(ISNUMBER(Data!Z35),100*ABS($F35-(Data!Z35-$J35)/$L35),0))))","v":38.190181733333333},{"$f":"IF(Data!$AI35=1,50,IF($G35=0,0,CHOOSE($G35,SUMPRODUCT($O36:$O$81*AC36:AC$81*($D36:$D$81=$C35)),IF(ISNUMBER(Data!AA35),100*ABS($F35-(Data!AA35-$J35)/$L35),0),IF(ISNUMBER(Data!AA35),100*ABS($F35-(Data!AA35-$J35)/$L35),0))))","v":39.180889966666669},{"$f":"IF(Data!$AI35=1,50,IF($G35=0,0,CHOOSE($G35,SUMPRODUCT($O36:$O$81*AD36:AD$81*($D36:$D$81=$C35)),IF(ISNUMBER(Data!AB35),100*ABS($F35-(Data!AB35-$J35)/$L35),0),IF(ISNUMBER(Data!AB35),100*ABS($F35-(Data!AB35-$J35)/$L35),0))))","v":48.190567766666668},{"$f":"IF(Data!$AI35=1,50,IF($G35=0,0,CHOOSE($G35,SUMPRODUCT($O36:$O$81*AE36:AE$81*($D36:$D$81=$C35)),IF(ISNUMBER(Data!AC35),100*ABS($F35-(Data!AC35-$J35)/$L35),0),IF(ISNUMBER(Data!AC35),100*ABS($F35-(Data!AC35-$J35)/$L35),0))))","v":49.882713000000003},{"$f":"IF(Data!$AI35=1,50,IF($G35=0,0,CHOOSE($G35,SUMPRODUCT($O36:$O$81*AF36:AF$81*($D36:$D$81=$C35)),IF(ISNUMBER(Data!AD35),100*ABS($F35-(Data!AD35-$J35)/$L35),0),IF(ISNUMBER(Data!AD35),100*ABS($F35-(Data!AD35-$J35)/$L35),0))))","v":77.457122366666667},{"$f":"IF(Data!$AI35=1,50,IF($G35=0,0,CHOOSE($G35,SUMPRODUCT($O36:$O$81*AG36:AG$81*($D36:$D$81=$C35)),IF(ISNUMBER(Data!AE35),100*ABS($F35-(Data!AE35-$J35)/$L35),0),IF(ISNUMBER(Data!AE35),100*ABS($F35-(Data!AE35-$J35)/$L35),0))))","v":86.638301866666666},{"$f":"IF(Data!$AI35=1,50,IF($G35=0,0,CHOOSE($G35,SUMPRODUCT($O36:$O$81*AH36:AH$81*($D36:$D$81=$C35)),IF(ISNUMBER(Data!AF35),100*ABS($F35-(Data!AF35-$J35)/$L35),0),IF(ISNUMBER(Data!AF35),100*ABS($F35-(Data!AF35-$J35)/$L35),0))))","v":79.175681733333349},{"$f":"IF(Data!$AI35=1,50,IF($G35=0,0,CHOOSE($G35,SUMPRODUCT($O36:$O$81*AI36:AI$81*($D36:$D$81=$C35)),IF(ISNUMBER(Data!AG35),100*ABS($F35-(Data!AG35-$J35)/$L35),0),IF(ISNUMBER(Data!AG35),100*ABS($F35-(Data!AG35-$J35)/$L35),0))))","v":42.464388800000009}]
[null,{"$f":"tblIndicators!A30","v":29},{"$f":"tblIndicators!B30","v":"BUSENV_4_1"},{"$f":"tblIndicators!C30","v":"BUSENV_4"},{"$f":"tblIndicators!D30","v":3},{"$f":"tblIndicators!L30","v":0},{"$f":"tblIndicators!V30","v":3},{"$f":"tblIndicators!W30","v":0},{"$f":"tblIndicators!X30","v":6},{"$f":"CHOOSE(G36,\"-\",Data!H36,H36)","v":0},{"$f":"CHOOSE(G36,\"-\",Data!I36,I36)","v":6},6,{"$f":"tblIndicators!AE30","v":"2.4.1) Quality of port facilities"},"",{"$f":"tblIndicators!AJ30","v":0.2},{"$f":"IF(Data!$AI36=1,50,IF($G36=0,0,CHOOSE($G36,SUMPRODUCT($O37:$O$81*P37:P$81*($D37:$D$81=$C36)),IF(ISNUMBER(Data!N36),100*ABS($F36-(Data!N36-$J36)/$L36),0),IF(ISNUMBER(Data!N36),100*ABS($F36-(Data!N36-$J36)/$L36),0))))","v":27.936865833333329},{"$f":"IF(Data!$AI36=1,50,IF($G36=0,0,CHOOSE($G36,SUMPRODUCT($O37:$O$81*Q37:Q$81*($D37:$D$81=$C36)),IF(ISNUMBER(Data!O36),100*ABS($F36-(Data!O36-$J36)/$L36),0),IF(ISNUMBER(Data!O36),100*ABS($F36-(Data!O36-$J36)/$L36),0))))","v":74.464375666666655},{"$f":"IF(Data!$AI36=1,50,IF($G36=0,0,CHOOSE($G36,SUMPRODUCT($O37:$O$81*R37:R$81*($D37:$D$81=$C36)),IF(ISNUMBER(Data!P36),100*ABS($F36-(Data!P36-$J36)/$L36),0),IF(ISNUMBER(Data!P36),100*ABS($F36-(Data!P36-$J36)/$L36),0))))","v":67.19871400000001},{"$f":"IF(Data!$AI36=1,50,IF($G36=0,0,CHOOSE($G36,SUMPRODUCT($O37:$O$81*S37:S$81*($D37:$D$81=$C36)),IF(ISNUMBER(Data!Q36),100*ABS($F36-(Data!Q36-$J36)/$L36),0),IF(ISNUMBER(Data!Q36),100*ABS($F36-(Data!Q36-$J36)/$L36),0))))","v":59.375728500000001},{"$f":"IF(Data!$AI36=1,50,IF($G36=0,0,CHOOSE($G36,SUMPRODUCT($O37:$O$81*T37:T$81*($D37:$D$81=$C36)),IF(ISNUMBER(Data!R36),100*ABS($F36-(Data!R36-$J36)/$L36),0),IF(ISNUMBER(Data!R36),100*ABS($F36-(Data!R36-$J36)/$L36),0))))","v":69.925407833333324},{"$f":"IF(Data!$AI36=1,50,IF($G36=0,0,CHOOSE($G36,SUMPRODUCT($O37:$O$81*U37:U$81*($D37:$D$81=$C36)),IF(ISNUMBER(Data!S36),100*ABS($F36-(Data!S36-$J36)/$L36),0),IF(ISNUMBER(Data!S36),100*ABS($F36-(Data!S36-$J36)/$L36),0))))","v":50.292435499999996},{"$f":"IF(Data!$AI36=1,50,IF($G36=0,0,CHOOSE($G36,SUMPRODUCT($O37:$O$81*V37:V$81*($D37:$D$81=$C36)),IF(ISNUMBER(Data!T36),100*ABS($F36-(Data!T36-$J36)/$L36),0),IF(ISNUMBER(Data!T36),100*ABS($F36-(Data!T36-$J36)/$L36),0))))","v":49.580163500000005},{"$f":"IF(Data!$AI36=1,50,IF($G36=0,0,CHOOSE($G36,SUMPRODUCT($O37:$O$81*W37:W$81*($D37:$D$81=$C36)),IF(ISNUMBER(Data!U36),100*ABS($F36-(Data!U36-$J36)/$L36),0),IF(ISNUMBER(Data!U36),100*ABS($F36-(Data!U36-$J36)/$L36),0))))","v":72.387475333333342},{"$f":"IF(Data!$AI36=1,50,IF($G36=0,0,CHOOSE($G36,SUMPRODUCT($O37:$O$81*X37:X$81*($D37:$D$81=$C36)),IF(ISNUMBER(Data!V36),100*ABS($F36-(Data!V36-$J36)/$L36),0),IF(ISNUMBER(Data!V36),100*ABS($F36-(Data!V36-$J36)/$L36),0))))","v":54.594548833333334},{"$f":"IF(Data!$AI36=1,50,IF($G36=0,0,CHOOSE($G36,SUMPRODUCT($O37:$O$81*Y37:Y$81*($D37:$D$81=$C36)),IF(ISNUMBER(Data!W36),100*ABS($F36-(Data!W36-$J36)/$L36),0),IF(ISNUMBER(Data!W36),100*ABS($F36-(Data!W36-$J36)/$L36),0))))","v":79.300849833333331},{"$f":"IF(Data!$AI36=1,50,IF($G36=0,0,CHOOSE($G36,SUMPRODUCT($O37:$O$81*Z37:Z$81*($D37:$D$81=$C36)),IF(ISNUMBER(Data!X36),100*ABS($F36-(Data!X36-$J36)/$L36),0),IF(ISNUMBER(Data!X36),100*ABS($F36-(Data!X36-$J36)/$L36),0))))","v":36.018648333333331},{"$f":"IF(Data!$AI36=1,50,IF($G36=0,0,CHOOSE($G36,SUMPRODUCT($O37:$O$81*AA37:AA$81*($D37:$D$81=$C36)),IF(ISNUMBER(Data!Y36),100*ABS($F36-(Data!Y36-$J36)/$L36),0),IF(ISNUMBER(Data!Y36),100*ABS($F36-(Data!Y36-$J36)/$L36),0))))","v":78.09498866666668},{"$f":"IF(Data!$AI36=1,50,IF($G36=0,0,CHOOSE($G36,SUMPRODUCT($O37:$O$81*AB37:AB$81*($D37:$D$81=$C36)),IF(ISNUMBER(Data!Z36),100*ABS($F36-(Data!Z36-$J36)/$L36),0),IF(ISNUMBER(Data!Z36),100*ABS($F36-(Data!Z36-$J36)/$L36),0))))","v":45.780907666666671},{"$f":"IF(Data!$AI36=1,50,IF($G36=0,0,CHOOSE($G36,SUMPRODUCT($O37:$O$81*AC37:AC$81*($D37:$D$81=$C36)),IF(ISNUMBER(Data!AA36),100*ABS($F36-(Data!AA36-$J36)/$L36),0),IF(ISNUMBER(Data!AA36),100*ABS($F36-(Data!AA36-$J36)/$L36),0))))","v":40.935516666666665},{"$f":"IF(Data!$AI36=1,50,IF($G36=0,0,CHOOSE($G36,SUMPRODUCT($O37:$O$81*AD37:AD$81*($D37:$D$81=$C36)),IF(ISNUMBER(Data!AB36),100*ABS($F36-(Data!AB36-$J36)/$L36),0),IF(ISNUMBER(Data!AB36),100*ABS($F36-(Data!AB36-$J36)/$L36),0))))","v":48.971996666666669},{"$f":"IF(Data!$AI36=1,50,IF($G36=0,0,CHOOSE($G36,SUMPRODUCT($O37:$O$81*AE37:AE$81*($D37:$D$81=$C36)),IF(ISNUMBER(Data!AC36),100*ABS($F36-(Data!AC36-$J36)/$L36),0),IF(ISNUMBER(Data!AC36),100*ABS($F36-(Data!AC36-$J36)/$L36),0))))","v":64.388915499999996},{"$f":"IF(Data!$AI36=1,50,IF($G36=0,0,CHOOSE($G36,SUMPRODUCT($O37:$O$81*AF37:AF$81*($D37:$D$81=$C36)),IF(ISNUMBER(Data!AD36),100*ABS($F36-(Data!AD36-$J36)/$L36),0),IF(ISNUMBER(Data!AD36),100*ABS($F36-(Data!AD36-$J36)/$L36),0))))","v":72.156685999999993},{"$f":"IF(Data!$AI36=1,50,IF($G36=0,0,CHOOSE($G36,SUMPRODUCT($O37:$O$81*AG37:AG$81*($D37:$D$81=$C36)),IF(ISNUMBER(Data!AE36),100*ABS($F36-(Data!AE36-$J36)/$L36),0),IF(ISNUMBER(Data!AE36),100*ABS($F36-(Data!AE36-$J36)/$L36),0))))","v":80.386081000000004},{"$f":"IF(Data!$AI36=1,50,IF($G36=0,0,CHOOSE($G36,SUMPRODUCT($O37:$O$81*AH37:AH$81*($D37:$D$81=$C36)),IF(ISNUMBER(Data!AF36),100*ABS($F36-(Data!AF36-$J36)/$L36),0),IF(ISNUMBER(Data!AF36),100*ABS($F36-(Data!AF36-$J36)/$L36),0))))","v":78.166156333333333},{"$f":"IF(Data!$AI36=1,50,IF($G36=0,0,CHOOSE($G36,SUMPRODUCT($O37:$O$81*AI37:AI$81*($D37:$D$81=$C36)),IF(ISNUMBER(Data!AG36),100*ABS($F36-(Data!AG36-$J36)/$L36),0),IF(ISNUMBER(Data!AG36),100*ABS($F36-(Data!AG36-$J36)/$L36),0))))","v":45.695288166666664}]
[null,{"$f":"tblIndicators!A31","v":30},{"$f":"tblIndicators!B31","v":"BUSENV_4_2"},{"$f":"tblIndicators!C31","v":"BUSENV_4"},{"$f":"tblIndicators!D31","v":3},{"$f":"tblIndicators!L31","v":0},{"$f":"tblIndicators!V31","v":3},{"$f":"tblIndicators!W31","v":0},{"$f":"tblIndicators!X31","v":6},{"$f":"CHOOSE(G37,\"-\",Data!H37,H37)","v":0},{"$f":"CHOOSE(G37,\"-\",Data!I37,I37)","v":6},6,{"$f":"tblIndicators!AE31","v":"2.4.2) Quality of electricity supply"},"",{"$f":"tblIndicators!AJ31","v":0.2},{"$f":"IF(Data!$AI37=1,50,IF($G37=0,0,CHOOSE($G37,SUMPRODUCT($O38:$O$81*P38:P$81*($D38:$D$81=$C37)),IF(ISNUMBER(Data!N37),100*ABS($F37-(Data!N37-$J37)/$L37),0),IF(ISNUMBER(Data!N37),100*ABS($F37-(Data!N37-$J37)/$L37),0))))","v":51.860270333333332},{"$f":"IF(Data!$AI37=1,50,IF($G37=0,0,CHOOSE($G37,SUMPRODUCT($O38:$O$81*Q38:Q$81*($D38:$D$81=$C37)),IF(ISNUMBER(Data!O37),100*ABS($F37-(Data!O37-$J37)/$L37),0),IF(ISNUMBER(Data!O37),100*ABS($F37-(Data!O37-$J37)/$L37),0))))","v":91.916887666666668},{"$f":"IF(Data!$AI37=1,50,IF($G37=0,0,CHOOSE($G37,SUMPRODUCT($O38:$O$81*R38:R$81*($D38:$D$81=$C37)),IF(ISNUMBER(Data!P37),100*ABS($F37-(Data!P37-$J37)/$L37),0),IF(ISNUMBER(Data!P37),100*ABS($F37-(Data!P37-$J37)/$L37),0))))","v":72.663722000000007},{"$f":"IF(Data!$AI37=1,50,IF($G37=0,0,CHOOSE($G37,SUMPRODUCT($O38:$O$81*S38:S$81*($D38:$D$81=$C37)),IF(ISNUMBER(Data!Q37),100*ABS($F37-(Data!Q37-$J37)/$L37),0),IF(ISNUMBER(Data!Q37),100*ABS($F37-(Data!Q37-$J37)/$L37),0))))","v":70.398756333333338},{"$f":"IF(Data!$AI37=1,50,IF($G37=0,0,CHOOSE($G37,SUMPRODUCT($O38:$O$81*T38:T$81*($D38:$D$81=$C37)),IF(ISNUMBER(Data!R37),100*ABS($F37-(Data!R37-$J37)/$L37),0),IF(ISNUMBER(Data!R37),100*ABS($F37-(Data!R37-$J37)/$L37),0))))","v":91.215077666666673},{"$f":"IF(Data!$AI37=1,50,IF($G37=0,0,CHOOSE($G37,SUMPRODUCT($O38:$O$81*U38:U$81*($D38:$D$81=$C37)),IF(ISNUMBER(Data!S37),100*ABS($F37-(Data!S37-$J37)/$L37),0),IF(ISNUMBER(Data!S37),100*ABS($F37-(Data!S37-$J37)/$L37),0))))","v":40.560952166666667},{"$f":"IF(Data!$AI37=1,50,IF($G37=0,0,CHOOSE($G37,SUMPRODUCT($O38:$O$81*V38:V$81*($D38:$D$81=$C37)),IF(ISNUMBER(Data!T37),100*ABS($F37-(Data!T37-$J37)/$L37),0),IF(ISNUMBER(Data!T37),100*ABS($F37-(Data!T37-$J37)/$L37),0))))","v":55.66920833333333},{"$f":"IF(Data!$AI37=1,50,IF($G37=0,0,CHOOSE($G37,SUMPRODUCT($O38:$O$81*W38:W$81*($D38:$D$81=$C37)),IF(ISNUMBER(Data!U37),100*ABS($F37-(Data!U37-$J37)/$L37),0),IF(ISNUMBER(Data!U37),100*ABS($F37-(Data!U37-$J37)/$L37),0))))","v":87.911110666666673},{"$f":"IF(Data!$AI37=1,50,IF($G37=0,0,CHOOSE($G37,SUMPRODUCT($O38:$O$81*X38:X$81*($D38:$D$81=$C37)),IF(ISNUMBER(Data!V37),100*ABS($F37-(Data!V37-$J37)/$L37),0),IF(ISNUMBER(Data!V37),100*ABS($F37-(Data!V37-$J37)/$L37),0))))","v":59.603064166666663},{"$f":"IF(Data!$AI37=1,50,IF($G37=0,0,CHOOSE($G37,SUMPRODUCT($O38:$O$81*Y38:Y$81*($D38:$D$81=$C37)),IF(ISNUMBER(Data!W37),100*ABS($F37-(Data!W37-$J37)/$L37),0),IF(ISNUMBER(Data!W37),100*ABS($F37-(Data!W37-$J37)/$L37),0))))","v":86.663288500000007},{"$f":"IF(Data!$AI37=1,50,IF($G37=0,0,CHOOSE($G37,SUMPRODUCT($O38:$O$81*Z38:Z$81*($D38:$D$81=$C37)),IF(ISNUMBER(Data!X37),100*ABS($F37-(Data!X37-$J37)/$L37),0),IF(ISNUMBER(Data!X37),100*ABS($F37-(Data!X37-$J37)/$L37),0))))","v":9.5955673333333316},{"$f":"IF(Data!$AI37=1,50,IF($G37=0,0,CHOOSE($G37,SUMPRODUCT($O38:$O$81*AA38:AA$81*($D38:$D$81=$C37)),IF(ISNUMBER(Data!Y37),100*ABS($F37-(Data!Y37-$J37)/$L37),0),IF(ISNUMBER(Data!Y37),100*ABS($F37-(Data!Y37-$J37)/$L37),0))))","v":95.365979499999995},{"$f":"IF(Data!$AI37=1,50,IF($G37=0,0,CHOOSE($G37,SUMPRODUCT($O38:$O$81*AB38:AB$81*($D38:$D$81=$C37)),IF(ISNUMBER(Data!Z37),100*ABS($F37-(Data!Z37-$J37)/$L37),0),IF(ISNUMBER(Data!Z37),100*ABS($F37-(Data!Z37-$J37)/$L37),0))))","v":64.226251999999988},{"$f":"IF(Data!$AI37=1,50,IF($G37=0,0,CHOOSE($G37,SUMPRODUCT($O38:$O$81*AC38:AC$81*($D38:$D$81=$C37)),IF(ISNUMBER(Data!AA37),100*ABS($F37-(Data!AA37-$J37)/$L37),0),IF(ISNUMBER(Data!AA37),100*ABS($F37-(Data!AA37-$J37)/$L37),0))))","v":53.366177999999998},{"$f":"IF(Data!$AI37=1,50,IF($G37=0,0,CHOOSE($G37,SUMPRODUCT($O38:$O$81*AD38:AD$81*($D38:$D$81=$C37)),IF(ISNUMBER(Data!AB37),100*ABS($F37-(Data!AB37-$J37)/$L37),0),IF(ISNUMBER(Data!AB37),100*ABS($F37-(Data!AB37-$J37)/$L37),0))))","v":63.34365833333333},{"$f":"IF(Data!$AI37=1,50,IF($G37=0,0,CHOOSE($G37,SUMPRODUCT($O38:$O$81*AE38:AE$81*($D38:$D$81=$C37)),IF(ISNUMBER(Data!AC37),100*ABS($F37-(Data!AC37-$J37)/$L37),0),IF(ISNUMBER(Data!AC37),100*ABS($F37-(Data!AC37-$J37)/$L37),0))))","v":42.973791666666664},{"$f":"IF(Data!$AI37=1,50,IF($G37=0,0,CHOOSE($G37,SUMPRODUCT($O38:$O$81*AF38:AF$81*($D38:$D$81=$C37)),IF(ISNUMBER(Data!AD37),100*ABS($F37-(Data!AD37-$J37)/$L37),0),IF(ISNUMBER(Data!AD37),100*ABS($F37-(Data!AD37-$J37)/$L37),0))))","v":75.632424833333332},{"$f":"IF(Data!$AI37=1,50,IF($G37=0,0,CHOOSE($G37,SUMPRODUCT($O38:$O$81*AG38:AG$81*($D38:$D$81=$C37)),IF(ISNUMBER(Data!AE37),100*ABS($F37-(Data!AE37-$J37)/$L37),0),IF(ISNUMBER(Data!AE37),100*ABS($F37-(Data!AE37-$J37)/$L37),0))))","v":88.688171166666677},{"$f":"IF(Data!$AI37=1,50,IF($G37=0,0,CHOOSE($G37,SUMPRODUCT($O38:$O$81*AH38:AH$81*($D38:$D$81=$C37)),IF(ISNUMBER(Data!AF37),100*ABS($F37-(Data!AF37-$J37)/$L37),0),IF(ISNUMBER(Data!AF37),100*ABS($F37-(Data!AF37-$J37)/$L37),0))))","v":88.104434833333329},{"$f":"IF(Data!$AI37=1,50,IF($G37=0,0,CHOOSE($G37,SUMPRODUCT($O38:$O$81*AI38:AI$81*($D38:$D$81=$C37)),IF(ISNUMBER(Data!AG37),100*ABS($F37-(Data!AG37-$J37)/$L37),0),IF(ISNUMBER(Data!AG37),100*ABS($F37-(Data!AG37-$J37)/$L37),0))))","v":53.158332333333334}]
[null,{"$f":"tblIndicators!A32","v":31},{"$f":"tblIndicators!B32","v":"BUSENV_4_3"},{"$f":"tblIndicators!C32","v":"BUSENV_4"},{"$f":"tblIndicators!D32","v":3},{"$f":"tblIndicators!L32","v":0},{"$f":"tblIndicators!V32","v":3},{"$f":"tblIndicators!W32","v":0},{"$f":"tblIndicators!X32","v":6},{"$f":"CHOOSE(G38,\"-\",Data!H38,H38)","v":0},{"$f":"CHOOSE(G38,\"-\",Data!I38,I38)","v":6},6,{"$f":"tblIndicators!AE32","v":"2.4.3) Quality of road infrastructure"},"",{"$f":"tblIndicators!AJ32","v":0.2},{"$f":"IF(Data!$AI38=1,50,IF($G38=0,0,CHOOSE($G38,SUMPRODUCT($O39:$O$81*P39:P$81*($D39:$D$81=$C38)),IF(ISNUMBER(Data!N38),100*ABS($F38-(Data!N38-$J38)/$L38),0),IF(ISNUMBER(Data!N38),100*ABS($F38-(Data!N38-$J38)/$L38),0))))","v":29.219809166666664},{"$f":"IF(Data!$AI38=1,50,IF($G38=0,0,CHOOSE($G38,SUMPRODUCT($O39:$O$81*Q39:Q$81*($D39:$D$81=$C38)),IF(ISNUMBER(Data!O38),100*ABS($F38-(Data!O38-$J38)/$L38),0),IF(ISNUMBER(Data!O38),100*ABS($F38-(Data!O38-$J38)/$L38),0))))","v":72.376430999999997},{"$f":"IF(Data!$AI38=1,50,IF($G38=0,0,CHOOSE($G38,SUMPRODUCT($O39:$O$81*R39:R$81*($D39:$D$81=$C38)),IF(ISNUMBER(Data!P38),100*ABS($F38-(Data!P38-$J38)/$L38),0),IF(ISNUMBER(Data!P38),100*ABS($F38-(Data!P38-$J38)/$L38),0))))","v":68.688827000000003},{"$f":"IF(Data!$AI38=1,50,IF($G38=0,0,CHOOSE($G38,SUMPRODUCT($O39:$O$81*S39:S$81*($D39:$D$81=$C38)),IF(ISNUMBER(Data!Q38),100*ABS($F38-(Data!Q38-$J38)/$L38),0),IF(ISNUMBER(Data!Q38),100*ABS($F38-(Data!Q38-$J38)/$L38),0))))","v":60.236418},{"$f":"IF(Data!$AI38=1,50,IF($G38=0,0,CHOOSE($G38,SUMPRODUCT($O39:$O$81*T39:T$81*($D39:$D$81=$C38)),IF(ISNUMBER(Data!R38),100*ABS($F38-(Data!R38-$J38)/$L38),0),IF(ISNUMBER(Data!R38),100*ABS($F38-(Data!R38-$J38)/$L38),0))))","v":86.167374500000008},{"$f":"IF(Data!$AI38=1,50,IF($G38=0,0,CHOOSE($G38,SUMPRODUCT($O39:$O$81*U39:U$81*($D39:$D$81=$C38)),IF(ISNUMBER(Data!S38),100*ABS($F38-(Data!S38-$J38)/$L38),0),IF(ISNUMBER(Data!S38),100*ABS($F38-(Data!S38-$J38)/$L38),0))))","v":46.581650166666662},{"$f":"IF(Data!$AI38=1,50,IF($G38=0,0,CHOOSE($G38,SUMPRODUCT($O39:$O$81*V39:V$81*($D39:$D$81=$C38)),IF(ISNUMBER(Data!T38),100*ABS($F38-(Data!T38-$J38)/$L38),0),IF(ISNUMBER(Data!T38),100*ABS($F38-(Data!T38-$J38)/$L38),0))))","v":48.771181166666672},{"$f":"IF(Data!$AI38=1,50,IF($G38=0,0,CHOOSE($G38,SUMPRODUCT($O39:$O$81*W39:W$81*($D39:$D$81=$C38)),IF(ISNUMBER(Data!U38),100*ABS($F38-(Data!U38-$J38)/$L38),0),IF(ISNUMBER(Data!U38),100*ABS($F38-(Data!U38-$J38)/$L38),0))))","v":81.920018666666664},{"$f":"IF(Data!$AI38=1,50,IF($G38=0,0,CHOOSE($G38,SUMPRODUCT($O39:$O$81*X39:X$81*($D39:$D$81=$C38)),IF(ISNUMBER(Data!V38),100*ABS($F38-(Data!V38-$J38)/$L38),0),IF(ISNUMBER(Data!V38),100*ABS($F38-(Data!V38-$J38)/$L38),0))))","v":57.04595716666666},{"$f":"IF(Data!$AI38=1,50,IF($G38=0,0,CHOOSE($G38,SUMPRODUCT($O39:$O$81*Y39:Y$81*($D39:$D$81=$C38)),IF(ISNUMBER(Data!W38),100*ABS($F38-(Data!W38-$J38)/$L38),0),IF(ISNUMBER(Data!W38),100*ABS($F38-(Data!W38-$J38)/$L38),0))))","v":65.784519333333336},{"$f":"IF(Data!$AI38=1,50,IF($G38=0,0,CHOOSE($G38,SUMPRODUCT($O39:$O$81*Z39:Z$81*($D39:$D$81=$C38)),IF(ISNUMBER(Data!X38),100*ABS($F38-(Data!X38-$J38)/$L38),0),IF(ISNUMBER(Data!X38),100*ABS($F38-(Data!X38-$J38)/$L38),0))))","v":27.952002000000004},{"$f":"IF(Data!$AI38=1,50,IF($G38=0,0,CHOOSE($G38,SUMPRODUCT($O39:$O$81*AA39:AA$81*($D39:$D$81=$C38)),IF(ISNUMBER(Data!Y38),100*ABS($F38-(Data!Y38-$J38)/$L38),0),IF(ISNUMBER(Data!Y38),100*ABS($F38-(Data!Y38-$J38)/$L38),0))))","v":47.6790655},{"$f":"IF(Data!$AI38=1,50,IF($G38=0,0,CHOOSE($G38,SUMPRODUCT($O39:$O$81*AB39:AB$81*($D39:$D$81=$C38)),IF(ISNUMBER(Data!Z38),100*ABS($F38-(Data!Z38-$J38)/$L38),0),IF(ISNUMBER(Data!Z38),100*ABS($F38-(Data!Z38-$J38)/$L38),0))))","v":37.219358333333332},{"$f":"IF(Data!$AI38=1,50,IF($G38=0,0,CHOOSE($G38,SUMPRODUCT($O39:$O$81*AC39:AC$81*($D39:$D$81=$C38)),IF(ISNUMBER(Data!AA38),100*ABS($F38-(Data!AA38-$J38)/$L38),0),IF(ISNUMBER(Data!AA38),100*ABS($F38-(Data!AA38-$J38)/$L38),0))))","v":42.825883833333329},{"$f":"IF(Data!$AI38=1,50,IF($G38=0,0,CHOOSE($G38,SUMPRODUCT($O39:$O$81*AD39:AD$81*($D39:$D$81=$C38)),IF(ISNUMBER(Data!AB38),100*ABS($F38-(Data!AB38-$J38)/$L38),0),IF(ISNUMBER(Data!AB38),100*ABS($F38-(Data!AB38-$J38)/$L38),0))))","v":28.619459333333335},{"$f":"IF(Data!$AI38=1,50,IF($G38=0,0,CHOOSE($G38,SUMPRODUCT($O39:$O$81*AE39:AE$81*($D39:$D$81=$C38)),IF(ISNUMBER(Data!AC38),100*ABS($F38-(Data!AC38-$J38)/$L38),0),IF(ISNUMBER(Data!AC38),100*ABS($F38-(Data!AC38-$J38)/$L38),0))))","v":65.579239833333332},{"$f":"IF(Data!$AI38=1,50,IF($G38=0,0,CHOOSE($G38,SUMPRODUCT($O39:$O$81*AF39:AF$81*($D39:$D$81=$C38)),IF(ISNUMBER(Data!AD38),100*ABS($F38-(Data!AD38-$J38)/$L38),0),IF(ISNUMBER(Data!AD38),100*ABS($F38-(Data!AD38-$J38)/$L38),0))))","v":76.668679000000012},{"$f":"IF(Data!$AI38=1,50,IF($G38=0,0,CHOOSE($G38,SUMPRODUCT($O39:$O$81*AG39:AG$81*($D39:$D$81=$C38)),IF(ISNUMBER(Data!AE38),100*ABS($F38-(Data!AE38-$J38)/$L38),0),IF(ISNUMBER(Data!AE38),100*ABS($F38-(Data!AE38-$J38)/$L38),0))))","v":81.825812333333332},{"$f":"IF(Data!$AI38=1,50,IF($G38=0,0,CHOOSE($G38,SUMPRODUCT($O39:$O$81*AH39:AH$81*($D39:$D$81=$C38)),IF(ISNUMBER(Data!AF38),100*ABS($F38-(Data!AF38-$J38)/$L38),0),IF(ISNUMBER(Data!AF38),100*ABS($F38-(Data!AF38-$J38)/$L38),0))))","v":78.227319833333326},{"$f":"IF(Data!$AI38=1,50,IF($G38=0,0,CHOOSE($G38,SUMPRODUCT($O39:$O$81*AI39:AI$81*($D39:$D$81=$C38)),IF(ISNUMBER(Data!AG38),100*ABS($F38-(Data!AG38-$J38)/$L38),0),IF(ISNUMBER(Data!AG38),100*ABS($F38-(Data!AG38-$J38)/$L38),0))))","v":36.731919166666664}]
[null,{"$f":"tblIndicators!A33","v":32},{"$f":"tblIndicators!B33","v":"BUSENV_4_4"},{"$f":"tblIndicators!C33","v":"BUSENV_4"},{"$f":"tblIndicators!D33","v":3},{"$f":"tblIndicators!L33","v":0},{"$f":"tblIndicators!V33","v":3},{"$f":"tblIndicators!W33","v":0},{"$f":"tblIndicators!X33","v":6},{"$f":"CHOOSE(G39,\"-\",Data!H39,H39)","v":0},{"$f":"CHOOSE(G39,\"-\",Data!I39,I39)","v":6},6,{"$f":"tblIndicators!AE33","v":"2.4.4) Quality of railroad infrastructure"},"",{"$f":"tblIndicators!AJ33","v":0.2},{"$f":"IF(Data!$AI39=1,50,IF($G39=0,0,CHOOSE($G39,SUMPRODUCT($O40:$O$81*P40:P$81*($D40:$D$81=$C39)),IF(ISNUMBER(Data!N39),100*ABS($F39-(Data!N39-$J39)/$L39),0),IF(ISNUMBER(Data!N39),100*ABS($F39-(Data!N39-$J39)/$L39),0))))","v":12.255852333333333},{"$f":"IF(Data!$AI39=1,50,IF($G39=0,0,CHOOSE($G39,SUMPRODUCT($O40:$O$81*Q40:Q$81*($D40:$D$81=$C39)),IF(ISNUMBER(Data!O39),100*ABS($F39-(Data!O39-$J39)/$L39),0),IF(ISNUMBER(Data!O39),100*ABS($F39-(Data!O39-$J39)/$L39),0))))","v":64.03904416666667},{"$f":"IF(Data!$AI39=1,50,IF($G39=0,0,CHOOSE($G39,SUMPRODUCT($O40:$O$81*R40:R$81*($D40:$D$81=$C39)),IF(ISNUMBER(Data!P39),100*ABS($F39-(Data!P39-$J39)/$L39),0),IF(ISNUMBER(Data!P39),100*ABS($F39-(Data!P39-$J39)/$L39),0))))","v":24.381434166666669},{"$f":"IF(Data!$AI39=1,50,IF($G39=0,0,CHOOSE($G39,SUMPRODUCT($O40:$O$81*S40:S$81*($D40:$D$81=$C39)),IF(ISNUMBER(Data!Q39),100*ABS($F39-(Data!Q39-$J39)/$L39),0),IF(ISNUMBER(Data!Q39),100*ABS($F39-(Data!Q39-$J39)/$L39),0))))","v":64.138753166666675},{"$f":"IF(Data!$AI39=1,50,IF($G39=0,0,CHOOSE($G39,SUMPRODUCT($O40:$O$81*T40:T$81*($D40:$D$81=$C39)),IF(ISNUMBER(Data!R39),100*ABS($F39-(Data!R39-$J39)/$L39),0),IF(ISNUMBER(Data!R39),100*ABS($F39-(Data!R39-$J39)/$L39),0))))","v":81.546428000000006},{"$f":"IF(Data!$AI39=1,50,IF($G39=0,0,CHOOSE($G39,SUMPRODUCT($O40:$O$81*U40:U$81*($D40:$D$81=$C39)),IF(ISNUMBER(Data!S39),100*ABS($F39-(Data!S39-$J39)/$L39),0),IF(ISNUMBER(Data!S39),100*ABS($F39-(Data!S39-$J39)/$L39),0))))","v":54.164255500000003},{"$f":"IF(Data!$AI39=1,50,IF($G39=0,0,CHOOSE($G39,SUMPRODUCT($O40:$O$81*V40:V$81*($D40:$D$81=$C39)),IF(ISNUMBER(Data!T39),100*ABS($F39-(Data!T39-$J39)/$L39),0),IF(ISNUMBER(Data!T39),100*ABS($F39-(Data!T39-$J39)/$L39),0))))","v":44.7833185},{"$f":"IF(Data!$AI39=1,50,IF($G39=0,0,CHOOSE($G39,SUMPRODUCT($O40:$O$81*W40:W$81*($D40:$D$81=$C39)),IF(ISNUMBER(Data!U39),100*ABS($F39-(Data!U39-$J39)/$L39),0),IF(ISNUMBER(Data!U39),100*ABS($F39-(Data!U39-$J39)/$L39),0))))","v":94.960061333333329},{"$f":"IF(Data!$AI39=1,50,IF($G39=0,0,CHOOSE($G39,SUMPRODUCT($O40:$O$81*X40:X$81*($D40:$D$81=$C39)),IF(ISNUMBER(Data!V39),100*ABS($F39-(Data!V39-$J39)/$L39),0),IF(ISNUMBER(Data!V39),100*ABS($F39-(Data!V39-$J39)/$L39),0))))","v":29.582829666666665},{"$f":"IF(Data!$AI39=1,50,IF($G39=0,0,CHOOSE($G39,SUMPRODUCT($O40:$O$81*Y40:Y$81*($D40:$D$81=$C39)),IF(ISNUMBER(Data!W39),100*ABS($F39-(Data!W39-$J39)/$L39),0),IF(ISNUMBER(Data!W39),100*ABS($F39-(Data!W39-$J39)/$L39),0))))","v":45.355798333333333},{"$f":"IF(Data!$AI39=1,50,IF($G39=0,0,CHOOSE($G39,SUMPRODUCT($O40:$O$81*Z40:Z$81*($D40:$D$81=$C39)),IF(ISNUMBER(Data!X39),100*ABS($F39-(Data!X39-$J39)/$L39),0),IF(ISNUMBER(Data!X39),100*ABS($F39-(Data!X39-$J39)/$L39),0))))","v":8.5663531666666675},{"$f":"IF(Data!$AI39=1,50,IF($G39=0,0,CHOOSE($G39,SUMPRODUCT($O40:$O$81*AA40:AA$81*($D40:$D$81=$C39)),IF(ISNUMBER(Data!Y39),100*ABS($F39-(Data!Y39-$J39)/$L39),0),IF(ISNUMBER(Data!Y39),100*ABS($F39-(Data!Y39-$J39)/$L39),0))))","v":47.960133833333337},{"$f":"IF(Data!$AI39=1,50,IF($G39=0,0,CHOOSE($G39,SUMPRODUCT($O40:$O$81*AB40:AB$81*($D40:$D$81=$C39)),IF(ISNUMBER(Data!Z39),100*ABS($F39-(Data!Z39-$J39)/$L39),0),IF(ISNUMBER(Data!Z39),100*ABS($F39-(Data!Z39-$J39)/$L39),0))))","v":14.654390666666666},{"$f":"IF(Data!$AI39=1,50,IF($G39=0,0,CHOOSE($G39,SUMPRODUCT($O40:$O$81*AC40:AC$81*($D40:$D$81=$C39)),IF(ISNUMBER(Data!AA39),100*ABS($F39-(Data!AA39-$J39)/$L39),0),IF(ISNUMBER(Data!AA39),100*ABS($F39-(Data!AA39-$J39)/$L39),0))))","v":21.426871333333334},{"$f":"IF(Data!$AI39=1,50,IF($G39=0,0,CHOOSE($G39,SUMPRODUCT($O40:$O$81*AD40:AD$81*($D40:$D$81=$C39)),IF(ISNUMBER(Data!AB39),100*ABS($F39-(Data!AB39-$J39)/$L39),0),IF(ISNUMBER(Data!AB39),100*ABS($F39-(Data!AB39-$J39)/$L39),0))))","v":54.847724500000005},{"$f":"IF(Data!$AI39=1,50,IF($G39=0,0,CHOOSE($G39,SUMPRODUCT($O40:$O$81*AE40:AE$81*($D40:$D$81=$C39)),IF(ISNUMBER(Data!AC39),100*ABS($F39-(Data!AC39-$J39)/$L39),0),IF(ISNUMBER(Data!AC39),100*ABS($F39-(Data!AC39-$J39)/$L39),0))))","v":40.391618000000001},{"$f":"IF(Data!$AI39=1,50,IF($G39=0,0,CHOOSE($G39,SUMPRODUCT($O40:$O$81*AF40:AF$81*($D40:$D$81=$C39)),IF(ISNUMBER(Data!AD39),100*ABS($F39-(Data!AD39-$J39)/$L39),0),IF(ISNUMBER(Data!AD39),100*ABS($F39-(Data!AD39-$J39)/$L39),0))))","v":76.90782200000001},{"$f":"IF(Data!$AI39=1,50,IF($G39=0,0,CHOOSE($G39,SUMPRODUCT($O40:$O$81*AG40:AG$81*($D40:$D$81=$C39)),IF(ISNUMBER(Data!AE39),100*ABS($F39-(Data!AE39-$J39)/$L39),0),IF(ISNUMBER(Data!AE39),100*ABS($F39-(Data!AE39-$J39)/$L39),0))))","v":82.961444833333331},{"$f":"IF(Data!$AI39=1,50,IF($G39=0,0,CHOOSE($G39,SUMPRODUCT($O40:$O$81*AH40:AH$81*($D40:$D$81=$C39)),IF(ISNUMBER(Data!AF39),100*ABS($F39-(Data!AF39-$J39)/$L39),0),IF(ISNUMBER(Data!AF39),100*ABS($F39-(Data!AF39-$J39)/$L39),0))))","v":64.900497666666666},{"$f":"IF(Data!$AI39=1,50,IF($G39=0,0,CHOOSE($G39,SUMPRODUCT($O40:$O$81*AI40:AI$81*($D40:$D$81=$C39)),IF(ISNUMBER(Data!AG39),100*ABS($F39-(Data!AG39-$J39)/$L39),0),IF(ISNUMBER(Data!AG39),100*ABS($F39-(Data!AG39-$J39)/$L39),0))))","v":33.586404333333334}]
[null,{"$f":"tblIndicators!A34","v":33},{"$f":"tblIndicators!B34","v":"BUSENV_4_5"},{"$f":"tblIndicators!C34","v":"BUSENV_4"},{"$f":"tblIndicators!D34","v":3},{"$f":"tblIndicators!L34","v":0},{"$f":"tblIndicators!V34","v":3},{"$f":"tblIndicators!W34","v":0},{"$f":"tblIndicators!X34","v":100},{"$f":"CHOOSE(G40,\"-\",Data!H40,H40)","v":0},{"$f":"CHOOSE(G40,\"-\",Data!I40,I40)","v":100},100,{"$f":"tblIndicators!AE34","v":"2.4.5) Quality of water infrastructure"},"",{"$f":"tblIndicators!AJ34","v":0.2},{"$f":"IF(Data!$AI40=1,50,IF($G40=0,0,CHOOSE($G40,SUMPRODUCT($O41:$O$81*P41:P$81*($D41:$D$81=$C40)),IF(ISNUMBER(Data!N40),100*ABS($F40-(Data!N40-$J40)/$L40),0),IF(ISNUMBER(Data!N40),100*ABS($F40-(Data!N40-$J40)/$L40),0))))","v":50.44},{"$f":"IF(Data!$AI40=1,50,IF($G40=0,0,CHOOSE($G40,SUMPRODUCT($O41:$O$81*Q41:Q$81*($D41:$D$81=$C40)),IF(ISNUMBER(Data!O40),100*ABS($F40-(Data!O40-$J40)/$L40),0),IF(ISNUMBER(Data!O40),100*ABS($F40-(Data!O40-$J40)/$L40),0))))","v":95.9},{"$f":"IF(Data!$AI40=1,50,IF($G40=0,0,CHOOSE($G40,SUMPRODUCT($O41:$O$81*R41:R$81*($D41:$D$81=$C40)),IF(ISNUMBER(Data!P40),100*ABS($F40-(Data!P40-$J40)/$L40),0),IF(ISNUMBER(Data!P40),100*ABS($F40-(Data!P40-$J40)/$L40),0))))","v":79.739999999999995},{"$f":"IF(Data!$AI40=1,50,IF($G40=0,0,CHOOSE($G40,SUMPRODUCT($O41:$O$81*S41:S$81*($D41:$D$81=$C40)),IF(ISNUMBER(Data!Q40),100*ABS($F40-(Data!Q40-$J40)/$L40),0),IF(ISNUMBER(Data!Q40),100*ABS($F40-(Data!Q40-$J40)/$L40),0))))","v":33.15},{"$f":"IF(Data!$AI40=1,50,IF($G40=0,0,CHOOSE($G40,SUMPRODUCT($O41:$O$81*T41:T$81*($D41:$D$81=$C40)),IF(ISNUMBER(Data!R40),100*ABS($F40-(Data!R40-$J40)/$L40),0),IF(ISNUMBER(Data!R40),100*ABS($F40-(Data!R40-$J40)/$L40),0))))","v":100},{"$f":"IF(Data!$AI40=1,50,IF($G40=0,0,CHOOSE($G40,SUMPRODUCT($O41:$O$81*U41:U$81*($D41:$D$81=$C40)),IF(ISNUMBER(Data!S40),100*ABS($F40-(Data!S40-$J40)/$L40),0),IF(ISNUMBER(Data!S40),100*ABS($F40-(Data!S40-$J40)/$L40),0))))","v":26.280000000000005},{"$f":"IF(Data!$AI40=1,50,IF($G40=0,0,CHOOSE($G40,SUMPRODUCT($O41:$O$81*V41:V$81*($D41:$D$81=$C40)),IF(ISNUMBER(Data!T40),100*ABS($F40-(Data!T40-$J40)/$L40),0),IF(ISNUMBER(Data!T40),100*ABS($F40-(Data!T40-$J40)/$L40),0))))","v":24.29},{"$f":"IF(Data!$AI40=1,50,IF($G40=0,0,CHOOSE($G40,SUMPRODUCT($O41:$O$81*W41:W$81*($D41:$D$81=$C40)),IF(ISNUMBER(Data!U40),100*ABS($F40-(Data!U40-$J40)/$L40),0),IF(ISNUMBER(Data!U40),100*ABS($F40-(Data!U40-$J40)/$L40),0))))","v":100},{"$f":"IF(Data!$AI40=1,50,IF($G40=0,0,CHOOSE($G40,SUMPRODUCT($O41:$O$81*X41:X$81*($D41:$D$81=$C40)),IF(ISNUMBER(Data!V40),100*ABS($F40-(Data!V40-$J40)/$L40),0),IF(ISNUMBER(Data!V40),100*ABS($F40-(Data!V40-$J40)/$L40),0))))","v":46.2},{"$f":"IF(Data!$AI40=1,50,IF($G40=0,0,CHOOSE($G40,SUMPRODUCT($O41:$O$81*Y41:Y$81*($D41:$D$81=$C40)),IF(ISNUMBER(Data!W40),100*ABS($F40-(Data!W40-$J40)/$L40),0),IF(ISNUMBER(Data!W40),100*ABS($F40-(Data!W40-$J40)/$L40),0))))","v":71.28},{"$f":"IF(Data!$AI40=1,50,IF($G40=0,0,CHOOSE($G40,SUMPRODUCT($O41:$O$81*Z41:Z$81*($D41:$D$81=$C40)),IF(ISNUMBER(Data!X40),100*ABS($F40-(Data!X40-$J40)/$L40),0),IF(ISNUMBER(Data!X40),100*ABS($F40-(Data!X40-$J40)/$L40),0))))","v":8.17},{"$f":"IF(Data!$AI40=1,50,IF($G40=0,0,CHOOSE($G40,SUMPRODUCT($O41:$O$81*AA41:AA$81*($D41:$D$81=$C40)),IF(ISNUMBER(Data!Y40),100*ABS($F40-(Data!Y40-$J40)/$L40),0),IF(ISNUMBER(Data!Y40),100*ABS($F40-(Data!Y40-$J40)/$L40),0))))","v":100},{"$f":"IF(Data!$AI40=1,50,IF($G40=0,0,CHOOSE($G40,SUMPRODUCT($O41:$O$81*AB41:AB$81*($D41:$D$81=$C40)),IF(ISNUMBER(Data!Z40),100*ABS($F40-(Data!Z40-$J40)/$L40),0),IF(ISNUMBER(Data!Z40),100*ABS($F40-(Data!Z40-$J40)/$L40),0))))","v":29.07},{"$f":"IF(Data!$AI40=1,50,IF($G40=0,0,CHOOSE($G40,SUMPRODUCT($O41:$O$81*AC41:AC$81*($D41:$D$81=$C40)),IF(ISNUMBER(Data!AA40),100*ABS($F40-(Data!AA40-$J40)/$L40),0),IF(ISNUMBER(Data!AA40),100*ABS($F40-(Data!AA40-$J40)/$L40),0))))","v":37.35},{"$f":"IF(Data!$AI40=1,50,IF($G40=0,0,CHOOSE($G40,SUMPRODUCT($O41:$O$81*AD41:AD$81*($D41:$D$81=$C40)),IF(ISNUMBER(Data!AB40),100*ABS($F40-(Data!AB40-$J40)/$L40),0),IF(ISNUMBER(Data!AB40),100*ABS($F40-(Data!AB40-$J40)/$L40),0))))","v":45.17},{"$f":"IF(Data!$AI40=1,50,IF($G40=0,0,CHOOSE($G40,SUMPRODUCT($O41:$O$81*AE41:AE$81*($D41:$D$81=$C40)),IF(ISNUMBER(Data!AC40),100*ABS($F40-(Data!AC40-$J40)/$L40),0),IF(ISNUMBER(Data!AC40),100*ABS($F40-(Data!AC40-$J40)/$L40),0))))","v":36.08},{"$f":"IF(Data!$AI40=1,50,IF($G40=0,0,CHOOSE($G40,SUMPRODUCT($O41:$O$81*AF41:AF$81*($D41:$D$81=$C40)),IF(ISNUMBER(Data!AD40),100*ABS($F40-(Data!AD40-$J40)/$L40),0),IF(ISNUMBER(Data!AD40),100*ABS($F40-(Data!AD40-$J40)/$L40),0))))","v":85.92},{"$f":"IF(Data!$AI40=1,50,IF($G40=0,0,CHOOSE($G40,SUMPRODUCT($O41:$O$81*AG41:AG$81*($D41:$D$81=$C40)),IF(ISNUMBER(Data!AE40),100*ABS($F40-(Data!AE40-$J40)/$L40),0),IF(ISNUMBER(Data!AE40),100*ABS($F40-(Data!AE40-$J40)/$L40),0))))","v":99.33},{"$f":"IF(Data!$AI40=1,50,IF($G40=0,0,CHOOSE($G40,SUMPRODUCT($O41:$O$81*AH41:AH$81*($D41:$D$81=$C40)),IF(ISNUMBER(Data!AF40),100*ABS($F40-(Data!AF40-$J40)/$L40),0),IF(ISNUMBER(Data!AF40),100*ABS($F40-(Data!AF40-$J40)/$L40),0))))","v":86.48},{"$f":"IF(Data!$AI40=1,50,IF($G40=0,0,CHOOSE($G40,SUMPRODUCT($O41:$O$81*AI41:AI$81*($D41:$D$81=$C40)),IF(ISNUMBER(Data!AG40),100*ABS($F40-(Data!AG40-$J40)/$L40),0),IF(ISNUMBER(Data!AG40),100*ABS($F40-(Data!AG40-$J40)/$L40),0))))","v":43.15}]
[null,{"$f":"tblIndicators!A35","v":34},{"$f":"tblIndicators!B35","v":"WATQUAL"},{"$f":"tblIndicators!C35","v":"OVERALL"},{"$f":"tblIndicators!D35","v":1},{"$f":"tblIndicators!L35","v":0},{"$f":"tblIndicators!V35","v":1},{"$f":"tblIndicators!W35","v":0},{"$f":"tblIndicators!X35","v":100},{"$f":"CHOOSE(G41,\"-\",Data!H41,H41)","v":"-"},{"$f":"CHOOSE(G41,\"-\",Data!I41,I41)","v":"-"},"-",{"$f":"tblIndicators!AE35","v":"3) WATER QUALITY"},0.16666666666666666,{"$f":"tblIndicators!AJ35","v":0.16666666666666666},{"$f":"IF(Data!$AI41=1,50,IF($G41=0,0,CHOOSE($G41,SUMPRODUCT($O42:$O$81*P42:P$81*($D42:$D$81=$C41)),IF(ISNUMBER(Data!N41),100*ABS($F41-(Data!N41-$J41)/$L41),0),IF(ISNUMBER(Data!N41),100*ABS($F41-(Data!N41-$J41)/$L41),0))))","v":74.874444444444435},{"$f":"IF(Data!$AI41=1,50,IF($G41=0,0,CHOOSE($G41,SUMPRODUCT($O42:$O$81*Q42:Q$81*($D42:$D$81=$C41)),IF(ISNUMBER(Data!O41),100*ABS($F41-(Data!O41-$J41)/$L41),0),IF(ISNUMBER(Data!O41),100*ABS($F41-(Data!O41-$J41)/$L41),0))))","v":66.824444444444438},{"$f":"IF(Data!$AI41=1,50,IF($G41=0,0,CHOOSE($G41,SUMPRODUCT($O42:$O$81*R42:R$81*($D42:$D$81=$C41)),IF(ISNUMBER(Data!P41),100*ABS($F41-(Data!P41-$J41)/$L41),0),IF(ISNUMBER(Data!P41),100*ABS($F41-(Data!P41-$J41)/$L41),0))))","v":81.761111111111106},{"$f":"IF(Data!$AI41=1,50,IF($G41=0,0,CHOOSE($G41,SUMPRODUCT($O42:$O$81*S42:S$81*($D42:$D$81=$C41)),IF(ISNUMBER(Data!Q41),100*ABS($F41-(Data!Q41-$J41)/$L41),0),IF(ISNUMBER(Data!Q41),100*ABS($F41-(Data!Q41-$J41)/$L41),0))))","v":66.131111111111096},{"$f":"IF(Data!$AI41=1,50,IF($G41=0,0,CHOOSE($G41,SUMPRODUCT($O42:$O$81*T42:T$81*($D42:$D$81=$C41)),IF(ISNUMBER(Data!R41),100*ABS($F41-(Data!R41-$J41)/$L41),0),IF(ISNUMBER(Data!R41),100*ABS($F41-(Data!R41-$J41)/$L41),0))))","v":83.422222222222217},{"$f":"IF(Data!$AI41=1,50,IF($G41=0,0,CHOOSE($G41,SUMPRODUCT($O42:$O$81*U42:U$81*($D42:$D$81=$C41)),IF(ISNUMBER(Data!S41),100*ABS($F41-(Data!S41-$J41)/$L41),0),IF(ISNUMBER(Data!S41),100*ABS($F41-(Data!S41-$J41)/$L41),0))))","v":75.276666666666657},{"$f":"IF(Data!$AI41=1,50,IF($G41=0,0,CHOOSE($G41,SUMPRODUCT($O42:$O$81*V42:V$81*($D42:$D$81=$C41)),IF(ISNUMBER(Data!T41),100*ABS($F41-(Data!T41-$J41)/$L41),0),IF(ISNUMBER(Data!T41),100*ABS($F41-(Data!T41-$J41)/$L41),0))))","v":73.22444444444443},{"$f":"IF(Data!$AI41=1,50,IF($G41=0,0,CHOOSE($G41,SUMPRODUCT($O42:$O$81*W42:W$81*($D42:$D$81=$C41)),IF(ISNUMBER(Data!U41),100*ABS($F41-(Data!U41-$J41)/$L41),0),IF(ISNUMBER(Data!U41),100*ABS($F41-(Data!U41-$J41)/$L41),0))))","v":82.028888888888872},{"$f":"IF(Data!$AI41=1,50,IF($G41=0,0,CHOOSE($G41,SUMPRODUCT($O42:$O$81*X42:X$81*($D42:$D$81=$C41)),IF(ISNUMBER(Data!V41),100*ABS($F41-(Data!V41-$J41)/$L41),0),IF(ISNUMBER(Data!V41),100*ABS($F41-(Data!V41-$J41)/$L41),0))))","v":76.938888888888883},{"$f":"IF(Data!$AI41=1,50,IF($G41=0,0,CHOOSE($G41,SUMPRODUCT($O42:$O$81*Y42:Y$81*($D42:$D$81=$C41)),IF(ISNUMBER(Data!W41),100*ABS($F41-(Data!W41-$J41)/$L41),0),IF(ISNUMBER(Data!W41),100*ABS($F41-(Data!W41-$J41)/$L41),0))))","v":83.211111111111109},{"$f":"IF(Data!$AI41=1,50,IF($G41=0,0,CHOOSE($G41,SUMPRODUCT($O42:$O$81*Z42:Z$81*($D42:$D$81=$C41)),IF(ISNUMBER(Data!X41),100*ABS($F41-(Data!X41-$J41)/$L41),0),IF(ISNUMBER(Data!X41),100*ABS($F41-(Data!X41-$J41)/$L41),0))))","v":62.231111111111105},{"$f":"IF(Data!$AI41=1,50,IF($G41=0,0,CHOOSE($G41,SUMPRODUCT($O42:$O$81*AA42:AA$81*($D42:$D$81=$C41)),IF(ISNUMBER(Data!Y41),100*ABS($F41-(Data!Y41-$J41)/$L41),0),IF(ISNUMBER(Data!Y41),100*ABS($F41-(Data!Y41-$J41)/$L41),0))))","v":77.116666666666646},{"$f":"IF(Data!$AI41=1,50,IF($G41=0,0,CHOOSE($G41,SUMPRODUCT($O42:$O$81*AB42:AB$81*($D42:$D$81=$C41)),IF(ISNUMBER(Data!Z41),100*ABS($F41-(Data!Z41-$J41)/$L41),0),IF(ISNUMBER(Data!Z41),100*ABS($F41-(Data!Z41-$J41)/$L41),0))))","v":75.553333333333327},{"$f":"IF(Data!$AI41=1,50,IF($G41=0,0,CHOOSE($G41,SUMPRODUCT($O42:$O$81*AC42:AC$81*($D42:$D$81=$C41)),IF(ISNUMBER(Data!AA41),100*ABS($F41-(Data!AA41-$J41)/$L41),0),IF(ISNUMBER(Data!AA41),100*ABS($F41-(Data!AA41-$J41)/$L41),0))))","v":60.836666666666659},{"$f":"IF(Data!$AI41=1,50,IF($G41=0,0,CHOOSE($G41,SUMPRODUCT($O42:$O$81*AD42:AD$81*($D42:$D$81=$C41)),IF(ISNUMBER(Data!AB41),100*ABS($F41-(Data!AB41-$J41)/$L41),0),IF(ISNUMBER(Data!AB41),100*ABS($F41-(Data!AB41-$J41)/$L41),0))))","v":56.499999999999986},{"$f":"IF(Data!$AI41=1,50,IF($G41=0,0,CHOOSE($G41,SUMPRODUCT($O42:$O$81*AE42:AE$81*($D42:$D$81=$C41)),IF(ISNUMBER(Data!AC41),100*ABS($F41-(Data!AC41-$J41)/$L41),0),IF(ISNUMBER(Data!AC41),100*ABS($F41-(Data!AC41-$J41)/$L41),0))))","v":71.206666666666663},{"$f":"IF(Data!$AI41=1,50,IF($G41=0,0,CHOOSE($G41,SUMPRODUCT($O42:$O$81*AF42:AF$81*($D42:$D$81=$C41)),IF(ISNUMBER(Data!AD41),100*ABS($F41-(Data!AD41-$J41)/$L41),0),IF(ISNUMBER(Data!AD41),100*ABS($F41-(Data!AD41-$J41)/$L41),0))))","v":77.853333333333325},{"$f":"IF(Data!$AI41=1,50,IF($G41=0,0,CHOOSE($G41,SUMPRODUCT($O42:$O$81*AG42:AG$81*($D42:$D$81=$C41)),IF(ISNUMBER(Data!AE41),100*ABS($F41-(Data!AE41-$J41)/$L41),0),IF(ISNUMBER(Data!AE41),100*ABS($F41-(Data!AE41-$J41)/$L41),0))))","v":78.86999999999999},{"$f":"IF(Data!$AI41=1,50,IF($G41=0,0,CHOOSE($G41,SUMPRODUCT($O42:$O$81*AH42:AH$81*($D42:$D$81=$C41)),IF(ISNUMBER(Data!AF41),100*ABS($F41-(Data!AF41-$J41)/$L41),0),IF(ISNUMBER(Data!AF41),100*ABS($F41-(Data!AF41-$J41)/$L41),0))))","v":79.85222222222221},{"$f":"IF(Data!$AI41=1,50,IF($G41=0,0,CHOOSE($G41,SUMPRODUCT($O42:$O$81*AI42:AI$81*($D42:$D$81=$C41)),IF(ISNUMBER(Data!AG41),100*ABS($F41-(Data!AG41-$J41)/$L41),0),IF(ISNUMBER(Data!AG41),100*ABS($F41-(Data!AG41-$J41)/$L41),0))))","v":73.682222222222208}]
[null,{"$f":"tblIndicators!A36","v":35},{"$f":"tblIndicators!B36","v":"WATQUAL_1"},{"$f":"tblIndicators!C36","v":"WATQUAL"},{"$f":"tblIndicators!D36","v":2},{"$f":"tblIndicators!L36","v":0},{"$f":"tblIndicators!V36","v":1},{"$f":"tblIndicators!W36","v":0},{"$f":"tblIndicators!X36","v":100},{"$f":"CHOOSE(G42,\"-\",Data!H42,H42)","v":"-"},{"$f":"CHOOSE(G42,\"-\",Data!I42,I42)","v":"-"},"-",{"$f":"tblIndicators!AE36","v":"3.1) Agency"},0.33333333333333331,{"$f":"tblIndicators!AJ36","v":0.33333333333333331},{"$f":"IF(Data!$AI42=1,50,IF($G42=0,0,CHOOSE($G42,SUMPRODUCT($O43:$O$81*P43:P$81*($D43:$D$81=$C42)),IF(ISNUMBER(Data!N42),100*ABS($F42-(Data!N42-$J42)/$L42),0),IF(ISNUMBER(Data!N42),100*ABS($F42-(Data!N42-$J42)/$L42),0))))","v":100},{"$f":"IF(Data!$AI42=1,50,IF($G42=0,0,CHOOSE($G42,SUMPRODUCT($O43:$O$81*Q43:Q$81*($D43:$D$81=$C42)),IF(ISNUMBER(Data!O42),100*ABS($F42-(Data!O42-$J42)/$L42),0),IF(ISNUMBER(Data!O42),100*ABS($F42-(Data!O42-$J42)/$L42),0))))","v":50},{"$f":"IF(Data!$AI42=1,50,IF($G42=0,0,CHOOSE($G42,SUMPRODUCT($O43:$O$81*R43:R$81*($D43:$D$81=$C42)),IF(ISNUMBER(Data!P42),100*ABS($F42-(Data!P42-$J42)/$L42),0),IF(ISNUMBER(Data!P42),100*ABS($F42-(Data!P42-$J42)/$L42),0))))","v":100},{"$f":"IF(Data!$AI42=1,50,IF($G42=0,0,CHOOSE($G42,SUMPRODUCT($O43:$O$81*S43:S$81*($D43:$D$81=$C42)),IF(ISNUMBER(Data!Q42),100*ABS($F42-(Data!Q42-$J42)/$L42),0),IF(ISNUMBER(Data!Q42),100*ABS($F42-(Data!Q42-$J42)/$L42),0))))","v":100},{"$f":"IF(Data!$AI42=1,50,IF($G42=0,0,CHOOSE($G42,SUMPRODUCT($O43:$O$81*T43:T$81*($D43:$D$81=$C42)),IF(ISNUMBER(Data!R42),100*ABS($F42-(Data!R42-$J42)/$L42),0),IF(ISNUMBER(Data!R42),100*ABS($F42-(Data!R42-$J42)/$L42),0))))","v":100},{"$f":"IF(Data!$AI42=1,50,IF($G42=0,0,CHOOSE($G42,SUMPRODUCT($O43:$O$81*U43:U$81*($D43:$D$81=$C42)),IF(ISNUMBER(Data!S42),100*ABS($F42-(Data!S42-$J42)/$L42),0),IF(ISNUMBER(Data!S42),100*ABS($F42-(Data!S42-$J42)/$L42),0))))","v":100},{"$f":"IF(Data!$AI42=1,50,IF($G42=0,0,CHOOSE($G42,SUMPRODUCT($O43:$O$81*V43:V$81*($D43:$D$81=$C42)),IF(ISNUMBER(Data!T42),100*ABS($F42-(Data!T42-$J42)/$L42),0),IF(ISNUMBER(Data!T42),100*ABS($F42-(Data!T42-$J42)/$L42),0))))","v":100},{"$f":"IF(Data!$AI42=1,50,IF($G42=0,0,CHOOSE($G42,SUMPRODUCT($O43:$O$81*W43:W$81*($D43:$D$81=$C42)),IF(ISNUMBER(Data!U42),100*ABS($F42-(Data!U42-$J42)/$L42),0),IF(ISNUMBER(Data!U42),100*ABS($F42-(Data!U42-$J42)/$L42),0))))","v":100},{"$f":"IF(Data!$AI42=1,50,IF($G42=0,0,CHOOSE($G42,SUMPRODUCT($O43:$O$81*X43:X$81*($D43:$D$81=$C42)),IF(ISNUMBER(Data!V42),100*ABS($F42-(Data!V42-$J42)/$L42),0),IF(ISNUMBER(Data!V42),100*ABS($F42-(Data!V42-$J42)/$L42),0))))","v":100},{"$f":"IF(Data!$AI42=1,50,IF($G42=0,0,CHOOSE($G42,SUMPRODUCT($O43:$O$81*Y43:Y$81*($D43:$D$81=$C42)),IF(ISNUMBER(Data!W42),100*ABS($F42-(Data!W42-$J42)/$L42),0),IF(ISNUMBER(Data!W42),100*ABS($F42-(Data!W42-$J42)/$L42),0))))","v":100},{"$f":"IF(Data!$AI42=1,50,IF($G42=0,0,CHOOSE($G42,SUMPRODUCT($O43:$O$81*Z43:Z$81*($D43:$D$81=$C42)),IF(ISNUMBER(Data!X42),100*ABS($F42-(Data!X42-$J42)/$L42),0),IF(ISNUMBER(Data!X42),100*ABS($F42-(Data!X42-$J42)/$L42),0))))","v":100},{"$f":"IF(Data!$AI42=1,50,IF($G42=0,0,CHOOSE($G42,SUMPRODUCT($O43:$O$81*AA43:AA$81*($D43:$D$81=$C42)),IF(ISNUMBER(Data!Y42),100*ABS($F42-(Data!Y42-$J42)/$L42),0),IF(ISNUMBER(Data!Y42),100*ABS($F42-(Data!Y42-$J42)/$L42),0))))","v":100},{"$f":"IF(Data!$AI42=1,50,IF($G42=0,0,CHOOSE($G42,SUMPRODUCT($O43:$O$81*AB43:AB$81*($D43:$D$81=$C42)),IF(ISNUMBER(Data!Z42),100*ABS($F42-(Data!Z42-$J42)/$L42),0),IF(ISNUMBER(Data!Z42),100*ABS($F42-(Data!Z42-$J42)/$L42),0))))","v":100},{"$f":"IF(Data!$AI42=1,50,IF($G42=0,0,CHOOSE($G42,SUMPRODUCT($O43:$O$81*AC43:AC$81*($D43:$D$81=$C42)),IF(ISNUMBER(Data!AA42),100*ABS($F42-(Data!AA42-$J42)/$L42),0),IF(ISNUMBER(Data!AA42),100*ABS($F42-(Data!AA42-$J42)/$L42),0))))","v":100},{"$f":"IF(Data!$AI42=1,50,IF($G42=0,0,CHOOSE($G42,SUMPRODUCT($O43:$O$81*AD43:AD$81*($D43:$D$81=$C42)),IF(ISNUMBER(Data!AB42),100*ABS($F42-(Data!AB42-$J42)/$L42),0),IF(ISNUMBER(Data!AB42),100*ABS($F42-(Data!AB42-$J42)/$L42),0))))","v":100},{"$f":"IF(Data!$AI42=1,50,IF($G42=0,0,CHOOSE($G42,SUMPRODUCT($O43:$O$81*AE43:AE$81*($D43:$D$81=$C42)),IF(ISNUMBER(Data!AC42),100*ABS($F42-(Data!AC42-$J42)/$L42),0),IF(ISNUMBER(Data!AC42),100*ABS($F42-(Data!AC42-$J42)/$L42),0))))","v":100},{"$f":"IF(Data!$AI42=1,50,IF($G42=0,0,CHOOSE($G42,SUMPRODUCT($O43:$O$81*AF43:AF$81*($D43:$D$81=$C42)),IF(ISNUMBER(Data!AD42),100*ABS($F42-(Data!AD42-$J42)/$L42),0),IF(ISNUMBER(Data!AD42),100*ABS($F42-(Data!AD42-$J42)/$L42),0))))","v":100},{"$f":"IF(Data!$AI42=1,50,IF($G42=0,0,CHOOSE($G42,SUMPRODUCT($O43:$O$81*AG43:AG$81*($D43:$D$81=$C42)),IF(ISNUMBER(Data!AE42),100*ABS($F42-(Data!AE42-$J42)/$L42),0),IF(ISNUMBER(Data!AE42),100*ABS($F42-(Data!AE42-$J42)/$L42),0))))","v":100},{"$f":"IF(Data!$AI42=1,50,IF($G42=0,0,CHOOSE($G42,SUMPRODUCT($O43:$O$81*AH43:AH$81*($D43:$D$81=$C42)),IF(ISNUMBER(Data!AF42),100*ABS($F42-(Data!AF42-$J42)/$L42),0),IF(ISNUMBER(Data!AF42),100*ABS($F42-(Data!AF42-$J42)/$L42),0))))","v":100},{"$f":"IF(Data!$AI42=1,50,IF($G42=0,0,CHOOSE($G42,SUMPRODUCT($O43:$O$81*AI43:AI$81*($D43:$D$81=$C42)),IF(ISNUMBER(Data!AG42),100*ABS($F42-(Data!AG42-$J42)/$L42),0),IF(ISNUMBER(Data!AG42),100*ABS($F42-(Data!AG42-$J42)/$L42),0))))","v":100}]
[null,{"$f":"tblIndicators!A37","v":36},{"$f":"tblIndicators!B37","v":"WATQUAL_1_1"},{"$f":"tblIndicators!C37","v":"WATQUAL_1"},{"$f":"tblIndicators!D37","v":3},{"$f":"tblIndicators!L37","v":0},{"$f":"tblIndicators!V37","v":3},{"$f":"tblIndicators!W37","v":0},{"$f":"tblIndicators!X37","v":2},{"$f":"CHOOSE(G43,\"-\",Data!H43,H43)","v":0},{"$f":"CHOOSE(G43,\"-\",Data!I43,I43)","v":2},2,{"$f":"tblIndicators!AE37","v":"3.1.1) Agency responsible for freshwater pollution controls"},"",{"$f":"tblIndicators!AJ37","v":1},{"$f":"IF(Data!$AI43=1,50,IF($G43=0,0,CHOOSE($G43,SUMPRODUCT($O44:$O$81*P44:P$81*($D44:$D$81=$C43)),IF(ISNUMBER(Data!N43),100*ABS($F43-(Data!N43-$J43)/$L43),0),IF(ISNUMBER(Data!N43),100*ABS($F43-(Data!N43-$J43)/$L43),0))))","v":100},{"$f":"IF(Data!$AI43=1,50,IF($G43=0,0,CHOOSE($G43,SUMPRODUCT($O44:$O$81*Q44:Q$81*($D44:$D$81=$C43)),IF(ISNUMBER(Data!O43),100*ABS($F43-(Data!O43-$J43)/$L43),0),IF(ISNUMBER(Data!O43),100*ABS($F43-(Data!O43-$J43)/$L43),0))))","v":50},{"$f":"IF(Data!$AI43=1,50,IF($G43=0,0,CHOOSE($G43,SUMPRODUCT($O44:$O$81*R44:R$81*($D44:$D$81=$C43)),IF(ISNUMBER(Data!P43),100*ABS($F43-(Data!P43-$J43)/$L43),0),IF(ISNUMBER(Data!P43),100*ABS($F43-(Data!P43-$J43)/$L43),0))))","v":100},{"$f":"IF(Data!$AI43=1,50,IF($G43=0,0,CHOOSE($G43,SUMPRODUCT($O44:$O$81*S44:S$81*($D44:$D$81=$C43)),IF(ISNUMBER(Data!Q43),100*ABS($F43-(Data!Q43-$J43)/$L43),0),IF(ISNUMBER(Data!Q43),100*ABS($F43-(Data!Q43-$J43)/$L43),0))))","v":100},{"$f":"IF(Data!$AI43=1,50,IF($G43=0,0,CHOOSE($G43,SUMPRODUCT($O44:$O$81*T44:T$81*($D44:$D$81=$C43)),IF(ISNUMBER(Data!R43),100*ABS($F43-(Data!R43-$J43)/$L43),0),IF(ISNUMBER(Data!R43),100*ABS($F43-(Data!R43-$J43)/$L43),0))))","v":100},{"$f":"IF(Data!$AI43=1,50,IF($G43=0,0,CHOOSE($G43,SUMPRODUCT($O44:$O$81*U44:U$81*($D44:$D$81=$C43)),IF(ISNUMBER(Data!S43),100*ABS($F43-(Data!S43-$J43)/$L43),0),IF(ISNUMBER(Data!S43),100*ABS($F43-(Data!S43-$J43)/$L43),0))))","v":100},{"$f":"IF(Data!$AI43=1,50,IF($G43=0,0,CHOOSE($G43,SUMPRODUCT($O44:$O$81*V44:V$81*($D44:$D$81=$C43)),IF(ISNUMBER(Data!T43),100*ABS($F43-(Data!T43-$J43)/$L43),0),IF(ISNUMBER(Data!T43),100*ABS($F43-(Data!T43-$J43)/$L43),0))))","v":100},{"$f":"IF(Data!$AI43=1,50,IF($G43=0,0,CHOOSE($G43,SUMPRODUCT($O44:$O$81*W44:W$81*($D44:$D$81=$C43)),IF(ISNUMBER(Data!U43),100*ABS($F43-(Data!U43-$J43)/$L43),0),IF(ISNUMBER(Data!U43),100*ABS($F43-(Data!U43-$J43)/$L43),0))))","v":100},{"$f":"IF(Data!$AI43=1,50,IF($G43=0,0,CHOOSE($G43,SUMPRODUCT($O44:$O$81*X44:X$81*($D44:$D$81=$C43)),IF(ISNUMBER(Data!V43),100*ABS($F43-(Data!V43-$J43)/$L43),0),IF(ISNUMBER(Data!V43),100*ABS($F43-(Data!V43-$J43)/$L43),0))))","v":100},{"$f":"IF(Data!$AI43=1,50,IF($G43=0,0,CHOOSE($G43,SUMPRODUCT($O44:$O$81*Y44:Y$81*($D44:$D$81=$C43)),IF(ISNUMBER(Data!W43),100*ABS($F43-(Data!W43-$J43)/$L43),0),IF(ISNUMBER(Data!W43),100*ABS($F43-(Data!W43-$J43)/$L43),0))))","v":100},{"$f":"IF(Data!$AI43=1,50,IF($G43=0,0,CHOOSE($G43,SUMPRODUCT($O44:$O$81*Z44:Z$81*($D44:$D$81=$C43)),IF(ISNUMBER(Data!X43),100*ABS($F43-(Data!X43-$J43)/$L43),0),IF(ISNUMBER(Data!X43),100*ABS($F43-(Data!X43-$J43)/$L43),0))))","v":100},{"$f":"IF(Data!$AI43=1,50,IF($G43=0,0,CHOOSE($G43,SUMPRODUCT($O44:$O$81*AA44:AA$81*($D44:$D$81=$C43)),IF(ISNUMBER(Data!Y43),100*ABS($F43-(Data!Y43-$J43)/$L43),0),IF(ISNUMBER(Data!Y43),100*ABS($F43-(Data!Y43-$J43)/$L43),0))))","v":100},{"$f":"IF(Data!$AI43=1,50,IF($G43=0,0,CHOOSE($G43,SUMPRODUCT($O44:$O$81*AB44:AB$81*($D44:$D$81=$C43)),IF(ISNUMBER(Data!Z43),100*ABS($F43-(Data!Z43-$J43)/$L43),0),IF(ISNUMBER(Data!Z43),100*ABS($F43-(Data!Z43-$J43)/$L43),0))))","v":100},{"$f":"IF(Data!$AI43=1,50,IF($G43=0,0,CHOOSE($G43,SUMPRODUCT($O44:$O$81*AC44:AC$81*($D44:$D$81=$C43)),IF(ISNUMBER(Data!AA43),100*ABS($F43-(Data!AA43-$J43)/$L43),0),IF(ISNUMBER(Data!AA43),100*ABS($F43-(Data!AA43-$J43)/$L43),0))))","v":100},{"$f":"IF(Data!$AI43=1,50,IF($G43=0,0,CHOOSE($G43,SUMPRODUCT($O44:$O$81*AD44:AD$81*($D44:$D$81=$C43)),IF(ISNUMBER(Data!AB43),100*ABS($F43-(Data!AB43-$J43)/$L43),0),IF(ISNUMBER(Data!AB43),100*ABS($F43-(Data!AB43-$J43)/$L43),0))))","v":100},{"$f":"IF(Data!$AI43=1,50,IF($G43=0,0,CHOOSE($G43,SUMPRODUCT($O44:$O$81*AE44:AE$81*($D44:$D$81=$C43)),IF(ISNUMBER(Data!AC43),100*ABS($F43-(Data!AC43-$J43)/$L43),0),IF(ISNUMBER(Data!AC43),100*ABS($F43-(Data!AC43-$J43)/$L43),0))))","v":100},{"$f":"IF(Data!$AI43=1,50,IF($G43=0,0,CHOOSE($G43,SUMPRODUCT($O44:$O$81*AF44:AF$81*($D44:$D$81=$C43)),IF(ISNUMBER(Data!AD43),100*ABS($F43-(Data!AD43-$J43)/$L43),0),IF(ISNUMBER(Data!AD43),100*ABS($F43-(Data!AD43-$J43)/$L43),0))))","v":100},{"$f":"IF(Data!$AI43=1,50,IF($G43=0,0,CHOOSE($G43,SUMPRODUCT($O44:$O$81*AG44:AG$81*($D44:$D$81=$C43)),IF(ISNUMBER(Data!AE43),100*ABS($F43-(Data!AE43-$J43)/$L43),0),IF(ISNUMBER(Data!AE43),100*ABS($F43-(Data!AE43-$J43)/$L43),0))))","v":100},{"$f":"IF(Data!$AI43=1,50,IF($G43=0,0,CHOOSE($G43,SUMPRODUCT($O44:$O$81*AH44:AH$81*($D44:$D$81=$C43)),IF(ISNUMBER(Data!AF43),100*ABS($F43-(Data!AF43-$J43)/$L43),0),IF(ISNUMBER(Data!AF43),100*ABS($F43-(Data!AF43-$J43)/$L43),0))))","v":100},{"$f":"IF(Data!$AI43=1,50,IF($G43=0,0,CHOOSE($G43,SUMPRODUCT($O44:$O$81*AI44:AI$81*($D44:$D$81=$C43)),IF(ISNUMBER(Data!AG43),100*ABS($F43-(Data!AG43-$J43)/$L43),0),IF(ISNUMBER(Data!AG43),100*ABS($F43-(Data!AG43-$J43)/$L43),0))))","v":100}]
[null,{"$f":"tblIndicators!A38","v":37},{"$f":"tblIndicators!B38","v":"WATQUAL_2"},{"$f":"tblIndicators!C38","v":"WATQUAL"},{"$f":"tblIndicators!D38","v":2},{"$f":"tblIndicators!L38","v":0},{"$f":"tblIndicators!V38","v":1},{"$f":"tblIndicators!W38","v":0},{"$f":"tblIndicators!X38","v":100},{"$f":"CHOOSE(G44,\"-\",Data!H44,H44)","v":"-"},{"$f":"CHOOSE(G44,\"-\",Data!I44,I44)","v":"-"},"-",{"$f":"tblIndicators!AE38","v":"3.2) Regulatory standards for water pollution"},0.33333333333333331,{"$f":"tblIndicators!AJ38","v":0.33333333333333331},{"$f":"IF(Data!$AI44=1,50,IF($G44=0,0,CHOOSE($G44,SUMPRODUCT($O45:$O$81*P45:P$81*($D45:$D$81=$C44)),IF(ISNUMBER(Data!N44),100*ABS($F44-(Data!N44-$J44)/$L44),0),IF(ISNUMBER(Data!N44),100*ABS($F44-(Data!N44-$J44)/$L44),0))))","v":49.623333333333335},{"$f":"IF(Data!$AI44=1,50,IF($G44=0,0,CHOOSE($G44,SUMPRODUCT($O45:$O$81*Q45:Q$81*($D45:$D$81=$C44)),IF(ISNUMBER(Data!O44),100*ABS($F44-(Data!O44-$J44)/$L44),0),IF(ISNUMBER(Data!O44),100*ABS($F44-(Data!O44-$J44)/$L44),0))))","v":75.473333333333329},{"$f":"IF(Data!$AI44=1,50,IF($G44=0,0,CHOOSE($G44,SUMPRODUCT($O45:$O$81*R45:R$81*($D45:$D$81=$C44)),IF(ISNUMBER(Data!P44),100*ABS($F44-(Data!P44-$J44)/$L44),0),IF(ISNUMBER(Data!P44),100*ABS($F44-(Data!P44-$J44)/$L44),0))))","v":70.283333333333331},{"$f":"IF(Data!$AI44=1,50,IF($G44=0,0,CHOOSE($G44,SUMPRODUCT($O45:$O$81*S45:S$81*($D45:$D$81=$C44)),IF(ISNUMBER(Data!Q44),100*ABS($F44-(Data!Q44-$J44)/$L44),0),IF(ISNUMBER(Data!Q44),100*ABS($F44-(Data!Q44-$J44)/$L44),0))))","v":40.06},{"$f":"IF(Data!$AI44=1,50,IF($G44=0,0,CHOOSE($G44,SUMPRODUCT($O45:$O$81*T45:T$81*($D45:$D$81=$C44)),IF(ISNUMBER(Data!R44),100*ABS($F44-(Data!R44-$J44)/$L44),0),IF(ISNUMBER(Data!R44),100*ABS($F44-(Data!R44-$J44)/$L44),0))))","v":75.266666666666652},{"$f":"IF(Data!$AI44=1,50,IF($G44=0,0,CHOOSE($G44,SUMPRODUCT($O45:$O$81*U45:U$81*($D45:$D$81=$C44)),IF(ISNUMBER(Data!S44),100*ABS($F44-(Data!S44-$J44)/$L44),0),IF(ISNUMBER(Data!S44),100*ABS($F44-(Data!S44-$J44)/$L44),0))))","v":50.83},{"$f":"IF(Data!$AI44=1,50,IF($G44=0,0,CHOOSE($G44,SUMPRODUCT($O45:$O$81*V45:V$81*($D45:$D$81=$C44)),IF(ISNUMBER(Data!T44),100*ABS($F44-(Data!T44-$J44)/$L44),0),IF(ISNUMBER(Data!T44),100*ABS($F44-(Data!T44-$J44)/$L44),0))))","v":44.673333333333332},{"$f":"IF(Data!$AI44=1,50,IF($G44=0,0,CHOOSE($G44,SUMPRODUCT($O45:$O$81*W45:W$81*($D45:$D$81=$C44)),IF(ISNUMBER(Data!U44),100*ABS($F44-(Data!U44-$J44)/$L44),0),IF(ISNUMBER(Data!U44),100*ABS($F44-(Data!U44-$J44)/$L44),0))))","v":71.086666666666659},{"$f":"IF(Data!$AI44=1,50,IF($G44=0,0,CHOOSE($G44,SUMPRODUCT($O45:$O$81*X45:X$81*($D45:$D$81=$C44)),IF(ISNUMBER(Data!V44),100*ABS($F44-(Data!V44-$J44)/$L44),0),IF(ISNUMBER(Data!V44),100*ABS($F44-(Data!V44-$J44)/$L44),0))))","v":55.816666666666663},{"$f":"IF(Data!$AI44=1,50,IF($G44=0,0,CHOOSE($G44,SUMPRODUCT($O45:$O$81*Y45:Y$81*($D45:$D$81=$C44)),IF(ISNUMBER(Data!W44),100*ABS($F44-(Data!W44-$J44)/$L44),0),IF(ISNUMBER(Data!W44),100*ABS($F44-(Data!W44-$J44)/$L44),0))))","v":74.633333333333326},{"$f":"IF(Data!$AI44=1,50,IF($G44=0,0,CHOOSE($G44,SUMPRODUCT($O45:$O$81*Z45:Z$81*($D45:$D$81=$C44)),IF(ISNUMBER(Data!X44),100*ABS($F44-(Data!X44-$J44)/$L44),0),IF(ISNUMBER(Data!X44),100*ABS($F44-(Data!X44-$J44)/$L44),0))))","v":45.026666666666664},{"$f":"IF(Data!$AI44=1,50,IF($G44=0,0,CHOOSE($G44,SUMPRODUCT($O45:$O$81*AA45:AA$81*($D45:$D$81=$C44)),IF(ISNUMBER(Data!Y44),100*ABS($F44-(Data!Y44-$J44)/$L44),0),IF(ISNUMBER(Data!Y44),100*ABS($F44-(Data!Y44-$J44)/$L44),0))))","v":73.016666666666652},{"$f":"IF(Data!$AI44=1,50,IF($G44=0,0,CHOOSE($G44,SUMPRODUCT($O45:$O$81*AB45:AB$81*($D45:$D$81=$C44)),IF(ISNUMBER(Data!Z44),100*ABS($F44-(Data!Z44-$J44)/$L44),0),IF(ISNUMBER(Data!Z44),100*ABS($F44-(Data!Z44-$J44)/$L44),0))))","v":51.66},{"$f":"IF(Data!$AI44=1,50,IF($G44=0,0,CHOOSE($G44,SUMPRODUCT($O45:$O$81*AC45:AC$81*($D45:$D$81=$C44)),IF(ISNUMBER(Data!AA44),100*ABS($F44-(Data!AA44-$J44)/$L44),0),IF(ISNUMBER(Data!AA44),100*ABS($F44-(Data!AA44-$J44)/$L44),0))))","v":40.843333333333334},{"$f":"IF(Data!$AI44=1,50,IF($G44=0,0,CHOOSE($G44,SUMPRODUCT($O45:$O$81*AD45:AD$81*($D45:$D$81=$C44)),IF(ISNUMBER(Data!AB44),100*ABS($F44-(Data!AB44-$J44)/$L44),0),IF(ISNUMBER(Data!AB44),100*ABS($F44-(Data!AB44-$J44)/$L44),0))))","v":27.833333333333329},{"$f":"IF(Data!$AI44=1,50,IF($G44=0,0,CHOOSE($G44,SUMPRODUCT($O45:$O$81*AE45:AE$81*($D45:$D$81=$C44)),IF(ISNUMBER(Data!AC44),100*ABS($F44-(Data!AC44-$J44)/$L44),0),IF(ISNUMBER(Data!AC44),100*ABS($F44-(Data!AC44-$J44)/$L44),0))))","v":55.286666666666669},{"$f":"IF(Data!$AI44=1,50,IF($G44=0,0,CHOOSE($G44,SUMPRODUCT($O45:$O$81*AF45:AF$81*($D45:$D$81=$C44)),IF(ISNUMBER(Data!AD44),100*ABS($F44-(Data!AD44-$J44)/$L44),0),IF(ISNUMBER(Data!AD44),100*ABS($F44-(Data!AD44-$J44)/$L44),0))))","v":75.226666666666659},{"$f":"IF(Data!$AI44=1,50,IF($G44=0,0,CHOOSE($G44,SUMPRODUCT($O45:$O$81*AG45:AG$81*($D45:$D$81=$C44)),IF(ISNUMBER(Data!AE44),100*ABS($F44-(Data!AE44-$J44)/$L44),0),IF(ISNUMBER(Data!AE44),100*ABS($F44-(Data!AE44-$J44)/$L44),0))))","v":78.276666666666657},{"$f":"IF(Data!$AI44=1,50,IF($G44=0,0,CHOOSE($G44,SUMPRODUCT($O45:$O$81*AH45:AH$81*($D45:$D$81=$C44)),IF(ISNUMBER(Data!AF44),100*ABS($F44-(Data!AF44-$J44)/$L44),0),IF(ISNUMBER(Data!AF44),100*ABS($F44-(Data!AF44-$J44)/$L44),0))))","v":64.556666666666658},{"$f":"IF(Data!$AI44=1,50,IF($G44=0,0,CHOOSE($G44,SUMPRODUCT($O45:$O$81*AI45:AI$81*($D45:$D$81=$C44)),IF(ISNUMBER(Data!AG44),100*ABS($F44-(Data!AG44-$J44)/$L44),0),IF(ISNUMBER(Data!AG44),100*ABS($F44-(Data!AG44-$J44)/$L44),0))))","v":46.046666666666667}]
[null,{"$f":"tblIndicators!A39","v":38},{"$f":"tblIndicators!B39","v":"WATQUAL_2_1"},{"$f":"tblIndicators!C39","v":"WATQUAL_2"},{"$f":"tblIndicators!D39","v":3},{"$f":"tblIndicators!L39","v":0},{"$f":"tblIndicators!V39","v":3},{"$f":"tblIndicators!W39","v":0},{"$f":"tblIndicators!X39","v":1},{"$f":"CHOOSE(G45,\"-\",Data!H45,H45)","v":0},{"$f":"CHOOSE(G45,\"-\",Data!I45,I45)","v":1},1,{"$f":"tblIndicators!AE39","v":"3.2.1) Standards for point source pollution"},"",{"$f":"tblIndicators!AJ39","v":0.33333333333333331},{"$f":"IF(Data!$AI45=1,50,IF($G45=0,0,CHOOSE($G45,SUMPRODUCT($O46:$O$81*P46:P$81*($D46:$D$81=$C45)),IF(ISNUMBER(Data!N45),100*ABS($F45-(Data!N45-$J45)/$L45),0),IF(ISNUMBER(Data!N45),100*ABS($F45-(Data!N45-$J45)/$L45),0))))","v":50},{"$f":"IF(Data!$AI45=1,50,IF($G45=0,0,CHOOSE($G45,SUMPRODUCT($O46:$O$81*Q46:Q$81*($D46:$D$81=$C45)),IF(ISNUMBER(Data!O45),100*ABS($F45-(Data!O45-$J45)/$L45),0),IF(ISNUMBER(Data!O45),100*ABS($F45-(Data!O45-$J45)/$L45),0))))","v":50},{"$f":"IF(Data!$AI45=1,50,IF($G45=0,0,CHOOSE($G45,SUMPRODUCT($O46:$O$81*R46:R$81*($D46:$D$81=$C45)),IF(ISNUMBER(Data!P45),100*ABS($F45-(Data!P45-$J45)/$L45),0),IF(ISNUMBER(Data!P45),100*ABS($F45-(Data!P45-$J45)/$L45),0))))","v":50},{"$f":"IF(Data!$AI45=1,50,IF($G45=0,0,CHOOSE($G45,SUMPRODUCT($O46:$O$81*S46:S$81*($D46:$D$81=$C45)),IF(ISNUMBER(Data!Q45),100*ABS($F45-(Data!Q45-$J45)/$L45),0),IF(ISNUMBER(Data!Q45),100*ABS($F45-(Data!Q45-$J45)/$L45),0))))","v":50},{"$f":"IF(Data!$AI45=1,50,IF($G45=0,0,CHOOSE($G45,SUMPRODUCT($O46:$O$81*T46:T$81*($D46:$D$81=$C45)),IF(ISNUMBER(Data!R45),100*ABS($F45-(Data!R45-$J45)/$L45),0),IF(ISNUMBER(Data!R45),100*ABS($F45-(Data!R45-$J45)/$L45),0))))","v":50},{"$f":"IF(Data!$AI45=1,50,IF($G45=0,0,CHOOSE($G45,SUMPRODUCT($O46:$O$81*U46:U$81*($D46:$D$81=$C45)),IF(ISNUMBER(Data!S45),100*ABS($F45-(Data!S45-$J45)/$L45),0),IF(ISNUMBER(Data!S45),100*ABS($F45-(Data!S45-$J45)/$L45),0))))","v":50},{"$f":"IF(Data!$AI45=1,50,IF($G45=0,0,CHOOSE($G45,SUMPRODUCT($O46:$O$81*V46:V$81*($D46:$D$81=$C45)),IF(ISNUMBER(Data!T45),100*ABS($F45-(Data!T45-$J45)/$L45),0),IF(ISNUMBER(Data!T45),100*ABS($F45-(Data!T45-$J45)/$L45),0))))","v":50},{"$f":"IF(Data!$AI45=1,50,IF($G45=0,0,CHOOSE($G45,SUMPRODUCT($O46:$O$81*W46:W$81*($D46:$D$81=$C45)),IF(ISNUMBER(Data!U45),100*ABS($F45-(Data!U45-$J45)/$L45),0),IF(ISNUMBER(Data!U45),100*ABS($F45-(Data!U45-$J45)/$L45),0))))","v":50},{"$f":"IF(Data!$AI45=1,50,IF($G45=0,0,CHOOSE($G45,SUMPRODUCT($O46:$O$81*X46:X$81*($D46:$D$81=$C45)),IF(ISNUMBER(Data!V45),100*ABS($F45-(Data!V45-$J45)/$L45),0),IF(ISNUMBER(Data!V45),100*ABS($F45-(Data!V45-$J45)/$L45),0))))","v":50},{"$f":"IF(Data!$AI45=1,50,IF($G45=0,0,CHOOSE($G45,SUMPRODUCT($O46:$O$81*Y46:Y$81*($D46:$D$81=$C45)),IF(ISNUMBER(Data!W45),100*ABS($F45-(Data!W45-$J45)/$L45),0),IF(ISNUMBER(Data!W45),100*ABS($F45-(Data!W45-$J45)/$L45),0))))","v":50},{"$f":"IF(Data!$AI45=1,50,IF($G45=0,0,CHOOSE($G45,SUMPRODUCT($O46:$O$81*Z46:Z$81*($D46:$D$81=$C45)),IF(ISNUMBER(Data!X45),100*ABS($F45-(Data!X45-$J45)/$L45),0),IF(ISNUMBER(Data!X45),100*ABS($F45-(Data!X45-$J45)/$L45),0))))","v":50},{"$f":"IF(Data!$AI45=1,50,IF($G45=0,0,CHOOSE($G45,SUMPRODUCT($O46:$O$81*AA46:AA$81*($D46:$D$81=$C45)),IF(ISNUMBER(Data!Y45),100*ABS($F45-(Data!Y45-$J45)/$L45),0),IF(ISNUMBER(Data!Y45),100*ABS($F45-(Data!Y45-$J45)/$L45),0))))","v":50},{"$f":"IF(Data!$AI45=1,50,IF($G45=0,0,CHOOSE($G45,SUMPRODUCT($O46:$O$81*AB46:AB$81*($D46:$D$81=$C45)),IF(ISNUMBER(Data!Z45),100*ABS($F45-(Data!Z45-$J45)/$L45),0),IF(ISNUMBER(Data!Z45),100*ABS($F45-(Data!Z45-$J45)/$L45),0))))","v":50},{"$f":"IF(Data!$AI45=1,50,IF($G45=0,0,CHOOSE($G45,SUMPRODUCT($O46:$O$81*AC46:AC$81*($D46:$D$81=$C45)),IF(ISNUMBER(Data!AA45),100*ABS($F45-(Data!AA45-$J45)/$L45),0),IF(ISNUMBER(Data!AA45),100*ABS($F45-(Data!AA45-$J45)/$L45),0))))","v":50},{"$f":"IF(Data!$AI45=1,50,IF($G45=0,0,CHOOSE($G45,SUMPRODUCT($O46:$O$81*AD46:AD$81*($D46:$D$81=$C45)),IF(ISNUMBER(Data!AB45),100*ABS($F45-(Data!AB45-$J45)/$L45),0),IF(ISNUMBER(Data!AB45),100*ABS($F45-(Data!AB45-$J45)/$L45),0))))","v":50},{"$f":"IF(Data!$AI45=1,50,IF($G45=0,0,CHOOSE($G45,SUMPRODUCT($O46:$O$81*AE46:AE$81*($D46:$D$81=$C45)),IF(ISNUMBER(Data!AC45),100*ABS($F45-(Data!AC45-$J45)/$L45),0),IF(ISNUMBER(Data!AC45),100*ABS($F45-(Data!AC45-$J45)/$L45),0))))","v":50},{"$f":"IF(Data!$AI45=1,50,IF($G45=0,0,CHOOSE($G45,SUMPRODUCT($O46:$O$81*AF46:AF$81*($D46:$D$81=$C45)),IF(ISNUMBER(Data!AD45),100*ABS($F45-(Data!AD45-$J45)/$L45),0),IF(ISNUMBER(Data!AD45),100*ABS($F45-(Data!AD45-$J45)/$L45),0))))","v":50},{"$f":"IF(Data!$AI45=1,50,IF($G45=0,0,CHOOSE($G45,SUMPRODUCT($O46:$O$81*AG46:AG$81*($D46:$D$81=$C45)),IF(ISNUMBER(Data!AE45),100*ABS($F45-(Data!AE45-$J45)/$L45),0),IF(ISNUMBER(Data!AE45),100*ABS($F45-(Data!AE45-$J45)/$L45),0))))","v":50},{"$f":"IF(Data!$AI45=1,50,IF($G45=0,0,CHOOSE($G45,SUMPRODUCT($O46:$O$81*AH46:AH$81*($D46:$D$81=$C45)),IF(ISNUMBER(Data!AF45),100*ABS($F45-(Data!AF45-$J45)/$L45),0),IF(ISNUMBER(Data!AF45),100*ABS($F45-(Data!AF45-$J45)/$L45),0))))","v":50},{"$f":"IF(Data!$AI45=1,50,IF($G45=0,0,CHOOSE($G45,SUMPRODUCT($O46:$O$81*AI46:AI$81*($D46:$D$81=$C45)),IF(ISNUMBER(Data!AG45),100*ABS($F45-(Data!AG45-$J45)/$L45),0),IF(ISNUMBER(Data!AG45),100*ABS($F45-(Data!AG45-$J45)/$L45),0))))","v":50}]
[null,{"$f":"tblIndicators!A40","v":39},{"$f":"tblIndicators!B40","v":"WATQUAL_2_2"},{"$f":"tblIndicators!C40","v":"WATQUAL_2"},{"$f":"tblIndicators!D40","v":3},{"$f":"tblIndicators!L40","v":0},{"$f":"tblIndicators!V40","v":3},{"$f":"tblIndicators!W40","v":0},{"$f":"tblIndicators!X40","v":25},{"$f":"CHOOSE(G46,\"-\",Data!H46,H46)","v":0},{"$f":"CHOOSE(G46,\"-\",Data!I46,I46)","v":25},25,{"$f":"tblIndicators!AE40","v":"3.2.2) Restrictions on \"Dirty Dozen\" persistent pollutants"},"",{"$f":"tblIndicators!AJ40","v":0.33333333333333331},{"$f":"IF(Data!$AI46=1,50,IF($G46=0,0,CHOOSE($G46,SUMPRODUCT($O47:$O$81*P47:P$81*($D47:$D$81=$C46)),IF(ISNUMBER(Data!N46),100*ABS($F46-(Data!N46-$J46)/$L46),0),IF(ISNUMBER(Data!N46),100*ABS($F46-(Data!N46-$J46)/$L46),0))))","v":88},{"$f":"IF(Data!$AI46=1,50,IF($G46=0,0,CHOOSE($G46,SUMPRODUCT($O47:$O$81*Q47:Q$81*($D47:$D$81=$C46)),IF(ISNUMBER(Data!O46),100*ABS($F46-(Data!O46-$J46)/$L46),0),IF(ISNUMBER(Data!O46),100*ABS($F46-(Data!O46-$J46)/$L46),0))))","v":96},{"$f":"IF(Data!$AI46=1,50,IF($G46=0,0,CHOOSE($G46,SUMPRODUCT($O47:$O$81*R47:R$81*($D47:$D$81=$C46)),IF(ISNUMBER(Data!P46),100*ABS($F46-(Data!P46-$J46)/$L46),0),IF(ISNUMBER(Data!P46),100*ABS($F46-(Data!P46-$J46)/$L46),0))))","v":92},{"$f":"IF(Data!$AI46=1,50,IF($G46=0,0,CHOOSE($G46,SUMPRODUCT($O47:$O$81*S47:S$81*($D47:$D$81=$C46)),IF(ISNUMBER(Data!Q46),100*ABS($F46-(Data!Q46-$J46)/$L46),0),IF(ISNUMBER(Data!Q46),100*ABS($F46-(Data!Q46-$J46)/$L46),0))))","v":52},{"$f":"IF(Data!$AI46=1,50,IF($G46=0,0,CHOOSE($G46,SUMPRODUCT($O47:$O$81*T47:T$81*($D47:$D$81=$C46)),IF(ISNUMBER(Data!R46),100*ABS($F46-(Data!R46-$J46)/$L46),0),IF(ISNUMBER(Data!R46),100*ABS($F46-(Data!R46-$J46)/$L46),0))))","v":92},{"$f":"IF(Data!$AI46=1,50,IF($G46=0,0,CHOOSE($G46,SUMPRODUCT($O47:$O$81*U47:U$81*($D47:$D$81=$C46)),IF(ISNUMBER(Data!S46),100*ABS($F46-(Data!S46-$J46)/$L46),0),IF(ISNUMBER(Data!S46),100*ABS($F46-(Data!S46-$J46)/$L46),0))))","v":92},{"$f":"IF(Data!$AI46=1,50,IF($G46=0,0,CHOOSE($G46,SUMPRODUCT($O47:$O$81*V47:V$81*($D47:$D$81=$C46)),IF(ISNUMBER(Data!T46),100*ABS($F46-(Data!T46-$J46)/$L46),0),IF(ISNUMBER(Data!T46),100*ABS($F46-(Data!T46-$J46)/$L46),0))))","v":84},{"$f":"IF(Data!$AI46=1,50,IF($G46=0,0,CHOOSE($G46,SUMPRODUCT($O47:$O$81*W47:W$81*($D47:$D$81=$C46)),IF(ISNUMBER(Data!U46),100*ABS($F46-(Data!U46-$J46)/$L46),0),IF(ISNUMBER(Data!U46),100*ABS($F46-(Data!U46-$J46)/$L46),0))))","v":92},{"$f":"IF(Data!$AI46=1,50,IF($G46=0,0,CHOOSE($G46,SUMPRODUCT($O47:$O$81*X47:X$81*($D47:$D$81=$C46)),IF(ISNUMBER(Data!V46),100*ABS($F46-(Data!V46-$J46)/$L46),0),IF(ISNUMBER(Data!V46),100*ABS($F46-(Data!V46-$J46)/$L46),0))))","v":80},{"$f":"IF(Data!$AI46=1,50,IF($G46=0,0,CHOOSE($G46,SUMPRODUCT($O47:$O$81*Y47:Y$81*($D47:$D$81=$C46)),IF(ISNUMBER(Data!W46),100*ABS($F46-(Data!W46-$J46)/$L46),0),IF(ISNUMBER(Data!W46),100*ABS($F46-(Data!W46-$J46)/$L46),0))))","v":96},{"$f":"IF(Data!$AI46=1,50,IF($G46=0,0,CHOOSE($G46,SUMPRODUCT($O47:$O$81*Z47:Z$81*($D47:$D$81=$C46)),IF(ISNUMBER(Data!X46),100*ABS($F46-(Data!X46-$J46)/$L46),0),IF(ISNUMBER(Data!X46),100*ABS($F46-(Data!X46-$J46)/$L46),0))))","v":84},{"$f":"IF(Data!$AI46=1,50,IF($G46=0,0,CHOOSE($G46,SUMPRODUCT($O47:$O$81*AA47:AA$81*($D47:$D$81=$C46)),IF(ISNUMBER(Data!Y46),100*ABS($F46-(Data!Y46-$J46)/$L46),0),IF(ISNUMBER(Data!Y46),100*ABS($F46-(Data!Y46-$J46)/$L46),0))))","v":92},{"$f":"IF(Data!$AI46=1,50,IF($G46=0,0,CHOOSE($G46,SUMPRODUCT($O47:$O$81*AB47:AB$81*($D47:$D$81=$C46)),IF(ISNUMBER(Data!Z46),100*ABS($F46-(Data!Z46-$J46)/$L46),0),IF(ISNUMBER(Data!Z46),100*ABS($F46-(Data!Z46-$J46)/$L46),0))))","v":84},{"$f":"IF(Data!$AI46=1,50,IF($G46=0,0,CHOOSE($G46,SUMPRODUCT($O47:$O$81*AC47:AC$81*($D47:$D$81=$C46)),IF(ISNUMBER(Data!AA46),100*ABS($F46-(Data!AA46-$J46)/$L46),0),IF(ISNUMBER(Data!AA46),100*ABS($F46-(Data!AA46-$J46)/$L46),0))))","v":72},{"$f":"IF(Data!$AI46=1,50,IF($G46=0,0,CHOOSE($G46,SUMPRODUCT($O47:$O$81*AD47:AD$81*($D47:$D$81=$C46)),IF(ISNUMBER(Data!AB46),100*ABS($F46-(Data!AB46-$J46)/$L46),0),IF(ISNUMBER(Data!AB46),100*ABS($F46-(Data!AB46-$J46)/$L46),0))))","v":12},{"$f":"IF(Data!$AI46=1,50,IF($G46=0,0,CHOOSE($G46,SUMPRODUCT($O47:$O$81*AE47:AE$81*($D47:$D$81=$C46)),IF(ISNUMBER(Data!AC46),100*ABS($F46-(Data!AC46-$J46)/$L46),0),IF(ISNUMBER(Data!AC46),100*ABS($F46-(Data!AC46-$J46)/$L46),0))))","v":88},{"$f":"IF(Data!$AI46=1,50,IF($G46=0,0,CHOOSE($G46,SUMPRODUCT($O47:$O$81*AF47:AF$81*($D47:$D$81=$C46)),IF(ISNUMBER(Data!AD46),100*ABS($F46-(Data!AD46-$J46)/$L46),0),IF(ISNUMBER(Data!AD46),100*ABS($F46-(Data!AD46-$J46)/$L46),0))))","v":92},{"$f":"IF(Data!$AI46=1,50,IF($G46=0,0,CHOOSE($G46,SUMPRODUCT($O47:$O$81*AG47:AG$81*($D47:$D$81=$C46)),IF(ISNUMBER(Data!AE46),100*ABS($F46-(Data!AE46-$J46)/$L46),0),IF(ISNUMBER(Data!AE46),100*ABS($F46-(Data!AE46-$J46)/$L46),0))))","v":92},{"$f":"IF(Data!$AI46=1,50,IF($G46=0,0,CHOOSE($G46,SUMPRODUCT($O47:$O$81*AH47:AH$81*($D47:$D$81=$C46)),IF(ISNUMBER(Data!AF46),100*ABS($F46-(Data!AF46-$J46)/$L46),0),IF(ISNUMBER(Data!AF46),100*ABS($F46-(Data!AF46-$J46)/$L46),0))))","v":80},{"$f":"IF(Data!$AI46=1,50,IF($G46=0,0,CHOOSE($G46,SUMPRODUCT($O47:$O$81*AI47:AI$81*($D47:$D$81=$C46)),IF(ISNUMBER(Data!AG46),100*ABS($F46-(Data!AG46-$J46)/$L46),0),IF(ISNUMBER(Data!AG46),100*ABS($F46-(Data!AG46-$J46)/$L46),0))))","v":88}]
[null,{"$f":"tblIndicators!A41","v":40},{"$f":"tblIndicators!B41","v":"WATQUAL_2_3"},{"$f":"tblIndicators!C41","v":"WATQUAL_2"},{"$f":"tblIndicators!D41","v":3},{"$f":"tblIndicators!L41","v":0},{"$f":"tblIndicators!V41","v":3},{"$f":"tblIndicators!W41","v":0},{"$f":"tblIndicators!X41","v":100},{"$f":"CHOOSE(G47,\"-\",Data!H47,H47)","v":0},{"$f":"CHOOSE(G47,\"-\",Data!I47,I47)","v":100},100,{"$f":"tblIndicators!AE41","v":"3.2.3) Wastewater treatment"},"",{"$f":"tblIndicators!AJ41","v":0.33333333333333331},{"$f":"IF(Data!$AI47=1,50,IF($G47=0,0,CHOOSE($G47,SUMPRODUCT($O48:$O$81*P48:P$81*($D48:$D$81=$C47)),IF(ISNUMBER(Data!N47),100*ABS($F47-(Data!N47-$J47)/$L47),0),IF(ISNUMBER(Data!N47),100*ABS($F47-(Data!N47-$J47)/$L47),0))))","v":10.87},{"$f":"IF(Data!$AI47=1,50,IF($G47=0,0,CHOOSE($G47,SUMPRODUCT($O48:$O$81*Q48:Q$81*($D48:$D$81=$C47)),IF(ISNUMBER(Data!O47),100*ABS($F47-(Data!O47-$J47)/$L47),0),IF(ISNUMBER(Data!O47),100*ABS($F47-(Data!O47-$J47)/$L47),0))))","v":80.42},{"$f":"IF(Data!$AI47=1,50,IF($G47=0,0,CHOOSE($G47,SUMPRODUCT($O48:$O$81*R48:R$81*($D48:$D$81=$C47)),IF(ISNUMBER(Data!P47),100*ABS($F47-(Data!P47-$J47)/$L47),0),IF(ISNUMBER(Data!P47),100*ABS($F47-(Data!P47-$J47)/$L47),0))))","v":68.849999999999994},{"$f":"IF(Data!$AI47=1,50,IF($G47=0,0,CHOOSE($G47,SUMPRODUCT($O48:$O$81*S48:S$81*($D48:$D$81=$C47)),IF(ISNUMBER(Data!Q47),100*ABS($F47-(Data!Q47-$J47)/$L47),0),IF(ISNUMBER(Data!Q47),100*ABS($F47-(Data!Q47-$J47)/$L47),0))))","v":18.18},{"$f":"IF(Data!$AI47=1,50,IF($G47=0,0,CHOOSE($G47,SUMPRODUCT($O48:$O$81*T48:T$81*($D48:$D$81=$C47)),IF(ISNUMBER(Data!R47),100*ABS($F47-(Data!R47-$J47)/$L47),0),IF(ISNUMBER(Data!R47),100*ABS($F47-(Data!R47-$J47)/$L47),0))))","v":83.8},{"$f":"IF(Data!$AI47=1,50,IF($G47=0,0,CHOOSE($G47,SUMPRODUCT($O48:$O$81*U48:U$81*($D48:$D$81=$C47)),IF(ISNUMBER(Data!S47),100*ABS($F47-(Data!S47-$J47)/$L47),0),IF(ISNUMBER(Data!S47),100*ABS($F47-(Data!S47-$J47)/$L47),0))))","v":10.49},{"$f":"IF(Data!$AI47=1,50,IF($G47=0,0,CHOOSE($G47,SUMPRODUCT($O48:$O$81*V48:V$81*($D48:$D$81=$C47)),IF(ISNUMBER(Data!T47),100*ABS($F47-(Data!T47-$J47)/$L47),0),IF(ISNUMBER(Data!T47),100*ABS($F47-(Data!T47-$J47)/$L47),0))))","v":0.02},{"$f":"IF(Data!$AI47=1,50,IF($G47=0,0,CHOOSE($G47,SUMPRODUCT($O48:$O$81*W48:W$81*($D48:$D$81=$C47)),IF(ISNUMBER(Data!U47),100*ABS($F47-(Data!U47-$J47)/$L47),0),IF(ISNUMBER(Data!U47),100*ABS($F47-(Data!U47-$J47)/$L47),0))))","v":71.260000000000005},{"$f":"IF(Data!$AI47=1,50,IF($G47=0,0,CHOOSE($G47,SUMPRODUCT($O48:$O$81*X48:X$81*($D48:$D$81=$C47)),IF(ISNUMBER(Data!V47),100*ABS($F47-(Data!V47-$J47)/$L47),0),IF(ISNUMBER(Data!V47),100*ABS($F47-(Data!V47-$J47)/$L47),0))))","v":37.450000000000003},{"$f":"IF(Data!$AI47=1,50,IF($G47=0,0,CHOOSE($G47,SUMPRODUCT($O48:$O$81*Y48:Y$81*($D48:$D$81=$C47)),IF(ISNUMBER(Data!W47),100*ABS($F47-(Data!W47-$J47)/$L47),0),IF(ISNUMBER(Data!W47),100*ABS($F47-(Data!W47-$J47)/$L47),0))))","v":77.900000000000006},{"$f":"IF(Data!$AI47=1,50,IF($G47=0,0,CHOOSE($G47,SUMPRODUCT($O48:$O$81*Z48:Z$81*($D48:$D$81=$C47)),IF(ISNUMBER(Data!X47),100*ABS($F47-(Data!X47-$J47)/$L47),0),IF(ISNUMBER(Data!X47),100*ABS($F47-(Data!X47-$J47)/$L47),0))))","v":1.08},{"$f":"IF(Data!$AI47=1,50,IF($G47=0,0,CHOOSE($G47,SUMPRODUCT($O48:$O$81*AA48:AA$81*($D48:$D$81=$C47)),IF(ISNUMBER(Data!Y47),100*ABS($F47-(Data!Y47-$J47)/$L47),0),IF(ISNUMBER(Data!Y47),100*ABS($F47-(Data!Y47-$J47)/$L47),0))))","v":77.05},{"$f":"IF(Data!$AI47=1,50,IF($G47=0,0,CHOOSE($G47,SUMPRODUCT($O48:$O$81*AB48:AB$81*($D48:$D$81=$C47)),IF(ISNUMBER(Data!Z47),100*ABS($F47-(Data!Z47-$J47)/$L47),0),IF(ISNUMBER(Data!Z47),100*ABS($F47-(Data!Z47-$J47)/$L47),0))))","v":20.98},{"$f":"IF(Data!$AI47=1,50,IF($G47=0,0,CHOOSE($G47,SUMPRODUCT($O48:$O$81*AC48:AC$81*($D48:$D$81=$C47)),IF(ISNUMBER(Data!AA47),100*ABS($F47-(Data!AA47-$J47)/$L47),0),IF(ISNUMBER(Data!AA47),100*ABS($F47-(Data!AA47-$J47)/$L47),0))))","v":0.53},{"$f":"IF(Data!$AI47=1,50,IF($G47=0,0,CHOOSE($G47,SUMPRODUCT($O48:$O$81*AD48:AD$81*($D48:$D$81=$C47)),IF(ISNUMBER(Data!AB47),100*ABS($F47-(Data!AB47-$J47)/$L47),0),IF(ISNUMBER(Data!AB47),100*ABS($F47-(Data!AB47-$J47)/$L47),0))))","v":21.5},{"$f":"IF(Data!$AI47=1,50,IF($G47=0,0,CHOOSE($G47,SUMPRODUCT($O48:$O$81*AE48:AE$81*($D48:$D$81=$C47)),IF(ISNUMBER(Data!AC47),100*ABS($F47-(Data!AC47-$J47)/$L47),0),IF(ISNUMBER(Data!AC47),100*ABS($F47-(Data!AC47-$J47)/$L47),0))))","v":27.860000000000003},{"$f":"IF(Data!$AI47=1,50,IF($G47=0,0,CHOOSE($G47,SUMPRODUCT($O48:$O$81*AF48:AF$81*($D48:$D$81=$C47)),IF(ISNUMBER(Data!AD47),100*ABS($F47-(Data!AD47-$J47)/$L47),0),IF(ISNUMBER(Data!AD47),100*ABS($F47-(Data!AD47-$J47)/$L47),0))))","v":83.68},{"$f":"IF(Data!$AI47=1,50,IF($G47=0,0,CHOOSE($G47,SUMPRODUCT($O48:$O$81*AG48:AG$81*($D48:$D$81=$C47)),IF(ISNUMBER(Data!AE47),100*ABS($F47-(Data!AE47-$J47)/$L47),0),IF(ISNUMBER(Data!AE47),100*ABS($F47-(Data!AE47-$J47)/$L47),0))))","v":92.83},{"$f":"IF(Data!$AI47=1,50,IF($G47=0,0,CHOOSE($G47,SUMPRODUCT($O48:$O$81*AH48:AH$81*($D48:$D$81=$C47)),IF(ISNUMBER(Data!AF47),100*ABS($F47-(Data!AF47-$J47)/$L47),0),IF(ISNUMBER(Data!AF47),100*ABS($F47-(Data!AF47-$J47)/$L47),0))))","v":63.67},{"$f":"IF(Data!$AI47=1,50,IF($G47=0,0,CHOOSE($G47,SUMPRODUCT($O48:$O$81*AI48:AI$81*($D48:$D$81=$C47)),IF(ISNUMBER(Data!AG47),100*ABS($F47-(Data!AG47-$J47)/$L47),0),IF(ISNUMBER(Data!AG47),100*ABS($F47-(Data!AG47-$J47)/$L47),0))))","v":0.14000000000000001}]
[null,{"$f":"tblIndicators!A42","v":41},{"$f":"tblIndicators!B42","v":"WATQUAL_3"},{"$f":"tblIndicators!C42","v":"WATQUAL"},{"$f":"tblIndicators!D42","v":2},{"$f":"tblIndicators!L42","v":0},{"$f":"tblIndicators!V42","v":1},{"$f":"tblIndicators!W42","v":0},{"$f":"tblIndicators!X42","v":100},{"$f":"CHOOSE(G48,\"-\",Data!H48,H48)","v":"-"},{"$f":"CHOOSE(G48,\"-\",Data!I48,I48)","v":"-"},"-",{"$f":"tblIndicators!AE42","v":"3.3) Monitoring and enforcement"},0.33333333333333331,{"$f":"tblIndicators!AJ42","v":0.33333333333333331},{"$f":"IF(Data!$AI48=1,50,IF($G48=0,0,CHOOSE($G48,SUMPRODUCT($O49:$O$81*P49:P$81*($D49:$D$81=$C48)),IF(ISNUMBER(Data!N48),100*ABS($F48-(Data!N48-$J48)/$L48),0),IF(ISNUMBER(Data!N48),100*ABS($F48-(Data!N48-$J48)/$L48),0))))","v":75},{"$f":"IF(Data!$AI48=1,50,IF($G48=0,0,CHOOSE($G48,SUMPRODUCT($O49:$O$81*Q49:Q$81*($D49:$D$81=$C48)),IF(ISNUMBER(Data!O48),100*ABS($F48-(Data!O48-$J48)/$L48),0),IF(ISNUMBER(Data!O48),100*ABS($F48-(Data!O48-$J48)/$L48),0))))","v":75},{"$f":"IF(Data!$AI48=1,50,IF($G48=0,0,CHOOSE($G48,SUMPRODUCT($O49:$O$81*R49:R$81*($D49:$D$81=$C48)),IF(ISNUMBER(Data!P48),100*ABS($F48-(Data!P48-$J48)/$L48),0),IF(ISNUMBER(Data!P48),100*ABS($F48-(Data!P48-$J48)/$L48),0))))","v":75},{"$f":"IF(Data!$AI48=1,50,IF($G48=0,0,CHOOSE($G48,SUMPRODUCT($O49:$O$81*S49:S$81*($D49:$D$81=$C48)),IF(ISNUMBER(Data!Q48),100*ABS($F48-(Data!Q48-$J48)/$L48),0),IF(ISNUMBER(Data!Q48),100*ABS($F48-(Data!Q48-$J48)/$L48),0))))","v":58.333333333333329},{"$f":"IF(Data!$AI48=1,50,IF($G48=0,0,CHOOSE($G48,SUMPRODUCT($O49:$O$81*T49:T$81*($D49:$D$81=$C48)),IF(ISNUMBER(Data!R48),100*ABS($F48-(Data!R48-$J48)/$L48),0),IF(ISNUMBER(Data!R48),100*ABS($F48-(Data!R48-$J48)/$L48),0))))","v":75},{"$f":"IF(Data!$AI48=1,50,IF($G48=0,0,CHOOSE($G48,SUMPRODUCT($O49:$O$81*U49:U$81*($D49:$D$81=$C48)),IF(ISNUMBER(Data!S48),100*ABS($F48-(Data!S48-$J48)/$L48),0),IF(ISNUMBER(Data!S48),100*ABS($F48-(Data!S48-$J48)/$L48),0))))","v":75},{"$f":"IF(Data!$AI48=1,50,IF($G48=0,0,CHOOSE($G48,SUMPRODUCT($O49:$O$81*V49:V$81*($D49:$D$81=$C48)),IF(ISNUMBER(Data!T48),100*ABS($F48-(Data!T48-$J48)/$L48),0),IF(ISNUMBER(Data!T48),100*ABS($F48-(Data!T48-$J48)/$L48),0))))","v":75},{"$f":"IF(Data!$AI48=1,50,IF($G48=0,0,CHOOSE($G48,SUMPRODUCT($O49:$O$81*W49:W$81*($D49:$D$81=$C48)),IF(ISNUMBER(Data!U48),100*ABS($F48-(Data!U48-$J48)/$L48),0),IF(ISNUMBER(Data!U48),100*ABS($F48-(Data!U48-$J48)/$L48),0))))","v":75},{"$f":"IF(Data!$AI48=1,50,IF($G48=0,0,CHOOSE($G48,SUMPRODUCT($O49:$O$81*X49:X$81*($D49:$D$81=$C48)),IF(ISNUMBER(Data!V48),100*ABS($F48-(Data!V48-$J48)/$L48),0),IF(ISNUMBER(Data!V48),100*ABS($F48-(Data!V48-$J48)/$L48),0))))","v":75},{"$f":"IF(Data!$AI48=1,50,IF($G48=0,0,CHOOSE($G48,SUMPRODUCT($O49:$O$81*Y49:Y$81*($D49:$D$81=$C48)),IF(ISNUMBER(Data!W48),100*ABS($F48-(Data!W48-$J48)/$L48),0),IF(ISNUMBER(Data!W48),100*ABS($F48-(Data!W48-$J48)/$L48),0))))","v":75},{"$f":"IF(Data!$AI48=1,50,IF($G48=0,0,CHOOSE($G48,SUMPRODUCT($O49:$O$81*Z49:Z$81*($D49:$D$81=$C48)),IF(ISNUMBER(Data!X48),100*ABS($F48-(Data!X48-$J48)/$L48),0),IF(ISNUMBER(Data!X48),100*ABS($F48-(Data!X48-$J48)/$L48),0))))","v":41.666666666666664},{"$f":"IF(Data!$AI48=1,50,IF($G48=0,0,CHOOSE($G48,SUMPRODUCT($O49:$O$81*AA49:AA$81*($D49:$D$81=$C48)),IF(ISNUMBER(Data!Y48),100*ABS($F48-(Data!Y48-$J48)/$L48),0),IF(ISNUMBER(Data!Y48),100*ABS($F48-(Data!Y48-$J48)/$L48),0))))","v":58.333333333333329},{"$f":"IF(Data!$AI48=1,50,IF($G48=0,0,CHOOSE($G48,SUMPRODUCT($O49:$O$81*AB49:AB$81*($D49:$D$81=$C48)),IF(ISNUMBER(Data!Z48),100*ABS($F48-(Data!Z48-$J48)/$L48),0),IF(ISNUMBER(Data!Z48),100*ABS($F48-(Data!Z48-$J48)/$L48),0))))","v":75},{"$f":"IF(Data!$AI48=1,50,IF($G48=0,0,CHOOSE($G48,SUMPRODUCT($O49:$O$81*AC49:AC$81*($D49:$D$81=$C48)),IF(ISNUMBER(Data!AA48),100*ABS($F48-(Data!AA48-$J48)/$L48),0),IF(ISNUMBER(Data!AA48),100*ABS($F48-(Data!AA48-$J48)/$L48),0))))","v":41.666666666666664},{"$f":"IF(Data!$AI48=1,50,IF($G48=0,0,CHOOSE($G48,SUMPRODUCT($O49:$O$81*AD49:AD$81*($D49:$D$81=$C48)),IF(ISNUMBER(Data!AB48),100*ABS($F48-(Data!AB48-$J48)/$L48),0),IF(ISNUMBER(Data!AB48),100*ABS($F48-(Data!AB48-$J48)/$L48),0))))","v":41.666666666666664},{"$f":"IF(Data!$AI48=1,50,IF($G48=0,0,CHOOSE($G48,SUMPRODUCT($O49:$O$81*AE49:AE$81*($D49:$D$81=$C48)),IF(ISNUMBER(Data!AC48),100*ABS($F48-(Data!AC48-$J48)/$L48),0),IF(ISNUMBER(Data!AC48),100*ABS($F48-(Data!AC48-$J48)/$L48),0))))","v":58.333333333333329},{"$f":"IF(Data!$AI48=1,50,IF($G48=0,0,CHOOSE($G48,SUMPRODUCT($O49:$O$81*AF49:AF$81*($D49:$D$81=$C48)),IF(ISNUMBER(Data!AD48),100*ABS($F48-(Data!AD48-$J48)/$L48),0),IF(ISNUMBER(Data!AD48),100*ABS($F48-(Data!AD48-$J48)/$L48),0))))","v":58.333333333333329},{"$f":"IF(Data!$AI48=1,50,IF($G48=0,0,CHOOSE($G48,SUMPRODUCT($O49:$O$81*AG49:AG$81*($D49:$D$81=$C48)),IF(ISNUMBER(Data!AE48),100*ABS($F48-(Data!AE48-$J48)/$L48),0),IF(ISNUMBER(Data!AE48),100*ABS($F48-(Data!AE48-$J48)/$L48),0))))","v":58.333333333333329},{"$f":"IF(Data!$AI48=1,50,IF($G48=0,0,CHOOSE($G48,SUMPRODUCT($O49:$O$81*AH49:AH$81*($D49:$D$81=$C48)),IF(ISNUMBER(Data!AF48),100*ABS($F48-(Data!AF48-$J48)/$L48),0),IF(ISNUMBER(Data!AF48),100*ABS($F48-(Data!AF48-$J48)/$L48),0))))","v":75},{"$f":"IF(Data!$AI48=1,50,IF($G48=0,0,CHOOSE($G48,SUMPRODUCT($O49:$O$81*AI49:AI$81*($D49:$D$81=$C48)),IF(ISNUMBER(Data!AG48),100*ABS($F48-(Data!AG48-$J48)/$L48),0),IF(ISNUMBER(Data!AG48),100*ABS($F48-(Data!AG48-$J48)/$L48),0))))","v":75}]
[null,{"$f":"tblIndicators!A43","v":42},{"$f":"tblIndicators!B43","v":"WATQUAL_3_1"},{"$f":"tblIndicators!C43","v":"WATQUAL_3"},{"$f":"tblIndicators!D43","v":3},{"$f":"tblIndicators!L43","v":0},{"$f":"tblIndicators!V43","v":3},{"$f":"tblIndicators!W43","v":0},{"$f":"tblIndicators!X43","v":3},{"$f":"CHOOSE(G49,\"-\",Data!H49,H49)","v":0},{"$f":"CHOOSE(G49,\"-\",Data!I49,I49)","v":3},3,{"$f":"tblIndicators!AE43","v":"3.3.1) Coastal water quality data"},"",{"$f":"tblIndicators!AJ43","v":0.5},{"$f":"IF(Data!$AI49=1,50,IF($G49=0,0,CHOOSE($G49,SUMPRODUCT($O50:$O$81*P50:P$81*($D50:$D$81=$C49)),IF(ISNUMBER(Data!N49),100*ABS($F49-(Data!N49-$J49)/$L49),0),IF(ISNUMBER(Data!N49),100*ABS($F49-(Data!N49-$J49)/$L49),0))))","v":100},{"$f":"IF(Data!$AI49=1,50,IF($G49=0,0,CHOOSE($G49,SUMPRODUCT($O50:$O$81*Q50:Q$81*($D50:$D$81=$C49)),IF(ISNUMBER(Data!O49),100*ABS($F49-(Data!O49-$J49)/$L49),0),IF(ISNUMBER(Data!O49),100*ABS($F49-(Data!O49-$J49)/$L49),0))))","v":100},{"$f":"IF(Data!$AI49=1,50,IF($G49=0,0,CHOOSE($G49,SUMPRODUCT($O50:$O$81*R50:R$81*($D50:$D$81=$C49)),IF(ISNUMBER(Data!P49),100*ABS($F49-(Data!P49-$J49)/$L49),0),IF(ISNUMBER(Data!P49),100*ABS($F49-(Data!P49-$J49)/$L49),0))))","v":100},{"$f":"IF(Data!$AI49=1,50,IF($G49=0,0,CHOOSE($G49,SUMPRODUCT($O50:$O$81*S50:S$81*($D50:$D$81=$C49)),IF(ISNUMBER(Data!Q49),100*ABS($F49-(Data!Q49-$J49)/$L49),0),IF(ISNUMBER(Data!Q49),100*ABS($F49-(Data!Q49-$J49)/$L49),0))))","v":66.666666666666657},{"$f":"IF(Data!$AI49=1,50,IF($G49=0,0,CHOOSE($G49,SUMPRODUCT($O50:$O$81*T50:T$81*($D50:$D$81=$C49)),IF(ISNUMBER(Data!R49),100*ABS($F49-(Data!R49-$J49)/$L49),0),IF(ISNUMBER(Data!R49),100*ABS($F49-(Data!R49-$J49)/$L49),0))))","v":100},{"$f":"IF(Data!$AI49=1,50,IF($G49=0,0,CHOOSE($G49,SUMPRODUCT($O50:$O$81*U50:U$81*($D50:$D$81=$C49)),IF(ISNUMBER(Data!S49),100*ABS($F49-(Data!S49-$J49)/$L49),0),IF(ISNUMBER(Data!S49),100*ABS($F49-(Data!S49-$J49)/$L49),0))))","v":100},{"$f":"IF(Data!$AI49=1,50,IF($G49=0,0,CHOOSE($G49,SUMPRODUCT($O50:$O$81*V50:V$81*($D50:$D$81=$C49)),IF(ISNUMBER(Data!T49),100*ABS($F49-(Data!T49-$J49)/$L49),0),IF(ISNUMBER(Data!T49),100*ABS($F49-(Data!T49-$J49)/$L49),0))))","v":100},{"$f":"IF(Data!$AI49=1,50,IF($G49=0,0,CHOOSE($G49,SUMPRODUCT($O50:$O$81*W50:W$81*($D50:$D$81=$C49)),IF(ISNUMBER(Data!U49),100*ABS($F49-(Data!U49-$J49)/$L49),0),IF(ISNUMBER(Data!U49),100*ABS($F49-(Data!U49-$J49)/$L49),0))))","v":100},{"$f":"IF(Data!$AI49=1,50,IF($G49=0,0,CHOOSE($G49,SUMPRODUCT($O50:$O$81*X50:X$81*($D50:$D$81=$C49)),IF(ISNUMBER(Data!V49),100*ABS($F49-(Data!V49-$J49)/$L49),0),IF(ISNUMBER(Data!V49),100*ABS($F49-(Data!V49-$J49)/$L49),0))))","v":100},{"$f":"IF(Data!$AI49=1,50,IF($G49=0,0,CHOOSE($G49,SUMPRODUCT($O50:$O$81*Y50:Y$81*($D50:$D$81=$C49)),IF(ISNUMBER(Data!W49),100*ABS($F49-(Data!W49-$J49)/$L49),0),IF(ISNUMBER(Data!W49),100*ABS($F49-(Data!W49-$J49)/$L49),0))))","v":100},{"$f":"IF(Data!$AI49=1,50,IF($G49=0,0,CHOOSE($G49,SUMPRODUCT($O50:$O$81*Z50:Z$81*($D50:$D$81=$C49)),IF(ISNUMBER(Data!X49),100*ABS($F49-(Data!X49-$J49)/$L49),0),IF(ISNUMBER(Data!X49),100*ABS($F49-(Data!X49-$J49)/$L49),0))))","v":33.333333333333329},{"$f":"IF(Data!$AI49=1,50,IF($G49=0,0,CHOOSE($G49,SUMPRODUCT($O50:$O$81*AA50:AA$81*($D50:$D$81=$C49)),IF(ISNUMBER(Data!Y49),100*ABS($F49-(Data!Y49-$J49)/$L49),0),IF(ISNUMBER(Data!Y49),100*ABS($F49-(Data!Y49-$J49)/$L49),0))))","v":66.666666666666657},{"$f":"IF(Data!$AI49=1,50,IF($G49=0,0,CHOOSE($G49,SUMPRODUCT($O50:$O$81*AB50:AB$81*($D50:$D$81=$C49)),IF(ISNUMBER(Data!Z49),100*ABS($F49-(Data!Z49-$J49)/$L49),0),IF(ISNUMBER(Data!Z49),100*ABS($F49-(Data!Z49-$J49)/$L49),0))))","v":100},{"$f":"IF(Data!$AI49=1,50,IF($G49=0,0,CHOOSE($G49,SUMPRODUCT($O50:$O$81*AC50:AC$81*($D50:$D$81=$C49)),IF(ISNUMBER(Data!AA49),100*ABS($F49-(Data!AA49-$J49)/$L49),0),IF(ISNUMBER(Data!AA49),100*ABS($F49-(Data!AA49-$J49)/$L49),0))))","v":33.333333333333329},{"$f":"IF(Data!$AI49=1,50,IF($G49=0,0,CHOOSE($G49,SUMPRODUCT($O50:$O$81*AD50:AD$81*($D50:$D$81=$C49)),IF(ISNUMBER(Data!AB49),100*ABS($F49-(Data!AB49-$J49)/$L49),0),IF(ISNUMBER(Data!AB49),100*ABS($F49-(Data!AB49-$J49)/$L49),0))))","v":33.333333333333329},{"$f":"IF(Data!$AI49=1,50,IF($G49=0,0,CHOOSE($G49,SUMPRODUCT($O50:$O$81*AE50:AE$81*($D50:$D$81=$C49)),IF(ISNUMBER(Data!AC49),100*ABS($F49-(Data!AC49-$J49)/$L49),0),IF(ISNUMBER(Data!AC49),100*ABS($F49-(Data!AC49-$J49)/$L49),0))))","v":66.666666666666657},{"$f":"IF(Data!$AI49=1,50,IF($G49=0,0,CHOOSE($G49,SUMPRODUCT($O50:$O$81*AF50:AF$81*($D50:$D$81=$C49)),IF(ISNUMBER(Data!AD49),100*ABS($F49-(Data!AD49-$J49)/$L49),0),IF(ISNUMBER(Data!AD49),100*ABS($F49-(Data!AD49-$J49)/$L49),0))))","v":66.666666666666657},{"$f":"IF(Data!$AI49=1,50,IF($G49=0,0,CHOOSE($G49,SUMPRODUCT($O50:$O$81*AG50:AG$81*($D50:$D$81=$C49)),IF(ISNUMBER(Data!AE49),100*ABS($F49-(Data!AE49-$J49)/$L49),0),IF(ISNUMBER(Data!AE49),100*ABS($F49-(Data!AE49-$J49)/$L49),0))))","v":66.666666666666657},{"$f":"IF(Data!$AI49=1,50,IF($G49=0,0,CHOOSE($G49,SUMPRODUCT($O50:$O$81*AH50:AH$81*($D50:$D$81=$C49)),IF(ISNUMBER(Data!AF49),100*ABS($F49-(Data!AF49-$J49)/$L49),0),IF(ISNUMBER(Data!AF49),100*ABS($F49-(Data!AF49-$J49)/$L49),0))))","v":100},{"$f":"IF(Data!$AI49=1,50,IF($G49=0,0,CHOOSE($G49,SUMPRODUCT($O50:$O$81*AI50:AI$81*($D50:$D$81=$C49)),IF(ISNUMBER(Data!AG49),100*ABS($F49-(Data!AG49-$J49)/$L49),0),IF(ISNUMBER(Data!AG49),100*ABS($F49-(Data!AG49-$J49)/$L49),0))))","v":100}]
[null,{"$f":"tblIndicators!A44","v":43},{"$f":"tblIndicators!B44","v":"WATQUAL_3_2"},{"$f":"tblIndicators!C44","v":"WATQUAL_3"},{"$f":"tblIndicators!D44","v":3},{"$f":"tblIndicators!L44","v":0},{"$f":"tblIndicators!V44","v":3},{"$f":"tblIndicators!W44","v":0},{"$f":"tblIndicators!X44","v":1},{"$f":"CHOOSE(G50,\"-\",Data!H50,H50)","v":0},{"$f":"CHOOSE(G50,\"-\",Data!I50,I50)","v":1},1,{"$f":"tblIndicators!AE44","v":"3.3.2) Penalties for water quality violations "},"",{"$f":"tblIndicators!AJ44","v":0.5},{"$f":"IF(Data!$AI50=1,50,IF($G50=0,0,CHOOSE($G50,SUMPRODUCT($O51:$O$81*P51:P$81*($D51:$D$81=$C50)),IF(ISNUMBER(Data!N50),100*ABS($F50-(Data!N50-$J50)/$L50),0),IF(ISNUMBER(Data!N50),100*ABS($F50-(Data!N50-$J50)/$L50),0))))","v":50},{"$f":"IF(Data!$AI50=1,50,IF($G50=0,0,CHOOSE($G50,SUMPRODUCT($O51:$O$81*Q51:Q$81*($D51:$D$81=$C50)),IF(ISNUMBER(Data!O50),100*ABS($F50-(Data!O50-$J50)/$L50),0),IF(ISNUMBER(Data!O50),100*ABS($F50-(Data!O50-$J50)/$L50),0))))","v":50},{"$f":"IF(Data!$AI50=1,50,IF($G50=0,0,CHOOSE($G50,SUMPRODUCT($O51:$O$81*R51:R$81*($D51:$D$81=$C50)),IF(ISNUMBER(Data!P50),100*ABS($F50-(Data!P50-$J50)/$L50),0),IF(ISNUMBER(Data!P50),100*ABS($F50-(Data!P50-$J50)/$L50),0))))","v":50},{"$f":"IF(Data!$AI50=1,50,IF($G50=0,0,CHOOSE($G50,SUMPRODUCT($O51:$O$81*S51:S$81*($D51:$D$81=$C50)),IF(ISNUMBER(Data!Q50),100*ABS($F50-(Data!Q50-$J50)/$L50),0),IF(ISNUMBER(Data!Q50),100*ABS($F50-(Data!Q50-$J50)/$L50),0))))","v":50},{"$f":"IF(Data!$AI50=1,50,IF($G50=0,0,CHOOSE($G50,SUMPRODUCT($O51:$O$81*T51:T$81*($D51:$D$81=$C50)),IF(ISNUMBER(Data!R50),100*ABS($F50-(Data!R50-$J50)/$L50),0),IF(ISNUMBER(Data!R50),100*ABS($F50-(Data!R50-$J50)/$L50),0))))","v":50},{"$f":"IF(Data!$AI50=1,50,IF($G50=0,0,CHOOSE($G50,SUMPRODUCT($O51:$O$81*U51:U$81*($D51:$D$81=$C50)),IF(ISNUMBER(Data!S50),100*ABS($F50-(Data!S50-$J50)/$L50),0),IF(ISNUMBER(Data!S50),100*ABS($F50-(Data!S50-$J50)/$L50),0))))","v":50},{"$f":"IF(Data!$AI50=1,50,IF($G50=0,0,CHOOSE($G50,SUMPRODUCT($O51:$O$81*V51:V$81*($D51:$D$81=$C50)),IF(ISNUMBER(Data!T50),100*ABS($F50-(Data!T50-$J50)/$L50),0),IF(ISNUMBER(Data!T50),100*ABS($F50-(Data!T50-$J50)/$L50),0))))","v":50},{"$f":"IF(Data!$AI50=1,50,IF($G50=0,0,CHOOSE($G50,SUMPRODUCT($O51:$O$81*W51:W$81*($D51:$D$81=$C50)),IF(ISNUMBER(Data!U50),100*ABS($F50-(Data!U50-$J50)/$L50),0),IF(ISNUMBER(Data!U50),100*ABS($F50-(Data!U50-$J50)/$L50),0))))","v":50},{"$f":"IF(Data!$AI50=1,50,IF($G50=0,0,CHOOSE($G50,SUMPRODUCT($O51:$O$81*X51:X$81*($D51:$D$81=$C50)),IF(ISNUMBER(Data!V50),100*ABS($F50-(Data!V50-$J50)/$L50),0),IF(ISNUMBER(Data!V50),100*ABS($F50-(Data!V50-$J50)/$L50),0))))","v":50},{"$f":"IF(Data!$AI50=1,50,IF($G50=0,0,CHOOSE($G50,SUMPRODUCT($O51:$O$81*Y51:Y$81*($D51:$D$81=$C50)),IF(ISNUMBER(Data!W50),100*ABS($F50-(Data!W50-$J50)/$L50),0),IF(ISNUMBER(Data!W50),100*ABS($F50-(Data!W50-$J50)/$L50),0))))","v":50},{"$f":"IF(Data!$AI50=1,50,IF($G50=0,0,CHOOSE($G50,SUMPRODUCT($O51:$O$81*Z51:Z$81*($D51:$D$81=$C50)),IF(ISNUMBER(Data!X50),100*ABS($F50-(Data!X50-$J50)/$L50),0),IF(ISNUMBER(Data!X50),100*ABS($F50-(Data!X50-$J50)/$L50),0))))","v":50},{"$f":"IF(Data!$AI50=1,50,IF($G50=0,0,CHOOSE($G50,SUMPRODUCT($O51:$O$81*AA51:AA$81*($D51:$D$81=$C50)),IF(ISNUMBER(Data!Y50),100*ABS($F50-(Data!Y50-$J50)/$L50),0),IF(ISNUMBER(Data!Y50),100*ABS($F50-(Data!Y50-$J50)/$L50),0))))","v":50},{"$f":"IF(Data!$AI50=1,50,IF($G50=0,0,CHOOSE($G50,SUMPRODUCT($O51:$O$81*AB51:AB$81*($D51:$D$81=$C50)),IF(ISNUMBER(Data!Z50),100*ABS($F50-(Data!Z50-$J50)/$L50),0),IF(ISNUMBER(Data!Z50),100*ABS($F50-(Data!Z50-$J50)/$L50),0))))","v":50},{"$f":"IF(Data!$AI50=1,50,IF($G50=0,0,CHOOSE($G50,SUMPRODUCT($O51:$O$81*AC51:AC$81*($D51:$D$81=$C50)),IF(ISNUMBER(Data!AA50),100*ABS($F50-(Data!AA50-$J50)/$L50),0),IF(ISNUMBER(Data!AA50),100*ABS($F50-(Data!AA50-$J50)/$L50),0))))","v":50},{"$f":"IF(Data!$AI50=1,50,IF($G50=0,0,CHOOSE($G50,SUMPRODUCT($O51:$O$81*AD51:AD$81*($D51:$D$81=$C50)),IF(ISNUMBER(Data!AB50),100*ABS($F50-(Data!AB50-$J50)/$L50),0),IF(ISNUMBER(Data!AB50),100*ABS($F50-(Data!AB50-$J50)/$L50),0))))","v":50},{"$f":"IF(Data!$AI50=1,50,IF($G50=0,0,CHOOSE($G50,SUMPRODUCT($O51:$O$81*AE51:AE$81*($D51:$D$81=$C50)),IF(ISNUMBER(Data!AC50),100*ABS($F50-(Data!AC50-$J50)/$L50),0),IF(ISNUMBER(Data!AC50),100*ABS($F50-(Data!AC50-$J50)/$L50),0))))","v":50},{"$f":"IF(Data!$AI50=1,50,IF($G50=0,0,CHOOSE($G50,SUMPRODUCT($O51:$O$81*AF51:AF$81*($D51:$D$81=$C50)),IF(ISNUMBER(Data!AD50),100*ABS($F50-(Data!AD50-$J50)/$L50),0),IF(ISNUMBER(Data!AD50),100*ABS($F50-(Data!AD50-$J50)/$L50),0))))","v":50},{"$f":"IF(Data!$AI50=1,50,IF($G50=0,0,CHOOSE($G50,SUMPRODUCT($O51:$O$81*AG51:AG$81*($D51:$D$81=$C50)),IF(ISNUMBER(Data!AE50),100*ABS($F50-(Data!AE50-$J50)/$L50),0),IF(ISNUMBER(Data!AE50),100*ABS($F50-(Data!AE50-$J50)/$L50),0))))","v":50},{"$f":"IF(Data!$AI50=1,50,IF($G50=0,0,CHOOSE($G50,SUMPRODUCT($O51:$O$81*AH51:AH$81*($D51:$D$81=$C50)),IF(ISNUMBER(Data!AF50),100*ABS($F50-(Data!AF50-$J50)/$L50),0),IF(ISNUMBER(Data!AF50),100*ABS($F50-(Data!AF50-$J50)/$L50),0))))","v":50},{"$f":"IF(Data!$AI50=1,50,IF($G50=0,0,CHOOSE($G50,SUMPRODUCT($O51:$O$81*AI51:AI$81*($D51:$D$81=$C50)),IF(ISNUMBER(Data!AG50),100*ABS($F50-(Data!AG50-$J50)/$L50),0),IF(ISNUMBER(Data!AG50),100*ABS($F50-(Data!AG50-$J50)/$L50),0))))","v":50}]
[null,{"$f":"tblIndicators!A45","v":44},{"$f":"tblIndicators!B45","v":"MINENG"},{"$f":"tblIndicators!C45","v":"OVERALL"},{"$f":"tblIndicators!D45","v":1},{"$f":"tblIndicators!L45","v":0},{"$f":"tblIndicators!V45","v":1},{"$f":"tblIndicators!W45","v":0},{"$f":"tblIndicators!X45","v":100},{"$f":"CHOOSE(G51,\"-\",Data!H51,H51)","v":"-"},{"$f":"CHOOSE(G51,\"-\",Data!I51,I51)","v":"-"},"-",{"$f":"tblIndicators!AE45","v":"4) MINERALS AND ENERGY"},0.16666666666666666,{"$f":"tblIndicators!AJ45","v":0.16666666666666666},{"$f":"IF(Data!$AI51=1,50,IF($G51=0,0,CHOOSE($G51,SUMPRODUCT($O52:$O$81*P52:P$81*($D52:$D$81=$C51)),IF(ISNUMBER(Data!N51),100*ABS($F51-(Data!N51-$J51)/$L51),0),IF(ISNUMBER(Data!N51),100*ABS($F51-(Data!N51-$J51)/$L51),0))))","v":81.944444444444429},{"$f":"IF(Data!$AI51=1,50,IF($G51=0,0,CHOOSE($G51,SUMPRODUCT($O52:$O$81*Q52:Q$81*($D52:$D$81=$C51)),IF(ISNUMBER(Data!O51),100*ABS($F51-(Data!O51-$J51)/$L51),0),IF(ISNUMBER(Data!O51),100*ABS($F51-(Data!O51-$J51)/$L51),0))))","v":86.1111111111111},{"$f":"IF(Data!$AI51=1,50,IF($G51=0,0,CHOOSE($G51,SUMPRODUCT($O52:$O$81*R52:R$81*($D52:$D$81=$C51)),IF(ISNUMBER(Data!P51),100*ABS($F51-(Data!P51-$J51)/$L51),0),IF(ISNUMBER(Data!P51),100*ABS($F51-(Data!P51-$J51)/$L51),0))))","v":75},{"$f":"IF(Data!$AI51=1,50,IF($G51=0,0,CHOOSE($G51,SUMPRODUCT($O52:$O$81*S52:S$81*($D52:$D$81=$C51)),IF(ISNUMBER(Data!Q51),100*ABS($F51-(Data!Q51-$J51)/$L51),0),IF(ISNUMBER(Data!Q51),100*ABS($F51-(Data!Q51-$J51)/$L51),0))))","v":76.388888888888872},{"$f":"IF(Data!$AI51=1,50,IF($G51=0,0,CHOOSE($G51,SUMPRODUCT($O52:$O$81*T52:T$81*($D52:$D$81=$C51)),IF(ISNUMBER(Data!R51),100*ABS($F51-(Data!R51-$J51)/$L51),0),IF(ISNUMBER(Data!R51),100*ABS($F51-(Data!R51-$J51)/$L51),0))))","v":63.888888888888872},{"$f":"IF(Data!$AI51=1,50,IF($G51=0,0,CHOOSE($G51,SUMPRODUCT($O52:$O$81*U52:U$81*($D52:$D$81=$C51)),IF(ISNUMBER(Data!S51),100*ABS($F51-(Data!S51-$J51)/$L51),0),IF(ISNUMBER(Data!S51),100*ABS($F51-(Data!S51-$J51)/$L51),0))))","v":73.6111111111111},{"$f":"IF(Data!$AI51=1,50,IF($G51=0,0,CHOOSE($G51,SUMPRODUCT($O52:$O$81*V52:V$81*($D52:$D$81=$C51)),IF(ISNUMBER(Data!T51),100*ABS($F51-(Data!T51-$J51)/$L51),0),IF(ISNUMBER(Data!T51),100*ABS($F51-(Data!T51-$J51)/$L51),0))))","v":47.222222222222214},{"$f":"IF(Data!$AI51=1,50,IF($G51=0,0,CHOOSE($G51,SUMPRODUCT($O52:$O$81*W52:W$81*($D52:$D$81=$C51)),IF(ISNUMBER(Data!U51),100*ABS($F51-(Data!U51-$J51)/$L51),0),IF(ISNUMBER(Data!U51),100*ABS($F51-(Data!U51-$J51)/$L51),0))))","v":91.666666666666657},{"$f":"IF(Data!$AI51=1,50,IF($G51=0,0,CHOOSE($G51,SUMPRODUCT($O52:$O$81*X52:X$81*($D52:$D$81=$C51)),IF(ISNUMBER(Data!V51),100*ABS($F51-(Data!V51-$J51)/$L51),0),IF(ISNUMBER(Data!V51),100*ABS($F51-(Data!V51-$J51)/$L51),0))))","v":66.666666666666657},{"$f":"IF(Data!$AI51=1,50,IF($G51=0,0,CHOOSE($G51,SUMPRODUCT($O52:$O$81*Y52:Y$81*($D52:$D$81=$C51)),IF(ISNUMBER(Data!W51),100*ABS($F51-(Data!W51-$J51)/$L51),0),IF(ISNUMBER(Data!W51),100*ABS($F51-(Data!W51-$J51)/$L51),0))))","v":81.944444444444429},{"$f":"IF(Data!$AI51=1,50,IF($G51=0,0,CHOOSE($G51,SUMPRODUCT($O52:$O$81*Z52:Z$81*($D52:$D$81=$C51)),IF(ISNUMBER(Data!X51),100*ABS($F51-(Data!X51-$J51)/$L51),0),IF(ISNUMBER(Data!X51),100*ABS($F51-(Data!X51-$J51)/$L51),0))))","v":86.1111111111111},{"$f":"IF(Data!$AI51=1,50,IF($G51=0,0,CHOOSE($G51,SUMPRODUCT($O52:$O$81*AA52:AA$81*($D52:$D$81=$C51)),IF(ISNUMBER(Data!Y51),100*ABS($F51-(Data!Y51-$J51)/$L51),0),IF(ISNUMBER(Data!Y51),100*ABS($F51-(Data!Y51-$J51)/$L51),0))))","v":91.666666666666657},{"$f":"IF(Data!$AI51=1,50,IF($G51=0,0,CHOOSE($G51,SUMPRODUCT($O52:$O$81*AB52:AB$81*($D52:$D$81=$C51)),IF(ISNUMBER(Data!Z51),100*ABS($F51-(Data!Z51-$J51)/$L51),0),IF(ISNUMBER(Data!Z51),100*ABS($F51-(Data!Z51-$J51)/$L51),0))))","v":66.666666666666657},{"$f":"IF(Data!$AI51=1,50,IF($G51=0,0,CHOOSE($G51,SUMPRODUCT($O52:$O$81*AC52:AC$81*($D52:$D$81=$C51)),IF(ISNUMBER(Data!AA51),100*ABS($F51-(Data!AA51-$J51)/$L51),0),IF(ISNUMBER(Data!AA51),100*ABS($F51-(Data!AA51-$J51)/$L51),0))))","v":70.833333333333314},{"$f":"IF(Data!$AI51=1,50,IF($G51=0,0,CHOOSE($G51,SUMPRODUCT($O52:$O$81*AD52:AD$81*($D52:$D$81=$C51)),IF(ISNUMBER(Data!AB51),100*ABS($F51-(Data!AB51-$J51)/$L51),0),IF(ISNUMBER(Data!AB51),100*ABS($F51-(Data!AB51-$J51)/$L51),0))))","v":66.666666666666657},{"$f":"IF(Data!$AI51=1,50,IF($G51=0,0,CHOOSE($G51,SUMPRODUCT($O52:$O$81*AE52:AE$81*($D52:$D$81=$C51)),IF(ISNUMBER(Data!AC51),100*ABS($F51-(Data!AC51-$J51)/$L51),0),IF(ISNUMBER(Data!AC51),100*ABS($F51-(Data!AC51-$J51)/$L51),0))))","v":81.944444444444429},{"$f":"IF(Data!$AI51=1,50,IF($G51=0,0,CHOOSE($G51,SUMPRODUCT($O52:$O$81*AF52:AF$81*($D52:$D$81=$C51)),IF(ISNUMBER(Data!AD51),100*ABS($F51-(Data!AD51-$J51)/$L51),0),IF(ISNUMBER(Data!AD51),100*ABS($F51-(Data!AD51-$J51)/$L51),0))))","v":80.555555555555543},{"$f":"IF(Data!$AI51=1,50,IF($G51=0,0,CHOOSE($G51,SUMPRODUCT($O52:$O$81*AG52:AG$81*($D52:$D$81=$C51)),IF(ISNUMBER(Data!AE51),100*ABS($F51-(Data!AE51-$J51)/$L51),0),IF(ISNUMBER(Data!AE51),100*ABS($F51-(Data!AE51-$J51)/$L51),0))))","v":72.222222222222214},{"$f":"IF(Data!$AI51=1,50,IF($G51=0,0,CHOOSE($G51,SUMPRODUCT($O52:$O$81*AH52:AH$81*($D52:$D$81=$C51)),IF(ISNUMBER(Data!AF51),100*ABS($F51-(Data!AF51-$J51)/$L51),0),IF(ISNUMBER(Data!AF51),100*ABS($F51-(Data!AF51-$J51)/$L51),0))))","v":86.1111111111111},{"$f":"IF(Data!$AI51=1,50,IF($G51=0,0,CHOOSE($G51,SUMPRODUCT($O52:$O$81*AI52:AI$81*($D52:$D$81=$C51)),IF(ISNUMBER(Data!AG51),100*ABS($F51-(Data!AG51-$J51)/$L51),0),IF(ISNUMBER(Data!AG51),100*ABS($F51-(Data!AG51-$J51)/$L51),0))))","v":56.944444444444436}]
[null,{"$f":"tblIndicators!A46","v":45},{"$f":"tblIndicators!B46","v":"MINENG_1"},{"$f":"tblIndicators!C46","v":"MINENG"},{"$f":"tblIndicators!D46","v":2},{"$f":"tblIndicators!L46","v":0},{"$f":"tblIndicators!V46","v":1},{"$f":"tblIndicators!W46","v":0},{"$f":"tblIndicators!X46","v":100},{"$f":"CHOOSE(G52,\"-\",Data!H52,H52)","v":"-"},{"$f":"CHOOSE(G52,\"-\",Data!I52,I52)","v":"-"},"-",{"$f":"tblIndicators!AE46","v":"4.1) Permitting and licensing"},0.33333333333333331,{"$f":"tblIndicators!AJ46","v":0.33333333333333331},{"$f":"IF(Data!$AI52=1,50,IF($G52=0,0,CHOOSE($G52,SUMPRODUCT($O53:$O$81*P53:P$81*($D53:$D$81=$C52)),IF(ISNUMBER(Data!N52),100*ABS($F52-(Data!N52-$J52)/$L52),0),IF(ISNUMBER(Data!N52),100*ABS($F52-(Data!N52-$J52)/$L52),0))))","v":100},{"$f":"IF(Data!$AI52=1,50,IF($G52=0,0,CHOOSE($G52,SUMPRODUCT($O53:$O$81*Q53:Q$81*($D53:$D$81=$C52)),IF(ISNUMBER(Data!O52),100*ABS($F52-(Data!O52-$J52)/$L52),0),IF(ISNUMBER(Data!O52),100*ABS($F52-(Data!O52-$J52)/$L52),0))))","v":100},{"$f":"IF(Data!$AI52=1,50,IF($G52=0,0,CHOOSE($G52,SUMPRODUCT($O53:$O$81*R53:R$81*($D53:$D$81=$C52)),IF(ISNUMBER(Data!P52),100*ABS($F52-(Data!P52-$J52)/$L52),0),IF(ISNUMBER(Data!P52),100*ABS($F52-(Data!P52-$J52)/$L52),0))))","v":50},{"$f":"IF(Data!$AI52=1,50,IF($G52=0,0,CHOOSE($G52,SUMPRODUCT($O53:$O$81*S53:S$81*($D53:$D$81=$C52)),IF(ISNUMBER(Data!Q52),100*ABS($F52-(Data!Q52-$J52)/$L52),0),IF(ISNUMBER(Data!Q52),100*ABS($F52-(Data!Q52-$J52)/$L52),0))))","v":100},{"$f":"IF(Data!$AI52=1,50,IF($G52=0,0,CHOOSE($G52,SUMPRODUCT($O53:$O$81*T53:T$81*($D53:$D$81=$C52)),IF(ISNUMBER(Data!R52),100*ABS($F52-(Data!R52-$J52)/$L52),0),IF(ISNUMBER(Data!R52),100*ABS($F52-(Data!R52-$J52)/$L52),0))))","v":100},{"$f":"IF(Data!$AI52=1,50,IF($G52=0,0,CHOOSE($G52,SUMPRODUCT($O53:$O$81*U53:U$81*($D53:$D$81=$C52)),IF(ISNUMBER(Data!S52),100*ABS($F52-(Data!S52-$J52)/$L52),0),IF(ISNUMBER(Data!S52),100*ABS($F52-(Data!S52-$J52)/$L52),0))))","v":75},{"$f":"IF(Data!$AI52=1,50,IF($G52=0,0,CHOOSE($G52,SUMPRODUCT($O53:$O$81*V53:V$81*($D53:$D$81=$C52)),IF(ISNUMBER(Data!T52),100*ABS($F52-(Data!T52-$J52)/$L52),0),IF(ISNUMBER(Data!T52),100*ABS($F52-(Data!T52-$J52)/$L52),0))))","v":25},{"$f":"IF(Data!$AI52=1,50,IF($G52=0,0,CHOOSE($G52,SUMPRODUCT($O53:$O$81*W53:W$81*($D53:$D$81=$C52)),IF(ISNUMBER(Data!U52),100*ABS($F52-(Data!U52-$J52)/$L52),0),IF(ISNUMBER(Data!U52),100*ABS($F52-(Data!U52-$J52)/$L52),0))))","v":100},{"$f":"IF(Data!$AI52=1,50,IF($G52=0,0,CHOOSE($G52,SUMPRODUCT($O53:$O$81*X53:X$81*($D53:$D$81=$C52)),IF(ISNUMBER(Data!V52),100*ABS($F52-(Data!V52-$J52)/$L52),0),IF(ISNUMBER(Data!V52),100*ABS($F52-(Data!V52-$J52)/$L52),0))))","v":75},{"$f":"IF(Data!$AI52=1,50,IF($G52=0,0,CHOOSE($G52,SUMPRODUCT($O53:$O$81*Y53:Y$81*($D53:$D$81=$C52)),IF(ISNUMBER(Data!W52),100*ABS($F52-(Data!W52-$J52)/$L52),0),IF(ISNUMBER(Data!W52),100*ABS($F52-(Data!W52-$J52)/$L52),0))))","v":100},{"$f":"IF(Data!$AI52=1,50,IF($G52=0,0,CHOOSE($G52,SUMPRODUCT($O53:$O$81*Z53:Z$81*($D53:$D$81=$C52)),IF(ISNUMBER(Data!X52),100*ABS($F52-(Data!X52-$J52)/$L52),0),IF(ISNUMBER(Data!X52),100*ABS($F52-(Data!X52-$J52)/$L52),0))))","v":100},{"$f":"IF(Data!$AI52=1,50,IF($G52=0,0,CHOOSE($G52,SUMPRODUCT($O53:$O$81*AA53:AA$81*($D53:$D$81=$C52)),IF(ISNUMBER(Data!Y52),100*ABS($F52-(Data!Y52-$J52)/$L52),0),IF(ISNUMBER(Data!Y52),100*ABS($F52-(Data!Y52-$J52)/$L52),0))))","v":100},{"$f":"IF(Data!$AI52=1,50,IF($G52=0,0,CHOOSE($G52,SUMPRODUCT($O53:$O$81*AB53:AB$81*($D53:$D$81=$C52)),IF(ISNUMBER(Data!Z52),100*ABS($F52-(Data!Z52-$J52)/$L52),0),IF(ISNUMBER(Data!Z52),100*ABS($F52-(Data!Z52-$J52)/$L52),0))))","v":100},{"$f":"IF(Data!$AI52=1,50,IF($G52=0,0,CHOOSE($G52,SUMPRODUCT($O53:$O$81*AC53:AC$81*($D53:$D$81=$C52)),IF(ISNUMBER(Data!AA52),100*ABS($F52-(Data!AA52-$J52)/$L52),0),IF(ISNUMBER(Data!AA52),100*ABS($F52-(Data!AA52-$J52)/$L52),0))))","v":100},{"$f":"IF(Data!$AI52=1,50,IF($G52=0,0,CHOOSE($G52,SUMPRODUCT($O53:$O$81*AD53:AD$81*($D53:$D$81=$C52)),IF(ISNUMBER(Data!AB52),100*ABS($F52-(Data!AB52-$J52)/$L52),0),IF(ISNUMBER(Data!AB52),100*ABS($F52-(Data!AB52-$J52)/$L52),0))))","v":100},{"$f":"IF(Data!$AI52=1,50,IF($G52=0,0,CHOOSE($G52,SUMPRODUCT($O53:$O$81*AE53:AE$81*($D53:$D$81=$C52)),IF(ISNUMBER(Data!AC52),100*ABS($F52-(Data!AC52-$J52)/$L52),0),IF(ISNUMBER(Data!AC52),100*ABS($F52-(Data!AC52-$J52)/$L52),0))))","v":100},{"$f":"IF(Data!$AI52=1,50,IF($G52=0,0,CHOOSE($G52,SUMPRODUCT($O53:$O$81*AF53:AF$81*($D53:$D$81=$C52)),IF(ISNUMBER(Data!AD52),100*ABS($F52-(Data!AD52-$J52)/$L52),0),IF(ISNUMBER(Data!AD52),100*ABS($F52-(Data!AD52-$J52)/$L52),0))))","v":100},{"$f":"IF(Data!$AI52=1,50,IF($G52=0,0,CHOOSE($G52,SUMPRODUCT($O53:$O$81*AG53:AG$81*($D53:$D$81=$C52)),IF(ISNUMBER(Data!AE52),100*ABS($F52-(Data!AE52-$J52)/$L52),0),IF(ISNUMBER(Data!AE52),100*ABS($F52-(Data!AE52-$J52)/$L52),0))))","v":100},{"$f":"IF(Data!$AI52=1,50,IF($G52=0,0,CHOOSE($G52,SUMPRODUCT($O53:$O$81*AH53:AH$81*($D53:$D$81=$C52)),IF(ISNUMBER(Data!AF52),100*ABS($F52-(Data!AF52-$J52)/$L52),0),IF(ISNUMBER(Data!AF52),100*ABS($F52-(Data!AF52-$J52)/$L52),0))))","v":100},{"$f":"IF(Data!$AI52=1,50,IF($G52=0,0,CHOOSE($G52,SUMPRODUCT($O53:$O$81*AI53:AI$81*($D53:$D$81=$C52)),IF(ISNUMBER(Data!AG52),100*ABS($F52-(Data!AG52-$J52)/$L52),0),IF(ISNUMBER(Data!AG52),100*ABS($F52-(Data!AG52-$J52)/$L52),0))))","v":75}]
[null,{"$f":"tblIndicators!A47","v":46},{"$f":"tblIndicators!B47","v":"MINENG_1_1"},{"$f":"tblIndicators!C47","v":"MINENG_1"},{"$f":"tblIndicators!D47","v":3},{"$f":"tblIndicators!L47","v":0},{"$f":"tblIndicators!V47","v":3},{"$f":"tblIndicators!W47","v":0},{"$f":"tblIndicators!X47","v":2},{"$f":"CHOOSE(G53,\"-\",Data!H53,H53)","v":0},{"$f":"CHOOSE(G53,\"-\",Data!I53,I53)","v":2},2,{"$f":"tblIndicators!AE47","v":"4.1.1) Oil and gas tenure"},"",{"$f":"tblIndicators!AJ47","v":0.5},{"$f":"IF(Data!$AI53=1,50,IF($G53=0,0,CHOOSE($G53,SUMPRODUCT($O54:$O$81*P54:P$81*($D54:$D$81=$C53)),IF(ISNUMBER(Data!N53),100*ABS($F53-(Data!N53-$J53)/$L53),0),IF(ISNUMBER(Data!N53),100*ABS($F53-(Data!N53-$J53)/$L53),0))))","v":100},{"$f":"IF(Data!$AI53=1,50,IF($G53=0,0,CHOOSE($G53,SUMPRODUCT($O54:$O$81*Q54:Q$81*($D54:$D$81=$C53)),IF(ISNUMBER(Data!O53),100*ABS($F53-(Data!O53-$J53)/$L53),0),IF(ISNUMBER(Data!O53),100*ABS($F53-(Data!O53-$J53)/$L53),0))))","v":100},{"$f":"IF(Data!$AI53=1,50,IF($G53=0,0,CHOOSE($G53,SUMPRODUCT($O54:$O$81*R54:R$81*($D54:$D$81=$C53)),IF(ISNUMBER(Data!P53),100*ABS($F53-(Data!P53-$J53)/$L53),0),IF(ISNUMBER(Data!P53),100*ABS($F53-(Data!P53-$J53)/$L53),0))))","v":50},{"$f":"IF(Data!$AI53=1,50,IF($G53=0,0,CHOOSE($G53,SUMPRODUCT($O54:$O$81*S54:S$81*($D54:$D$81=$C53)),IF(ISNUMBER(Data!Q53),100*ABS($F53-(Data!Q53-$J53)/$L53),0),IF(ISNUMBER(Data!Q53),100*ABS($F53-(Data!Q53-$J53)/$L53),0))))","v":100},{"$f":"IF(Data!$AI53=1,50,IF($G53=0,0,CHOOSE($G53,SUMPRODUCT($O54:$O$81*T54:T$81*($D54:$D$81=$C53)),IF(ISNUMBER(Data!R53),100*ABS($F53-(Data!R53-$J53)/$L53),0),IF(ISNUMBER(Data!R53),100*ABS($F53-(Data!R53-$J53)/$L53),0))))","v":100},{"$f":"IF(Data!$AI53=1,50,IF($G53=0,0,CHOOSE($G53,SUMPRODUCT($O54:$O$81*U54:U$81*($D54:$D$81=$C53)),IF(ISNUMBER(Data!S53),100*ABS($F53-(Data!S53-$J53)/$L53),0),IF(ISNUMBER(Data!S53),100*ABS($F53-(Data!S53-$J53)/$L53),0))))","v":50},{"$f":"IF(Data!$AI53=1,50,IF($G53=0,0,CHOOSE($G53,SUMPRODUCT($O54:$O$81*V54:V$81*($D54:$D$81=$C53)),IF(ISNUMBER(Data!T53),100*ABS($F53-(Data!T53-$J53)/$L53),0),IF(ISNUMBER(Data!T53),100*ABS($F53-(Data!T53-$J53)/$L53),0))))","v":50},{"$f":"IF(Data!$AI53=1,50,IF($G53=0,0,CHOOSE($G53,SUMPRODUCT($O54:$O$81*W54:W$81*($D54:$D$81=$C53)),IF(ISNUMBER(Data!U53),100*ABS($F53-(Data!U53-$J53)/$L53),0),IF(ISNUMBER(Data!U53),100*ABS($F53-(Data!U53-$J53)/$L53),0))))","v":100},{"$f":"IF(Data!$AI53=1,50,IF($G53=0,0,CHOOSE($G53,SUMPRODUCT($O54:$O$81*X54:X$81*($D54:$D$81=$C53)),IF(ISNUMBER(Data!V53),100*ABS($F53-(Data!V53-$J53)/$L53),0),IF(ISNUMBER(Data!V53),100*ABS($F53-(Data!V53-$J53)/$L53),0))))","v":50},{"$f":"IF(Data!$AI53=1,50,IF($G53=0,0,CHOOSE($G53,SUMPRODUCT($O54:$O$81*Y54:Y$81*($D54:$D$81=$C53)),IF(ISNUMBER(Data!W53),100*ABS($F53-(Data!W53-$J53)/$L53),0),IF(ISNUMBER(Data!W53),100*ABS($F53-(Data!W53-$J53)/$L53),0))))","v":100},{"$f":"IF(Data!$AI53=1,50,IF($G53=0,0,CHOOSE($G53,SUMPRODUCT($O54:$O$81*Z54:Z$81*($D54:$D$81=$C53)),IF(ISNUMBER(Data!X53),100*ABS($F53-(Data!X53-$J53)/$L53),0),IF(ISNUMBER(Data!X53),100*ABS($F53-(Data!X53-$J53)/$L53),0))))","v":100},{"$f":"IF(Data!$AI53=1,50,IF($G53=0,0,CHOOSE($G53,SUMPRODUCT($O54:$O$81*AA54:AA$81*($D54:$D$81=$C53)),IF(ISNUMBER(Data!Y53),100*ABS($F53-(Data!Y53-$J53)/$L53),0),IF(ISNUMBER(Data!Y53),100*ABS($F53-(Data!Y53-$J53)/$L53),0))))","v":100},{"$f":"IF(Data!$AI53=1,50,IF($G53=0,0,CHOOSE($G53,SUMPRODUCT($O54:$O$81*AB54:AB$81*($D54:$D$81=$C53)),IF(ISNUMBER(Data!Z53),100*ABS($F53-(Data!Z53-$J53)/$L53),0),IF(ISNUMBER(Data!Z53),100*ABS($F53-(Data!Z53-$J53)/$L53),0))))","v":100},{"$f":"IF(Data!$AI53=1,50,IF($G53=0,0,CHOOSE($G53,SUMPRODUCT($O54:$O$81*AC54:AC$81*($D54:$D$81=$C53)),IF(ISNUMBER(Data!AA53),100*ABS($F53-(Data!AA53-$J53)/$L53),0),IF(ISNUMBER(Data!AA53),100*ABS($F53-(Data!AA53-$J53)/$L53),0))))","v":100},{"$f":"IF(Data!$AI53=1,50,IF($G53=0,0,CHOOSE($G53,SUMPRODUCT($O54:$O$81*AD54:AD$81*($D54:$D$81=$C53)),IF(ISNUMBER(Data!AB53),100*ABS($F53-(Data!AB53-$J53)/$L53),0),IF(ISNUMBER(Data!AB53),100*ABS($F53-(Data!AB53-$J53)/$L53),0))))","v":100},{"$f":"IF(Data!$AI53=1,50,IF($G53=0,0,CHOOSE($G53,SUMPRODUCT($O54:$O$81*AE54:AE$81*($D54:$D$81=$C53)),IF(ISNUMBER(Data!AC53),100*ABS($F53-(Data!AC53-$J53)/$L53),0),IF(ISNUMBER(Data!AC53),100*ABS($F53-(Data!AC53-$J53)/$L53),0))))","v":100},{"$f":"IF(Data!$AI53=1,50,IF($G53=0,0,CHOOSE($G53,SUMPRODUCT($O54:$O$81*AF54:AF$81*($D54:$D$81=$C53)),IF(ISNUMBER(Data!AD53),100*ABS($F53-(Data!AD53-$J53)/$L53),0),IF(ISNUMBER(Data!AD53),100*ABS($F53-(Data!AD53-$J53)/$L53),0))))","v":100},{"$f":"IF(Data!$AI53=1,50,IF($G53=0,0,CHOOSE($G53,SUMPRODUCT($O54:$O$81*AG54:AG$81*($D54:$D$81=$C53)),IF(ISNUMBER(Data!AE53),100*ABS($F53-(Data!AE53-$J53)/$L53),0),IF(ISNUMBER(Data!AE53),100*ABS($F53-(Data!AE53-$J53)/$L53),0))))","v":100},{"$f":"IF(Data!$AI53=1,50,IF($G53=0,0,CHOOSE($G53,SUMPRODUCT($O54:$O$81*AH54:AH$81*($D54:$D$81=$C53)),IF(ISNUMBER(Data!AF53),100*ABS($F53-(Data!AF53-$J53)/$L53),0),IF(ISNUMBER(Data!AF53),100*ABS($F53-(Data!AF53-$J53)/$L53),0))))","v":100},{"$f":"IF(Data!$AI53=1,50,IF($G53=0,0,CHOOSE($G53,SUMPRODUCT($O54:$O$81*AI54:AI$81*($D54:$D$81=$C53)),IF(ISNUMBER(Data!AG53),100*ABS($F53-(Data!AG53-$J53)/$L53),0),IF(ISNUMBER(Data!AG53),100*ABS($F53-(Data!AG53-$J53)/$L53),0))))","v":50}]
[null,{"$f":"tblIndicators!A48","v":47},{"$f":"tblIndicators!B48","v":"MINENG_1_2"},{"$f":"tblIndicators!C48","v":"MINENG_1"},{"$f":"tblIndicators!D48","v":3},{"$f":"tblIndicators!L48","v":0},{"$f":"tblIndicators!V48","v":3},{"$f":"tblIndicators!W48","v":0},{"$f":"tblIndicators!X48","v":2},{"$f":"CHOOSE(G54,\"-\",Data!H54,H54)","v":0},{"$f":"CHOOSE(G54,\"-\",Data!I54,I54)","v":2},2,{"$f":"tblIndicators!AE48","v":"4.1.2) Mining and minerals tenure"},"",{"$f":"tblIndicators!AJ48","v":0.5},{"$f":"IF(Data!$AI54=1,50,IF($G54=0,0,CHOOSE($G54,SUMPRODUCT($O55:$O$81*P55:P$81*($D55:$D$81=$C54)),IF(ISNUMBER(Data!N54),100*ABS($F54-(Data!N54-$J54)/$L54),0),IF(ISNUMBER(Data!N54),100*ABS($F54-(Data!N54-$J54)/$L54),0))))","v":100},{"$f":"IF(Data!$AI54=1,50,IF($G54=0,0,CHOOSE($G54,SUMPRODUCT($O55:$O$81*Q55:Q$81*($D55:$D$81=$C54)),IF(ISNUMBER(Data!O54),100*ABS($F54-(Data!O54-$J54)/$L54),0),IF(ISNUMBER(Data!O54),100*ABS($F54-(Data!O54-$J54)/$L54),0))))","v":100},{"$f":"IF(Data!$AI54=1,50,IF($G54=0,0,CHOOSE($G54,SUMPRODUCT($O55:$O$81*R55:R$81*($D55:$D$81=$C54)),IF(ISNUMBER(Data!P54),100*ABS($F54-(Data!P54-$J54)/$L54),0),IF(ISNUMBER(Data!P54),100*ABS($F54-(Data!P54-$J54)/$L54),0))))","v":50},{"$f":"IF(Data!$AI54=1,50,IF($G54=0,0,CHOOSE($G54,SUMPRODUCT($O55:$O$81*S55:S$81*($D55:$D$81=$C54)),IF(ISNUMBER(Data!Q54),100*ABS($F54-(Data!Q54-$J54)/$L54),0),IF(ISNUMBER(Data!Q54),100*ABS($F54-(Data!Q54-$J54)/$L54),0))))","v":100},{"$f":"IF(Data!$AI54=1,50,IF($G54=0,0,CHOOSE($G54,SUMPRODUCT($O55:$O$81*T55:T$81*($D55:$D$81=$C54)),IF(ISNUMBER(Data!R54),100*ABS($F54-(Data!R54-$J54)/$L54),0),IF(ISNUMBER(Data!R54),100*ABS($F54-(Data!R54-$J54)/$L54),0))))","v":100},{"$f":"IF(Data!$AI54=1,50,IF($G54=0,0,CHOOSE($G54,SUMPRODUCT($O55:$O$81*U55:U$81*($D55:$D$81=$C54)),IF(ISNUMBER(Data!S54),100*ABS($F54-(Data!S54-$J54)/$L54),0),IF(ISNUMBER(Data!S54),100*ABS($F54-(Data!S54-$J54)/$L54),0))))","v":100},{"$f":"IF(Data!$AI54=1,50,IF($G54=0,0,CHOOSE($G54,SUMPRODUCT($O55:$O$81*V55:V$81*($D55:$D$81=$C54)),IF(ISNUMBER(Data!T54),100*ABS($F54-(Data!T54-$J54)/$L54),0),IF(ISNUMBER(Data!T54),100*ABS($F54-(Data!T54-$J54)/$L54),0))))","v":0},{"$f":"IF(Data!$AI54=1,50,IF($G54=0,0,CHOOSE($G54,SUMPRODUCT($O55:$O$81*W55:W$81*($D55:$D$81=$C54)),IF(ISNUMBER(Data!U54),100*ABS($F54-(Data!U54-$J54)/$L54),0),IF(ISNUMBER(Data!U54),100*ABS($F54-(Data!U54-$J54)/$L54),0))))","v":100},{"$f":"IF(Data!$AI54=1,50,IF($G54=0,0,CHOOSE($G54,SUMPRODUCT($O55:$O$81*X55:X$81*($D55:$D$81=$C54)),IF(ISNUMBER(Data!V54),100*ABS($F54-(Data!V54-$J54)/$L54),0),IF(ISNUMBER(Data!V54),100*ABS($F54-(Data!V54-$J54)/$L54),0))))","v":100},{"$f":"IF(Data!$AI54=1,50,IF($G54=0,0,CHOOSE($G54,SUMPRODUCT($O55:$O$81*Y55:Y$81*($D55:$D$81=$C54)),IF(ISNUMBER(Data!W54),100*ABS($F54-(Data!W54-$J54)/$L54),0),IF(ISNUMBER(Data!W54),100*ABS($F54-(Data!W54-$J54)/$L54),0))))","v":100},{"$f":"IF(Data!$AI54=1,50,IF($G54=0,0,CHOOSE($G54,SUMPRODUCT($O55:$O$81*Z55:Z$81*($D55:$D$81=$C54)),IF(ISNUMBER(Data!X54),100*ABS($F54-(Data!X54-$J54)/$L54),0),IF(ISNUMBER(Data!X54),100*ABS($F54-(Data!X54-$J54)/$L54),0))))","v":100},{"$f":"IF(Data!$AI54=1,50,IF($G54=0,0,CHOOSE($G54,SUMPRODUCT($O55:$O$81*AA55:AA$81*($D55:$D$81=$C54)),IF(ISNUMBER(Data!Y54),100*ABS($F54-(Data!Y54-$J54)/$L54),0),IF(ISNUMBER(Data!Y54),100*ABS($F54-(Data!Y54-$J54)/$L54),0))))","v":100},{"$f":"IF(Data!$AI54=1,50,IF($G54=0,0,CHOOSE($G54,SUMPRODUCT($O55:$O$81*AB55:AB$81*($D55:$D$81=$C54)),IF(ISNUMBER(Data!Z54),100*ABS($F54-(Data!Z54-$J54)/$L54),0),IF(ISNUMBER(Data!Z54),100*ABS($F54-(Data!Z54-$J54)/$L54),0))))","v":100},{"$f":"IF(Data!$AI54=1,50,IF($G54=0,0,CHOOSE($G54,SUMPRODUCT($O55:$O$81*AC55:AC$81*($D55:$D$81=$C54)),IF(ISNUMBER(Data!AA54),100*ABS($F54-(Data!AA54-$J54)/$L54),0),IF(ISNUMBER(Data!AA54),100*ABS($F54-(Data!AA54-$J54)/$L54),0))))","v":100},{"$f":"IF(Data!$AI54=1,50,IF($G54=0,0,CHOOSE($G54,SUMPRODUCT($O55:$O$81*AD55:AD$81*($D55:$D$81=$C54)),IF(ISNUMBER(Data!AB54),100*ABS($F54-(Data!AB54-$J54)/$L54),0),IF(ISNUMBER(Data!AB54),100*ABS($F54-(Data!AB54-$J54)/$L54),0))))","v":100},{"$f":"IF(Data!$AI54=1,50,IF($G54=0,0,CHOOSE($G54,SUMPRODUCT($O55:$O$81*AE55:AE$81*($D55:$D$81=$C54)),IF(ISNUMBER(Data!AC54),100*ABS($F54-(Data!AC54-$J54)/$L54),0),IF(ISNUMBER(Data!AC54),100*ABS($F54-(Data!AC54-$J54)/$L54),0))))","v":100},{"$f":"IF(Data!$AI54=1,50,IF($G54=0,0,CHOOSE($G54,SUMPRODUCT($O55:$O$81*AF55:AF$81*($D55:$D$81=$C54)),IF(ISNUMBER(Data!AD54),100*ABS($F54-(Data!AD54-$J54)/$L54),0),IF(ISNUMBER(Data!AD54),100*ABS($F54-(Data!AD54-$J54)/$L54),0))))","v":100},{"$f":"IF(Data!$AI54=1,50,IF($G54=0,0,CHOOSE($G54,SUMPRODUCT($O55:$O$81*AG55:AG$81*($D55:$D$81=$C54)),IF(ISNUMBER(Data!AE54),100*ABS($F54-(Data!AE54-$J54)/$L54),0),IF(ISNUMBER(Data!AE54),100*ABS($F54-(Data!AE54-$J54)/$L54),0))))","v":100},{"$f":"IF(Data!$AI54=1,50,IF($G54=0,0,CHOOSE($G54,SUMPRODUCT($O55:$O$81*AH55:AH$81*($D55:$D$81=$C54)),IF(ISNUMBER(Data!AF54),100*ABS($F54-(Data!AF54-$J54)/$L54),0),IF(ISNUMBER(Data!AF54),100*ABS($F54-(Data!AF54-$J54)/$L54),0))))","v":100},{"$f":"IF(Data!$AI54=1,50,IF($G54=0,0,CHOOSE($G54,SUMPRODUCT($O55:$O$81*AI55:AI$81*($D55:$D$81=$C54)),IF(ISNUMBER(Data!AG54),100*ABS($F54-(Data!AG54-$J54)/$L54),0),IF(ISNUMBER(Data!AG54),100*ABS($F54-(Data!AG54-$J54)/$L54),0))))","v":100}]
[null,{"$f":"tblIndicators!A49","v":48},{"$f":"tblIndicators!B49","v":"MINENG_2"},{"$f":"tblIndicators!C49","v":"MINENG"},{"$f":"tblIndicators!D49","v":2},{"$f":"tblIndicators!L49","v":0},{"$f":"tblIndicators!V49","v":1},{"$f":"tblIndicators!W49","v":0},{"$f":"tblIndicators!X49","v":100},{"$f":"CHOOSE(G55,\"-\",Data!H55,H55)","v":"-"},{"$f":"CHOOSE(G55,\"-\",Data!I55,I55)","v":"-"},"-",{"$f":"tblIndicators!AE49","v":"4.2) Monitoring and enforcement"},0.33333333333333331,{"$f":"tblIndicators!AJ49","v":0.33333333333333331},{"$f":"IF(Data!$AI55=1,50,IF($G55=0,0,CHOOSE($G55,SUMPRODUCT($O56:$O$81*P56:P$81*($D56:$D$81=$C55)),IF(ISNUMBER(Data!N55),100*ABS($F55-(Data!N55-$J55)/$L55),0),IF(ISNUMBER(Data!N55),100*ABS($F55-(Data!N55-$J55)/$L55),0))))","v":62.5},{"$f":"IF(Data!$AI55=1,50,IF($G55=0,0,CHOOSE($G55,SUMPRODUCT($O56:$O$81*Q56:Q$81*($D56:$D$81=$C55)),IF(ISNUMBER(Data!O55),100*ABS($F55-(Data!O55-$J55)/$L55),0),IF(ISNUMBER(Data!O55),100*ABS($F55-(Data!O55-$J55)/$L55),0))))","v":75},{"$f":"IF(Data!$AI55=1,50,IF($G55=0,0,CHOOSE($G55,SUMPRODUCT($O56:$O$81*R56:R$81*($D56:$D$81=$C55)),IF(ISNUMBER(Data!P55),100*ABS($F55-(Data!P55-$J55)/$L55),0),IF(ISNUMBER(Data!P55),100*ABS($F55-(Data!P55-$J55)/$L55),0))))","v":75},{"$f":"IF(Data!$AI55=1,50,IF($G55=0,0,CHOOSE($G55,SUMPRODUCT($O56:$O$81*S56:S$81*($D56:$D$81=$C55)),IF(ISNUMBER(Data!Q55),100*ABS($F55-(Data!Q55-$J55)/$L55),0),IF(ISNUMBER(Data!Q55),100*ABS($F55-(Data!Q55-$J55)/$L55),0))))","v":62.5},{"$f":"IF(Data!$AI55=1,50,IF($G55=0,0,CHOOSE($G55,SUMPRODUCT($O56:$O$81*T56:T$81*($D56:$D$81=$C55)),IF(ISNUMBER(Data!R55),100*ABS($F55-(Data!R55-$J55)/$L55),0),IF(ISNUMBER(Data!R55),100*ABS($F55-(Data!R55-$J55)/$L55),0))))","v":25},{"$f":"IF(Data!$AI55=1,50,IF($G55=0,0,CHOOSE($G55,SUMPRODUCT($O56:$O$81*U56:U$81*($D56:$D$81=$C55)),IF(ISNUMBER(Data!S55),100*ABS($F55-(Data!S55-$J55)/$L55),0),IF(ISNUMBER(Data!S55),100*ABS($F55-(Data!S55-$J55)/$L55),0))))","v":62.5},{"$f":"IF(Data!$AI55=1,50,IF($G55=0,0,CHOOSE($G55,SUMPRODUCT($O56:$O$81*V56:V$81*($D56:$D$81=$C55)),IF(ISNUMBER(Data!T55),100*ABS($F55-(Data!T55-$J55)/$L55),0),IF(ISNUMBER(Data!T55),100*ABS($F55-(Data!T55-$J55)/$L55),0))))","v":50},{"$f":"IF(Data!$AI55=1,50,IF($G55=0,0,CHOOSE($G55,SUMPRODUCT($O56:$O$81*W56:W$81*($D56:$D$81=$C55)),IF(ISNUMBER(Data!U55),100*ABS($F55-(Data!U55-$J55)/$L55),0),IF(ISNUMBER(Data!U55),100*ABS($F55-(Data!U55-$J55)/$L55),0))))","v":75},{"$f":"IF(Data!$AI55=1,50,IF($G55=0,0,CHOOSE($G55,SUMPRODUCT($O56:$O$81*X56:X$81*($D56:$D$81=$C55)),IF(ISNUMBER(Data!V55),100*ABS($F55-(Data!V55-$J55)/$L55),0),IF(ISNUMBER(Data!V55),100*ABS($F55-(Data!V55-$J55)/$L55),0))))","v":75},{"$f":"IF(Data!$AI55=1,50,IF($G55=0,0,CHOOSE($G55,SUMPRODUCT($O56:$O$81*Y56:Y$81*($D56:$D$81=$C55)),IF(ISNUMBER(Data!W55),100*ABS($F55-(Data!W55-$J55)/$L55),0),IF(ISNUMBER(Data!W55),100*ABS($F55-(Data!W55-$J55)/$L55),0))))","v":62.5},{"$f":"IF(Data!$AI55=1,50,IF($G55=0,0,CHOOSE($G55,SUMPRODUCT($O56:$O$81*Z56:Z$81*($D56:$D$81=$C55)),IF(ISNUMBER(Data!X55),100*ABS($F55-(Data!X55-$J55)/$L55),0),IF(ISNUMBER(Data!X55),100*ABS($F55-(Data!X55-$J55)/$L55),0))))","v":75},{"$f":"IF(Data!$AI55=1,50,IF($G55=0,0,CHOOSE($G55,SUMPRODUCT($O56:$O$81*AA56:AA$81*($D56:$D$81=$C55)),IF(ISNUMBER(Data!Y55),100*ABS($F55-(Data!Y55-$J55)/$L55),0),IF(ISNUMBER(Data!Y55),100*ABS($F55-(Data!Y55-$J55)/$L55),0))))","v":75},{"$f":"IF(Data!$AI55=1,50,IF($G55=0,0,CHOOSE($G55,SUMPRODUCT($O56:$O$81*AB56:AB$81*($D56:$D$81=$C55)),IF(ISNUMBER(Data!Z55),100*ABS($F55-(Data!Z55-$J55)/$L55),0),IF(ISNUMBER(Data!Z55),100*ABS($F55-(Data!Z55-$J55)/$L55),0))))","v":50},{"$f":"IF(Data!$AI55=1,50,IF($G55=0,0,CHOOSE($G55,SUMPRODUCT($O56:$O$81*AC56:AC$81*($D56:$D$81=$C55)),IF(ISNUMBER(Data!AA55),100*ABS($F55-(Data!AA55-$J55)/$L55),0),IF(ISNUMBER(Data!AA55),100*ABS($F55-(Data!AA55-$J55)/$L55),0))))","v":62.5},{"$f":"IF(Data!$AI55=1,50,IF($G55=0,0,CHOOSE($G55,SUMPRODUCT($O56:$O$81*AD56:AD$81*($D56:$D$81=$C55)),IF(ISNUMBER(Data!AB55),100*ABS($F55-(Data!AB55-$J55)/$L55),0),IF(ISNUMBER(Data!AB55),100*ABS($F55-(Data!AB55-$J55)/$L55),0))))","v":50},{"$f":"IF(Data!$AI55=1,50,IF($G55=0,0,CHOOSE($G55,SUMPRODUCT($O56:$O$81*AE56:AE$81*($D56:$D$81=$C55)),IF(ISNUMBER(Data!AC55),100*ABS($F55-(Data!AC55-$J55)/$L55),0),IF(ISNUMBER(Data!AC55),100*ABS($F55-(Data!AC55-$J55)/$L55),0))))","v":62.5},{"$f":"IF(Data!$AI55=1,50,IF($G55=0,0,CHOOSE($G55,SUMPRODUCT($O56:$O$81*AF56:AF$81*($D56:$D$81=$C55)),IF(ISNUMBER(Data!AD55),100*ABS($F55-(Data!AD55-$J55)/$L55),0),IF(ISNUMBER(Data!AD55),100*ABS($F55-(Data!AD55-$J55)/$L55),0))))","v":75},{"$f":"IF(Data!$AI55=1,50,IF($G55=0,0,CHOOSE($G55,SUMPRODUCT($O56:$O$81*AG56:AG$81*($D56:$D$81=$C55)),IF(ISNUMBER(Data!AE55),100*ABS($F55-(Data!AE55-$J55)/$L55),0),IF(ISNUMBER(Data!AE55),100*ABS($F55-(Data!AE55-$J55)/$L55),0))))","v":50},{"$f":"IF(Data!$AI55=1,50,IF($G55=0,0,CHOOSE($G55,SUMPRODUCT($O56:$O$81*AH56:AH$81*($D56:$D$81=$C55)),IF(ISNUMBER(Data!AF55),100*ABS($F55-(Data!AF55-$J55)/$L55),0),IF(ISNUMBER(Data!AF55),100*ABS($F55-(Data!AF55-$J55)/$L55),0))))","v":75},{"$f":"IF(Data!$AI55=1,50,IF($G55=0,0,CHOOSE($G55,SUMPRODUCT($O56:$O$81*AI56:AI$81*($D56:$D$81=$C55)),IF(ISNUMBER(Data!AG55),100*ABS($F55-(Data!AG55-$J55)/$L55),0),IF(ISNUMBER(Data!AG55),100*ABS($F55-(Data!AG55-$J55)/$L55),0))))","v":62.5}]
[null,{"$f":"tblIndicators!A50","v":49},{"$f":"tblIndicators!B50","v":"MINENG_2_1"},{"$f":"tblIndicators!C50","v":"MINENG_2"},{"$f":"tblIndicators!D50","v":3},{"$f":"tblIndicators!L50","v":0},{"$f":"tblIndicators!V50","v":3},{"$f":"tblIndicators!W50","v":0},{"$f":"tblIndicators!X50","v":1},{"$f":"CHOOSE(G56,\"-\",Data!H56,H56)","v":0},{"$f":"CHOOSE(G56,\"-\",Data!I56,I56)","v":1},1,{"$f":"tblIndicators!AE50","v":"4.2.1) Environmental impact assessment for oil and gas"},"",{"$f":"tblIndicators!AJ50","v":0.25},{"$f":"IF(Data!$AI56=1,50,IF($G56=0,0,CHOOSE($G56,SUMPRODUCT($O57:$O$81*P57:P$81*($D57:$D$81=$C56)),IF(ISNUMBER(Data!N56),100*ABS($F56-(Data!N56-$J56)/$L56),0),IF(ISNUMBER(Data!N56),100*ABS($F56-(Data!N56-$J56)/$L56),0))))","v":50},{"$f":"IF(Data!$AI56=1,50,IF($G56=0,0,CHOOSE($G56,SUMPRODUCT($O57:$O$81*Q57:Q$81*($D57:$D$81=$C56)),IF(ISNUMBER(Data!O56),100*ABS($F56-(Data!O56-$J56)/$L56),0),IF(ISNUMBER(Data!O56),100*ABS($F56-(Data!O56-$J56)/$L56),0))))","v":50},{"$f":"IF(Data!$AI56=1,50,IF($G56=0,0,CHOOSE($G56,SUMPRODUCT($O57:$O$81*R57:R$81*($D57:$D$81=$C56)),IF(ISNUMBER(Data!P56),100*ABS($F56-(Data!P56-$J56)/$L56),0),IF(ISNUMBER(Data!P56),100*ABS($F56-(Data!P56-$J56)/$L56),0))))","v":50},{"$f":"IF(Data!$AI56=1,50,IF($G56=0,0,CHOOSE($G56,SUMPRODUCT($O57:$O$81*S57:S$81*($D57:$D$81=$C56)),IF(ISNUMBER(Data!Q56),100*ABS($F56-(Data!Q56-$J56)/$L56),0),IF(ISNUMBER(Data!Q56),100*ABS($F56-(Data!Q56-$J56)/$L56),0))))","v":50},{"$f":"IF(Data!$AI56=1,50,IF($G56=0,0,CHOOSE($G56,SUMPRODUCT($O57:$O$81*T57:T$81*($D57:$D$81=$C56)),IF(ISNUMBER(Data!R56),100*ABS($F56-(Data!R56-$J56)/$L56),0),IF(ISNUMBER(Data!R56),100*ABS($F56-(Data!R56-$J56)/$L56),0))))","v":50},{"$f":"IF(Data!$AI56=1,50,IF($G56=0,0,CHOOSE($G56,SUMPRODUCT($O57:$O$81*U57:U$81*($D57:$D$81=$C56)),IF(ISNUMBER(Data!S56),100*ABS($F56-(Data!S56-$J56)/$L56),0),IF(ISNUMBER(Data!S56),100*ABS($F56-(Data!S56-$J56)/$L56),0))))","v":50},{"$f":"IF(Data!$AI56=1,50,IF($G56=0,0,CHOOSE($G56,SUMPRODUCT($O57:$O$81*V57:V$81*($D57:$D$81=$C56)),IF(ISNUMBER(Data!T56),100*ABS($F56-(Data!T56-$J56)/$L56),0),IF(ISNUMBER(Data!T56),100*ABS($F56-(Data!T56-$J56)/$L56),0))))","v":50},{"$f":"IF(Data!$AI56=1,50,IF($G56=0,0,CHOOSE($G56,SUMPRODUCT($O57:$O$81*W57:W$81*($D57:$D$81=$C56)),IF(ISNUMBER(Data!U56),100*ABS($F56-(Data!U56-$J56)/$L56),0),IF(ISNUMBER(Data!U56),100*ABS($F56-(Data!U56-$J56)/$L56),0))))","v":50},{"$f":"IF(Data!$AI56=1,50,IF($G56=0,0,CHOOSE($G56,SUMPRODUCT($O57:$O$81*X57:X$81*($D57:$D$81=$C56)),IF(ISNUMBER(Data!V56),100*ABS($F56-(Data!V56-$J56)/$L56),0),IF(ISNUMBER(Data!V56),100*ABS($F56-(Data!V56-$J56)/$L56),0))))","v":50},{"$f":"IF(Data!$AI56=1,50,IF($G56=0,0,CHOOSE($G56,SUMPRODUCT($O57:$O$81*Y57:Y$81*($D57:$D$81=$C56)),IF(ISNUMBER(Data!W56),100*ABS($F56-(Data!W56-$J56)/$L56),0),IF(ISNUMBER(Data!W56),100*ABS($F56-(Data!W56-$J56)/$L56),0))))","v":50},{"$f":"IF(Data!$AI56=1,50,IF($G56=0,0,CHOOSE($G56,SUMPRODUCT($O57:$O$81*Z57:Z$81*($D57:$D$81=$C56)),IF(ISNUMBER(Data!X56),100*ABS($F56-(Data!X56-$J56)/$L56),0),IF(ISNUMBER(Data!X56),100*ABS($F56-(Data!X56-$J56)/$L56),0))))","v":50},{"$f":"IF(Data!$AI56=1,50,IF($G56=0,0,CHOOSE($G56,SUMPRODUCT($O57:$O$81*AA57:AA$81*($D57:$D$81=$C56)),IF(ISNUMBER(Data!Y56),100*ABS($F56-(Data!Y56-$J56)/$L56),0),IF(ISNUMBER(Data!Y56),100*ABS($F56-(Data!Y56-$J56)/$L56),0))))","v":50},{"$f":"IF(Data!$AI56=1,50,IF($G56=0,0,CHOOSE($G56,SUMPRODUCT($O57:$O$81*AB57:AB$81*($D57:$D$81=$C56)),IF(ISNUMBER(Data!Z56),100*ABS($F56-(Data!Z56-$J56)/$L56),0),IF(ISNUMBER(Data!Z56),100*ABS($F56-(Data!Z56-$J56)/$L56),0))))","v":50},{"$f":"IF(Data!$AI56=1,50,IF($G56=0,0,CHOOSE($G56,SUMPRODUCT($O57:$O$81*AC57:AC$81*($D57:$D$81=$C56)),IF(ISNUMBER(Data!AA56),100*ABS($F56-(Data!AA56-$J56)/$L56),0),IF(ISNUMBER(Data!AA56),100*ABS($F56-(Data!AA56-$J56)/$L56),0))))","v":50},{"$f":"IF(Data!$AI56=1,50,IF($G56=0,0,CHOOSE($G56,SUMPRODUCT($O57:$O$81*AD57:AD$81*($D57:$D$81=$C56)),IF(ISNUMBER(Data!AB56),100*ABS($F56-(Data!AB56-$J56)/$L56),0),IF(ISNUMBER(Data!AB56),100*ABS($F56-(Data!AB56-$J56)/$L56),0))))","v":50},{"$f":"IF(Data!$AI56=1,50,IF($G56=0,0,CHOOSE($G56,SUMPRODUCT($O57:$O$81*AE57:AE$81*($D57:$D$81=$C56)),IF(ISNUMBER(Data!AC56),100*ABS($F56-(Data!AC56-$J56)/$L56),0),IF(ISNUMBER(Data!AC56),100*ABS($F56-(Data!AC56-$J56)/$L56),0))))","v":50},{"$f":"IF(Data!$AI56=1,50,IF($G56=0,0,CHOOSE($G56,SUMPRODUCT($O57:$O$81*AF57:AF$81*($D57:$D$81=$C56)),IF(ISNUMBER(Data!AD56),100*ABS($F56-(Data!AD56-$J56)/$L56),0),IF(ISNUMBER(Data!AD56),100*ABS($F56-(Data!AD56-$J56)/$L56),0))))","v":50},{"$f":"IF(Data!$AI56=1,50,IF($G56=0,0,CHOOSE($G56,SUMPRODUCT($O57:$O$81*AG57:AG$81*($D57:$D$81=$C56)),IF(ISNUMBER(Data!AE56),100*ABS($F56-(Data!AE56-$J56)/$L56),0),IF(ISNUMBER(Data!AE56),100*ABS($F56-(Data!AE56-$J56)/$L56),0))))","v":50},{"$f":"IF(Data!$AI56=1,50,IF($G56=0,0,CHOOSE($G56,SUMPRODUCT($O57:$O$81*AH57:AH$81*($D57:$D$81=$C56)),IF(ISNUMBER(Data!AF56),100*ABS($F56-(Data!AF56-$J56)/$L56),0),IF(ISNUMBER(Data!AF56),100*ABS($F56-(Data!AF56-$J56)/$L56),0))))","v":50},{"$f":"IF(Data!$AI56=1,50,IF($G56=0,0,CHOOSE($G56,SUMPRODUCT($O57:$O$81*AI57:AI$81*($D57:$D$81=$C56)),IF(ISNUMBER(Data!AG56),100*ABS($F56-(Data!AG56-$J56)/$L56),0),IF(ISNUMBER(Data!AG56),100*ABS($F56-(Data!AG56-$J56)/$L56),0))))","v":50}]
[null,{"$f":"tblIndicators!A51","v":50},{"$f":"tblIndicators!B51","v":"MINENG_2_2"},{"$f":"tblIndicators!C51","v":"MINENG_2"},{"$f":"tblIndicators!D51","v":3},{"$f":"tblIndicators!L51","v":0},{"$f":"tblIndicators!V51","v":3},{"$f":"tblIndicators!W51","v":0},{"$f":"tblIndicators!X51","v":1},{"$f":"CHOOSE(G57,\"-\",Data!H57,H57)","v":0},{"$f":"CHOOSE(G57,\"-\",Data!I57,I57)","v":1},1,{"$f":"tblIndicators!AE51","v":"4.2.2) Environment impact assessment for mining and minerals"},"",{"$f":"tblIndicators!AJ51","v":0.25},{"$f":"IF(Data!$AI57=1,50,IF($G57=0,0,CHOOSE($G57,SUMPRODUCT($O58:$O$81*P58:P$81*($D58:$D$81=$C57)),IF(ISNUMBER(Data!N57),100*ABS($F57-(Data!N57-$J57)/$L57),0),IF(ISNUMBER(Data!N57),100*ABS($F57-(Data!N57-$J57)/$L57),0))))","v":50},{"$f":"IF(Data!$AI57=1,50,IF($G57=0,0,CHOOSE($G57,SUMPRODUCT($O58:$O$81*Q58:Q$81*($D58:$D$81=$C57)),IF(ISNUMBER(Data!O57),100*ABS($F57-(Data!O57-$J57)/$L57),0),IF(ISNUMBER(Data!O57),100*ABS($F57-(Data!O57-$J57)/$L57),0))))","v":50},{"$f":"IF(Data!$AI57=1,50,IF($G57=0,0,CHOOSE($G57,SUMPRODUCT($O58:$O$81*R58:R$81*($D58:$D$81=$C57)),IF(ISNUMBER(Data!P57),100*ABS($F57-(Data!P57-$J57)/$L57),0),IF(ISNUMBER(Data!P57),100*ABS($F57-(Data!P57-$J57)/$L57),0))))","v":50},{"$f":"IF(Data!$AI57=1,50,IF($G57=0,0,CHOOSE($G57,SUMPRODUCT($O58:$O$81*S58:S$81*($D58:$D$81=$C57)),IF(ISNUMBER(Data!Q57),100*ABS($F57-(Data!Q57-$J57)/$L57),0),IF(ISNUMBER(Data!Q57),100*ABS($F57-(Data!Q57-$J57)/$L57),0))))","v":50},{"$f":"IF(Data!$AI57=1,50,IF($G57=0,0,CHOOSE($G57,SUMPRODUCT($O58:$O$81*T58:T$81*($D58:$D$81=$C57)),IF(ISNUMBER(Data!R57),100*ABS($F57-(Data!R57-$J57)/$L57),0),IF(ISNUMBER(Data!R57),100*ABS($F57-(Data!R57-$J57)/$L57),0))))","v":50},{"$f":"IF(Data!$AI57=1,50,IF($G57=0,0,CHOOSE($G57,SUMPRODUCT($O58:$O$81*U58:U$81*($D58:$D$81=$C57)),IF(ISNUMBER(Data!S57),100*ABS($F57-(Data!S57-$J57)/$L57),0),IF(ISNUMBER(Data!S57),100*ABS($F57-(Data!S57-$J57)/$L57),0))))","v":50},{"$f":"IF(Data!$AI57=1,50,IF($G57=0,0,CHOOSE($G57,SUMPRODUCT($O58:$O$81*V58:V$81*($D58:$D$81=$C57)),IF(ISNUMBER(Data!T57),100*ABS($F57-(Data!T57-$J57)/$L57),0),IF(ISNUMBER(Data!T57),100*ABS($F57-(Data!T57-$J57)/$L57),0))))","v":50},{"$f":"IF(Data!$AI57=1,50,IF($G57=0,0,CHOOSE($G57,SUMPRODUCT($O58:$O$81*W58:W$81*($D58:$D$81=$C57)),IF(ISNUMBER(Data!U57),100*ABS($F57-(Data!U57-$J57)/$L57),0),IF(ISNUMBER(Data!U57),100*ABS($F57-(Data!U57-$J57)/$L57),0))))","v":50},{"$f":"IF(Data!$AI57=1,50,IF($G57=0,0,CHOOSE($G57,SUMPRODUCT($O58:$O$81*X58:X$81*($D58:$D$81=$C57)),IF(ISNUMBER(Data!V57),100*ABS($F57-(Data!V57-$J57)/$L57),0),IF(ISNUMBER(Data!V57),100*ABS($F57-(Data!V57-$J57)/$L57),0))))","v":50},{"$f":"IF(Data!$AI57=1,50,IF($G57=0,0,CHOOSE($G57,SUMPRODUCT($O58:$O$81*Y58:Y$81*($D58:$D$81=$C57)),IF(ISNUMBER(Data!W57),100*ABS($F57-(Data!W57-$J57)/$L57),0),IF(ISNUMBER(Data!W57),100*ABS($F57-(Data!W57-$J57)/$L57),0))))","v":50},{"$f":"IF(Data!$AI57=1,50,IF($G57=0,0,CHOOSE($G57,SUMPRODUCT($O58:$O$81*Z58:Z$81*($D58:$D$81=$C57)),IF(ISNUMBER(Data!X57),100*ABS($F57-(Data!X57-$J57)/$L57),0),IF(ISNUMBER(Data!X57),100*ABS($F57-(Data!X57-$J57)/$L57),0))))","v":50},{"$f":"IF(Data!$AI57=1,50,IF($G57=0,0,CHOOSE($G57,SUMPRODUCT($O58:$O$81*AA58:AA$81*($D58:$D$81=$C57)),IF(ISNUMBER(Data!Y57),100*ABS($F57-(Data!Y57-$J57)/$L57),0),IF(ISNUMBER(Data!Y57),100*ABS($F57-(Data!Y57-$J57)/$L57),0))))","v":50},{"$f":"IF(Data!$AI57=1,50,IF($G57=0,0,CHOOSE($G57,SUMPRODUCT($O58:$O$81*AB58:AB$81*($D58:$D$81=$C57)),IF(ISNUMBER(Data!Z57),100*ABS($F57-(Data!Z57-$J57)/$L57),0),IF(ISNUMBER(Data!Z57),100*ABS($F57-(Data!Z57-$J57)/$L57),0))))","v":50},{"$f":"IF(Data!$AI57=1,50,IF($G57=0,0,CHOOSE($G57,SUMPRODUCT($O58:$O$81*AC58:AC$81*($D58:$D$81=$C57)),IF(ISNUMBER(Data!AA57),100*ABS($F57-(Data!AA57-$J57)/$L57),0),IF(ISNUMBER(Data!AA57),100*ABS($F57-(Data!AA57-$J57)/$L57),0))))","v":50},{"$f":"IF(Data!$AI57=1,50,IF($G57=0,0,CHOOSE($G57,SUMPRODUCT($O58:$O$81*AD58:AD$81*($D58:$D$81=$C57)),IF(ISNUMBER(Data!AB57),100*ABS($F57-(Data!AB57-$J57)/$L57),0),IF(ISNUMBER(Data!AB57),100*ABS($F57-(Data!AB57-$J57)/$L57),0))))","v":50},{"$f":"IF(Data!$AI57=1,50,IF($G57=0,0,CHOOSE($G57,SUMPRODUCT($O58:$O$81*AE58:AE$81*($D58:$D$81=$C57)),IF(ISNUMBER(Data!AC57),100*ABS($F57-(Data!AC57-$J57)/$L57),0),IF(ISNUMBER(Data!AC57),100*ABS($F57-(Data!AC57-$J57)/$L57),0))))","v":50},{"$f":"IF(Data!$AI57=1,50,IF($G57=0,0,CHOOSE($G57,SUMPRODUCT($O58:$O$81*AF58:AF$81*($D58:$D$81=$C57)),IF(ISNUMBER(Data!AD57),100*ABS($F57-(Data!AD57-$J57)/$L57),0),IF(ISNUMBER(Data!AD57),100*ABS($F57-(Data!AD57-$J57)/$L57),0))))","v":50},{"$f":"IF(Data!$AI57=1,50,IF($G57=0,0,CHOOSE($G57,SUMPRODUCT($O58:$O$81*AG58:AG$81*($D58:$D$81=$C57)),IF(ISNUMBER(Data!AE57),100*ABS($F57-(Data!AE57-$J57)/$L57),0),IF(ISNUMBER(Data!AE57),100*ABS($F57-(Data!AE57-$J57)/$L57),0))))","v":50},{"$f":"IF(Data!$AI57=1,50,IF($G57=0,0,CHOOSE($G57,SUMPRODUCT($O58:$O$81*AH58:AH$81*($D58:$D$81=$C57)),IF(ISNUMBER(Data!AF57),100*ABS($F57-(Data!AF57-$J57)/$L57),0),IF(ISNUMBER(Data!AF57),100*ABS($F57-(Data!AF57-$J57)/$L57),0))))","v":50},{"$f":"IF(Data!$AI57=1,50,IF($G57=0,0,CHOOSE($G57,SUMPRODUCT($O58:$O$81*AI58:AI$81*($D58:$D$81=$C57)),IF(ISNUMBER(Data!AG57),100*ABS($F57-(Data!AG57-$J57)/$L57),0),IF(ISNUMBER(Data!AG57),100*ABS($F57-(Data!AG57-$J57)/$L57),0))))","v":50}]
[null,{"$f":"tblIndicators!A52","v":51},{"$f":"tblIndicators!B52","v":"MINENG_2_3"},{"$f":"tblIndicators!C52","v":"MINENG_2"},{"$f":"tblIndicators!D52","v":3},{"$f":"tblIndicators!L52","v":0},{"$f":"tblIndicators!V52","v":3},{"$f":"tblIndicators!W52","v":0},{"$f":"tblIndicators!X52","v":1},{"$f":"CHOOSE(G58,\"-\",Data!H58,H58)","v":0},{"$f":"CHOOSE(G58,\"-\",Data!I58,I58)","v":1},1,{"$f":"tblIndicators!AE52","v":"4.2.3) On-site reviews "},"",{"$f":"tblIndicators!AJ52","v":0.25},{"$f":"IF(Data!$AI58=1,50,IF($G58=0,0,CHOOSE($G58,SUMPRODUCT($O59:$O$81*P59:P$81*($D59:$D$81=$C58)),IF(ISNUMBER(Data!N58),100*ABS($F58-(Data!N58-$J58)/$L58),0),IF(ISNUMBER(Data!N58),100*ABS($F58-(Data!N58-$J58)/$L58),0))))","v":100},{"$f":"IF(Data!$AI58=1,50,IF($G58=0,0,CHOOSE($G58,SUMPRODUCT($O59:$O$81*Q59:Q$81*($D59:$D$81=$C58)),IF(ISNUMBER(Data!O58),100*ABS($F58-(Data!O58-$J58)/$L58),0),IF(ISNUMBER(Data!O58),100*ABS($F58-(Data!O58-$J58)/$L58),0))))","v":100},{"$f":"IF(Data!$AI58=1,50,IF($G58=0,0,CHOOSE($G58,SUMPRODUCT($O59:$O$81*R59:R$81*($D59:$D$81=$C58)),IF(ISNUMBER(Data!P58),100*ABS($F58-(Data!P58-$J58)/$L58),0),IF(ISNUMBER(Data!P58),100*ABS($F58-(Data!P58-$J58)/$L58),0))))","v":100},{"$f":"IF(Data!$AI58=1,50,IF($G58=0,0,CHOOSE($G58,SUMPRODUCT($O59:$O$81*S59:S$81*($D59:$D$81=$C58)),IF(ISNUMBER(Data!Q58),100*ABS($F58-(Data!Q58-$J58)/$L58),0),IF(ISNUMBER(Data!Q58),100*ABS($F58-(Data!Q58-$J58)/$L58),0))))","v":100},{"$f":"IF(Data!$AI58=1,50,IF($G58=0,0,CHOOSE($G58,SUMPRODUCT($O59:$O$81*T59:T$81*($D59:$D$81=$C58)),IF(ISNUMBER(Data!R58),100*ABS($F58-(Data!R58-$J58)/$L58),0),IF(ISNUMBER(Data!R58),100*ABS($F58-(Data!R58-$J58)/$L58),0))))","v":0},{"$f":"IF(Data!$AI58=1,50,IF($G58=0,0,CHOOSE($G58,SUMPRODUCT($O59:$O$81*U59:U$81*($D59:$D$81=$C58)),IF(ISNUMBER(Data!S58),100*ABS($F58-(Data!S58-$J58)/$L58),0),IF(ISNUMBER(Data!S58),100*ABS($F58-(Data!S58-$J58)/$L58),0))))","v":100},{"$f":"IF(Data!$AI58=1,50,IF($G58=0,0,CHOOSE($G58,SUMPRODUCT($O59:$O$81*V59:V$81*($D59:$D$81=$C58)),IF(ISNUMBER(Data!T58),100*ABS($F58-(Data!T58-$J58)/$L58),0),IF(ISNUMBER(Data!T58),100*ABS($F58-(Data!T58-$J58)/$L58),0))))","v":100},{"$f":"IF(Data!$AI58=1,50,IF($G58=0,0,CHOOSE($G58,SUMPRODUCT($O59:$O$81*W59:W$81*($D59:$D$81=$C58)),IF(ISNUMBER(Data!U58),100*ABS($F58-(Data!U58-$J58)/$L58),0),IF(ISNUMBER(Data!U58),100*ABS($F58-(Data!U58-$J58)/$L58),0))))","v":100},{"$f":"IF(Data!$AI58=1,50,IF($G58=0,0,CHOOSE($G58,SUMPRODUCT($O59:$O$81*X59:X$81*($D59:$D$81=$C58)),IF(ISNUMBER(Data!V58),100*ABS($F58-(Data!V58-$J58)/$L58),0),IF(ISNUMBER(Data!V58),100*ABS($F58-(Data!V58-$J58)/$L58),0))))","v":100},{"$f":"IF(Data!$AI58=1,50,IF($G58=0,0,CHOOSE($G58,SUMPRODUCT($O59:$O$81*Y59:Y$81*($D59:$D$81=$C58)),IF(ISNUMBER(Data!W58),100*ABS($F58-(Data!W58-$J58)/$L58),0),IF(ISNUMBER(Data!W58),100*ABS($F58-(Data!W58-$J58)/$L58),0))))","v":100},{"$f":"IF(Data!$AI58=1,50,IF($G58=0,0,CHOOSE($G58,SUMPRODUCT($O59:$O$81*Z59:Z$81*($D59:$D$81=$C58)),IF(ISNUMBER(Data!X58),100*ABS($F58-(Data!X58-$J58)/$L58),0),IF(ISNUMBER(Data!X58),100*ABS($F58-(Data!X58-$J58)/$L58),0))))","v":100},{"$f":"IF(Data!$AI58=1,50,IF($G58=0,0,CHOOSE($G58,SUMPRODUCT($O59:$O$81*AA59:AA$81*($D59:$D$81=$C58)),IF(ISNUMBER(Data!Y58),100*ABS($F58-(Data!Y58-$J58)/$L58),0),IF(ISNUMBER(Data!Y58),100*ABS($F58-(Data!Y58-$J58)/$L58),0))))","v":100},{"$f":"IF(Data!$AI58=1,50,IF($G58=0,0,CHOOSE($G58,SUMPRODUCT($O59:$O$81*AB59:AB$81*($D59:$D$81=$C58)),IF(ISNUMBER(Data!Z58),100*ABS($F58-(Data!Z58-$J58)/$L58),0),IF(ISNUMBER(Data!Z58),100*ABS($F58-(Data!Z58-$J58)/$L58),0))))","v":100},{"$f":"IF(Data!$AI58=1,50,IF($G58=0,0,CHOOSE($G58,SUMPRODUCT($O59:$O$81*AC59:AC$81*($D59:$D$81=$C58)),IF(ISNUMBER(Data!AA58),100*ABS($F58-(Data!AA58-$J58)/$L58),0),IF(ISNUMBER(Data!AA58),100*ABS($F58-(Data!AA58-$J58)/$L58),0))))","v":100},{"$f":"IF(Data!$AI58=1,50,IF($G58=0,0,CHOOSE($G58,SUMPRODUCT($O59:$O$81*AD59:AD$81*($D59:$D$81=$C58)),IF(ISNUMBER(Data!AB58),100*ABS($F58-(Data!AB58-$J58)/$L58),0),IF(ISNUMBER(Data!AB58),100*ABS($F58-(Data!AB58-$J58)/$L58),0))))","v":100},{"$f":"IF(Data!$AI58=1,50,IF($G58=0,0,CHOOSE($G58,SUMPRODUCT($O59:$O$81*AE59:AE$81*($D59:$D$81=$C58)),IF(ISNUMBER(Data!AC58),100*ABS($F58-(Data!AC58-$J58)/$L58),0),IF(ISNUMBER(Data!AC58),100*ABS($F58-(Data!AC58-$J58)/$L58),0))))","v":100},{"$f":"IF(Data!$AI58=1,50,IF($G58=0,0,CHOOSE($G58,SUMPRODUCT($O59:$O$81*AF59:AF$81*($D59:$D$81=$C58)),IF(ISNUMBER(Data!AD58),100*ABS($F58-(Data!AD58-$J58)/$L58),0),IF(ISNUMBER(Data!AD58),100*ABS($F58-(Data!AD58-$J58)/$L58),0))))","v":100},{"$f":"IF(Data!$AI58=1,50,IF($G58=0,0,CHOOSE($G58,SUMPRODUCT($O59:$O$81*AG59:AG$81*($D59:$D$81=$C58)),IF(ISNUMBER(Data!AE58),100*ABS($F58-(Data!AE58-$J58)/$L58),0),IF(ISNUMBER(Data!AE58),100*ABS($F58-(Data!AE58-$J58)/$L58),0))))","v":0},{"$f":"IF(Data!$AI58=1,50,IF($G58=0,0,CHOOSE($G58,SUMPRODUCT($O59:$O$81*AH59:AH$81*($D59:$D$81=$C58)),IF(ISNUMBER(Data!AF58),100*ABS($F58-(Data!AF58-$J58)/$L58),0),IF(ISNUMBER(Data!AF58),100*ABS($F58-(Data!AF58-$J58)/$L58),0))))","v":100},{"$f":"IF(Data!$AI58=1,50,IF($G58=0,0,CHOOSE($G58,SUMPRODUCT($O59:$O$81*AI59:AI$81*($D59:$D$81=$C58)),IF(ISNUMBER(Data!AG58),100*ABS($F58-(Data!AG58-$J58)/$L58),0),IF(ISNUMBER(Data!AG58),100*ABS($F58-(Data!AG58-$J58)/$L58),0))))","v":100}]
[null,{"$f":"tblIndicators!A53","v":52},{"$f":"tblIndicators!B53","v":"MINENG_2_4"},{"$f":"tblIndicators!C53","v":"MINENG_2"},{"$f":"tblIndicators!D53","v":3},{"$f":"tblIndicators!L53","v":0},{"$f":"tblIndicators!V53","v":3},{"$f":"tblIndicators!W53","v":0},{"$f":"tblIndicators!X53","v":2},{"$f":"CHOOSE(G59,\"-\",Data!H59,H59)","v":0},{"$f":"CHOOSE(G59,\"-\",Data!I59,I59)","v":2},2,{"$f":"tblIndicators!AE53","v":"4.2.4) Collection of oil spills data"},"",{"$f":"tblIndicators!AJ53","v":0.25},{"$f":"IF(Data!$AI59=1,50,IF($G59=0,0,CHOOSE($G59,SUMPRODUCT($O60:$O$81*P60:P$81*($D60:$D$81=$C59)),IF(ISNUMBER(Data!N59),100*ABS($F59-(Data!N59-$J59)/$L59),0),IF(ISNUMBER(Data!N59),100*ABS($F59-(Data!N59-$J59)/$L59),0))))","v":50},{"$f":"IF(Data!$AI59=1,50,IF($G59=0,0,CHOOSE($G59,SUMPRODUCT($O60:$O$81*Q60:Q$81*($D60:$D$81=$C59)),IF(ISNUMBER(Data!O59),100*ABS($F59-(Data!O59-$J59)/$L59),0),IF(ISNUMBER(Data!O59),100*ABS($F59-(Data!O59-$J59)/$L59),0))))","v":100},{"$f":"IF(Data!$AI59=1,50,IF($G59=0,0,CHOOSE($G59,SUMPRODUCT($O60:$O$81*R60:R$81*($D60:$D$81=$C59)),IF(ISNUMBER(Data!P59),100*ABS($F59-(Data!P59-$J59)/$L59),0),IF(ISNUMBER(Data!P59),100*ABS($F59-(Data!P59-$J59)/$L59),0))))","v":100},{"$f":"IF(Data!$AI59=1,50,IF($G59=0,0,CHOOSE($G59,SUMPRODUCT($O60:$O$81*S60:S$81*($D60:$D$81=$C59)),IF(ISNUMBER(Data!Q59),100*ABS($F59-(Data!Q59-$J59)/$L59),0),IF(ISNUMBER(Data!Q59),100*ABS($F59-(Data!Q59-$J59)/$L59),0))))","v":50},{"$f":"IF(Data!$AI59=1,50,IF($G59=0,0,CHOOSE($G59,SUMPRODUCT($O60:$O$81*T60:T$81*($D60:$D$81=$C59)),IF(ISNUMBER(Data!R59),100*ABS($F59-(Data!R59-$J59)/$L59),0),IF(ISNUMBER(Data!R59),100*ABS($F59-(Data!R59-$J59)/$L59),0))))","v":0},{"$f":"IF(Data!$AI59=1,50,IF($G59=0,0,CHOOSE($G59,SUMPRODUCT($O60:$O$81*U60:U$81*($D60:$D$81=$C59)),IF(ISNUMBER(Data!S59),100*ABS($F59-(Data!S59-$J59)/$L59),0),IF(ISNUMBER(Data!S59),100*ABS($F59-(Data!S59-$J59)/$L59),0))))","v":50},{"$f":"IF(Data!$AI59=1,50,IF($G59=0,0,CHOOSE($G59,SUMPRODUCT($O60:$O$81*V60:V$81*($D60:$D$81=$C59)),IF(ISNUMBER(Data!T59),100*ABS($F59-(Data!T59-$J59)/$L59),0),IF(ISNUMBER(Data!T59),100*ABS($F59-(Data!T59-$J59)/$L59),0))))","v":0},{"$f":"IF(Data!$AI59=1,50,IF($G59=0,0,CHOOSE($G59,SUMPRODUCT($O60:$O$81*W60:W$81*($D60:$D$81=$C59)),IF(ISNUMBER(Data!U59),100*ABS($F59-(Data!U59-$J59)/$L59),0),IF(ISNUMBER(Data!U59),100*ABS($F59-(Data!U59-$J59)/$L59),0))))","v":100},{"$f":"IF(Data!$AI59=1,50,IF($G59=0,0,CHOOSE($G59,SUMPRODUCT($O60:$O$81*X60:X$81*($D60:$D$81=$C59)),IF(ISNUMBER(Data!V59),100*ABS($F59-(Data!V59-$J59)/$L59),0),IF(ISNUMBER(Data!V59),100*ABS($F59-(Data!V59-$J59)/$L59),0))))","v":100},{"$f":"IF(Data!$AI59=1,50,IF($G59=0,0,CHOOSE($G59,SUMPRODUCT($O60:$O$81*Y60:Y$81*($D60:$D$81=$C59)),IF(ISNUMBER(Data!W59),100*ABS($F59-(Data!W59-$J59)/$L59),0),IF(ISNUMBER(Data!W59),100*ABS($F59-(Data!W59-$J59)/$L59),0))))","v":50},{"$f":"IF(Data!$AI59=1,50,IF($G59=0,0,CHOOSE($G59,SUMPRODUCT($O60:$O$81*Z60:Z$81*($D60:$D$81=$C59)),IF(ISNUMBER(Data!X59),100*ABS($F59-(Data!X59-$J59)/$L59),0),IF(ISNUMBER(Data!X59),100*ABS($F59-(Data!X59-$J59)/$L59),0))))","v":100},{"$f":"IF(Data!$AI59=1,50,IF($G59=0,0,CHOOSE($G59,SUMPRODUCT($O60:$O$81*AA60:AA$81*($D60:$D$81=$C59)),IF(ISNUMBER(Data!Y59),100*ABS($F59-(Data!Y59-$J59)/$L59),0),IF(ISNUMBER(Data!Y59),100*ABS($F59-(Data!Y59-$J59)/$L59),0))))","v":100},{"$f":"IF(Data!$AI59=1,50,IF($G59=0,0,CHOOSE($G59,SUMPRODUCT($O60:$O$81*AB60:AB$81*($D60:$D$81=$C59)),IF(ISNUMBER(Data!Z59),100*ABS($F59-(Data!Z59-$J59)/$L59),0),IF(ISNUMBER(Data!Z59),100*ABS($F59-(Data!Z59-$J59)/$L59),0))))","v":0},{"$f":"IF(Data!$AI59=1,50,IF($G59=0,0,CHOOSE($G59,SUMPRODUCT($O60:$O$81*AC60:AC$81*($D60:$D$81=$C59)),IF(ISNUMBER(Data!AA59),100*ABS($F59-(Data!AA59-$J59)/$L59),0),IF(ISNUMBER(Data!AA59),100*ABS($F59-(Data!AA59-$J59)/$L59),0))))","v":50},{"$f":"IF(Data!$AI59=1,50,IF($G59=0,0,CHOOSE($G59,SUMPRODUCT($O60:$O$81*AD60:AD$81*($D60:$D$81=$C59)),IF(ISNUMBER(Data!AB59),100*ABS($F59-(Data!AB59-$J59)/$L59),0),IF(ISNUMBER(Data!AB59),100*ABS($F59-(Data!AB59-$J59)/$L59),0))))","v":0},{"$f":"IF(Data!$AI59=1,50,IF($G59=0,0,CHOOSE($G59,SUMPRODUCT($O60:$O$81*AE60:AE$81*($D60:$D$81=$C59)),IF(ISNUMBER(Data!AC59),100*ABS($F59-(Data!AC59-$J59)/$L59),0),IF(ISNUMBER(Data!AC59),100*ABS($F59-(Data!AC59-$J59)/$L59),0))))","v":50},{"$f":"IF(Data!$AI59=1,50,IF($G59=0,0,CHOOSE($G59,SUMPRODUCT($O60:$O$81*AF60:AF$81*($D60:$D$81=$C59)),IF(ISNUMBER(Data!AD59),100*ABS($F59-(Data!AD59-$J59)/$L59),0),IF(ISNUMBER(Data!AD59),100*ABS($F59-(Data!AD59-$J59)/$L59),0))))","v":100},{"$f":"IF(Data!$AI59=1,50,IF($G59=0,0,CHOOSE($G59,SUMPRODUCT($O60:$O$81*AG60:AG$81*($D60:$D$81=$C59)),IF(ISNUMBER(Data!AE59),100*ABS($F59-(Data!AE59-$J59)/$L59),0),IF(ISNUMBER(Data!AE59),100*ABS($F59-(Data!AE59-$J59)/$L59),0))))","v":100},{"$f":"IF(Data!$AI59=1,50,IF($G59=0,0,CHOOSE($G59,SUMPRODUCT($O60:$O$81*AH60:AH$81*($D60:$D$81=$C59)),IF(ISNUMBER(Data!AF59),100*ABS($F59-(Data!AF59-$J59)/$L59),0),IF(ISNUMBER(Data!AF59),100*ABS($F59-(Data!AF59-$J59)/$L59),0))))","v":100},{"$f":"IF(Data!$AI59=1,50,IF($G59=0,0,CHOOSE($G59,SUMPRODUCT($O60:$O$81*AI60:AI$81*($D60:$D$81=$C59)),IF(ISNUMBER(Data!AG59),100*ABS($F59-(Data!AG59-$J59)/$L59),0),IF(ISNUMBER(Data!AG59),100*ABS($F59-(Data!AG59-$J59)/$L59),0))))","v":50}]
[null,{"$f":"tblIndicators!A54","v":53},{"$f":"tblIndicators!B54","v":"MINENG_3"},{"$f":"tblIndicators!C54","v":"MINENG"},{"$f":"tblIndicators!D54","v":2},{"$f":"tblIndicators!L54","v":0},{"$f":"tblIndicators!V54","v":1},{"$f":"tblIndicators!W54","v":0},{"$f":"tblIndicators!X54","v":100},{"$f":"CHOOSE(G60,\"-\",Data!H60,H60)","v":"-"},{"$f":"CHOOSE(G60,\"-\",Data!I60,I60)","v":"-"},"-",{"$f":"tblIndicators!AE54","v":"4.3) Risk mitigation"},0.33333333333333331,{"$f":"tblIndicators!AJ54","v":0.33333333333333331},{"$f":"IF(Data!$AI60=1,50,IF($G60=0,0,CHOOSE($G60,SUMPRODUCT($O61:$O$81*P61:P$81*($D61:$D$81=$C60)),IF(ISNUMBER(Data!N60),100*ABS($F60-(Data!N60-$J60)/$L60),0),IF(ISNUMBER(Data!N60),100*ABS($F60-(Data!N60-$J60)/$L60),0))))","v":83.333333333333314},{"$f":"IF(Data!$AI60=1,50,IF($G60=0,0,CHOOSE($G60,SUMPRODUCT($O61:$O$81*Q61:Q$81*($D61:$D$81=$C60)),IF(ISNUMBER(Data!O60),100*ABS($F60-(Data!O60-$J60)/$L60),0),IF(ISNUMBER(Data!O60),100*ABS($F60-(Data!O60-$J60)/$L60),0))))","v":83.333333333333314},{"$f":"IF(Data!$AI60=1,50,IF($G60=0,0,CHOOSE($G60,SUMPRODUCT($O61:$O$81*R61:R$81*($D61:$D$81=$C60)),IF(ISNUMBER(Data!P60),100*ABS($F60-(Data!P60-$J60)/$L60),0),IF(ISNUMBER(Data!P60),100*ABS($F60-(Data!P60-$J60)/$L60),0))))","v":99.999999999999986},{"$f":"IF(Data!$AI60=1,50,IF($G60=0,0,CHOOSE($G60,SUMPRODUCT($O61:$O$81*S61:S$81*($D61:$D$81=$C60)),IF(ISNUMBER(Data!Q60),100*ABS($F60-(Data!Q60-$J60)/$L60),0),IF(ISNUMBER(Data!Q60),100*ABS($F60-(Data!Q60-$J60)/$L60),0))))","v":66.666666666666657},{"$f":"IF(Data!$AI60=1,50,IF($G60=0,0,CHOOSE($G60,SUMPRODUCT($O61:$O$81*T61:T$81*($D61:$D$81=$C60)),IF(ISNUMBER(Data!R60),100*ABS($F60-(Data!R60-$J60)/$L60),0),IF(ISNUMBER(Data!R60),100*ABS($F60-(Data!R60-$J60)/$L60),0))))","v":66.666666666666657},{"$f":"IF(Data!$AI60=1,50,IF($G60=0,0,CHOOSE($G60,SUMPRODUCT($O61:$O$81*U61:U$81*($D61:$D$81=$C60)),IF(ISNUMBER(Data!S60),100*ABS($F60-(Data!S60-$J60)/$L60),0),IF(ISNUMBER(Data!S60),100*ABS($F60-(Data!S60-$J60)/$L60),0))))","v":83.333333333333314},{"$f":"IF(Data!$AI60=1,50,IF($G60=0,0,CHOOSE($G60,SUMPRODUCT($O61:$O$81*V61:V$81*($D61:$D$81=$C60)),IF(ISNUMBER(Data!T60),100*ABS($F60-(Data!T60-$J60)/$L60),0),IF(ISNUMBER(Data!T60),100*ABS($F60-(Data!T60-$J60)/$L60),0))))","v":66.666666666666657},{"$f":"IF(Data!$AI60=1,50,IF($G60=0,0,CHOOSE($G60,SUMPRODUCT($O61:$O$81*W61:W$81*($D61:$D$81=$C60)),IF(ISNUMBER(Data!U60),100*ABS($F60-(Data!U60-$J60)/$L60),0),IF(ISNUMBER(Data!U60),100*ABS($F60-(Data!U60-$J60)/$L60),0))))","v":99.999999999999986},{"$f":"IF(Data!$AI60=1,50,IF($G60=0,0,CHOOSE($G60,SUMPRODUCT($O61:$O$81*X61:X$81*($D61:$D$81=$C60)),IF(ISNUMBER(Data!V60),100*ABS($F60-(Data!V60-$J60)/$L60),0),IF(ISNUMBER(Data!V60),100*ABS($F60-(Data!V60-$J60)/$L60),0))))","v":49.999999999999993},{"$f":"IF(Data!$AI60=1,50,IF($G60=0,0,CHOOSE($G60,SUMPRODUCT($O61:$O$81*Y61:Y$81*($D61:$D$81=$C60)),IF(ISNUMBER(Data!W60),100*ABS($F60-(Data!W60-$J60)/$L60),0),IF(ISNUMBER(Data!W60),100*ABS($F60-(Data!W60-$J60)/$L60),0))))","v":83.333333333333314},{"$f":"IF(Data!$AI60=1,50,IF($G60=0,0,CHOOSE($G60,SUMPRODUCT($O61:$O$81*Z61:Z$81*($D61:$D$81=$C60)),IF(ISNUMBER(Data!X60),100*ABS($F60-(Data!X60-$J60)/$L60),0),IF(ISNUMBER(Data!X60),100*ABS($F60-(Data!X60-$J60)/$L60),0))))","v":83.333333333333314},{"$f":"IF(Data!$AI60=1,50,IF($G60=0,0,CHOOSE($G60,SUMPRODUCT($O61:$O$81*AA61:AA$81*($D61:$D$81=$C60)),IF(ISNUMBER(Data!Y60),100*ABS($F60-(Data!Y60-$J60)/$L60),0),IF(ISNUMBER(Data!Y60),100*ABS($F60-(Data!Y60-$J60)/$L60),0))))","v":99.999999999999986},{"$f":"IF(Data!$AI60=1,50,IF($G60=0,0,CHOOSE($G60,SUMPRODUCT($O61:$O$81*AB61:AB$81*($D61:$D$81=$C60)),IF(ISNUMBER(Data!Z60),100*ABS($F60-(Data!Z60-$J60)/$L60),0),IF(ISNUMBER(Data!Z60),100*ABS($F60-(Data!Z60-$J60)/$L60),0))))","v":49.999999999999993},{"$f":"IF(Data!$AI60=1,50,IF($G60=0,0,CHOOSE($G60,SUMPRODUCT($O61:$O$81*AC61:AC$81*($D61:$D$81=$C60)),IF(ISNUMBER(Data!AA60),100*ABS($F60-(Data!AA60-$J60)/$L60),0),IF(ISNUMBER(Data!AA60),100*ABS($F60-(Data!AA60-$J60)/$L60),0))))","v":49.999999999999993},{"$f":"IF(Data!$AI60=1,50,IF($G60=0,0,CHOOSE($G60,SUMPRODUCT($O61:$O$81*AD61:AD$81*($D61:$D$81=$C60)),IF(ISNUMBER(Data!AB60),100*ABS($F60-(Data!AB60-$J60)/$L60),0),IF(ISNUMBER(Data!AB60),100*ABS($F60-(Data!AB60-$J60)/$L60),0))))","v":49.999999999999993},{"$f":"IF(Data!$AI60=1,50,IF($G60=0,0,CHOOSE($G60,SUMPRODUCT($O61:$O$81*AE61:AE$81*($D61:$D$81=$C60)),IF(ISNUMBER(Data!AC60),100*ABS($F60-(Data!AC60-$J60)/$L60),0),IF(ISNUMBER(Data!AC60),100*ABS($F60-(Data!AC60-$J60)/$L60),0))))","v":83.333333333333314},{"$f":"IF(Data!$AI60=1,50,IF($G60=0,0,CHOOSE($G60,SUMPRODUCT($O61:$O$81*AF61:AF$81*($D61:$D$81=$C60)),IF(ISNUMBER(Data!AD60),100*ABS($F60-(Data!AD60-$J60)/$L60),0),IF(ISNUMBER(Data!AD60),100*ABS($F60-(Data!AD60-$J60)/$L60),0))))","v":66.666666666666657},{"$f":"IF(Data!$AI60=1,50,IF($G60=0,0,CHOOSE($G60,SUMPRODUCT($O61:$O$81*AG61:AG$81*($D61:$D$81=$C60)),IF(ISNUMBER(Data!AE60),100*ABS($F60-(Data!AE60-$J60)/$L60),0),IF(ISNUMBER(Data!AE60),100*ABS($F60-(Data!AE60-$J60)/$L60),0))))","v":66.666666666666657},{"$f":"IF(Data!$AI60=1,50,IF($G60=0,0,CHOOSE($G60,SUMPRODUCT($O61:$O$81*AH61:AH$81*($D61:$D$81=$C60)),IF(ISNUMBER(Data!AF60),100*ABS($F60-(Data!AF60-$J60)/$L60),0),IF(ISNUMBER(Data!AF60),100*ABS($F60-(Data!AF60-$J60)/$L60),0))))","v":83.333333333333314},{"$f":"IF(Data!$AI60=1,50,IF($G60=0,0,CHOOSE($G60,SUMPRODUCT($O61:$O$81*AI61:AI$81*($D61:$D$81=$C60)),IF(ISNUMBER(Data!AG60),100*ABS($F60-(Data!AG60-$J60)/$L60),0),IF(ISNUMBER(Data!AG60),100*ABS($F60-(Data!AG60-$J60)/$L60),0))))","v":33.333333333333329}]
[null,{"$f":"tblIndicators!A55","v":54},{"$f":"tblIndicators!B55","v":"MINENG_3_1"},{"$f":"tblIndicators!C55","v":"MINENG_3"},{"$f":"tblIndicators!D55","v":3},{"$f":"tblIndicators!L55","v":0},{"$f":"tblIndicators!V55","v":3},{"$f":"tblIndicators!W55","v":0},{"$f":"tblIndicators!X55","v":2},{"$f":"CHOOSE(G61,\"-\",Data!H61,H61)","v":0},{"$f":"CHOOSE(G61,\"-\",Data!I61,I61)","v":2},2,{"$f":"tblIndicators!AE55","v":"4.3.1) Adoption of the OPRC "},"",{"$f":"tblIndicators!AJ55","v":0.33333333333333331},{"$f":"IF(Data!$AI61=1,50,IF($G61=0,0,CHOOSE($G61,SUMPRODUCT($O62:$O$81*P62:P$81*($D62:$D$81=$C61)),IF(ISNUMBER(Data!N61),100*ABS($F61-(Data!N61-$J61)/$L61),0),IF(ISNUMBER(Data!N61),100*ABS($F61-(Data!N61-$J61)/$L61),0))))","v":50},{"$f":"IF(Data!$AI61=1,50,IF($G61=0,0,CHOOSE($G61,SUMPRODUCT($O62:$O$81*Q62:Q$81*($D62:$D$81=$C61)),IF(ISNUMBER(Data!O61),100*ABS($F61-(Data!O61-$J61)/$L61),0),IF(ISNUMBER(Data!O61),100*ABS($F61-(Data!O61-$J61)/$L61),0))))","v":50},{"$f":"IF(Data!$AI61=1,50,IF($G61=0,0,CHOOSE($G61,SUMPRODUCT($O62:$O$81*R62:R$81*($D62:$D$81=$C61)),IF(ISNUMBER(Data!P61),100*ABS($F61-(Data!P61-$J61)/$L61),0),IF(ISNUMBER(Data!P61),100*ABS($F61-(Data!P61-$J61)/$L61),0))))","v":100},{"$f":"IF(Data!$AI61=1,50,IF($G61=0,0,CHOOSE($G61,SUMPRODUCT($O62:$O$81*S62:S$81*($D62:$D$81=$C61)),IF(ISNUMBER(Data!Q61),100*ABS($F61-(Data!Q61-$J61)/$L61),0),IF(ISNUMBER(Data!Q61),100*ABS($F61-(Data!Q61-$J61)/$L61),0))))","v":100},{"$f":"IF(Data!$AI61=1,50,IF($G61=0,0,CHOOSE($G61,SUMPRODUCT($O62:$O$81*T62:T$81*($D62:$D$81=$C61)),IF(ISNUMBER(Data!R61),100*ABS($F61-(Data!R61-$J61)/$L61),0),IF(ISNUMBER(Data!R61),100*ABS($F61-(Data!R61-$J61)/$L61),0))))","v":100},{"$f":"IF(Data!$AI61=1,50,IF($G61=0,0,CHOOSE($G61,SUMPRODUCT($O62:$O$81*U62:U$81*($D62:$D$81=$C61)),IF(ISNUMBER(Data!S61),100*ABS($F61-(Data!S61-$J61)/$L61),0),IF(ISNUMBER(Data!S61),100*ABS($F61-(Data!S61-$J61)/$L61),0))))","v":50},{"$f":"IF(Data!$AI61=1,50,IF($G61=0,0,CHOOSE($G61,SUMPRODUCT($O62:$O$81*V62:V$81*($D62:$D$81=$C61)),IF(ISNUMBER(Data!T61),100*ABS($F61-(Data!T61-$J61)/$L61),0),IF(ISNUMBER(Data!T61),100*ABS($F61-(Data!T61-$J61)/$L61),0))))","v":0},{"$f":"IF(Data!$AI61=1,50,IF($G61=0,0,CHOOSE($G61,SUMPRODUCT($O62:$O$81*W62:W$81*($D62:$D$81=$C61)),IF(ISNUMBER(Data!U61),100*ABS($F61-(Data!U61-$J61)/$L61),0),IF(ISNUMBER(Data!U61),100*ABS($F61-(Data!U61-$J61)/$L61),0))))","v":100},{"$f":"IF(Data!$AI61=1,50,IF($G61=0,0,CHOOSE($G61,SUMPRODUCT($O62:$O$81*X62:X$81*($D62:$D$81=$C61)),IF(ISNUMBER(Data!V61),100*ABS($F61-(Data!V61-$J61)/$L61),0),IF(ISNUMBER(Data!V61),100*ABS($F61-(Data!V61-$J61)/$L61),0))))","v":50},{"$f":"IF(Data!$AI61=1,50,IF($G61=0,0,CHOOSE($G61,SUMPRODUCT($O62:$O$81*Y62:Y$81*($D62:$D$81=$C61)),IF(ISNUMBER(Data!W61),100*ABS($F61-(Data!W61-$J61)/$L61),0),IF(ISNUMBER(Data!W61),100*ABS($F61-(Data!W61-$J61)/$L61),0))))","v":50},{"$f":"IF(Data!$AI61=1,50,IF($G61=0,0,CHOOSE($G61,SUMPRODUCT($O62:$O$81*Z62:Z$81*($D62:$D$81=$C61)),IF(ISNUMBER(Data!X61),100*ABS($F61-(Data!X61-$J61)/$L61),0),IF(ISNUMBER(Data!X61),100*ABS($F61-(Data!X61-$J61)/$L61),0))))","v":50},{"$f":"IF(Data!$AI61=1,50,IF($G61=0,0,CHOOSE($G61,SUMPRODUCT($O62:$O$81*AA62:AA$81*($D62:$D$81=$C61)),IF(ISNUMBER(Data!Y61),100*ABS($F61-(Data!Y61-$J61)/$L61),0),IF(ISNUMBER(Data!Y61),100*ABS($F61-(Data!Y61-$J61)/$L61),0))))","v":100},{"$f":"IF(Data!$AI61=1,50,IF($G61=0,0,CHOOSE($G61,SUMPRODUCT($O62:$O$81*AB62:AB$81*($D62:$D$81=$C61)),IF(ISNUMBER(Data!Z61),100*ABS($F61-(Data!Z61-$J61)/$L61),0),IF(ISNUMBER(Data!Z61),100*ABS($F61-(Data!Z61-$J61)/$L61),0))))","v":50},{"$f":"IF(Data!$AI61=1,50,IF($G61=0,0,CHOOSE($G61,SUMPRODUCT($O62:$O$81*AC62:AC$81*($D62:$D$81=$C61)),IF(ISNUMBER(Data!AA61),100*ABS($F61-(Data!AA61-$J61)/$L61),0),IF(ISNUMBER(Data!AA61),100*ABS($F61-(Data!AA61-$J61)/$L61),0))))","v":50},{"$f":"IF(Data!$AI61=1,50,IF($G61=0,0,CHOOSE($G61,SUMPRODUCT($O62:$O$81*AD62:AD$81*($D62:$D$81=$C61)),IF(ISNUMBER(Data!AB61),100*ABS($F61-(Data!AB61-$J61)/$L61),0),IF(ISNUMBER(Data!AB61),100*ABS($F61-(Data!AB61-$J61)/$L61),0))))","v":50},{"$f":"IF(Data!$AI61=1,50,IF($G61=0,0,CHOOSE($G61,SUMPRODUCT($O62:$O$81*AE62:AE$81*($D62:$D$81=$C61)),IF(ISNUMBER(Data!AC61),100*ABS($F61-(Data!AC61-$J61)/$L61),0),IF(ISNUMBER(Data!AC61),100*ABS($F61-(Data!AC61-$J61)/$L61),0))))","v":50},{"$f":"IF(Data!$AI61=1,50,IF($G61=0,0,CHOOSE($G61,SUMPRODUCT($O62:$O$81*AF62:AF$81*($D62:$D$81=$C61)),IF(ISNUMBER(Data!AD61),100*ABS($F61-(Data!AD61-$J61)/$L61),0),IF(ISNUMBER(Data!AD61),100*ABS($F61-(Data!AD61-$J61)/$L61),0))))","v":100},{"$f":"IF(Data!$AI61=1,50,IF($G61=0,0,CHOOSE($G61,SUMPRODUCT($O62:$O$81*AG62:AG$81*($D62:$D$81=$C61)),IF(ISNUMBER(Data!AE61),100*ABS($F61-(Data!AE61-$J61)/$L61),0),IF(ISNUMBER(Data!AE61),100*ABS($F61-(Data!AE61-$J61)/$L61),0))))","v":100},{"$f":"IF(Data!$AI61=1,50,IF($G61=0,0,CHOOSE($G61,SUMPRODUCT($O62:$O$81*AH62:AH$81*($D62:$D$81=$C61)),IF(ISNUMBER(Data!AF61),100*ABS($F61-(Data!AF61-$J61)/$L61),0),IF(ISNUMBER(Data!AF61),100*ABS($F61-(Data!AF61-$J61)/$L61),0))))","v":50},{"$f":"IF(Data!$AI61=1,50,IF($G61=0,0,CHOOSE($G61,SUMPRODUCT($O62:$O$81*AI62:AI$81*($D62:$D$81=$C61)),IF(ISNUMBER(Data!AG61),100*ABS($F61-(Data!AG61-$J61)/$L61),0),IF(ISNUMBER(Data!AG61),100*ABS($F61-(Data!AG61-$J61)/$L61),0))))","v":0}]
[null,{"$f":"tblIndicators!A56","v":55},{"$f":"tblIndicators!B56","v":"MINENG_3_2"},{"$f":"tblIndicators!C56","v":"MINENG_3"},{"$f":"tblIndicators!D56","v":3},{"$f":"tblIndicators!L56","v":0},{"$f":"tblIndicators!V56","v":3},{"$f":"tblIndicators!W56","v":0},{"$f":"tblIndicators!X56","v":1},{"$f":"CHOOSE(G62,\"-\",Data!H62,H62)","v":0},{"$f":"CHOOSE(G62,\"-\",Data!I62,I62)","v":1},1,{"$f":"tblIndicators!AE56","v":"4.3.2) Emergency plan "},"",{"$f":"tblIndicators!AJ56","v":0.33333333333333331},{"$f":"IF(Data!$AI62=1,50,IF($G62=0,0,CHOOSE($G62,SUMPRODUCT($O63:$O$81*P63:P$81*($D63:$D$81=$C62)),IF(ISNUMBER(Data!N62),100*ABS($F62-(Data!N62-$J62)/$L62),0),IF(ISNUMBER(Data!N62),100*ABS($F62-(Data!N62-$J62)/$L62),0))))","v":100},{"$f":"IF(Data!$AI62=1,50,IF($G62=0,0,CHOOSE($G62,SUMPRODUCT($O63:$O$81*Q63:Q$81*($D63:$D$81=$C62)),IF(ISNUMBER(Data!O62),100*ABS($F62-(Data!O62-$J62)/$L62),0),IF(ISNUMBER(Data!O62),100*ABS($F62-(Data!O62-$J62)/$L62),0))))","v":100},{"$f":"IF(Data!$AI62=1,50,IF($G62=0,0,CHOOSE($G62,SUMPRODUCT($O63:$O$81*R63:R$81*($D63:$D$81=$C62)),IF(ISNUMBER(Data!P62),100*ABS($F62-(Data!P62-$J62)/$L62),0),IF(ISNUMBER(Data!P62),100*ABS($F62-(Data!P62-$J62)/$L62),0))))","v":100},{"$f":"IF(Data!$AI62=1,50,IF($G62=0,0,CHOOSE($G62,SUMPRODUCT($O63:$O$81*S63:S$81*($D63:$D$81=$C62)),IF(ISNUMBER(Data!Q62),100*ABS($F62-(Data!Q62-$J62)/$L62),0),IF(ISNUMBER(Data!Q62),100*ABS($F62-(Data!Q62-$J62)/$L62),0))))","v":100},{"$f":"IF(Data!$AI62=1,50,IF($G62=0,0,CHOOSE($G62,SUMPRODUCT($O63:$O$81*T63:T$81*($D63:$D$81=$C62)),IF(ISNUMBER(Data!R62),100*ABS($F62-(Data!R62-$J62)/$L62),0),IF(ISNUMBER(Data!R62),100*ABS($F62-(Data!R62-$J62)/$L62),0))))","v":100},{"$f":"IF(Data!$AI62=1,50,IF($G62=0,0,CHOOSE($G62,SUMPRODUCT($O63:$O$81*U63:U$81*($D63:$D$81=$C62)),IF(ISNUMBER(Data!S62),100*ABS($F62-(Data!S62-$J62)/$L62),0),IF(ISNUMBER(Data!S62),100*ABS($F62-(Data!S62-$J62)/$L62),0))))","v":100},{"$f":"IF(Data!$AI62=1,50,IF($G62=0,0,CHOOSE($G62,SUMPRODUCT($O63:$O$81*V63:V$81*($D63:$D$81=$C62)),IF(ISNUMBER(Data!T62),100*ABS($F62-(Data!T62-$J62)/$L62),0),IF(ISNUMBER(Data!T62),100*ABS($F62-(Data!T62-$J62)/$L62),0))))","v":100},{"$f":"IF(Data!$AI62=1,50,IF($G62=0,0,CHOOSE($G62,SUMPRODUCT($O63:$O$81*W63:W$81*($D63:$D$81=$C62)),IF(ISNUMBER(Data!U62),100*ABS($F62-(Data!U62-$J62)/$L62),0),IF(ISNUMBER(Data!U62),100*ABS($F62-(Data!U62-$J62)/$L62),0))))","v":100},{"$f":"IF(Data!$AI62=1,50,IF($G62=0,0,CHOOSE($G62,SUMPRODUCT($O63:$O$81*X63:X$81*($D63:$D$81=$C62)),IF(ISNUMBER(Data!V62),100*ABS($F62-(Data!V62-$J62)/$L62),0),IF(ISNUMBER(Data!V62),100*ABS($F62-(Data!V62-$J62)/$L62),0))))","v":100},{"$f":"IF(Data!$AI62=1,50,IF($G62=0,0,CHOOSE($G62,SUMPRODUCT($O63:$O$81*Y63:Y$81*($D63:$D$81=$C62)),IF(ISNUMBER(Data!W62),100*ABS($F62-(Data!W62-$J62)/$L62),0),IF(ISNUMBER(Data!W62),100*ABS($F62-(Data!W62-$J62)/$L62),0))))","v":100},{"$f":"IF(Data!$AI62=1,50,IF($G62=0,0,CHOOSE($G62,SUMPRODUCT($O63:$O$81*Z63:Z$81*($D63:$D$81=$C62)),IF(ISNUMBER(Data!X62),100*ABS($F62-(Data!X62-$J62)/$L62),0),IF(ISNUMBER(Data!X62),100*ABS($F62-(Data!X62-$J62)/$L62),0))))","v":100},{"$f":"IF(Data!$AI62=1,50,IF($G62=0,0,CHOOSE($G62,SUMPRODUCT($O63:$O$81*AA63:AA$81*($D63:$D$81=$C62)),IF(ISNUMBER(Data!Y62),100*ABS($F62-(Data!Y62-$J62)/$L62),0),IF(ISNUMBER(Data!Y62),100*ABS($F62-(Data!Y62-$J62)/$L62),0))))","v":100},{"$f":"IF(Data!$AI62=1,50,IF($G62=0,0,CHOOSE($G62,SUMPRODUCT($O63:$O$81*AB63:AB$81*($D63:$D$81=$C62)),IF(ISNUMBER(Data!Z62),100*ABS($F62-(Data!Z62-$J62)/$L62),0),IF(ISNUMBER(Data!Z62),100*ABS($F62-(Data!Z62-$J62)/$L62),0))))","v":100},{"$f":"IF(Data!$AI62=1,50,IF($G62=0,0,CHOOSE($G62,SUMPRODUCT($O63:$O$81*AC63:AC$81*($D63:$D$81=$C62)),IF(ISNUMBER(Data!AA62),100*ABS($F62-(Data!AA62-$J62)/$L62),0),IF(ISNUMBER(Data!AA62),100*ABS($F62-(Data!AA62-$J62)/$L62),0))))","v":0},{"$f":"IF(Data!$AI62=1,50,IF($G62=0,0,CHOOSE($G62,SUMPRODUCT($O63:$O$81*AD63:AD$81*($D63:$D$81=$C62)),IF(ISNUMBER(Data!AB62),100*ABS($F62-(Data!AB62-$J62)/$L62),0),IF(ISNUMBER(Data!AB62),100*ABS($F62-(Data!AB62-$J62)/$L62),0))))","v":100},{"$f":"IF(Data!$AI62=1,50,IF($G62=0,0,CHOOSE($G62,SUMPRODUCT($O63:$O$81*AE63:AE$81*($D63:$D$81=$C62)),IF(ISNUMBER(Data!AC62),100*ABS($F62-(Data!AC62-$J62)/$L62),0),IF(ISNUMBER(Data!AC62),100*ABS($F62-(Data!AC62-$J62)/$L62),0))))","v":100},{"$f":"IF(Data!$AI62=1,50,IF($G62=0,0,CHOOSE($G62,SUMPRODUCT($O63:$O$81*AF63:AF$81*($D63:$D$81=$C62)),IF(ISNUMBER(Data!AD62),100*ABS($F62-(Data!AD62-$J62)/$L62),0),IF(ISNUMBER(Data!AD62),100*ABS($F62-(Data!AD62-$J62)/$L62),0))))","v":100},{"$f":"IF(Data!$AI62=1,50,IF($G62=0,0,CHOOSE($G62,SUMPRODUCT($O63:$O$81*AG63:AG$81*($D63:$D$81=$C62)),IF(ISNUMBER(Data!AE62),100*ABS($F62-(Data!AE62-$J62)/$L62),0),IF(ISNUMBER(Data!AE62),100*ABS($F62-(Data!AE62-$J62)/$L62),0))))","v":100},{"$f":"IF(Data!$AI62=1,50,IF($G62=0,0,CHOOSE($G62,SUMPRODUCT($O63:$O$81*AH63:AH$81*($D63:$D$81=$C62)),IF(ISNUMBER(Data!AF62),100*ABS($F62-(Data!AF62-$J62)/$L62),0),IF(ISNUMBER(Data!AF62),100*ABS($F62-(Data!AF62-$J62)/$L62),0))))","v":100},{"$f":"IF(Data!$AI62=1,50,IF($G62=0,0,CHOOSE($G62,SUMPRODUCT($O63:$O$81*AI63:AI$81*($D63:$D$81=$C62)),IF(ISNUMBER(Data!AG62),100*ABS($F62-(Data!AG62-$J62)/$L62),0),IF(ISNUMBER(Data!AG62),100*ABS($F62-(Data!AG62-$J62)/$L62),0))))","v":100}]
[null,{"$f":"tblIndicators!A57","v":56},{"$f":"tblIndicators!B57","v":"MINENG_3_3"},{"$f":"tblIndicators!C57","v":"MINENG_3"},{"$f":"tblIndicators!D57","v":3},{"$f":"tblIndicators!L57","v":0},{"$f":"tblIndicators!V57","v":3},{"$f":"tblIndicators!W57","v":0},{"$f":"tblIndicators!X57","v":1},{"$f":"CHOOSE(G63,\"-\",Data!H63,H63)","v":0},{"$f":"CHOOSE(G63,\"-\",Data!I63,I63)","v":1},1,{"$f":"tblIndicators!AE57","v":"4.3.3) Off-limit areas "},"",{"$f":"tblIndicators!AJ57","v":0.33333333333333331},{"$f":"IF(Data!$AI63=1,50,IF($G63=0,0,CHOOSE($G63,SUMPRODUCT($O64:$O$81*P64:P$81*($D64:$D$81=$C63)),IF(ISNUMBER(Data!N63),100*ABS($F63-(Data!N63-$J63)/$L63),0),IF(ISNUMBER(Data!N63),100*ABS($F63-(Data!N63-$J63)/$L63),0))))","v":100},{"$f":"IF(Data!$AI63=1,50,IF($G63=0,0,CHOOSE($G63,SUMPRODUCT($O64:$O$81*Q64:Q$81*($D64:$D$81=$C63)),IF(ISNUMBER(Data!O63),100*ABS($F63-(Data!O63-$J63)/$L63),0),IF(ISNUMBER(Data!O63),100*ABS($F63-(Data!O63-$J63)/$L63),0))))","v":100},{"$f":"IF(Data!$AI63=1,50,IF($G63=0,0,CHOOSE($G63,SUMPRODUCT($O64:$O$81*R64:R$81*($D64:$D$81=$C63)),IF(ISNUMBER(Data!P63),100*ABS($F63-(Data!P63-$J63)/$L63),0),IF(ISNUMBER(Data!P63),100*ABS($F63-(Data!P63-$J63)/$L63),0))))","v":100},{"$f":"IF(Data!$AI63=1,50,IF($G63=0,0,CHOOSE($G63,SUMPRODUCT($O64:$O$81*S64:S$81*($D64:$D$81=$C63)),IF(ISNUMBER(Data!Q63),100*ABS($F63-(Data!Q63-$J63)/$L63),0),IF(ISNUMBER(Data!Q63),100*ABS($F63-(Data!Q63-$J63)/$L63),0))))","v":0},{"$f":"IF(Data!$AI63=1,50,IF($G63=0,0,CHOOSE($G63,SUMPRODUCT($O64:$O$81*T64:T$81*($D64:$D$81=$C63)),IF(ISNUMBER(Data!R63),100*ABS($F63-(Data!R63-$J63)/$L63),0),IF(ISNUMBER(Data!R63),100*ABS($F63-(Data!R63-$J63)/$L63),0))))","v":0},{"$f":"IF(Data!$AI63=1,50,IF($G63=0,0,CHOOSE($G63,SUMPRODUCT($O64:$O$81*U64:U$81*($D64:$D$81=$C63)),IF(ISNUMBER(Data!S63),100*ABS($F63-(Data!S63-$J63)/$L63),0),IF(ISNUMBER(Data!S63),100*ABS($F63-(Data!S63-$J63)/$L63),0))))","v":100},{"$f":"IF(Data!$AI63=1,50,IF($G63=0,0,CHOOSE($G63,SUMPRODUCT($O64:$O$81*V64:V$81*($D64:$D$81=$C63)),IF(ISNUMBER(Data!T63),100*ABS($F63-(Data!T63-$J63)/$L63),0),IF(ISNUMBER(Data!T63),100*ABS($F63-(Data!T63-$J63)/$L63),0))))","v":100},{"$f":"IF(Data!$AI63=1,50,IF($G63=0,0,CHOOSE($G63,SUMPRODUCT($O64:$O$81*W64:W$81*($D64:$D$81=$C63)),IF(ISNUMBER(Data!U63),100*ABS($F63-(Data!U63-$J63)/$L63),0),IF(ISNUMBER(Data!U63),100*ABS($F63-(Data!U63-$J63)/$L63),0))))","v":100},{"$f":"IF(Data!$AI63=1,50,IF($G63=0,0,CHOOSE($G63,SUMPRODUCT($O64:$O$81*X64:X$81*($D64:$D$81=$C63)),IF(ISNUMBER(Data!V63),100*ABS($F63-(Data!V63-$J63)/$L63),0),IF(ISNUMBER(Data!V63),100*ABS($F63-(Data!V63-$J63)/$L63),0))))","v":0},{"$f":"IF(Data!$AI63=1,50,IF($G63=0,0,CHOOSE($G63,SUMPRODUCT($O64:$O$81*Y64:Y$81*($D64:$D$81=$C63)),IF(ISNUMBER(Data!W63),100*ABS($F63-(Data!W63-$J63)/$L63),0),IF(ISNUMBER(Data!W63),100*ABS($F63-(Data!W63-$J63)/$L63),0))))","v":100},{"$f":"IF(Data!$AI63=1,50,IF($G63=0,0,CHOOSE($G63,SUMPRODUCT($O64:$O$81*Z64:Z$81*($D64:$D$81=$C63)),IF(ISNUMBER(Data!X63),100*ABS($F63-(Data!X63-$J63)/$L63),0),IF(ISNUMBER(Data!X63),100*ABS($F63-(Data!X63-$J63)/$L63),0))))","v":100},{"$f":"IF(Data!$AI63=1,50,IF($G63=0,0,CHOOSE($G63,SUMPRODUCT($O64:$O$81*AA64:AA$81*($D64:$D$81=$C63)),IF(ISNUMBER(Data!Y63),100*ABS($F63-(Data!Y63-$J63)/$L63),0),IF(ISNUMBER(Data!Y63),100*ABS($F63-(Data!Y63-$J63)/$L63),0))))","v":100},{"$f":"IF(Data!$AI63=1,50,IF($G63=0,0,CHOOSE($G63,SUMPRODUCT($O64:$O$81*AB64:AB$81*($D64:$D$81=$C63)),IF(ISNUMBER(Data!Z63),100*ABS($F63-(Data!Z63-$J63)/$L63),0),IF(ISNUMBER(Data!Z63),100*ABS($F63-(Data!Z63-$J63)/$L63),0))))","v":0},{"$f":"IF(Data!$AI63=1,50,IF($G63=0,0,CHOOSE($G63,SUMPRODUCT($O64:$O$81*AC64:AC$81*($D64:$D$81=$C63)),IF(ISNUMBER(Data!AA63),100*ABS($F63-(Data!AA63-$J63)/$L63),0),IF(ISNUMBER(Data!AA63),100*ABS($F63-(Data!AA63-$J63)/$L63),0))))","v":100},{"$f":"IF(Data!$AI63=1,50,IF($G63=0,0,CHOOSE($G63,SUMPRODUCT($O64:$O$81*AD64:AD$81*($D64:$D$81=$C63)),IF(ISNUMBER(Data!AB63),100*ABS($F63-(Data!AB63-$J63)/$L63),0),IF(ISNUMBER(Data!AB63),100*ABS($F63-(Data!AB63-$J63)/$L63),0))))","v":0},{"$f":"IF(Data!$AI63=1,50,IF($G63=0,0,CHOOSE($G63,SUMPRODUCT($O64:$O$81*AE64:AE$81*($D64:$D$81=$C63)),IF(ISNUMBER(Data!AC63),100*ABS($F63-(Data!AC63-$J63)/$L63),0),IF(ISNUMBER(Data!AC63),100*ABS($F63-(Data!AC63-$J63)/$L63),0))))","v":100},{"$f":"IF(Data!$AI63=1,50,IF($G63=0,0,CHOOSE($G63,SUMPRODUCT($O64:$O$81*AF64:AF$81*($D64:$D$81=$C63)),IF(ISNUMBER(Data!AD63),100*ABS($F63-(Data!AD63-$J63)/$L63),0),IF(ISNUMBER(Data!AD63),100*ABS($F63-(Data!AD63-$J63)/$L63),0))))","v":0},{"$f":"IF(Data!$AI63=1,50,IF($G63=0,0,CHOOSE($G63,SUMPRODUCT($O64:$O$81*AG64:AG$81*($D64:$D$81=$C63)),IF(ISNUMBER(Data!AE63),100*ABS($F63-(Data!AE63-$J63)/$L63),0),IF(ISNUMBER(Data!AE63),100*ABS($F63-(Data!AE63-$J63)/$L63),0))))","v":0},{"$f":"IF(Data!$AI63=1,50,IF($G63=0,0,CHOOSE($G63,SUMPRODUCT($O64:$O$81*AH64:AH$81*($D64:$D$81=$C63)),IF(ISNUMBER(Data!AF63),100*ABS($F63-(Data!AF63-$J63)/$L63),0),IF(ISNUMBER(Data!AF63),100*ABS($F63-(Data!AF63-$J63)/$L63),0))))","v":100},{"$f":"IF(Data!$AI63=1,50,IF($G63=0,0,CHOOSE($G63,SUMPRODUCT($O64:$O$81*AI64:AI$81*($D64:$D$81=$C63)),IF(ISNUMBER(Data!AG63),100*ABS($F63-(Data!AG63-$J63)/$L63),0),IF(ISNUMBER(Data!AG63),100*ABS($F63-(Data!AG63-$J63)/$L63),0))))","v":0}]
[null,{"$f":"tblIndicators!A58","v":57},{"$f":"tblIndicators!B58","v":"LAND"},{"$f":"tblIndicators!C58","v":"OVERALL"},{"$f":"tblIndicators!D58","v":1},{"$f":"tblIndicators!L58","v":0},{"$f":"tblIndicators!V58","v":1},{"$f":"tblIndicators!W58","v":0},{"$f":"tblIndicators!X58","v":100},{"$f":"CHOOSE(G64,\"-\",Data!H64,H64)","v":"-"},{"$f":"CHOOSE(G64,\"-\",Data!I64,I64)","v":"-"},"-",{"$f":"tblIndicators!AE58","v":"5) LAND"},0.16666666666666666,{"$f":"tblIndicators!AJ58","v":0.16666666666666666},{"$f":"IF(Data!$AI64=1,50,IF($G64=0,0,CHOOSE($G64,SUMPRODUCT($O65:$O$81*P65:P$81*($D65:$D$81=$C64)),IF(ISNUMBER(Data!N64),100*ABS($F64-(Data!N64-$J64)/$L64),0),IF(ISNUMBER(Data!N64),100*ABS($F64-(Data!N64-$J64)/$L64),0))))","v":49.791666666666671},{"$f":"IF(Data!$AI64=1,50,IF($G64=0,0,CHOOSE($G64,SUMPRODUCT($O65:$O$81*Q65:Q$81*($D65:$D$81=$C64)),IF(ISNUMBER(Data!O64),100*ABS($F64-(Data!O64-$J64)/$L64),0),IF(ISNUMBER(Data!O64),100*ABS($F64-(Data!O64-$J64)/$L64),0))))","v":66.75},{"$f":"IF(Data!$AI64=1,50,IF($G64=0,0,CHOOSE($G64,SUMPRODUCT($O65:$O$81*R65:R$81*($D65:$D$81=$C64)),IF(ISNUMBER(Data!P64),100*ABS($F64-(Data!P64-$J64)/$L64),0),IF(ISNUMBER(Data!P64),100*ABS($F64-(Data!P64-$J64)/$L64),0))))","v":64.166666666666671},{"$f":"IF(Data!$AI64=1,50,IF($G64=0,0,CHOOSE($G64,SUMPRODUCT($O65:$O$81*S65:S$81*($D65:$D$81=$C64)),IF(ISNUMBER(Data!Q64),100*ABS($F64-(Data!Q64-$J64)/$L64),0),IF(ISNUMBER(Data!Q64),100*ABS($F64-(Data!Q64-$J64)/$L64),0))))","v":78},{"$f":"IF(Data!$AI64=1,50,IF($G64=0,0,CHOOSE($G64,SUMPRODUCT($O65:$O$81*T65:T$81*($D65:$D$81=$C64)),IF(ISNUMBER(Data!R64),100*ABS($F64-(Data!R64-$J64)/$L64),0),IF(ISNUMBER(Data!R64),100*ABS($F64-(Data!R64-$J64)/$L64),0))))","v":91.625},{"$f":"IF(Data!$AI64=1,50,IF($G64=0,0,CHOOSE($G64,SUMPRODUCT($O65:$O$81*U65:U$81*($D65:$D$81=$C64)),IF(ISNUMBER(Data!S64),100*ABS($F64-(Data!S64-$J64)/$L64),0),IF(ISNUMBER(Data!S64),100*ABS($F64-(Data!S64-$J64)/$L64),0))))","v":62.875},{"$f":"IF(Data!$AI64=1,50,IF($G64=0,0,CHOOSE($G64,SUMPRODUCT($O65:$O$81*V65:V$81*($D65:$D$81=$C64)),IF(ISNUMBER(Data!T64),100*ABS($F64-(Data!T64-$J64)/$L64),0),IF(ISNUMBER(Data!T64),100*ABS($F64-(Data!T64-$J64)/$L64),0))))","v":76.333333333333343},{"$f":"IF(Data!$AI64=1,50,IF($G64=0,0,CHOOSE($G64,SUMPRODUCT($O65:$O$81*W65:W$81*($D65:$D$81=$C64)),IF(ISNUMBER(Data!U64),100*ABS($F64-(Data!U64-$J64)/$L64),0),IF(ISNUMBER(Data!U64),100*ABS($F64-(Data!U64-$J64)/$L64),0))))","v":77.208333333333329},{"$f":"IF(Data!$AI64=1,50,IF($G64=0,0,CHOOSE($G64,SUMPRODUCT($O65:$O$81*X65:X$81*($D65:$D$81=$C64)),IF(ISNUMBER(Data!V64),100*ABS($F64-(Data!V64-$J64)/$L64),0),IF(ISNUMBER(Data!V64),100*ABS($F64-(Data!V64-$J64)/$L64),0))))","v":52.625},{"$f":"IF(Data!$AI64=1,50,IF($G64=0,0,CHOOSE($G64,SUMPRODUCT($O65:$O$81*Y65:Y$81*($D65:$D$81=$C64)),IF(ISNUMBER(Data!W64),100*ABS($F64-(Data!W64-$J64)/$L64),0),IF(ISNUMBER(Data!W64),100*ABS($F64-(Data!W64-$J64)/$L64),0))))","v":96.083333333333329},{"$f":"IF(Data!$AI64=1,50,IF($G64=0,0,CHOOSE($G64,SUMPRODUCT($O65:$O$81*Z65:Z$81*($D65:$D$81=$C64)),IF(ISNUMBER(Data!X64),100*ABS($F64-(Data!X64-$J64)/$L64),0),IF(ISNUMBER(Data!X64),100*ABS($F64-(Data!X64-$J64)/$L64),0))))","v":61.041666666666664},{"$f":"IF(Data!$AI64=1,50,IF($G64=0,0,CHOOSE($G64,SUMPRODUCT($O65:$O$81*AA65:AA$81*($D65:$D$81=$C64)),IF(ISNUMBER(Data!Y64),100*ABS($F64-(Data!Y64-$J64)/$L64),0),IF(ISNUMBER(Data!Y64),100*ABS($F64-(Data!Y64-$J64)/$L64),0))))","v":53.125},{"$f":"IF(Data!$AI64=1,50,IF($G64=0,0,CHOOSE($G64,SUMPRODUCT($O65:$O$81*AB65:AB$81*($D65:$D$81=$C64)),IF(ISNUMBER(Data!Z64),100*ABS($F64-(Data!Z64-$J64)/$L64),0),IF(ISNUMBER(Data!Z64),100*ABS($F64-(Data!Z64-$J64)/$L64),0))))","v":78.208333333333329},{"$f":"IF(Data!$AI64=1,50,IF($G64=0,0,CHOOSE($G64,SUMPRODUCT($O65:$O$81*AC65:AC$81*($D65:$D$81=$C64)),IF(ISNUMBER(Data!AA64),100*ABS($F64-(Data!AA64-$J64)/$L64),0),IF(ISNUMBER(Data!AA64),100*ABS($F64-(Data!AA64-$J64)/$L64),0))))","v":75.541666666666657},{"$f":"IF(Data!$AI64=1,50,IF($G64=0,0,CHOOSE($G64,SUMPRODUCT($O65:$O$81*AD65:AD$81*($D65:$D$81=$C64)),IF(ISNUMBER(Data!AB64),100*ABS($F64-(Data!AB64-$J64)/$L64),0),IF(ISNUMBER(Data!AB64),100*ABS($F64-(Data!AB64-$J64)/$L64),0))))","v":21.666666666666668},{"$f":"IF(Data!$AI64=1,50,IF($G64=0,0,CHOOSE($G64,SUMPRODUCT($O65:$O$81*AE65:AE$81*($D65:$D$81=$C64)),IF(ISNUMBER(Data!AC64),100*ABS($F64-(Data!AC64-$J64)/$L64),0),IF(ISNUMBER(Data!AC64),100*ABS($F64-(Data!AC64-$J64)/$L64),0))))","v":66.5},{"$f":"IF(Data!$AI64=1,50,IF($G64=0,0,CHOOSE($G64,SUMPRODUCT($O65:$O$81*AF65:AF$81*($D65:$D$81=$C64)),IF(ISNUMBER(Data!AD64),100*ABS($F64-(Data!AD64-$J64)/$L64),0),IF(ISNUMBER(Data!AD64),100*ABS($F64-(Data!AD64-$J64)/$L64),0))))","v":62.916666666666671},{"$f":"IF(Data!$AI64=1,50,IF($G64=0,0,CHOOSE($G64,SUMPRODUCT($O65:$O$81*AG65:AG$81*($D65:$D$81=$C64)),IF(ISNUMBER(Data!AE64),100*ABS($F64-(Data!AE64-$J64)/$L64),0),IF(ISNUMBER(Data!AE64),100*ABS($F64-(Data!AE64-$J64)/$L64),0))))","v":79.5},{"$f":"IF(Data!$AI64=1,50,IF($G64=0,0,CHOOSE($G64,SUMPRODUCT($O65:$O$81*AH65:AH$81*($D65:$D$81=$C64)),IF(ISNUMBER(Data!AF64),100*ABS($F64-(Data!AF64-$J64)/$L64),0),IF(ISNUMBER(Data!AF64),100*ABS($F64-(Data!AF64-$J64)/$L64),0))))","v":79.125},{"$f":"IF(Data!$AI64=1,50,IF($G64=0,0,CHOOSE($G64,SUMPRODUCT($O65:$O$81*AI65:AI$81*($D65:$D$81=$C64)),IF(ISNUMBER(Data!AG64),100*ABS($F64-(Data!AG64-$J64)/$L64),0),IF(ISNUMBER(Data!AG64),100*ABS($F64-(Data!AG64-$J64)/$L64),0))))","v":61.541666666666664}]
[null,{"$f":"tblIndicators!A59","v":58},{"$f":"tblIndicators!B59","v":"LAND_1"},{"$f":"tblIndicators!C59","v":"LAND"},{"$f":"tblIndicators!D59","v":2},{"$f":"tblIndicators!L59","v":0},{"$f":"tblIndicators!V59","v":1},{"$f":"tblIndicators!W59","v":0},{"$f":"tblIndicators!X59","v":100},{"$f":"CHOOSE(G65,\"-\",Data!H65,H65)","v":"-"},{"$f":"CHOOSE(G65,\"-\",Data!I65,I65)","v":"-"},"-",{"$f":"tblIndicators!AE59","v":"5.1) Prevalence of coastal protected areas"},0.25,{"$f":"tblIndicators!AJ59","v":0.25},{"$f":"IF(Data!$AI65=1,50,IF($G65=0,0,CHOOSE($G65,SUMPRODUCT($O66:$O$81*P66:P$81*($D66:$D$81=$C65)),IF(ISNUMBER(Data!N65),100*ABS($F65-(Data!N65-$J65)/$L65),0),IF(ISNUMBER(Data!N65),100*ABS($F65-(Data!N65-$J65)/$L65),0))))","v":100},{"$f":"IF(Data!$AI65=1,50,IF($G65=0,0,CHOOSE($G65,SUMPRODUCT($O66:$O$81*Q66:Q$81*($D66:$D$81=$C65)),IF(ISNUMBER(Data!O65),100*ABS($F65-(Data!O65-$J65)/$L65),0),IF(ISNUMBER(Data!O65),100*ABS($F65-(Data!O65-$J65)/$L65),0))))","v":0},{"$f":"IF(Data!$AI65=1,50,IF($G65=0,0,CHOOSE($G65,SUMPRODUCT($O66:$O$81*R66:R$81*($D66:$D$81=$C65)),IF(ISNUMBER(Data!P65),100*ABS($F65-(Data!P65-$J65)/$L65),0),IF(ISNUMBER(Data!P65),100*ABS($F65-(Data!P65-$J65)/$L65),0))))","v":100},{"$f":"IF(Data!$AI65=1,50,IF($G65=0,0,CHOOSE($G65,SUMPRODUCT($O66:$O$81*S66:S$81*($D66:$D$81=$C65)),IF(ISNUMBER(Data!Q65),100*ABS($F65-(Data!Q65-$J65)/$L65),0),IF(ISNUMBER(Data!Q65),100*ABS($F65-(Data!Q65-$J65)/$L65),0))))","v":50},{"$f":"IF(Data!$AI65=1,50,IF($G65=0,0,CHOOSE($G65,SUMPRODUCT($O66:$O$81*T66:T$81*($D66:$D$81=$C65)),IF(ISNUMBER(Data!R65),100*ABS($F65-(Data!R65-$J65)/$L65),0),IF(ISNUMBER(Data!R65),100*ABS($F65-(Data!R65-$J65)/$L65),0))))","v":100},{"$f":"IF(Data!$AI65=1,50,IF($G65=0,0,CHOOSE($G65,SUMPRODUCT($O66:$O$81*U66:U$81*($D66:$D$81=$C65)),IF(ISNUMBER(Data!S65),100*ABS($F65-(Data!S65-$J65)/$L65),0),IF(ISNUMBER(Data!S65),100*ABS($F65-(Data!S65-$J65)/$L65),0))))","v":0},{"$f":"IF(Data!$AI65=1,50,IF($G65=0,0,CHOOSE($G65,SUMPRODUCT($O66:$O$81*V66:V$81*($D66:$D$81=$C65)),IF(ISNUMBER(Data!T65),100*ABS($F65-(Data!T65-$J65)/$L65),0),IF(ISNUMBER(Data!T65),100*ABS($F65-(Data!T65-$J65)/$L65),0))))","v":50},{"$f":"IF(Data!$AI65=1,50,IF($G65=0,0,CHOOSE($G65,SUMPRODUCT($O66:$O$81*W66:W$81*($D66:$D$81=$C65)),IF(ISNUMBER(Data!U65),100*ABS($F65-(Data!U65-$J65)/$L65),0),IF(ISNUMBER(Data!U65),100*ABS($F65-(Data!U65-$J65)/$L65),0))))","v":50},{"$f":"IF(Data!$AI65=1,50,IF($G65=0,0,CHOOSE($G65,SUMPRODUCT($O66:$O$81*X66:X$81*($D66:$D$81=$C65)),IF(ISNUMBER(Data!V65),100*ABS($F65-(Data!V65-$J65)/$L65),0),IF(ISNUMBER(Data!V65),100*ABS($F65-(Data!V65-$J65)/$L65),0))))","v":50},{"$f":"IF(Data!$AI65=1,50,IF($G65=0,0,CHOOSE($G65,SUMPRODUCT($O66:$O$81*Y66:Y$81*($D66:$D$81=$C65)),IF(ISNUMBER(Data!W65),100*ABS($F65-(Data!W65-$J65)/$L65),0),IF(ISNUMBER(Data!W65),100*ABS($F65-(Data!W65-$J65)/$L65),0))))","v":100},{"$f":"IF(Data!$AI65=1,50,IF($G65=0,0,CHOOSE($G65,SUMPRODUCT($O66:$O$81*Z66:Z$81*($D66:$D$81=$C65)),IF(ISNUMBER(Data!X65),100*ABS($F65-(Data!X65-$J65)/$L65),0),IF(ISNUMBER(Data!X65),100*ABS($F65-(Data!X65-$J65)/$L65),0))))","v":50},{"$f":"IF(Data!$AI65=1,50,IF($G65=0,0,CHOOSE($G65,SUMPRODUCT($O66:$O$81*AA66:AA$81*($D66:$D$81=$C65)),IF(ISNUMBER(Data!Y65),100*ABS($F65-(Data!Y65-$J65)/$L65),0),IF(ISNUMBER(Data!Y65),100*ABS($F65-(Data!Y65-$J65)/$L65),0))))","v":50},{"$f":"IF(Data!$AI65=1,50,IF($G65=0,0,CHOOSE($G65,SUMPRODUCT($O66:$O$81*AB66:AB$81*($D66:$D$81=$C65)),IF(ISNUMBER(Data!Z65),100*ABS($F65-(Data!Z65-$J65)/$L65),0),IF(ISNUMBER(Data!Z65),100*ABS($F65-(Data!Z65-$J65)/$L65),0))))","v":100},{"$f":"IF(Data!$AI65=1,50,IF($G65=0,0,CHOOSE($G65,SUMPRODUCT($O66:$O$81*AC66:AC$81*($D66:$D$81=$C65)),IF(ISNUMBER(Data!AA65),100*ABS($F65-(Data!AA65-$J65)/$L65),0),IF(ISNUMBER(Data!AA65),100*ABS($F65-(Data!AA65-$J65)/$L65),0))))","v":50},{"$f":"IF(Data!$AI65=1,50,IF($G65=0,0,CHOOSE($G65,SUMPRODUCT($O66:$O$81*AD66:AD$81*($D66:$D$81=$C65)),IF(ISNUMBER(Data!AB65),100*ABS($F65-(Data!AB65-$J65)/$L65),0),IF(ISNUMBER(Data!AB65),100*ABS($F65-(Data!AB65-$J65)/$L65),0))))","v":50},{"$f":"IF(Data!$AI65=1,50,IF($G65=0,0,CHOOSE($G65,SUMPRODUCT($O66:$O$81*AE66:AE$81*($D66:$D$81=$C65)),IF(ISNUMBER(Data!AC65),100*ABS($F65-(Data!AC65-$J65)/$L65),0),IF(ISNUMBER(Data!AC65),100*ABS($F65-(Data!AC65-$J65)/$L65),0))))","v":0},{"$f":"IF(Data!$AI65=1,50,IF($G65=0,0,CHOOSE($G65,SUMPRODUCT($O66:$O$81*AF66:AF$81*($D66:$D$81=$C65)),IF(ISNUMBER(Data!AD65),100*ABS($F65-(Data!AD65-$J65)/$L65),0),IF(ISNUMBER(Data!AD65),100*ABS($F65-(Data!AD65-$J65)/$L65),0))))","v":0},{"$f":"IF(Data!$AI65=1,50,IF($G65=0,0,CHOOSE($G65,SUMPRODUCT($O66:$O$81*AG66:AG$81*($D66:$D$81=$C65)),IF(ISNUMBER(Data!AE65),100*ABS($F65-(Data!AE65-$J65)/$L65),0),IF(ISNUMBER(Data!AE65),100*ABS($F65-(Data!AE65-$J65)/$L65),0))))","v":100},{"$f":"IF(Data!$AI65=1,50,IF($G65=0,0,CHOOSE($G65,SUMPRODUCT($O66:$O$81*AH66:AH$81*($D66:$D$81=$C65)),IF(ISNUMBER(Data!AF65),100*ABS($F65-(Data!AF65-$J65)/$L65),0),IF(ISNUMBER(Data!AF65),100*ABS($F65-(Data!AF65-$J65)/$L65),0))))","v":50},{"$f":"IF(Data!$AI65=1,50,IF($G65=0,0,CHOOSE($G65,SUMPRODUCT($O66:$O$81*AI66:AI$81*($D66:$D$81=$C65)),IF(ISNUMBER(Data!AG65),100*ABS($F65-(Data!AG65-$J65)/$L65),0),IF(ISNUMBER(Data!AG65),100*ABS($F65-(Data!AG65-$J65)/$L65),0))))","v":0}]
[null,{"$f":"tblIndicators!A60","v":59},{"$f":"tblIndicators!B60","v":"LAND_1_1"},{"$f":"tblIndicators!C60","v":"LAND_1"},{"$f":"tblIndicators!D60","v":3},{"$f":"tblIndicators!L60","v":0},{"$f":"tblIndicators!V60","v":3},{"$f":"tblIndicators!W60","v":0},{"$f":"tblIndicators!X60","v":2},{"$f":"CHOOSE(G66,\"-\",Data!H66,H66)","v":0},{"$f":"CHOOSE(G66,\"-\",Data!I66,I66)","v":2},2,{"$f":"tblIndicators!AE60","v":"5.1.1) Terrestrial protected areas"},"",{"$f":"tblIndicators!AJ60","v":1},{"$f":"IF(Data!$AI66=1,50,IF($G66=0,0,CHOOSE($G66,SUMPRODUCT($O67:$O$81*P67:P$81*($D67:$D$81=$C66)),IF(ISNUMBER(Data!N66),100*ABS($F66-(Data!N66-$J66)/$L66),0),IF(ISNUMBER(Data!N66),100*ABS($F66-(Data!N66-$J66)/$L66),0))))","v":100},{"$f":"IF(Data!$AI66=1,50,IF($G66=0,0,CHOOSE($G66,SUMPRODUCT($O67:$O$81*Q67:Q$81*($D67:$D$81=$C66)),IF(ISNUMBER(Data!O66),100*ABS($F66-(Data!O66-$J66)/$L66),0),IF(ISNUMBER(Data!O66),100*ABS($F66-(Data!O66-$J66)/$L66),0))))","v":0},{"$f":"IF(Data!$AI66=1,50,IF($G66=0,0,CHOOSE($G66,SUMPRODUCT($O67:$O$81*R67:R$81*($D67:$D$81=$C66)),IF(ISNUMBER(Data!P66),100*ABS($F66-(Data!P66-$J66)/$L66),0),IF(ISNUMBER(Data!P66),100*ABS($F66-(Data!P66-$J66)/$L66),0))))","v":100},{"$f":"IF(Data!$AI66=1,50,IF($G66=0,0,CHOOSE($G66,SUMPRODUCT($O67:$O$81*S67:S$81*($D67:$D$81=$C66)),IF(ISNUMBER(Data!Q66),100*ABS($F66-(Data!Q66-$J66)/$L66),0),IF(ISNUMBER(Data!Q66),100*ABS($F66-(Data!Q66-$J66)/$L66),0))))","v":50},{"$f":"IF(Data!$AI66=1,50,IF($G66=0,0,CHOOSE($G66,SUMPRODUCT($O67:$O$81*T67:T$81*($D67:$D$81=$C66)),IF(ISNUMBER(Data!R66),100*ABS($F66-(Data!R66-$J66)/$L66),0),IF(ISNUMBER(Data!R66),100*ABS($F66-(Data!R66-$J66)/$L66),0))))","v":100},{"$f":"IF(Data!$AI66=1,50,IF($G66=0,0,CHOOSE($G66,SUMPRODUCT($O67:$O$81*U67:U$81*($D67:$D$81=$C66)),IF(ISNUMBER(Data!S66),100*ABS($F66-(Data!S66-$J66)/$L66),0),IF(ISNUMBER(Data!S66),100*ABS($F66-(Data!S66-$J66)/$L66),0))))","v":0},{"$f":"IF(Data!$AI66=1,50,IF($G66=0,0,CHOOSE($G66,SUMPRODUCT($O67:$O$81*V67:V$81*($D67:$D$81=$C66)),IF(ISNUMBER(Data!T66),100*ABS($F66-(Data!T66-$J66)/$L66),0),IF(ISNUMBER(Data!T66),100*ABS($F66-(Data!T66-$J66)/$L66),0))))","v":50},{"$f":"IF(Data!$AI66=1,50,IF($G66=0,0,CHOOSE($G66,SUMPRODUCT($O67:$O$81*W67:W$81*($D67:$D$81=$C66)),IF(ISNUMBER(Data!U66),100*ABS($F66-(Data!U66-$J66)/$L66),0),IF(ISNUMBER(Data!U66),100*ABS($F66-(Data!U66-$J66)/$L66),0))))","v":50},{"$f":"IF(Data!$AI66=1,50,IF($G66=0,0,CHOOSE($G66,SUMPRODUCT($O67:$O$81*X67:X$81*($D67:$D$81=$C66)),IF(ISNUMBER(Data!V66),100*ABS($F66-(Data!V66-$J66)/$L66),0),IF(ISNUMBER(Data!V66),100*ABS($F66-(Data!V66-$J66)/$L66),0))))","v":50},{"$f":"IF(Data!$AI66=1,50,IF($G66=0,0,CHOOSE($G66,SUMPRODUCT($O67:$O$81*Y67:Y$81*($D67:$D$81=$C66)),IF(ISNUMBER(Data!W66),100*ABS($F66-(Data!W66-$J66)/$L66),0),IF(ISNUMBER(Data!W66),100*ABS($F66-(Data!W66-$J66)/$L66),0))))","v":100},{"$f":"IF(Data!$AI66=1,50,IF($G66=0,0,CHOOSE($G66,SUMPRODUCT($O67:$O$81*Z67:Z$81*($D67:$D$81=$C66)),IF(ISNUMBER(Data!X66),100*ABS($F66-(Data!X66-$J66)/$L66),0),IF(ISNUMBER(Data!X66),100*ABS($F66-(Data!X66-$J66)/$L66),0))))","v":50},{"$f":"IF(Data!$AI66=1,50,IF($G66=0,0,CHOOSE($G66,SUMPRODUCT($O67:$O$81*AA67:AA$81*($D67:$D$81=$C66)),IF(ISNUMBER(Data!Y66),100*ABS($F66-(Data!Y66-$J66)/$L66),0),IF(ISNUMBER(Data!Y66),100*ABS($F66-(Data!Y66-$J66)/$L66),0))))","v":50},{"$f":"IF(Data!$AI66=1,50,IF($G66=0,0,CHOOSE($G66,SUMPRODUCT($O67:$O$81*AB67:AB$81*($D67:$D$81=$C66)),IF(ISNUMBER(Data!Z66),100*ABS($F66-(Data!Z66-$J66)/$L66),0),IF(ISNUMBER(Data!Z66),100*ABS($F66-(Data!Z66-$J66)/$L66),0))))","v":100},{"$f":"IF(Data!$AI66=1,50,IF($G66=0,0,CHOOSE($G66,SUMPRODUCT($O67:$O$81*AC67:AC$81*($D67:$D$81=$C66)),IF(ISNUMBER(Data!AA66),100*ABS($F66-(Data!AA66-$J66)/$L66),0),IF(ISNUMBER(Data!AA66),100*ABS($F66-(Data!AA66-$J66)/$L66),0))))","v":50},{"$f":"IF(Data!$AI66=1,50,IF($G66=0,0,CHOOSE($G66,SUMPRODUCT($O67:$O$81*AD67:AD$81*($D67:$D$81=$C66)),IF(ISNUMBER(Data!AB66),100*ABS($F66-(Data!AB66-$J66)/$L66),0),IF(ISNUMBER(Data!AB66),100*ABS($F66-(Data!AB66-$J66)/$L66),0))))","v":50},{"$f":"IF(Data!$AI66=1,50,IF($G66=0,0,CHOOSE($G66,SUMPRODUCT($O67:$O$81*AE67:AE$81*($D67:$D$81=$C66)),IF(ISNUMBER(Data!AC66),100*ABS($F66-(Data!AC66-$J66)/$L66),0),IF(ISNUMBER(Data!AC66),100*ABS($F66-(Data!AC66-$J66)/$L66),0))))","v":0},{"$f":"IF(Data!$AI66=1,50,IF($G66=0,0,CHOOSE($G66,SUMPRODUCT($O67:$O$81*AF67:AF$81*($D67:$D$81=$C66)),IF(ISNUMBER(Data!AD66),100*ABS($F66-(Data!AD66-$J66)/$L66),0),IF(ISNUMBER(Data!AD66),100*ABS($F66-(Data!AD66-$J66)/$L66),0))))","v":0},{"$f":"IF(Data!$AI66=1,50,IF($G66=0,0,CHOOSE($G66,SUMPRODUCT($O67:$O$81*AG67:AG$81*($D67:$D$81=$C66)),IF(ISNUMBER(Data!AE66),100*ABS($F66-(Data!AE66-$J66)/$L66),0),IF(ISNUMBER(Data!AE66),100*ABS($F66-(Data!AE66-$J66)/$L66),0))))","v":100},{"$f":"IF(Data!$AI66=1,50,IF($G66=0,0,CHOOSE($G66,SUMPRODUCT($O67:$O$81*AH67:AH$81*($D67:$D$81=$C66)),IF(ISNUMBER(Data!AF66),100*ABS($F66-(Data!AF66-$J66)/$L66),0),IF(ISNUMBER(Data!AF66),100*ABS($F66-(Data!AF66-$J66)/$L66),0))))","v":50},{"$f":"IF(Data!$AI66=1,50,IF($G66=0,0,CHOOSE($G66,SUMPRODUCT($O67:$O$81*AI67:AI$81*($D67:$D$81=$C66)),IF(ISNUMBER(Data!AG66),100*ABS($F66-(Data!AG66-$J66)/$L66),0),IF(ISNUMBER(Data!AG66),100*ABS($F66-(Data!AG66-$J66)/$L66),0))))","v":0}]
[null,{"$f":"tblIndicators!A61","v":60},{"$f":"tblIndicators!B61","v":"LAND_2"},{"$f":"tblIndicators!C61","v":"LAND"},{"$f":"tblIndicators!D61","v":2},{"$f":"tblIndicators!L61","v":0},{"$f":"tblIndicators!V61","v":1},{"$f":"tblIndicators!W61","v":0},{"$f":"tblIndicators!X61","v":100},{"$f":"CHOOSE(G67,\"-\",Data!H67,H67)","v":"-"},{"$f":"CHOOSE(G67,\"-\",Data!I67,I67)","v":"-"},"-",{"$f":"tblIndicators!AE61","v":"5.2) Environmental impact of coastal development"},0.25,{"$f":"tblIndicators!AJ61","v":0.25},{"$f":"IF(Data!$AI67=1,50,IF($G67=0,0,CHOOSE($G67,SUMPRODUCT($O68:$O$81*P68:P$81*($D68:$D$81=$C67)),IF(ISNUMBER(Data!N67),100*ABS($F67-(Data!N67-$J67)/$L67),0),IF(ISNUMBER(Data!N67),100*ABS($F67-(Data!N67-$J67)/$L67),0))))","v":50},{"$f":"IF(Data!$AI67=1,50,IF($G67=0,0,CHOOSE($G67,SUMPRODUCT($O68:$O$81*Q68:Q$81*($D68:$D$81=$C67)),IF(ISNUMBER(Data!O67),100*ABS($F67-(Data!O67-$J67)/$L67),0),IF(ISNUMBER(Data!O67),100*ABS($F67-(Data!O67-$J67)/$L67),0))))","v":100},{"$f":"IF(Data!$AI67=1,50,IF($G67=0,0,CHOOSE($G67,SUMPRODUCT($O68:$O$81*R68:R$81*($D68:$D$81=$C67)),IF(ISNUMBER(Data!P67),100*ABS($F67-(Data!P67-$J67)/$L67),0),IF(ISNUMBER(Data!P67),100*ABS($F67-(Data!P67-$J67)/$L67),0))))","v":100},{"$f":"IF(Data!$AI67=1,50,IF($G67=0,0,CHOOSE($G67,SUMPRODUCT($O68:$O$81*S68:S$81*($D68:$D$81=$C67)),IF(ISNUMBER(Data!Q67),100*ABS($F67-(Data!Q67-$J67)/$L67),0),IF(ISNUMBER(Data!Q67),100*ABS($F67-(Data!Q67-$J67)/$L67),0))))","v":100},{"$f":"IF(Data!$AI67=1,50,IF($G67=0,0,CHOOSE($G67,SUMPRODUCT($O68:$O$81*T68:T$81*($D68:$D$81=$C67)),IF(ISNUMBER(Data!R67),100*ABS($F67-(Data!R67-$J67)/$L67),0),IF(ISNUMBER(Data!R67),100*ABS($F67-(Data!R67-$J67)/$L67),0))))","v":100},{"$f":"IF(Data!$AI67=1,50,IF($G67=0,0,CHOOSE($G67,SUMPRODUCT($O68:$O$81*U68:U$81*($D68:$D$81=$C67)),IF(ISNUMBER(Data!S67),100*ABS($F67-(Data!S67-$J67)/$L67),0),IF(ISNUMBER(Data!S67),100*ABS($F67-(Data!S67-$J67)/$L67),0))))","v":100},{"$f":"IF(Data!$AI67=1,50,IF($G67=0,0,CHOOSE($G67,SUMPRODUCT($O68:$O$81*V68:V$81*($D68:$D$81=$C67)),IF(ISNUMBER(Data!T67),100*ABS($F67-(Data!T67-$J67)/$L67),0),IF(ISNUMBER(Data!T67),100*ABS($F67-(Data!T67-$J67)/$L67),0))))","v":100},{"$f":"IF(Data!$AI67=1,50,IF($G67=0,0,CHOOSE($G67,SUMPRODUCT($O68:$O$81*W68:W$81*($D68:$D$81=$C67)),IF(ISNUMBER(Data!U67),100*ABS($F67-(Data!U67-$J67)/$L67),0),IF(ISNUMBER(Data!U67),100*ABS($F67-(Data!U67-$J67)/$L67),0))))","v":100},{"$f":"IF(Data!$AI67=1,50,IF($G67=0,0,CHOOSE($G67,SUMPRODUCT($O68:$O$81*X68:X$81*($D68:$D$81=$C67)),IF(ISNUMBER(Data!V67),100*ABS($F67-(Data!V67-$J67)/$L67),0),IF(ISNUMBER(Data!V67),100*ABS($F67-(Data!V67-$J67)/$L67),0))))","v":100},{"$f":"IF(Data!$AI67=1,50,IF($G67=0,0,CHOOSE($G67,SUMPRODUCT($O68:$O$81*Y68:Y$81*($D68:$D$81=$C67)),IF(ISNUMBER(Data!W67),100*ABS($F67-(Data!W67-$J67)/$L67),0),IF(ISNUMBER(Data!W67),100*ABS($F67-(Data!W67-$J67)/$L67),0))))","v":100},{"$f":"IF(Data!$AI67=1,50,IF($G67=0,0,CHOOSE($G67,SUMPRODUCT($O68:$O$81*Z68:Z$81*($D68:$D$81=$C67)),IF(ISNUMBER(Data!X67),100*ABS($F67-(Data!X67-$J67)/$L67),0),IF(ISNUMBER(Data!X67),100*ABS($F67-(Data!X67-$J67)/$L67),0))))","v":50},{"$f":"IF(Data!$AI67=1,50,IF($G67=0,0,CHOOSE($G67,SUMPRODUCT($O68:$O$81*AA68:AA$81*($D68:$D$81=$C67)),IF(ISNUMBER(Data!Y67),100*ABS($F67-(Data!Y67-$J67)/$L67),0),IF(ISNUMBER(Data!Y67),100*ABS($F67-(Data!Y67-$J67)/$L67),0))))","v":100},{"$f":"IF(Data!$AI67=1,50,IF($G67=0,0,CHOOSE($G67,SUMPRODUCT($O68:$O$81*AB68:AB$81*($D68:$D$81=$C67)),IF(ISNUMBER(Data!Z67),100*ABS($F67-(Data!Z67-$J67)/$L67),0),IF(ISNUMBER(Data!Z67),100*ABS($F67-(Data!Z67-$J67)/$L67),0))))","v":50},{"$f":"IF(Data!$AI67=1,50,IF($G67=0,0,CHOOSE($G67,SUMPRODUCT($O68:$O$81*AC68:AC$81*($D68:$D$81=$C67)),IF(ISNUMBER(Data!AA67),100*ABS($F67-(Data!AA67-$J67)/$L67),0),IF(ISNUMBER(Data!AA67),100*ABS($F67-(Data!AA67-$J67)/$L67),0))))","v":100},{"$f":"IF(Data!$AI67=1,50,IF($G67=0,0,CHOOSE($G67,SUMPRODUCT($O68:$O$81*AD68:AD$81*($D68:$D$81=$C67)),IF(ISNUMBER(Data!AB67),100*ABS($F67-(Data!AB67-$J67)/$L67),0),IF(ISNUMBER(Data!AB67),100*ABS($F67-(Data!AB67-$J67)/$L67),0))))","v":0},{"$f":"IF(Data!$AI67=1,50,IF($G67=0,0,CHOOSE($G67,SUMPRODUCT($O68:$O$81*AE68:AE$81*($D68:$D$81=$C67)),IF(ISNUMBER(Data!AC67),100*ABS($F67-(Data!AC67-$J67)/$L67),0),IF(ISNUMBER(Data!AC67),100*ABS($F67-(Data!AC67-$J67)/$L67),0))))","v":100},{"$f":"IF(Data!$AI67=1,50,IF($G67=0,0,CHOOSE($G67,SUMPRODUCT($O68:$O$81*AF68:AF$81*($D68:$D$81=$C67)),IF(ISNUMBER(Data!AD67),100*ABS($F67-(Data!AD67-$J67)/$L67),0),IF(ISNUMBER(Data!AD67),100*ABS($F67-(Data!AD67-$J67)/$L67),0))))","v":100},{"$f":"IF(Data!$AI67=1,50,IF($G67=0,0,CHOOSE($G67,SUMPRODUCT($O68:$O$81*AG68:AG$81*($D68:$D$81=$C67)),IF(ISNUMBER(Data!AE67),100*ABS($F67-(Data!AE67-$J67)/$L67),0),IF(ISNUMBER(Data!AE67),100*ABS($F67-(Data!AE67-$J67)/$L67),0))))","v":50},{"$f":"IF(Data!$AI67=1,50,IF($G67=0,0,CHOOSE($G67,SUMPRODUCT($O68:$O$81*AH68:AH$81*($D68:$D$81=$C67)),IF(ISNUMBER(Data!AF67),100*ABS($F67-(Data!AF67-$J67)/$L67),0),IF(ISNUMBER(Data!AF67),100*ABS($F67-(Data!AF67-$J67)/$L67),0))))","v":100},{"$f":"IF(Data!$AI67=1,50,IF($G67=0,0,CHOOSE($G67,SUMPRODUCT($O68:$O$81*AI68:AI$81*($D68:$D$81=$C67)),IF(ISNUMBER(Data!AG67),100*ABS($F67-(Data!AG67-$J67)/$L67),0),IF(ISNUMBER(Data!AG67),100*ABS($F67-(Data!AG67-$J67)/$L67),0))))","v":100}]
[null,{"$f":"tblIndicators!A62","v":61},{"$f":"tblIndicators!B62","v":"LAND_2_1"},{"$f":"tblIndicators!C62","v":"LAND_2"},{"$f":"tblIndicators!D62","v":3},{"$f":"tblIndicators!L62","v":0},{"$f":"tblIndicators!V62","v":3},{"$f":"tblIndicators!W62","v":0},{"$f":"tblIndicators!X62","v":1},{"$f":"CHOOSE(G68,\"-\",Data!H68,H68)","v":0},{"$f":"CHOOSE(G68,\"-\",Data!I68,I68)","v":1},1,{"$f":"tblIndicators!AE62","v":"5.2.1) Environment impact assessment for coastal development "},"",{"$f":"tblIndicators!AJ62","v":0.5},{"$f":"IF(Data!$AI68=1,50,IF($G68=0,0,CHOOSE($G68,SUMPRODUCT($O69:$O$81*P69:P$81*($D69:$D$81=$C68)),IF(ISNUMBER(Data!N68),100*ABS($F68-(Data!N68-$J68)/$L68),0),IF(ISNUMBER(Data!N68),100*ABS($F68-(Data!N68-$J68)/$L68),0))))","v":100},{"$f":"IF(Data!$AI68=1,50,IF($G68=0,0,CHOOSE($G68,SUMPRODUCT($O69:$O$81*Q69:Q$81*($D69:$D$81=$C68)),IF(ISNUMBER(Data!O68),100*ABS($F68-(Data!O68-$J68)/$L68),0),IF(ISNUMBER(Data!O68),100*ABS($F68-(Data!O68-$J68)/$L68),0))))","v":100},{"$f":"IF(Data!$AI68=1,50,IF($G68=0,0,CHOOSE($G68,SUMPRODUCT($O69:$O$81*R69:R$81*($D69:$D$81=$C68)),IF(ISNUMBER(Data!P68),100*ABS($F68-(Data!P68-$J68)/$L68),0),IF(ISNUMBER(Data!P68),100*ABS($F68-(Data!P68-$J68)/$L68),0))))","v":100},{"$f":"IF(Data!$AI68=1,50,IF($G68=0,0,CHOOSE($G68,SUMPRODUCT($O69:$O$81*S69:S$81*($D69:$D$81=$C68)),IF(ISNUMBER(Data!Q68),100*ABS($F68-(Data!Q68-$J68)/$L68),0),IF(ISNUMBER(Data!Q68),100*ABS($F68-(Data!Q68-$J68)/$L68),0))))","v":100},{"$f":"IF(Data!$AI68=1,50,IF($G68=0,0,CHOOSE($G68,SUMPRODUCT($O69:$O$81*T69:T$81*($D69:$D$81=$C68)),IF(ISNUMBER(Data!R68),100*ABS($F68-(Data!R68-$J68)/$L68),0),IF(ISNUMBER(Data!R68),100*ABS($F68-(Data!R68-$J68)/$L68),0))))","v":100},{"$f":"IF(Data!$AI68=1,50,IF($G68=0,0,CHOOSE($G68,SUMPRODUCT($O69:$O$81*U69:U$81*($D69:$D$81=$C68)),IF(ISNUMBER(Data!S68),100*ABS($F68-(Data!S68-$J68)/$L68),0),IF(ISNUMBER(Data!S68),100*ABS($F68-(Data!S68-$J68)/$L68),0))))","v":100},{"$f":"IF(Data!$AI68=1,50,IF($G68=0,0,CHOOSE($G68,SUMPRODUCT($O69:$O$81*V69:V$81*($D69:$D$81=$C68)),IF(ISNUMBER(Data!T68),100*ABS($F68-(Data!T68-$J68)/$L68),0),IF(ISNUMBER(Data!T68),100*ABS($F68-(Data!T68-$J68)/$L68),0))))","v":100},{"$f":"IF(Data!$AI68=1,50,IF($G68=0,0,CHOOSE($G68,SUMPRODUCT($O69:$O$81*W69:W$81*($D69:$D$81=$C68)),IF(ISNUMBER(Data!U68),100*ABS($F68-(Data!U68-$J68)/$L68),0),IF(ISNUMBER(Data!U68),100*ABS($F68-(Data!U68-$J68)/$L68),0))))","v":100},{"$f":"IF(Data!$AI68=1,50,IF($G68=0,0,CHOOSE($G68,SUMPRODUCT($O69:$O$81*X69:X$81*($D69:$D$81=$C68)),IF(ISNUMBER(Data!V68),100*ABS($F68-(Data!V68-$J68)/$L68),0),IF(ISNUMBER(Data!V68),100*ABS($F68-(Data!V68-$J68)/$L68),0))))","v":100},{"$f":"IF(Data!$AI68=1,50,IF($G68=0,0,CHOOSE($G68,SUMPRODUCT($O69:$O$81*Y69:Y$81*($D69:$D$81=$C68)),IF(ISNUMBER(Data!W68),100*ABS($F68-(Data!W68-$J68)/$L68),0),IF(ISNUMBER(Data!W68),100*ABS($F68-(Data!W68-$J68)/$L68),0))))","v":100},{"$f":"IF(Data!$AI68=1,50,IF($G68=0,0,CHOOSE($G68,SUMPRODUCT($O69:$O$81*Z69:Z$81*($D69:$D$81=$C68)),IF(ISNUMBER(Data!X68),100*ABS($F68-(Data!X68-$J68)/$L68),0),IF(ISNUMBER(Data!X68),100*ABS($F68-(Data!X68-$J68)/$L68),0))))","v":100},{"$f":"IF(Data!$AI68=1,50,IF($G68=0,0,CHOOSE($G68,SUMPRODUCT($O69:$O$81*AA69:AA$81*($D69:$D$81=$C68)),IF(ISNUMBER(Data!Y68),100*ABS($F68-(Data!Y68-$J68)/$L68),0),IF(ISNUMBER(Data!Y68),100*ABS($F68-(Data!Y68-$J68)/$L68),0))))","v":100},{"$f":"IF(Data!$AI68=1,50,IF($G68=0,0,CHOOSE($G68,SUMPRODUCT($O69:$O$81*AB69:AB$81*($D69:$D$81=$C68)),IF(ISNUMBER(Data!Z68),100*ABS($F68-(Data!Z68-$J68)/$L68),0),IF(ISNUMBER(Data!Z68),100*ABS($F68-(Data!Z68-$J68)/$L68),0))))","v":0},{"$f":"IF(Data!$AI68=1,50,IF($G68=0,0,CHOOSE($G68,SUMPRODUCT($O69:$O$81*AC69:AC$81*($D69:$D$81=$C68)),IF(ISNUMBER(Data!AA68),100*ABS($F68-(Data!AA68-$J68)/$L68),0),IF(ISNUMBER(Data!AA68),100*ABS($F68-(Data!AA68-$J68)/$L68),0))))","v":100},{"$f":"IF(Data!$AI68=1,50,IF($G68=0,0,CHOOSE($G68,SUMPRODUCT($O69:$O$81*AD69:AD$81*($D69:$D$81=$C68)),IF(ISNUMBER(Data!AB68),100*ABS($F68-(Data!AB68-$J68)/$L68),0),IF(ISNUMBER(Data!AB68),100*ABS($F68-(Data!AB68-$J68)/$L68),0))))","v":0},{"$f":"IF(Data!$AI68=1,50,IF($G68=0,0,CHOOSE($G68,SUMPRODUCT($O69:$O$81*AE69:AE$81*($D69:$D$81=$C68)),IF(ISNUMBER(Data!AC68),100*ABS($F68-(Data!AC68-$J68)/$L68),0),IF(ISNUMBER(Data!AC68),100*ABS($F68-(Data!AC68-$J68)/$L68),0))))","v":100},{"$f":"IF(Data!$AI68=1,50,IF($G68=0,0,CHOOSE($G68,SUMPRODUCT($O69:$O$81*AF69:AF$81*($D69:$D$81=$C68)),IF(ISNUMBER(Data!AD68),100*ABS($F68-(Data!AD68-$J68)/$L68),0),IF(ISNUMBER(Data!AD68),100*ABS($F68-(Data!AD68-$J68)/$L68),0))))","v":100},{"$f":"IF(Data!$AI68=1,50,IF($G68=0,0,CHOOSE($G68,SUMPRODUCT($O69:$O$81*AG69:AG$81*($D69:$D$81=$C68)),IF(ISNUMBER(Data!AE68),100*ABS($F68-(Data!AE68-$J68)/$L68),0),IF(ISNUMBER(Data!AE68),100*ABS($F68-(Data!AE68-$J68)/$L68),0))))","v":100},{"$f":"IF(Data!$AI68=1,50,IF($G68=0,0,CHOOSE($G68,SUMPRODUCT($O69:$O$81*AH69:AH$81*($D69:$D$81=$C68)),IF(ISNUMBER(Data!AF68),100*ABS($F68-(Data!AF68-$J68)/$L68),0),IF(ISNUMBER(Data!AF68),100*ABS($F68-(Data!AF68-$J68)/$L68),0))))","v":100},{"$f":"IF(Data!$AI68=1,50,IF($G68=0,0,CHOOSE($G68,SUMPRODUCT($O69:$O$81*AI69:AI$81*($D69:$D$81=$C68)),IF(ISNUMBER(Data!AG68),100*ABS($F68-(Data!AG68-$J68)/$L68),0),IF(ISNUMBER(Data!AG68),100*ABS($F68-(Data!AG68-$J68)/$L68),0))))","v":100}]
[null,{"$f":"tblIndicators!A63","v":62},{"$f":"tblIndicators!B63","v":"LAND_2_2"},{"$f":"tblIndicators!C63","v":"LAND_2"},{"$f":"tblIndicators!D63","v":3},{"$f":"tblIndicators!L63","v":0},{"$f":"tblIndicators!V63","v":3},{"$f":"tblIndicators!W63","v":0},{"$f":"tblIndicators!X63","v":1},{"$f":"CHOOSE(G69,\"-\",Data!H69,H69)","v":0},{"$f":"CHOOSE(G69,\"-\",Data!I69,I69)","v":1},1,{"$f":"tblIndicators!AE63","v":"5.2.2) On-site reviews "},"",{"$f":"tblIndicators!AJ63","v":0.5},{"$f":"IF(Data!$AI69=1,50,IF($G69=0,0,CHOOSE($G69,SUMPRODUCT($O70:$O$81*P70:P$81*($D70:$D$81=$C69)),IF(ISNUMBER(Data!N69),100*ABS($F69-(Data!N69-$J69)/$L69),0),IF(ISNUMBER(Data!N69),100*ABS($F69-(Data!N69-$J69)/$L69),0))))","v":0},{"$f":"IF(Data!$AI69=1,50,IF($G69=0,0,CHOOSE($G69,SUMPRODUCT($O70:$O$81*Q70:Q$81*($D70:$D$81=$C69)),IF(ISNUMBER(Data!O69),100*ABS($F69-(Data!O69-$J69)/$L69),0),IF(ISNUMBER(Data!O69),100*ABS($F69-(Data!O69-$J69)/$L69),0))))","v":100},{"$f":"IF(Data!$AI69=1,50,IF($G69=0,0,CHOOSE($G69,SUMPRODUCT($O70:$O$81*R70:R$81*($D70:$D$81=$C69)),IF(ISNUMBER(Data!P69),100*ABS($F69-(Data!P69-$J69)/$L69),0),IF(ISNUMBER(Data!P69),100*ABS($F69-(Data!P69-$J69)/$L69),0))))","v":100},{"$f":"IF(Data!$AI69=1,50,IF($G69=0,0,CHOOSE($G69,SUMPRODUCT($O70:$O$81*S70:S$81*($D70:$D$81=$C69)),IF(ISNUMBER(Data!Q69),100*ABS($F69-(Data!Q69-$J69)/$L69),0),IF(ISNUMBER(Data!Q69),100*ABS($F69-(Data!Q69-$J69)/$L69),0))))","v":100},{"$f":"IF(Data!$AI69=1,50,IF($G69=0,0,CHOOSE($G69,SUMPRODUCT($O70:$O$81*T70:T$81*($D70:$D$81=$C69)),IF(ISNUMBER(Data!R69),100*ABS($F69-(Data!R69-$J69)/$L69),0),IF(ISNUMBER(Data!R69),100*ABS($F69-(Data!R69-$J69)/$L69),0))))","v":100},{"$f":"IF(Data!$AI69=1,50,IF($G69=0,0,CHOOSE($G69,SUMPRODUCT($O70:$O$81*U70:U$81*($D70:$D$81=$C69)),IF(ISNUMBER(Data!S69),100*ABS($F69-(Data!S69-$J69)/$L69),0),IF(ISNUMBER(Data!S69),100*ABS($F69-(Data!S69-$J69)/$L69),0))))","v":100},{"$f":"IF(Data!$AI69=1,50,IF($G69=0,0,CHOOSE($G69,SUMPRODUCT($O70:$O$81*V70:V$81*($D70:$D$81=$C69)),IF(ISNUMBER(Data!T69),100*ABS($F69-(Data!T69-$J69)/$L69),0),IF(ISNUMBER(Data!T69),100*ABS($F69-(Data!T69-$J69)/$L69),0))))","v":100},{"$f":"IF(Data!$AI69=1,50,IF($G69=0,0,CHOOSE($G69,SUMPRODUCT($O70:$O$81*W70:W$81*($D70:$D$81=$C69)),IF(ISNUMBER(Data!U69),100*ABS($F69-(Data!U69-$J69)/$L69),0),IF(ISNUMBER(Data!U69),100*ABS($F69-(Data!U69-$J69)/$L69),0))))","v":100},{"$f":"IF(Data!$AI69=1,50,IF($G69=0,0,CHOOSE($G69,SUMPRODUCT($O70:$O$81*X70:X$81*($D70:$D$81=$C69)),IF(ISNUMBER(Data!V69),100*ABS($F69-(Data!V69-$J69)/$L69),0),IF(ISNUMBER(Data!V69),100*ABS($F69-(Data!V69-$J69)/$L69),0))))","v":100},{"$f":"IF(Data!$AI69=1,50,IF($G69=0,0,CHOOSE($G69,SUMPRODUCT($O70:$O$81*Y70:Y$81*($D70:$D$81=$C69)),IF(ISNUMBER(Data!W69),100*ABS($F69-(Data!W69-$J69)/$L69),0),IF(ISNUMBER(Data!W69),100*ABS($F69-(Data!W69-$J69)/$L69),0))))","v":100},{"$f":"IF(Data!$AI69=1,50,IF($G69=0,0,CHOOSE($G69,SUMPRODUCT($O70:$O$81*Z70:Z$81*($D70:$D$81=$C69)),IF(ISNUMBER(Data!X69),100*ABS($F69-(Data!X69-$J69)/$L69),0),IF(ISNUMBER(Data!X69),100*ABS($F69-(Data!X69-$J69)/$L69),0))))","v":0},{"$f":"IF(Data!$AI69=1,50,IF($G69=0,0,CHOOSE($G69,SUMPRODUCT($O70:$O$81*AA70:AA$81*($D70:$D$81=$C69)),IF(ISNUMBER(Data!Y69),100*ABS($F69-(Data!Y69-$J69)/$L69),0),IF(ISNUMBER(Data!Y69),100*ABS($F69-(Data!Y69-$J69)/$L69),0))))","v":100},{"$f":"IF(Data!$AI69=1,50,IF($G69=0,0,CHOOSE($G69,SUMPRODUCT($O70:$O$81*AB70:AB$81*($D70:$D$81=$C69)),IF(ISNUMBER(Data!Z69),100*ABS($F69-(Data!Z69-$J69)/$L69),0),IF(ISNUMBER(Data!Z69),100*ABS($F69-(Data!Z69-$J69)/$L69),0))))","v":100},{"$f":"IF(Data!$AI69=1,50,IF($G69=0,0,CHOOSE($G69,SUMPRODUCT($O70:$O$81*AC70:AC$81*($D70:$D$81=$C69)),IF(ISNUMBER(Data!AA69),100*ABS($F69-(Data!AA69-$J69)/$L69),0),IF(ISNUMBER(Data!AA69),100*ABS($F69-(Data!AA69-$J69)/$L69),0))))","v":100},{"$f":"IF(Data!$AI69=1,50,IF($G69=0,0,CHOOSE($G69,SUMPRODUCT($O70:$O$81*AD70:AD$81*($D70:$D$81=$C69)),IF(ISNUMBER(Data!AB69),100*ABS($F69-(Data!AB69-$J69)/$L69),0),IF(ISNUMBER(Data!AB69),100*ABS($F69-(Data!AB69-$J69)/$L69),0))))","v":0},{"$f":"IF(Data!$AI69=1,50,IF($G69=0,0,CHOOSE($G69,SUMPRODUCT($O70:$O$81*AE70:AE$81*($D70:$D$81=$C69)),IF(ISNUMBER(Data!AC69),100*ABS($F69-(Data!AC69-$J69)/$L69),0),IF(ISNUMBER(Data!AC69),100*ABS($F69-(Data!AC69-$J69)/$L69),0))))","v":100},{"$f":"IF(Data!$AI69=1,50,IF($G69=0,0,CHOOSE($G69,SUMPRODUCT($O70:$O$81*AF70:AF$81*($D70:$D$81=$C69)),IF(ISNUMBER(Data!AD69),100*ABS($F69-(Data!AD69-$J69)/$L69),0),IF(ISNUMBER(Data!AD69),100*ABS($F69-(Data!AD69-$J69)/$L69),0))))","v":100},{"$f":"IF(Data!$AI69=1,50,IF($G69=0,0,CHOOSE($G69,SUMPRODUCT($O70:$O$81*AG70:AG$81*($D70:$D$81=$C69)),IF(ISNUMBER(Data!AE69),100*ABS($F69-(Data!AE69-$J69)/$L69),0),IF(ISNUMBER(Data!AE69),100*ABS($F69-(Data!AE69-$J69)/$L69),0))))","v":0},{"$f":"IF(Data!$AI69=1,50,IF($G69=0,0,CHOOSE($G69,SUMPRODUCT($O70:$O$81*AH70:AH$81*($D70:$D$81=$C69)),IF(ISNUMBER(Data!AF69),100*ABS($F69-(Data!AF69-$J69)/$L69),0),IF(ISNUMBER(Data!AF69),100*ABS($F69-(Data!AF69-$J69)/$L69),0))))","v":100},{"$f":"IF(Data!$AI69=1,50,IF($G69=0,0,CHOOSE($G69,SUMPRODUCT($O70:$O$81*AI70:AI$81*($D70:$D$81=$C69)),IF(ISNUMBER(Data!AG69),100*ABS($F69-(Data!AG69-$J69)/$L69),0),IF(ISNUMBER(Data!AG69),100*ABS($F69-(Data!AG69-$J69)/$L69),0))))","v":100}]
[null,{"$f":"tblIndicators!A64","v":63},{"$f":"tblIndicators!B64","v":"LAND_3"},{"$f":"tblIndicators!C64","v":"LAND"},{"$f":"tblIndicators!D64","v":2},{"$f":"tblIndicators!L64","v":0},{"$f":"tblIndicators!V64","v":1},{"$f":"tblIndicators!W64","v":0},{"$f":"tblIndicators!X64","v":100},{"$f":"CHOOSE(G70,\"-\",Data!H70,H70)","v":"-"},{"$f":"CHOOSE(G70,\"-\",Data!I70,I70)","v":"-"},{"$f":"CHOOSE(G70,\"-\",K70-J70,K70-J70)","v":"-"},{"$f":"tblIndicators!AE64","v":"5.3) Government commitment to sustainability in coastal tourism development"},0.25,{"$f":"tblIndicators!AJ64","v":0.25},{"$f":"IF(Data!$AI70=1,50,IF($G70=0,0,CHOOSE($G70,SUMPRODUCT($O71:$O$81*P71:P$81*($D71:$D$81=$C70)),IF(ISNUMBER(Data!N70),100*ABS($F70-(Data!N70-$J70)/$L70),0),IF(ISNUMBER(Data!N70),100*ABS($F70-(Data!N70-$J70)/$L70),0))))","v":49.166666666666671},{"$f":"IF(Data!$AI70=1,50,IF($G70=0,0,CHOOSE($G70,SUMPRODUCT($O71:$O$81*Q71:Q$81*($D71:$D$81=$C70)),IF(ISNUMBER(Data!O70),100*ABS($F70-(Data!O70-$J70)/$L70),0),IF(ISNUMBER(Data!O70),100*ABS($F70-(Data!O70-$J70)/$L70),0))))","v":67},{"$f":"IF(Data!$AI70=1,50,IF($G70=0,0,CHOOSE($G70,SUMPRODUCT($O71:$O$81*R71:R$81*($D71:$D$81=$C70)),IF(ISNUMBER(Data!P70),100*ABS($F70-(Data!P70-$J70)/$L70),0),IF(ISNUMBER(Data!P70),100*ABS($F70-(Data!P70-$J70)/$L70),0))))","v":56.666666666666664},{"$f":"IF(Data!$AI70=1,50,IF($G70=0,0,CHOOSE($G70,SUMPRODUCT($O71:$O$81*S71:S$81*($D71:$D$81=$C70)),IF(ISNUMBER(Data!Q70),100*ABS($F70-(Data!Q70-$J70)/$L70),0),IF(ISNUMBER(Data!Q70),100*ABS($F70-(Data!Q70-$J70)/$L70),0))))","v":62},{"$f":"IF(Data!$AI70=1,50,IF($G70=0,0,CHOOSE($G70,SUMPRODUCT($O71:$O$81*T71:T$81*($D71:$D$81=$C70)),IF(ISNUMBER(Data!R70),100*ABS($F70-(Data!R70-$J70)/$L70),0),IF(ISNUMBER(Data!R70),100*ABS($F70-(Data!R70-$J70)/$L70),0))))","v":66.5},{"$f":"IF(Data!$AI70=1,50,IF($G70=0,0,CHOOSE($G70,SUMPRODUCT($O71:$O$81*U71:U$81*($D71:$D$81=$C70)),IF(ISNUMBER(Data!S70),100*ABS($F70-(Data!S70-$J70)/$L70),0),IF(ISNUMBER(Data!S70),100*ABS($F70-(Data!S70-$J70)/$L70),0))))","v":51.5},{"$f":"IF(Data!$AI70=1,50,IF($G70=0,0,CHOOSE($G70,SUMPRODUCT($O71:$O$81*V71:V$81*($D71:$D$81=$C70)),IF(ISNUMBER(Data!T70),100*ABS($F70-(Data!T70-$J70)/$L70),0),IF(ISNUMBER(Data!T70),100*ABS($F70-(Data!T70-$J70)/$L70),0))))","v":55.333333333333336},{"$f":"IF(Data!$AI70=1,50,IF($G70=0,0,CHOOSE($G70,SUMPRODUCT($O71:$O$81*W71:W$81*($D71:$D$81=$C70)),IF(ISNUMBER(Data!U70),100*ABS($F70-(Data!U70-$J70)/$L70),0),IF(ISNUMBER(Data!U70),100*ABS($F70-(Data!U70-$J70)/$L70),0))))","v":58.833333333333329},{"$f":"IF(Data!$AI70=1,50,IF($G70=0,0,CHOOSE($G70,SUMPRODUCT($O71:$O$81*X71:X$81*($D71:$D$81=$C70)),IF(ISNUMBER(Data!V70),100*ABS($F70-(Data!V70-$J70)/$L70),0),IF(ISNUMBER(Data!V70),100*ABS($F70-(Data!V70-$J70)/$L70),0))))","v":60.5},{"$f":"IF(Data!$AI70=1,50,IF($G70=0,0,CHOOSE($G70,SUMPRODUCT($O71:$O$81*Y71:Y$81*($D71:$D$81=$C70)),IF(ISNUMBER(Data!W70),100*ABS($F70-(Data!W70-$J70)/$L70),0),IF(ISNUMBER(Data!W70),100*ABS($F70-(Data!W70-$J70)/$L70),0))))","v":84.333333333333329},{"$f":"IF(Data!$AI70=1,50,IF($G70=0,0,CHOOSE($G70,SUMPRODUCT($O71:$O$81*Z71:Z$81*($D71:$D$81=$C70)),IF(ISNUMBER(Data!X70),100*ABS($F70-(Data!X70-$J70)/$L70),0),IF(ISNUMBER(Data!X70),100*ABS($F70-(Data!X70-$J70)/$L70),0))))","v":44.166666666666664},{"$f":"IF(Data!$AI70=1,50,IF($G70=0,0,CHOOSE($G70,SUMPRODUCT($O71:$O$81*AA71:AA$81*($D71:$D$81=$C70)),IF(ISNUMBER(Data!Y70),100*ABS($F70-(Data!Y70-$J70)/$L70),0),IF(ISNUMBER(Data!Y70),100*ABS($F70-(Data!Y70-$J70)/$L70),0))))","v":62.5},{"$f":"IF(Data!$AI70=1,50,IF($G70=0,0,CHOOSE($G70,SUMPRODUCT($O71:$O$81*AB71:AB$81*($D71:$D$81=$C70)),IF(ISNUMBER(Data!Z70),100*ABS($F70-(Data!Z70-$J70)/$L70),0),IF(ISNUMBER(Data!Z70),100*ABS($F70-(Data!Z70-$J70)/$L70),0))))","v":62.833333333333329},{"$f":"IF(Data!$AI70=1,50,IF($G70=0,0,CHOOSE($G70,SUMPRODUCT($O71:$O$81*AC71:AC$81*($D71:$D$81=$C70)),IF(ISNUMBER(Data!AA70),100*ABS($F70-(Data!AA70-$J70)/$L70),0),IF(ISNUMBER(Data!AA70),100*ABS($F70-(Data!AA70-$J70)/$L70),0))))","v":52.166666666666664},{"$f":"IF(Data!$AI70=1,50,IF($G70=0,0,CHOOSE($G70,SUMPRODUCT($O71:$O$81*AD71:AD$81*($D71:$D$81=$C70)),IF(ISNUMBER(Data!AB70),100*ABS($F70-(Data!AB70-$J70)/$L70),0),IF(ISNUMBER(Data!AB70),100*ABS($F70-(Data!AB70-$J70)/$L70),0))))","v":36.666666666666671},{"$f":"IF(Data!$AI70=1,50,IF($G70=0,0,CHOOSE($G70,SUMPRODUCT($O71:$O$81*AE71:AE$81*($D71:$D$81=$C70)),IF(ISNUMBER(Data!AC70),100*ABS($F70-(Data!AC70-$J70)/$L70),0),IF(ISNUMBER(Data!AC70),100*ABS($F70-(Data!AC70-$J70)/$L70),0))))","v":66},{"$f":"IF(Data!$AI70=1,50,IF($G70=0,0,CHOOSE($G70,SUMPRODUCT($O71:$O$81*AF71:AF$81*($D71:$D$81=$C70)),IF(ISNUMBER(Data!AD70),100*ABS($F70-(Data!AD70-$J70)/$L70),0),IF(ISNUMBER(Data!AD70),100*ABS($F70-(Data!AD70-$J70)/$L70),0))))","v":51.666666666666671},{"$f":"IF(Data!$AI70=1,50,IF($G70=0,0,CHOOSE($G70,SUMPRODUCT($O71:$O$81*AG71:AG$81*($D71:$D$81=$C70)),IF(ISNUMBER(Data!AE70),100*ABS($F70-(Data!AE70-$J70)/$L70),0),IF(ISNUMBER(Data!AE70),100*ABS($F70-(Data!AE70-$J70)/$L70),0))))","v":68},{"$f":"IF(Data!$AI70=1,50,IF($G70=0,0,CHOOSE($G70,SUMPRODUCT($O71:$O$81*AH71:AH$81*($D71:$D$81=$C70)),IF(ISNUMBER(Data!AF70),100*ABS($F70-(Data!AF70-$J70)/$L70),0),IF(ISNUMBER(Data!AF70),100*ABS($F70-(Data!AF70-$J70)/$L70),0))))","v":66.5},{"$f":"IF(Data!$AI70=1,50,IF($G70=0,0,CHOOSE($G70,SUMPRODUCT($O71:$O$81*AI71:AI$81*($D71:$D$81=$C70)),IF(ISNUMBER(Data!AG70),100*ABS($F70-(Data!AG70-$J70)/$L70),0),IF(ISNUMBER(Data!AG70),100*ABS($F70-(Data!AG70-$J70)/$L70),0))))","v":46.166666666666664}]
[null,{"$f":"tblIndicators!A65","v":64},{"$f":"tblIndicators!B65","v":"LAND_3_1"},{"$f":"tblIndicators!C65","v":"LAND_3"},{"$f":"tblIndicators!D65","v":3},{"$f":"tblIndicators!L65","v":0},{"$f":"tblIndicators!V65","v":3},{"$f":"tblIndicators!W65","v":0},{"$f":"tblIndicators!X65","v":6},{"$f":"CHOOSE(G71,\"-\",Data!H71,H71)","v":0},{"$f":"CHOOSE(G71,\"-\",Data!I71,I71)","v":6},6,{"$f":"tblIndicators!AE65","v":"5.3.1) Sustainability of tourism"},"",{"$f":"tblIndicators!AJ65","v":1},{"$f":"IF(Data!$AI71=1,50,IF($G71=0,0,CHOOSE($G71,SUMPRODUCT($O72:$O$81*P72:P$81*($D72:$D$81=$C71)),IF(ISNUMBER(Data!N71),100*ABS($F71-(Data!N71-$J71)/$L71),0),IF(ISNUMBER(Data!N71),100*ABS($F71-(Data!N71-$J71)/$L71),0))))","v":49.166666666666671},{"$f":"IF(Data!$AI71=1,50,IF($G71=0,0,CHOOSE($G71,SUMPRODUCT($O72:$O$81*Q72:Q$81*($D72:$D$81=$C71)),IF(ISNUMBER(Data!O71),100*ABS($F71-(Data!O71-$J71)/$L71),0),IF(ISNUMBER(Data!O71),100*ABS($F71-(Data!O71-$J71)/$L71),0))))","v":67},{"$f":"IF(Data!$AI71=1,50,IF($G71=0,0,CHOOSE($G71,SUMPRODUCT($O72:$O$81*R72:R$81*($D72:$D$81=$C71)),IF(ISNUMBER(Data!P71),100*ABS($F71-(Data!P71-$J71)/$L71),0),IF(ISNUMBER(Data!P71),100*ABS($F71-(Data!P71-$J71)/$L71),0))))","v":56.666666666666664},{"$f":"IF(Data!$AI71=1,50,IF($G71=0,0,CHOOSE($G71,SUMPRODUCT($O72:$O$81*S72:S$81*($D72:$D$81=$C71)),IF(ISNUMBER(Data!Q71),100*ABS($F71-(Data!Q71-$J71)/$L71),0),IF(ISNUMBER(Data!Q71),100*ABS($F71-(Data!Q71-$J71)/$L71),0))))","v":62},{"$f":"IF(Data!$AI71=1,50,IF($G71=0,0,CHOOSE($G71,SUMPRODUCT($O72:$O$81*T72:T$81*($D72:$D$81=$C71)),IF(ISNUMBER(Data!R71),100*ABS($F71-(Data!R71-$J71)/$L71),0),IF(ISNUMBER(Data!R71),100*ABS($F71-(Data!R71-$J71)/$L71),0))))","v":66.5},{"$f":"IF(Data!$AI71=1,50,IF($G71=0,0,CHOOSE($G71,SUMPRODUCT($O72:$O$81*U72:U$81*($D72:$D$81=$C71)),IF(ISNUMBER(Data!S71),100*ABS($F71-(Data!S71-$J71)/$L71),0),IF(ISNUMBER(Data!S71),100*ABS($F71-(Data!S71-$J71)/$L71),0))))","v":51.5},{"$f":"IF(Data!$AI71=1,50,IF($G71=0,0,CHOOSE($G71,SUMPRODUCT($O72:$O$81*V72:V$81*($D72:$D$81=$C71)),IF(ISNUMBER(Data!T71),100*ABS($F71-(Data!T71-$J71)/$L71),0),IF(ISNUMBER(Data!T71),100*ABS($F71-(Data!T71-$J71)/$L71),0))))","v":55.333333333333336},{"$f":"IF(Data!$AI71=1,50,IF($G71=0,0,CHOOSE($G71,SUMPRODUCT($O72:$O$81*W72:W$81*($D72:$D$81=$C71)),IF(ISNUMBER(Data!U71),100*ABS($F71-(Data!U71-$J71)/$L71),0),IF(ISNUMBER(Data!U71),100*ABS($F71-(Data!U71-$J71)/$L71),0))))","v":58.833333333333329},{"$f":"IF(Data!$AI71=1,50,IF($G71=0,0,CHOOSE($G71,SUMPRODUCT($O72:$O$81*X72:X$81*($D72:$D$81=$C71)),IF(ISNUMBER(Data!V71),100*ABS($F71-(Data!V71-$J71)/$L71),0),IF(ISNUMBER(Data!V71),100*ABS($F71-(Data!V71-$J71)/$L71),0))))","v":60.5},{"$f":"IF(Data!$AI71=1,50,IF($G71=0,0,CHOOSE($G71,SUMPRODUCT($O72:$O$81*Y72:Y$81*($D72:$D$81=$C71)),IF(ISNUMBER(Data!W71),100*ABS($F71-(Data!W71-$J71)/$L71),0),IF(ISNUMBER(Data!W71),100*ABS($F71-(Data!W71-$J71)/$L71),0))))","v":84.333333333333329},{"$f":"IF(Data!$AI71=1,50,IF($G71=0,0,CHOOSE($G71,SUMPRODUCT($O72:$O$81*Z72:Z$81*($D72:$D$81=$C71)),IF(ISNUMBER(Data!X71),100*ABS($F71-(Data!X71-$J71)/$L71),0),IF(ISNUMBER(Data!X71),100*ABS($F71-(Data!X71-$J71)/$L71),0))))","v":44.166666666666664},{"$f":"IF(Data!$AI71=1,50,IF($G71=0,0,CHOOSE($G71,SUMPRODUCT($O72:$O$81*AA72:AA$81*($D72:$D$81=$C71)),IF(ISNUMBER(Data!Y71),100*ABS($F71-(Data!Y71-$J71)/$L71),0),IF(ISNUMBER(Data!Y71),100*ABS($F71-(Data!Y71-$J71)/$L71),0))))","v":62.5},{"$f":"IF(Data!$AI71=1,50,IF($G71=0,0,CHOOSE($G71,SUMPRODUCT($O72:$O$81*AB72:AB$81*($D72:$D$81=$C71)),IF(ISNUMBER(Data!Z71),100*ABS($F71-(Data!Z71-$J71)/$L71),0),IF(ISNUMBER(Data!Z71),100*ABS($F71-(Data!Z71-$J71)/$L71),0))))","v":62.833333333333329},{"$f":"IF(Data!$AI71=1,50,IF($G71=0,0,CHOOSE($G71,SUMPRODUCT($O72:$O$81*AC72:AC$81*($D72:$D$81=$C71)),IF(ISNUMBER(Data!AA71),100*ABS($F71-(Data!AA71-$J71)/$L71),0),IF(ISNUMBER(Data!AA71),100*ABS($F71-(Data!AA71-$J71)/$L71),0))))","v":52.166666666666664},{"$f":"IF(Data!$AI71=1,50,IF($G71=0,0,CHOOSE($G71,SUMPRODUCT($O72:$O$81*AD72:AD$81*($D72:$D$81=$C71)),IF(ISNUMBER(Data!AB71),100*ABS($F71-(Data!AB71-$J71)/$L71),0),IF(ISNUMBER(Data!AB71),100*ABS($F71-(Data!AB71-$J71)/$L71),0))))","v":36.666666666666671},{"$f":"IF(Data!$AI71=1,50,IF($G71=0,0,CHOOSE($G71,SUMPRODUCT($O72:$O$81*AE72:AE$81*($D72:$D$81=$C71)),IF(ISNUMBER(Data!AC71),100*ABS($F71-(Data!AC71-$J71)/$L71),0),IF(ISNUMBER(Data!AC71),100*ABS($F71-(Data!AC71-$J71)/$L71),0))))","v":66},{"$f":"IF(Data!$AI71=1,50,IF($G71=0,0,CHOOSE($G71,SUMPRODUCT($O72:$O$81*AF72:AF$81*($D72:$D$81=$C71)),IF(ISNUMBER(Data!AD71),100*ABS($F71-(Data!AD71-$J71)/$L71),0),IF(ISNUMBER(Data!AD71),100*ABS($F71-(Data!AD71-$J71)/$L71),0))))","v":51.666666666666671},{"$f":"IF(Data!$AI71=1,50,IF($G71=0,0,CHOOSE($G71,SUMPRODUCT($O72:$O$81*AG72:AG$81*($D72:$D$81=$C71)),IF(ISNUMBER(Data!AE71),100*ABS($F71-(Data!AE71-$J71)/$L71),0),IF(ISNUMBER(Data!AE71),100*ABS($F71-(Data!AE71-$J71)/$L71),0))))","v":68},{"$f":"IF(Data!$AI71=1,50,IF($G71=0,0,CHOOSE($G71,SUMPRODUCT($O72:$O$81*AH72:AH$81*($D72:$D$81=$C71)),IF(ISNUMBER(Data!AF71),100*ABS($F71-(Data!AF71-$J71)/$L71),0),IF(ISNUMBER(Data!AF71),100*ABS($F71-(Data!AF71-$J71)/$L71),0))))","v":66.5},{"$f":"IF(Data!$AI71=1,50,IF($G71=0,0,CHOOSE($G71,SUMPRODUCT($O72:$O$81*AI72:AI$81*($D72:$D$81=$C71)),IF(ISNUMBER(Data!AG71),100*ABS($F71-(Data!AG71-$J71)/$L71),0),IF(ISNUMBER(Data!AG71),100*ABS($F71-(Data!AG71-$J71)/$L71),0))))","v":46.166666666666664}]
[null,{"$f":"tblIndicators!A66","v":65},{"$f":"tblIndicators!B66","v":"LAND_4"},{"$f":"tblIndicators!C66","v":"LAND"},{"$f":"tblIndicators!D66","v":2},{"$f":"tblIndicators!L66","v":0},{"$f":"tblIndicators!V66","v":1},{"$f":"tblIndicators!W66","v":0},{"$f":"tblIndicators!X66","v":100},{"$f":"CHOOSE(G72,\"-\",Data!H72,H72)","v":"-"},{"$f":"CHOOSE(G72,\"-\",Data!I72,I72)","v":"-"},"-",{"$f":"tblIndicators!AE66","v":"5.4) Natural disaster risk mitigation"},0.25,{"$f":"tblIndicators!AJ66","v":0.25},{"$f":"IF(Data!$AI72=1,50,IF($G72=0,0,CHOOSE($G72,SUMPRODUCT($O73:$O$81*P73:P$81*($D73:$D$81=$C72)),IF(ISNUMBER(Data!N72),100*ABS($F72-(Data!N72-$J72)/$L72),0),IF(ISNUMBER(Data!N72),100*ABS($F72-(Data!N72-$J72)/$L72),0))))","v":0},{"$f":"IF(Data!$AI72=1,50,IF($G72=0,0,CHOOSE($G72,SUMPRODUCT($O73:$O$81*Q73:Q$81*($D73:$D$81=$C72)),IF(ISNUMBER(Data!O72),100*ABS($F72-(Data!O72-$J72)/$L72),0),IF(ISNUMBER(Data!O72),100*ABS($F72-(Data!O72-$J72)/$L72),0))))","v":100},{"$f":"IF(Data!$AI72=1,50,IF($G72=0,0,CHOOSE($G72,SUMPRODUCT($O73:$O$81*R73:R$81*($D73:$D$81=$C72)),IF(ISNUMBER(Data!P72),100*ABS($F72-(Data!P72-$J72)/$L72),0),IF(ISNUMBER(Data!P72),100*ABS($F72-(Data!P72-$J72)/$L72),0))))","v":0},{"$f":"IF(Data!$AI72=1,50,IF($G72=0,0,CHOOSE($G72,SUMPRODUCT($O73:$O$81*S73:S$81*($D73:$D$81=$C72)),IF(ISNUMBER(Data!Q72),100*ABS($F72-(Data!Q72-$J72)/$L72),0),IF(ISNUMBER(Data!Q72),100*ABS($F72-(Data!Q72-$J72)/$L72),0))))","v":100},{"$f":"IF(Data!$AI72=1,50,IF($G72=0,0,CHOOSE($G72,SUMPRODUCT($O73:$O$81*T73:T$81*($D73:$D$81=$C72)),IF(ISNUMBER(Data!R72),100*ABS($F72-(Data!R72-$J72)/$L72),0),IF(ISNUMBER(Data!R72),100*ABS($F72-(Data!R72-$J72)/$L72),0))))","v":100},{"$f":"IF(Data!$AI72=1,50,IF($G72=0,0,CHOOSE($G72,SUMPRODUCT($O73:$O$81*U73:U$81*($D73:$D$81=$C72)),IF(ISNUMBER(Data!S72),100*ABS($F72-(Data!S72-$J72)/$L72),0),IF(ISNUMBER(Data!S72),100*ABS($F72-(Data!S72-$J72)/$L72),0))))","v":100},{"$f":"IF(Data!$AI72=1,50,IF($G72=0,0,CHOOSE($G72,SUMPRODUCT($O73:$O$81*V73:V$81*($D73:$D$81=$C72)),IF(ISNUMBER(Data!T72),100*ABS($F72-(Data!T72-$J72)/$L72),0),IF(ISNUMBER(Data!T72),100*ABS($F72-(Data!T72-$J72)/$L72),0))))","v":100},{"$f":"IF(Data!$AI72=1,50,IF($G72=0,0,CHOOSE($G72,SUMPRODUCT($O73:$O$81*W73:W$81*($D73:$D$81=$C72)),IF(ISNUMBER(Data!U72),100*ABS($F72-(Data!U72-$J72)/$L72),0),IF(ISNUMBER(Data!U72),100*ABS($F72-(Data!U72-$J72)/$L72),0))))","v":100},{"$f":"IF(Data!$AI72=1,50,IF($G72=0,0,CHOOSE($G72,SUMPRODUCT($O73:$O$81*X73:X$81*($D73:$D$81=$C72)),IF(ISNUMBER(Data!V72),100*ABS($F72-(Data!V72-$J72)/$L72),0),IF(ISNUMBER(Data!V72),100*ABS($F72-(Data!V72-$J72)/$L72),0))))","v":0},{"$f":"IF(Data!$AI72=1,50,IF($G72=0,0,CHOOSE($G72,SUMPRODUCT($O73:$O$81*Y73:Y$81*($D73:$D$81=$C72)),IF(ISNUMBER(Data!W72),100*ABS($F72-(Data!W72-$J72)/$L72),0),IF(ISNUMBER(Data!W72),100*ABS($F72-(Data!W72-$J72)/$L72),0))))","v":100},{"$f":"IF(Data!$AI72=1,50,IF($G72=0,0,CHOOSE($G72,SUMPRODUCT($O73:$O$81*Z73:Z$81*($D73:$D$81=$C72)),IF(ISNUMBER(Data!X72),100*ABS($F72-(Data!X72-$J72)/$L72),0),IF(ISNUMBER(Data!X72),100*ABS($F72-(Data!X72-$J72)/$L72),0))))","v":100},{"$f":"IF(Data!$AI72=1,50,IF($G72=0,0,CHOOSE($G72,SUMPRODUCT($O73:$O$81*AA73:AA$81*($D73:$D$81=$C72)),IF(ISNUMBER(Data!Y72),100*ABS($F72-(Data!Y72-$J72)/$L72),0),IF(ISNUMBER(Data!Y72),100*ABS($F72-(Data!Y72-$J72)/$L72),0))))","v":0},{"$f":"IF(Data!$AI72=1,50,IF($G72=0,0,CHOOSE($G72,SUMPRODUCT($O73:$O$81*AB73:AB$81*($D73:$D$81=$C72)),IF(ISNUMBER(Data!Z72),100*ABS($F72-(Data!Z72-$J72)/$L72),0),IF(ISNUMBER(Data!Z72),100*ABS($F72-(Data!Z72-$J72)/$L72),0))))","v":100},{"$f":"IF(Data!$AI72=1,50,IF($G72=0,0,CHOOSE($G72,SUMPRODUCT($O73:$O$81*AC73:AC$81*($D73:$D$81=$C72)),IF(ISNUMBER(Data!AA72),100*ABS($F72-(Data!AA72-$J72)/$L72),0),IF(ISNUMBER(Data!AA72),100*ABS($F72-(Data!AA72-$J72)/$L72),0))))","v":100},{"$f":"IF(Data!$AI72=1,50,IF($G72=0,0,CHOOSE($G72,SUMPRODUCT($O73:$O$81*AD73:AD$81*($D73:$D$81=$C72)),IF(ISNUMBER(Data!AB72),100*ABS($F72-(Data!AB72-$J72)/$L72),0),IF(ISNUMBER(Data!AB72),100*ABS($F72-(Data!AB72-$J72)/$L72),0))))","v":0},{"$f":"IF(Data!$AI72=1,50,IF($G72=0,0,CHOOSE($G72,SUMPRODUCT($O73:$O$81*AE73:AE$81*($D73:$D$81=$C72)),IF(ISNUMBER(Data!AC72),100*ABS($F72-(Data!AC72-$J72)/$L72),0),IF(ISNUMBER(Data!AC72),100*ABS($F72-(Data!AC72-$J72)/$L72),0))))","v":100},{"$f":"IF(Data!$AI72=1,50,IF($G72=0,0,CHOOSE($G72,SUMPRODUCT($O73:$O$81*AF73:AF$81*($D73:$D$81=$C72)),IF(ISNUMBER(Data!AD72),100*ABS($F72-(Data!AD72-$J72)/$L72),0),IF(ISNUMBER(Data!AD72),100*ABS($F72-(Data!AD72-$J72)/$L72),0))))","v":100},{"$f":"IF(Data!$AI72=1,50,IF($G72=0,0,CHOOSE($G72,SUMPRODUCT($O73:$O$81*AG73:AG$81*($D73:$D$81=$C72)),IF(ISNUMBER(Data!AE72),100*ABS($F72-(Data!AE72-$J72)/$L72),0),IF(ISNUMBER(Data!AE72),100*ABS($F72-(Data!AE72-$J72)/$L72),0))))","v":100},{"$f":"IF(Data!$AI72=1,50,IF($G72=0,0,CHOOSE($G72,SUMPRODUCT($O73:$O$81*AH73:AH$81*($D73:$D$81=$C72)),IF(ISNUMBER(Data!AF72),100*ABS($F72-(Data!AF72-$J72)/$L72),0),IF(ISNUMBER(Data!AF72),100*ABS($F72-(Data!AF72-$J72)/$L72),0))))","v":100},{"$f":"IF(Data!$AI72=1,50,IF($G72=0,0,CHOOSE($G72,SUMPRODUCT($O73:$O$81*AI73:AI$81*($D73:$D$81=$C72)),IF(ISNUMBER(Data!AG72),100*ABS($F72-(Data!AG72-$J72)/$L72),0),IF(ISNUMBER(Data!AG72),100*ABS($F72-(Data!AG72-$J72)/$L72),0))))","v":100}]
[null,{"$f":"tblIndicators!A67","v":66},{"$f":"tblIndicators!B67","v":"LAND_4_1"},{"$f":"tblIndicators!C67","v":"LAND_4"},{"$f":"tblIndicators!D67","v":3},{"$f":"tblIndicators!L67","v":0},{"$f":"tblIndicators!V67","v":3},{"$f":"tblIndicators!W67","v":0},{"$f":"tblIndicators!X67","v":1},{"$f":"CHOOSE(G73,\"-\",Data!H73,H73)","v":0},{"$f":"CHOOSE(G73,\"-\",Data!I73,I73)","v":1},1,{"$f":"tblIndicators!AE67","v":"5.4.1) Strategy for risk mitigation "},"",{"$f":"tblIndicators!AJ67","v":1},{"$f":"IF(Data!$AI73=1,50,IF($G73=0,0,CHOOSE($G73,SUMPRODUCT($O74:$O$81*P74:P$81*($D74:$D$81=$C73)),IF(ISNUMBER(Data!N73),100*ABS($F73-(Data!N73-$J73)/$L73),0),IF(ISNUMBER(Data!N73),100*ABS($F73-(Data!N73-$J73)/$L73),0))))","v":0},{"$f":"IF(Data!$AI73=1,50,IF($G73=0,0,CHOOSE($G73,SUMPRODUCT($O74:$O$81*Q74:Q$81*($D74:$D$81=$C73)),IF(ISNUMBER(Data!O73),100*ABS($F73-(Data!O73-$J73)/$L73),0),IF(ISNUMBER(Data!O73),100*ABS($F73-(Data!O73-$J73)/$L73),0))))","v":100},{"$f":"IF(Data!$AI73=1,50,IF($G73=0,0,CHOOSE($G73,SUMPRODUCT($O74:$O$81*R74:R$81*($D74:$D$81=$C73)),IF(ISNUMBER(Data!P73),100*ABS($F73-(Data!P73-$J73)/$L73),0),IF(ISNUMBER(Data!P73),100*ABS($F73-(Data!P73-$J73)/$L73),0))))","v":0},{"$f":"IF(Data!$AI73=1,50,IF($G73=0,0,CHOOSE($G73,SUMPRODUCT($O74:$O$81*S74:S$81*($D74:$D$81=$C73)),IF(ISNUMBER(Data!Q73),100*ABS($F73-(Data!Q73-$J73)/$L73),0),IF(ISNUMBER(Data!Q73),100*ABS($F73-(Data!Q73-$J73)/$L73),0))))","v":100},{"$f":"IF(Data!$AI73=1,50,IF($G73=0,0,CHOOSE($G73,SUMPRODUCT($O74:$O$81*T74:T$81*($D74:$D$81=$C73)),IF(ISNUMBER(Data!R73),100*ABS($F73-(Data!R73-$J73)/$L73),0),IF(ISNUMBER(Data!R73),100*ABS($F73-(Data!R73-$J73)/$L73),0))))","v":100},{"$f":"IF(Data!$AI73=1,50,IF($G73=0,0,CHOOSE($G73,SUMPRODUCT($O74:$O$81*U74:U$81*($D74:$D$81=$C73)),IF(ISNUMBER(Data!S73),100*ABS($F73-(Data!S73-$J73)/$L73),0),IF(ISNUMBER(Data!S73),100*ABS($F73-(Data!S73-$J73)/$L73),0))))","v":100},{"$f":"IF(Data!$AI73=1,50,IF($G73=0,0,CHOOSE($G73,SUMPRODUCT($O74:$O$81*V74:V$81*($D74:$D$81=$C73)),IF(ISNUMBER(Data!T73),100*ABS($F73-(Data!T73-$J73)/$L73),0),IF(ISNUMBER(Data!T73),100*ABS($F73-(Data!T73-$J73)/$L73),0))))","v":100},{"$f":"IF(Data!$AI73=1,50,IF($G73=0,0,CHOOSE($G73,SUMPRODUCT($O74:$O$81*W74:W$81*($D74:$D$81=$C73)),IF(ISNUMBER(Data!U73),100*ABS($F73-(Data!U73-$J73)/$L73),0),IF(ISNUMBER(Data!U73),100*ABS($F73-(Data!U73-$J73)/$L73),0))))","v":100},{"$f":"IF(Data!$AI73=1,50,IF($G73=0,0,CHOOSE($G73,SUMPRODUCT($O74:$O$81*X74:X$81*($D74:$D$81=$C73)),IF(ISNUMBER(Data!V73),100*ABS($F73-(Data!V73-$J73)/$L73),0),IF(ISNUMBER(Data!V73),100*ABS($F73-(Data!V73-$J73)/$L73),0))))","v":0},{"$f":"IF(Data!$AI73=1,50,IF($G73=0,0,CHOOSE($G73,SUMPRODUCT($O74:$O$81*Y74:Y$81*($D74:$D$81=$C73)),IF(ISNUMBER(Data!W73),100*ABS($F73-(Data!W73-$J73)/$L73),0),IF(ISNUMBER(Data!W73),100*ABS($F73-(Data!W73-$J73)/$L73),0))))","v":100},{"$f":"IF(Data!$AI73=1,50,IF($G73=0,0,CHOOSE($G73,SUMPRODUCT($O74:$O$81*Z74:Z$81*($D74:$D$81=$C73)),IF(ISNUMBER(Data!X73),100*ABS($F73-(Data!X73-$J73)/$L73),0),IF(ISNUMBER(Data!X73),100*ABS($F73-(Data!X73-$J73)/$L73),0))))","v":100},{"$f":"IF(Data!$AI73=1,50,IF($G73=0,0,CHOOSE($G73,SUMPRODUCT($O74:$O$81*AA74:AA$81*($D74:$D$81=$C73)),IF(ISNUMBER(Data!Y73),100*ABS($F73-(Data!Y73-$J73)/$L73),0),IF(ISNUMBER(Data!Y73),100*ABS($F73-(Data!Y73-$J73)/$L73),0))))","v":0},{"$f":"IF(Data!$AI73=1,50,IF($G73=0,0,CHOOSE($G73,SUMPRODUCT($O74:$O$81*AB74:AB$81*($D74:$D$81=$C73)),IF(ISNUMBER(Data!Z73),100*ABS($F73-(Data!Z73-$J73)/$L73),0),IF(ISNUMBER(Data!Z73),100*ABS($F73-(Data!Z73-$J73)/$L73),0))))","v":100},{"$f":"IF(Data!$AI73=1,50,IF($G73=0,0,CHOOSE($G73,SUMPRODUCT($O74:$O$81*AC74:AC$81*($D74:$D$81=$C73)),IF(ISNUMBER(Data!AA73),100*ABS($F73-(Data!AA73-$J73)/$L73),0),IF(ISNUMBER(Data!AA73),100*ABS($F73-(Data!AA73-$J73)/$L73),0))))","v":100},{"$f":"IF(Data!$AI73=1,50,IF($G73=0,0,CHOOSE($G73,SUMPRODUCT($O74:$O$81*AD74:AD$81*($D74:$D$81=$C73)),IF(ISNUMBER(Data!AB73),100*ABS($F73-(Data!AB73-$J73)/$L73),0),IF(ISNUMBER(Data!AB73),100*ABS($F73-(Data!AB73-$J73)/$L73),0))))","v":0},{"$f":"IF(Data!$AI73=1,50,IF($G73=0,0,CHOOSE($G73,SUMPRODUCT($O74:$O$81*AE74:AE$81*($D74:$D$81=$C73)),IF(ISNUMBER(Data!AC73),100*ABS($F73-(Data!AC73-$J73)/$L73),0),IF(ISNUMBER(Data!AC73),100*ABS($F73-(Data!AC73-$J73)/$L73),0))))","v":100},{"$f":"IF(Data!$AI73=1,50,IF($G73=0,0,CHOOSE($G73,SUMPRODUCT($O74:$O$81*AF74:AF$81*($D74:$D$81=$C73)),IF(ISNUMBER(Data!AD73),100*ABS($F73-(Data!AD73-$J73)/$L73),0),IF(ISNUMBER(Data!AD73),100*ABS($F73-(Data!AD73-$J73)/$L73),0))))","v":100},{"$f":"IF(Data!$AI73=1,50,IF($G73=0,0,CHOOSE($G73,SUMPRODUCT($O74:$O$81*AG74:AG$81*($D74:$D$81=$C73)),IF(ISNUMBER(Data!AE73),100*ABS($F73-(Data!AE73-$J73)/$L73),0),IF(ISNUMBER(Data!AE73),100*ABS($F73-(Data!AE73-$J73)/$L73),0))))","v":100},{"$f":"IF(Data!$AI73=1,50,IF($G73=0,0,CHOOSE($G73,SUMPRODUCT($O74:$O$81*AH74:AH$81*($D74:$D$81=$C73)),IF(ISNUMBER(Data!AF73),100*ABS($F73-(Data!AF73-$J73)/$L73),0),IF(ISNUMBER(Data!AF73),100*ABS($F73-(Data!AF73-$J73)/$L73),0))))","v":100},{"$f":"IF(Data!$AI73=1,50,IF($G73=0,0,CHOOSE($G73,SUMPRODUCT($O74:$O$81*AI74:AI$81*($D74:$D$81=$C73)),IF(ISNUMBER(Data!AG73),100*ABS($F73-(Data!AG73-$J73)/$L73),0),IF(ISNUMBER(Data!AG73),100*ABS($F73-(Data!AG73-$J73)/$L73),0))))","v":100}]
[null,{"$f":"tblIndicators!A68","v":67},{"$f":"tblIndicators!B68","v":"LIVRES"},{"$f":"tblIndicators!C68","v":"OVERALL"},{"$f":"tblIndicators!D68","v":1},{"$f":"tblIndicators!L68","v":0},{"$f":"tblIndicators!V68","v":1},{"$f":"tblIndicators!W68","v":0},{"$f":"tblIndicators!X68","v":100},{"$f":"CHOOSE(G74,\"-\",Data!H74,H74)","v":"-"},{"$f":"CHOOSE(G74,\"-\",Data!I74,I74)","v":"-"},"-",{"$f":"tblIndicators!AE68","v":"6) LIVING RESOURCES"},{"$f":"IF(E74=3,\"\",O74)","v":0.16666666666666666},{"$f":"tblIndicators!AJ68","v":0.16666666666666666},{"$f":"IF(Data!$AI74=1,50,IF($G74=0,0,CHOOSE($G74,SUMPRODUCT($O75:$O$81*P75:P$81*($D75:$D$81=$C74)),IF(ISNUMBER(Data!N74),100*ABS($F74-(Data!N74-$J74)/$L74),0),IF(ISNUMBER(Data!N74),100*ABS($F74-(Data!N74-$J74)/$L74),0))))","v":78.060311236846303},{"$f":"IF(Data!$AI74=1,50,IF($G74=0,0,CHOOSE($G74,SUMPRODUCT($O75:$O$81*Q75:Q$81*($D75:$D$81=$C74)),IF(ISNUMBER(Data!O74),100*ABS($F74-(Data!O74-$J74)/$L74),0),IF(ISNUMBER(Data!O74),100*ABS($F74-(Data!O74-$J74)/$L74),0))))","v":77.088111839026595},{"$f":"IF(Data!$AI74=1,50,IF($G74=0,0,CHOOSE($G74,SUMPRODUCT($O75:$O$81*R75:R$81*($D75:$D$81=$C74)),IF(ISNUMBER(Data!P74),100*ABS($F74-(Data!P74-$J74)/$L74),0),IF(ISNUMBER(Data!P74),100*ABS($F74-(Data!P74-$J74)/$L74),0))))","v":71.15657671232141},{"$f":"IF(Data!$AI74=1,50,IF($G74=0,0,CHOOSE($G74,SUMPRODUCT($O75:$O$81*S75:S$81*($D75:$D$81=$C74)),IF(ISNUMBER(Data!Q74),100*ABS($F74-(Data!Q74-$J74)/$L74),0),IF(ISNUMBER(Data!Q74),100*ABS($F74-(Data!Q74-$J74)/$L74),0))))","v":24.917515758358782},{"$f":"IF(Data!$AI74=1,50,IF($G74=0,0,CHOOSE($G74,SUMPRODUCT($O75:$O$81*T75:T$81*($D75:$D$81=$C74)),IF(ISNUMBER(Data!R74),100*ABS($F74-(Data!R74-$J74)/$L74),0),IF(ISNUMBER(Data!R74),100*ABS($F74-(Data!R74-$J74)/$L74),0))))","v":91.316170902894555},{"$f":"IF(Data!$AI74=1,50,IF($G74=0,0,CHOOSE($G74,SUMPRODUCT($O75:$O$81*U75:U$81*($D75:$D$81=$C74)),IF(ISNUMBER(Data!S74),100*ABS($F74-(Data!S74-$J74)/$L74),0),IF(ISNUMBER(Data!S74),100*ABS($F74-(Data!S74-$J74)/$L74),0))))","v":31.382257708169128},{"$f":"IF(Data!$AI74=1,50,IF($G74=0,0,CHOOSE($G74,SUMPRODUCT($O75:$O$81*V75:V$81*($D75:$D$81=$C74)),IF(ISNUMBER(Data!T74),100*ABS($F74-(Data!T74-$J74)/$L74),0),IF(ISNUMBER(Data!T74),100*ABS($F74-(Data!T74-$J74)/$L74),0))))","v":37.257654588533597},{"$f":"IF(Data!$AI74=1,50,IF($G74=0,0,CHOOSE($G74,SUMPRODUCT($O75:$O$81*W75:W$81*($D75:$D$81=$C74)),IF(ISNUMBER(Data!U74),100*ABS($F74-(Data!U74-$J74)/$L74),0),IF(ISNUMBER(Data!U74),100*ABS($F74-(Data!U74-$J74)/$L74),0))))","v":61.597716050735755},{"$f":"IF(Data!$AI74=1,50,IF($G74=0,0,CHOOSE($G74,SUMPRODUCT($O75:$O$81*X75:X$81*($D75:$D$81=$C74)),IF(ISNUMBER(Data!V74),100*ABS($F74-(Data!V74-$J74)/$L74),0),IF(ISNUMBER(Data!V74),100*ABS($F74-(Data!V74-$J74)/$L74),0))))","v":51.253434511272914},{"$f":"IF(Data!$AI74=1,50,IF($G74=0,0,CHOOSE($G74,SUMPRODUCT($O75:$O$81*Y75:Y$81*($D75:$D$81=$C74)),IF(ISNUMBER(Data!W74),100*ABS($F74-(Data!W74-$J74)/$L74),0),IF(ISNUMBER(Data!W74),100*ABS($F74-(Data!W74-$J74)/$L74),0))))","v":93.719482138035659},{"$f":"IF(Data!$AI74=1,50,IF($G74=0,0,CHOOSE($G74,SUMPRODUCT($O75:$O$81*Z75:Z$81*($D75:$D$81=$C74)),IF(ISNUMBER(Data!X74),100*ABS($F74-(Data!X74-$J74)/$L74),0),IF(ISNUMBER(Data!X74),100*ABS($F74-(Data!X74-$J74)/$L74),0))))","v":31.421485924585198},{"$f":"IF(Data!$AI74=1,50,IF($G74=0,0,CHOOSE($G74,SUMPRODUCT($O75:$O$81*AA75:AA$81*($D75:$D$81=$C74)),IF(ISNUMBER(Data!Y74),100*ABS($F74-(Data!Y74-$J74)/$L74),0),IF(ISNUMBER(Data!Y74),100*ABS($F74-(Data!Y74-$J74)/$L74),0))))","v":79.425340027170691},{"$f":"IF(Data!$AI74=1,50,IF($G74=0,0,CHOOSE($G74,SUMPRODUCT($O75:$O$81*AB75:AB$81*($D75:$D$81=$C74)),IF(ISNUMBER(Data!Z74),100*ABS($F74-(Data!Z74-$J74)/$L74),0),IF(ISNUMBER(Data!Z74),100*ABS($F74-(Data!Z74-$J74)/$L74),0))))","v":37.490763697128386},{"$f":"IF(Data!$AI74=1,50,IF($G74=0,0,CHOOSE($G74,SUMPRODUCT($O75:$O$81*AC75:AC$81*($D75:$D$81=$C74)),IF(ISNUMBER(Data!AA74),100*ABS($F74-(Data!AA74-$J74)/$L74),0),IF(ISNUMBER(Data!AA74),100*ABS($F74-(Data!AA74-$J74)/$L74),0))))","v":30.825355059730057},{"$f":"IF(Data!$AI74=1,50,IF($G74=0,0,CHOOSE($G74,SUMPRODUCT($O75:$O$81*AD75:AD$81*($D75:$D$81=$C74)),IF(ISNUMBER(Data!AB74),100*ABS($F74-(Data!AB74-$J74)/$L74),0),IF(ISNUMBER(Data!AB74),100*ABS($F74-(Data!AB74-$J74)/$L74),0))))","v":62.079582339267652},{"$f":"IF(Data!$AI74=1,50,IF($G74=0,0,CHOOSE($G74,SUMPRODUCT($O75:$O$81*AE75:AE$81*($D75:$D$81=$C74)),IF(ISNUMBER(Data!AC74),100*ABS($F74-(Data!AC74-$J74)/$L74),0),IF(ISNUMBER(Data!AC74),100*ABS($F74-(Data!AC74-$J74)/$L74),0))))","v":60.251026291898782},{"$f":"IF(Data!$AI74=1,50,IF($G74=0,0,CHOOSE($G74,SUMPRODUCT($O75:$O$81*AF75:AF$81*($D75:$D$81=$C74)),IF(ISNUMBER(Data!AD74),100*ABS($F74-(Data!AD74-$J74)/$L74),0),IF(ISNUMBER(Data!AD74),100*ABS($F74-(Data!AD74-$J74)/$L74),0))))","v":69.78548801380785},{"$f":"IF(Data!$AI74=1,50,IF($G74=0,0,CHOOSE($G74,SUMPRODUCT($O75:$O$81*AG75:AG$81*($D75:$D$81=$C74)),IF(ISNUMBER(Data!AE74),100*ABS($F74-(Data!AE74-$J74)/$L74),0),IF(ISNUMBER(Data!AE74),100*ABS($F74-(Data!AE74-$J74)/$L74),0))))","v":83.076826263023662},{"$f":"IF(Data!$AI74=1,50,IF($G74=0,0,CHOOSE($G74,SUMPRODUCT($O75:$O$81*AH75:AH$81*($D75:$D$81=$C74)),IF(ISNUMBER(Data!AF74),100*ABS($F74-(Data!AF74-$J74)/$L74),0),IF(ISNUMBER(Data!AF74),100*ABS($F74-(Data!AF74-$J74)/$L74),0))))","v":96.839399573270043},{"$f":"IF(Data!$AI74=1,50,IF($G74=0,0,CHOOSE($G74,SUMPRODUCT($O75:$O$81*AI75:AI$81*($D75:$D$81=$C74)),IF(ISNUMBER(Data!AG74),100*ABS($F74-(Data!AG74-$J74)/$L74),0),IF(ISNUMBER(Data!AG74),100*ABS($F74-(Data!AG74-$J74)/$L74),0))))","v":34.374875992063494}]
[null,{"$f":"tblIndicators!A69","v":68},{"$f":"tblIndicators!B69","v":"LIVRES_1"},{"$f":"tblIndicators!C69","v":"LIVRES"},{"$f":"tblIndicators!D69","v":2},{"$f":"tblIndicators!L69","v":0},{"$f":"tblIndicators!V69","v":1},{"$f":"tblIndicators!W69","v":0},{"$f":"tblIndicators!X69","v":100},{"$f":"CHOOSE(G75,\"-\",Data!H75,H75)","v":"-"},{"$f":"CHOOSE(G75,\"-\",Data!I75,I75)","v":"-"},"-",{"$f":"tblIndicators!AE69","v":"6.1) Fisheries governance and management effectiveness"},0.33333333333333331,{"$f":"tblIndicators!AJ69","v":0.33333333333333331},{"$f":"IF(Data!$AI75=1,50,IF($G75=0,0,CHOOSE($G75,SUMPRODUCT($O76:$O$81*P76:P$81*($D76:$D$81=$C75)),IF(ISNUMBER(Data!N75),100*ABS($F75-(Data!N75-$J75)/$L75),0),IF(ISNUMBER(Data!N75),100*ABS($F75-(Data!N75-$J75)/$L75),0))))","v":34.180933710538966},{"$f":"IF(Data!$AI75=1,50,IF($G75=0,0,CHOOSE($G75,SUMPRODUCT($O76:$O$81*Q76:Q$81*($D76:$D$81=$C75)),IF(ISNUMBER(Data!O75),100*ABS($F75-(Data!O75-$J75)/$L75),0),IF(ISNUMBER(Data!O75),100*ABS($F75-(Data!O75-$J75)/$L75),0))))","v":81.264335517079786},{"$f":"IF(Data!$AI75=1,50,IF($G75=0,0,CHOOSE($G75,SUMPRODUCT($O76:$O$81*R76:R$81*($D76:$D$81=$C75)),IF(ISNUMBER(Data!P75),100*ABS($F75-(Data!P75-$J75)/$L75),0),IF(ISNUMBER(Data!P75),100*ABS($F75-(Data!P75-$J75)/$L75),0))))","v":63.469730136964252},{"$f":"IF(Data!$AI75=1,50,IF($G75=0,0,CHOOSE($G75,SUMPRODUCT($O76:$O$81*S76:S$81*($D76:$D$81=$C75)),IF(ISNUMBER(Data!Q75),100*ABS($F75-(Data!Q75-$J75)/$L75),0),IF(ISNUMBER(Data!Q75),100*ABS($F75-(Data!Q75-$J75)/$L75),0))))","v":24.752547275076349},{"$f":"IF(Data!$AI75=1,50,IF($G75=0,0,CHOOSE($G75,SUMPRODUCT($O76:$O$81*T76:T$81*($D76:$D$81=$C75)),IF(ISNUMBER(Data!R75),100*ABS($F75-(Data!R75-$J75)/$L75),0),IF(ISNUMBER(Data!R75),100*ABS($F75-(Data!R75-$J75)/$L75),0))))","v":73.948512708683694},{"$f":"IF(Data!$AI75=1,50,IF($G75=0,0,CHOOSE($G75,SUMPRODUCT($O76:$O$81*U76:U$81*($D76:$D$81=$C75)),IF(ISNUMBER(Data!S75),100*ABS($F75-(Data!S75-$J75)/$L75),0),IF(ISNUMBER(Data!S75),100*ABS($F75-(Data!S75-$J75)/$L75),0))))","v":44.146773124507391},{"$f":"IF(Data!$AI75=1,50,IF($G75=0,0,CHOOSE($G75,SUMPRODUCT($O76:$O$81*V76:V$81*($D76:$D$81=$C75)),IF(ISNUMBER(Data!T75),100*ABS($F75-(Data!T75-$J75)/$L75),0),IF(ISNUMBER(Data!T75),100*ABS($F75-(Data!T75-$J75)/$L75),0))))","v":36.772963765600792},{"$f":"IF(Data!$AI75=1,50,IF($G75=0,0,CHOOSE($G75,SUMPRODUCT($O76:$O$81*W76:W$81*($D76:$D$81=$C75)),IF(ISNUMBER(Data!U75),100*ABS($F75-(Data!U75-$J75)/$L75),0),IF(ISNUMBER(Data!U75),100*ABS($F75-(Data!U75-$J75)/$L75),0))))","v":59.793148152207301},{"$f":"IF(Data!$AI75=1,50,IF($G75=0,0,CHOOSE($G75,SUMPRODUCT($O76:$O$81*X76:X$81*($D76:$D$81=$C75)),IF(ISNUMBER(Data!V75),100*ABS($F75-(Data!V75-$J75)/$L75),0),IF(ISNUMBER(Data!V75),100*ABS($F75-(Data!V75-$J75)/$L75),0))))","v":53.760303533818757},{"$f":"IF(Data!$AI75=1,50,IF($G75=0,0,CHOOSE($G75,SUMPRODUCT($O76:$O$81*Y76:Y$81*($D76:$D$81=$C75)),IF(ISNUMBER(Data!W75),100*ABS($F75-(Data!W75-$J75)/$L75),0),IF(ISNUMBER(Data!W75),100*ABS($F75-(Data!W75-$J75)/$L75),0))))","v":81.158446414107033},{"$f":"IF(Data!$AI75=1,50,IF($G75=0,0,CHOOSE($G75,SUMPRODUCT($O76:$O$81*Z76:Z$81*($D76:$D$81=$C75)),IF(ISNUMBER(Data!X75),100*ABS($F75-(Data!X75-$J75)/$L75),0),IF(ISNUMBER(Data!X75),100*ABS($F75-(Data!X75-$J75)/$L75),0))))","v":44.264457773755609},{"$f":"IF(Data!$AI75=1,50,IF($G75=0,0,CHOOSE($G75,SUMPRODUCT($O76:$O$81*AA76:AA$81*($D76:$D$81=$C75)),IF(ISNUMBER(Data!Y75),100*ABS($F75-(Data!Y75-$J75)/$L75),0),IF(ISNUMBER(Data!Y75),100*ABS($F75-(Data!Y75-$J75)/$L75),0))))","v":88.276020081512101},{"$f":"IF(Data!$AI75=1,50,IF($G75=0,0,CHOOSE($G75,SUMPRODUCT($O76:$O$81*AB76:AB$81*($D76:$D$81=$C75)),IF(ISNUMBER(Data!Z75),100*ABS($F75-(Data!Z75-$J75)/$L75),0),IF(ISNUMBER(Data!Z75),100*ABS($F75-(Data!Z75-$J75)/$L75),0))))","v":62.472291091385159},{"$f":"IF(Data!$AI75=1,50,IF($G75=0,0,CHOOSE($G75,SUMPRODUCT($O76:$O$81*AC76:AC$81*($D76:$D$81=$C75)),IF(ISNUMBER(Data!AA75),100*ABS($F75-(Data!AA75-$J75)/$L75),0),IF(ISNUMBER(Data!AA75),100*ABS($F75-(Data!AA75-$J75)/$L75),0))))","v":42.476065179190179},{"$f":"IF(Data!$AI75=1,50,IF($G75=0,0,CHOOSE($G75,SUMPRODUCT($O76:$O$81*AD76:AD$81*($D76:$D$81=$C75)),IF(ISNUMBER(Data!AB75),100*ABS($F75-(Data!AB75-$J75)/$L75),0),IF(ISNUMBER(Data!AB75),100*ABS($F75-(Data!AB75-$J75)/$L75),0))))","v":86.238747017802979},{"$f":"IF(Data!$AI75=1,50,IF($G75=0,0,CHOOSE($G75,SUMPRODUCT($O76:$O$81*AE76:AE$81*($D76:$D$81=$C75)),IF(ISNUMBER(Data!AC75),100*ABS($F75-(Data!AC75-$J75)/$L75),0),IF(ISNUMBER(Data!AC75),100*ABS($F75-(Data!AC75-$J75)/$L75),0))))","v":80.75307887569636},{"$f":"IF(Data!$AI75=1,50,IF($G75=0,0,CHOOSE($G75,SUMPRODUCT($O76:$O$81*AF76:AF$81*($D76:$D$81=$C75)),IF(ISNUMBER(Data!AD75),100*ABS($F75-(Data!AD75-$J75)/$L75),0),IF(ISNUMBER(Data!AD75),100*ABS($F75-(Data!AD75-$J75)/$L75),0))))","v":59.35646404142355},{"$f":"IF(Data!$AI75=1,50,IF($G75=0,0,CHOOSE($G75,SUMPRODUCT($O76:$O$81*AG76:AG$81*($D76:$D$81=$C75)),IF(ISNUMBER(Data!AE75),100*ABS($F75-(Data!AE75-$J75)/$L75),0),IF(ISNUMBER(Data!AE75),100*ABS($F75-(Data!AE75-$J75)/$L75),0))))","v":74.230478789071029},{"$f":"IF(Data!$AI75=1,50,IF($G75=0,0,CHOOSE($G75,SUMPRODUCT($O76:$O$81*AH76:AH$81*($D76:$D$81=$C75)),IF(ISNUMBER(Data!AF75),100*ABS($F75-(Data!AF75-$J75)/$L75),0),IF(ISNUMBER(Data!AF75),100*ABS($F75-(Data!AF75-$J75)/$L75),0))))","v":90.518198719810144},{"$f":"IF(Data!$AI75=1,50,IF($G75=0,0,CHOOSE($G75,SUMPRODUCT($O76:$O$81*AI76:AI$81*($D76:$D$81=$C75)),IF(ISNUMBER(Data!AG75),100*ABS($F75-(Data!AG75-$J75)/$L75),0),IF(ISNUMBER(Data!AG75),100*ABS($F75-(Data!AG75-$J75)/$L75),0))))","v":53.124627976190489}]
[null,{"$f":"tblIndicators!A70","v":69},{"$f":"tblIndicators!B70","v":"LIVRES_1_1"},{"$f":"tblIndicators!C70","v":"LIVRES_1"},{"$f":"tblIndicators!D70","v":3},{"$f":"tblIndicators!L70","v":0},{"$f":"tblIndicators!V70","v":3},{"$f":"tblIndicators!W70","v":0},{"$f":"tblIndicators!X70","v":1},{"$f":"CHOOSE(G76,\"-\",Data!H76,H76)","v":0},{"$f":"CHOOSE(G76,\"-\",Data!I76,I76)","v":1},1,{"$f":"tblIndicators!AE70","v":"6.1.1) Fisheries governance and management effectiveness"},"",{"$f":"tblIndicators!AJ70","v":1},{"$f":"IF(Data!$AI76=1,50,IF($G76=0,0,CHOOSE($G76,SUMPRODUCT($O77:$O$81*P77:P$81*($D77:$D$81=$C76)),IF(ISNUMBER(Data!N76),100*ABS($F76-(Data!N76-$J76)/$L76),0),IF(ISNUMBER(Data!N76),100*ABS($F76-(Data!N76-$J76)/$L76),0))))","v":34.180933710538966},{"$f":"IF(Data!$AI76=1,50,IF($G76=0,0,CHOOSE($G76,SUMPRODUCT($O77:$O$81*Q77:Q$81*($D77:$D$81=$C76)),IF(ISNUMBER(Data!O76),100*ABS($F76-(Data!O76-$J76)/$L76),0),IF(ISNUMBER(Data!O76),100*ABS($F76-(Data!O76-$J76)/$L76),0))))","v":81.264335517079786},{"$f":"IF(Data!$AI76=1,50,IF($G76=0,0,CHOOSE($G76,SUMPRODUCT($O77:$O$81*R77:R$81*($D77:$D$81=$C76)),IF(ISNUMBER(Data!P76),100*ABS($F76-(Data!P76-$J76)/$L76),0),IF(ISNUMBER(Data!P76),100*ABS($F76-(Data!P76-$J76)/$L76),0))))","v":63.469730136964252},{"$f":"IF(Data!$AI76=1,50,IF($G76=0,0,CHOOSE($G76,SUMPRODUCT($O77:$O$81*S77:S$81*($D77:$D$81=$C76)),IF(ISNUMBER(Data!Q76),100*ABS($F76-(Data!Q76-$J76)/$L76),0),IF(ISNUMBER(Data!Q76),100*ABS($F76-(Data!Q76-$J76)/$L76),0))))","v":24.752547275076349},{"$f":"IF(Data!$AI76=1,50,IF($G76=0,0,CHOOSE($G76,SUMPRODUCT($O77:$O$81*T77:T$81*($D77:$D$81=$C76)),IF(ISNUMBER(Data!R76),100*ABS($F76-(Data!R76-$J76)/$L76),0),IF(ISNUMBER(Data!R76),100*ABS($F76-(Data!R76-$J76)/$L76),0))))","v":73.948512708683694},{"$f":"IF(Data!$AI76=1,50,IF($G76=0,0,CHOOSE($G76,SUMPRODUCT($O77:$O$81*U77:U$81*($D77:$D$81=$C76)),IF(ISNUMBER(Data!S76),100*ABS($F76-(Data!S76-$J76)/$L76),0),IF(ISNUMBER(Data!S76),100*ABS($F76-(Data!S76-$J76)/$L76),0))))","v":44.146773124507391},{"$f":"IF(Data!$AI76=1,50,IF($G76=0,0,CHOOSE($G76,SUMPRODUCT($O77:$O$81*V77:V$81*($D77:$D$81=$C76)),IF(ISNUMBER(Data!T76),100*ABS($F76-(Data!T76-$J76)/$L76),0),IF(ISNUMBER(Data!T76),100*ABS($F76-(Data!T76-$J76)/$L76),0))))","v":36.772963765600792},{"$f":"IF(Data!$AI76=1,50,IF($G76=0,0,CHOOSE($G76,SUMPRODUCT($O77:$O$81*W77:W$81*($D77:$D$81=$C76)),IF(ISNUMBER(Data!U76),100*ABS($F76-(Data!U76-$J76)/$L76),0),IF(ISNUMBER(Data!U76),100*ABS($F76-(Data!U76-$J76)/$L76),0))))","v":59.793148152207301},{"$f":"IF(Data!$AI76=1,50,IF($G76=0,0,CHOOSE($G76,SUMPRODUCT($O77:$O$81*X77:X$81*($D77:$D$81=$C76)),IF(ISNUMBER(Data!V76),100*ABS($F76-(Data!V76-$J76)/$L76),0),IF(ISNUMBER(Data!V76),100*ABS($F76-(Data!V76-$J76)/$L76),0))))","v":53.760303533818757},{"$f":"IF(Data!$AI76=1,50,IF($G76=0,0,CHOOSE($G76,SUMPRODUCT($O77:$O$81*Y77:Y$81*($D77:$D$81=$C76)),IF(ISNUMBER(Data!W76),100*ABS($F76-(Data!W76-$J76)/$L76),0),IF(ISNUMBER(Data!W76),100*ABS($F76-(Data!W76-$J76)/$L76),0))))","v":81.158446414107033},{"$f":"IF(Data!$AI76=1,50,IF($G76=0,0,CHOOSE($G76,SUMPRODUCT($O77:$O$81*Z77:Z$81*($D77:$D$81=$C76)),IF(ISNUMBER(Data!X76),100*ABS($F76-(Data!X76-$J76)/$L76),0),IF(ISNUMBER(Data!X76),100*ABS($F76-(Data!X76-$J76)/$L76),0))))","v":44.264457773755609},{"$f":"IF(Data!$AI76=1,50,IF($G76=0,0,CHOOSE($G76,SUMPRODUCT($O77:$O$81*AA77:AA$81*($D77:$D$81=$C76)),IF(ISNUMBER(Data!Y76),100*ABS($F76-(Data!Y76-$J76)/$L76),0),IF(ISNUMBER(Data!Y76),100*ABS($F76-(Data!Y76-$J76)/$L76),0))))","v":88.276020081512101},{"$f":"IF(Data!$AI76=1,50,IF($G76=0,0,CHOOSE($G76,SUMPRODUCT($O77:$O$81*AB77:AB$81*($D77:$D$81=$C76)),IF(ISNUMBER(Data!Z76),100*ABS($F76-(Data!Z76-$J76)/$L76),0),IF(ISNUMBER(Data!Z76),100*ABS($F76-(Data!Z76-$J76)/$L76),0))))","v":62.472291091385159},{"$f":"IF(Data!$AI76=1,50,IF($G76=0,0,CHOOSE($G76,SUMPRODUCT($O77:$O$81*AC77:AC$81*($D77:$D$81=$C76)),IF(ISNUMBER(Data!AA76),100*ABS($F76-(Data!AA76-$J76)/$L76),0),IF(ISNUMBER(Data!AA76),100*ABS($F76-(Data!AA76-$J76)/$L76),0))))","v":42.476065179190179},{"$f":"IF(Data!$AI76=1,50,IF($G76=0,0,CHOOSE($G76,SUMPRODUCT($O77:$O$81*AD77:AD$81*($D77:$D$81=$C76)),IF(ISNUMBER(Data!AB76),100*ABS($F76-(Data!AB76-$J76)/$L76),0),IF(ISNUMBER(Data!AB76),100*ABS($F76-(Data!AB76-$J76)/$L76),0))))","v":86.238747017802979},{"$f":"IF(Data!$AI76=1,50,IF($G76=0,0,CHOOSE($G76,SUMPRODUCT($O77:$O$81*AE77:AE$81*($D77:$D$81=$C76)),IF(ISNUMBER(Data!AC76),100*ABS($F76-(Data!AC76-$J76)/$L76),0),IF(ISNUMBER(Data!AC76),100*ABS($F76-(Data!AC76-$J76)/$L76),0))))","v":80.75307887569636},{"$f":"IF(Data!$AI76=1,50,IF($G76=0,0,CHOOSE($G76,SUMPRODUCT($O77:$O$81*AF77:AF$81*($D77:$D$81=$C76)),IF(ISNUMBER(Data!AD76),100*ABS($F76-(Data!AD76-$J76)/$L76),0),IF(ISNUMBER(Data!AD76),100*ABS($F76-(Data!AD76-$J76)/$L76),0))))","v":59.35646404142355},{"$f":"IF(Data!$AI76=1,50,IF($G76=0,0,CHOOSE($G76,SUMPRODUCT($O77:$O$81*AG77:AG$81*($D77:$D$81=$C76)),IF(ISNUMBER(Data!AE76),100*ABS($F76-(Data!AE76-$J76)/$L76),0),IF(ISNUMBER(Data!AE76),100*ABS($F76-(Data!AE76-$J76)/$L76),0))))","v":74.230478789071029},{"$f":"IF(Data!$AI76=1,50,IF($G76=0,0,CHOOSE($G76,SUMPRODUCT($O77:$O$81*AH77:AH$81*($D77:$D$81=$C76)),IF(ISNUMBER(Data!AF76),100*ABS($F76-(Data!AF76-$J76)/$L76),0),IF(ISNUMBER(Data!AF76),100*ABS($F76-(Data!AF76-$J76)/$L76),0))))","v":90.518198719810144},{"$f":"IF(Data!$AI76=1,50,IF($G76=0,0,CHOOSE($G76,SUMPRODUCT($O77:$O$81*AI77:AI$81*($D77:$D$81=$C76)),IF(ISNUMBER(Data!AG76),100*ABS($F76-(Data!AG76-$J76)/$L76),0),IF(ISNUMBER(Data!AG76),100*ABS($F76-(Data!AG76-$J76)/$L76),0))))","v":53.124627976190489}]
[null,{"$f":"tblIndicators!A71","v":70},{"$f":"tblIndicators!B71","v":"LIVRES_2"},{"$f":"tblIndicators!C71","v":"LIVRES"},{"$f":"tblIndicators!D71","v":2},{"$f":"tblIndicators!L71","v":0},{"$f":"tblIndicators!V71","v":1},{"$f":"tblIndicators!W71","v":0},{"$f":"tblIndicators!X71","v":100},{"$f":"CHOOSE(G77,\"-\",Data!H77,H77)","v":"-"},{"$f":"CHOOSE(G77,\"-\",Data!I77,I77)","v":"-"},"-",{"$f":"tblIndicators!AE71","v":"6.2) Protection for marine/coastal species"},0.33333333333333331,{"$f":"tblIndicators!AJ71","v":0.33333333333333331},{"$f":"IF(Data!$AI77=1,50,IF($G77=0,0,CHOOSE($G77,SUMPRODUCT($O78:$O$81*P78:P$81*($D78:$D$81=$C77)),IF(ISNUMBER(Data!N77),100*ABS($F77-(Data!N77-$J77)/$L77),0),IF(ISNUMBER(Data!N77),100*ABS($F77-(Data!N77-$J77)/$L77),0))))","v":100},{"$f":"IF(Data!$AI77=1,50,IF($G77=0,0,CHOOSE($G77,SUMPRODUCT($O78:$O$81*Q78:Q$81*($D78:$D$81=$C77)),IF(ISNUMBER(Data!O77),100*ABS($F77-(Data!O77-$J77)/$L77),0),IF(ISNUMBER(Data!O77),100*ABS($F77-(Data!O77-$J77)/$L77),0))))","v":50},{"$f":"IF(Data!$AI77=1,50,IF($G77=0,0,CHOOSE($G77,SUMPRODUCT($O78:$O$81*R78:R$81*($D78:$D$81=$C77)),IF(ISNUMBER(Data!P77),100*ABS($F77-(Data!P77-$J77)/$L77),0),IF(ISNUMBER(Data!P77),100*ABS($F77-(Data!P77-$J77)/$L77),0))))","v":50},{"$f":"IF(Data!$AI77=1,50,IF($G77=0,0,CHOOSE($G77,SUMPRODUCT($O78:$O$81*S78:S$81*($D78:$D$81=$C77)),IF(ISNUMBER(Data!Q77),100*ABS($F77-(Data!Q77-$J77)/$L77),0),IF(ISNUMBER(Data!Q77),100*ABS($F77-(Data!Q77-$J77)/$L77),0))))","v":50},{"$f":"IF(Data!$AI77=1,50,IF($G77=0,0,CHOOSE($G77,SUMPRODUCT($O78:$O$81*T78:T$81*($D78:$D$81=$C77)),IF(ISNUMBER(Data!R77),100*ABS($F77-(Data!R77-$J77)/$L77),0),IF(ISNUMBER(Data!R77),100*ABS($F77-(Data!R77-$J77)/$L77),0))))","v":100},{"$f":"IF(Data!$AI77=1,50,IF($G77=0,0,CHOOSE($G77,SUMPRODUCT($O78:$O$81*U78:U$81*($D78:$D$81=$C77)),IF(ISNUMBER(Data!S77),100*ABS($F77-(Data!S77-$J77)/$L77),0),IF(ISNUMBER(Data!S77),100*ABS($F77-(Data!S77-$J77)/$L77),0))))","v":50},{"$f":"IF(Data!$AI77=1,50,IF($G77=0,0,CHOOSE($G77,SUMPRODUCT($O78:$O$81*V78:V$81*($D78:$D$81=$C77)),IF(ISNUMBER(Data!T77),100*ABS($F77-(Data!T77-$J77)/$L77),0),IF(ISNUMBER(Data!T77),100*ABS($F77-(Data!T77-$J77)/$L77),0))))","v":75},{"$f":"IF(Data!$AI77=1,50,IF($G77=0,0,CHOOSE($G77,SUMPRODUCT($O78:$O$81*W78:W$81*($D78:$D$81=$C77)),IF(ISNUMBER(Data!U77),100*ABS($F77-(Data!U77-$J77)/$L77),0),IF(ISNUMBER(Data!U77),100*ABS($F77-(Data!U77-$J77)/$L77),0))))","v":25},{"$f":"IF(Data!$AI77=1,50,IF($G77=0,0,CHOOSE($G77,SUMPRODUCT($O78:$O$81*X78:X$81*($D78:$D$81=$C77)),IF(ISNUMBER(Data!V77),100*ABS($F77-(Data!V77-$J77)/$L77),0),IF(ISNUMBER(Data!V77),100*ABS($F77-(Data!V77-$J77)/$L77),0))))","v":100},{"$f":"IF(Data!$AI77=1,50,IF($G77=0,0,CHOOSE($G77,SUMPRODUCT($O78:$O$81*Y78:Y$81*($D78:$D$81=$C77)),IF(ISNUMBER(Data!W77),100*ABS($F77-(Data!W77-$J77)/$L77),0),IF(ISNUMBER(Data!W77),100*ABS($F77-(Data!W77-$J77)/$L77),0))))","v":100},{"$f":"IF(Data!$AI77=1,50,IF($G77=0,0,CHOOSE($G77,SUMPRODUCT($O78:$O$81*Z78:Z$81*($D78:$D$81=$C77)),IF(ISNUMBER(Data!X77),100*ABS($F77-(Data!X77-$J77)/$L77),0),IF(ISNUMBER(Data!X77),100*ABS($F77-(Data!X77-$J77)/$L77),0))))","v":50},{"$f":"IF(Data!$AI77=1,50,IF($G77=0,0,CHOOSE($G77,SUMPRODUCT($O78:$O$81*AA78:AA$81*($D78:$D$81=$C77)),IF(ISNUMBER(Data!Y77),100*ABS($F77-(Data!Y77-$J77)/$L77),0),IF(ISNUMBER(Data!Y77),100*ABS($F77-(Data!Y77-$J77)/$L77),0))))","v":50},{"$f":"IF(Data!$AI77=1,50,IF($G77=0,0,CHOOSE($G77,SUMPRODUCT($O78:$O$81*AB78:AB$81*($D78:$D$81=$C77)),IF(ISNUMBER(Data!Z77),100*ABS($F77-(Data!Z77-$J77)/$L77),0),IF(ISNUMBER(Data!Z77),100*ABS($F77-(Data!Z77-$J77)/$L77),0))))","v":50},{"$f":"IF(Data!$AI77=1,50,IF($G77=0,0,CHOOSE($G77,SUMPRODUCT($O78:$O$81*AC78:AC$81*($D78:$D$81=$C77)),IF(ISNUMBER(Data!AA77),100*ABS($F77-(Data!AA77-$J77)/$L77),0),IF(ISNUMBER(Data!AA77),100*ABS($F77-(Data!AA77-$J77)/$L77),0))))","v":50},{"$f":"IF(Data!$AI77=1,50,IF($G77=0,0,CHOOSE($G77,SUMPRODUCT($O78:$O$81*AD78:AD$81*($D78:$D$81=$C77)),IF(ISNUMBER(Data!AB77),100*ABS($F77-(Data!AB77-$J77)/$L77),0),IF(ISNUMBER(Data!AB77),100*ABS($F77-(Data!AB77-$J77)/$L77),0))))","v":100},{"$f":"IF(Data!$AI77=1,50,IF($G77=0,0,CHOOSE($G77,SUMPRODUCT($O78:$O$81*AE78:AE$81*($D78:$D$81=$C77)),IF(ISNUMBER(Data!AC77),100*ABS($F77-(Data!AC77-$J77)/$L77),0),IF(ISNUMBER(Data!AC77),100*ABS($F77-(Data!AC77-$J77)/$L77),0))))","v":100},{"$f":"IF(Data!$AI77=1,50,IF($G77=0,0,CHOOSE($G77,SUMPRODUCT($O78:$O$81*AF78:AF$81*($D78:$D$81=$C77)),IF(ISNUMBER(Data!AD77),100*ABS($F77-(Data!AD77-$J77)/$L77),0),IF(ISNUMBER(Data!AD77),100*ABS($F77-(Data!AD77-$J77)/$L77),0))))","v":50},{"$f":"IF(Data!$AI77=1,50,IF($G77=0,0,CHOOSE($G77,SUMPRODUCT($O78:$O$81*AG78:AG$81*($D78:$D$81=$C77)),IF(ISNUMBER(Data!AE77),100*ABS($F77-(Data!AE77-$J77)/$L77),0),IF(ISNUMBER(Data!AE77),100*ABS($F77-(Data!AE77-$J77)/$L77),0))))","v":75},{"$f":"IF(Data!$AI77=1,50,IF($G77=0,0,CHOOSE($G77,SUMPRODUCT($O78:$O$81*AH78:AH$81*($D78:$D$81=$C77)),IF(ISNUMBER(Data!AF77),100*ABS($F77-(Data!AF77-$J77)/$L77),0),IF(ISNUMBER(Data!AF77),100*ABS($F77-(Data!AF77-$J77)/$L77),0))))","v":100},{"$f":"IF(Data!$AI77=1,50,IF($G77=0,0,CHOOSE($G77,SUMPRODUCT($O78:$O$81*AI78:AI$81*($D78:$D$81=$C77)),IF(ISNUMBER(Data!AG77),100*ABS($F77-(Data!AG77-$J77)/$L77),0),IF(ISNUMBER(Data!AG77),100*ABS($F77-(Data!AG77-$J77)/$L77),0))))","v":50}]
[null,{"$f":"tblIndicators!A72","v":71},{"$f":"tblIndicators!B72","v":"LIVRES_2_1"},{"$f":"tblIndicators!C72","v":"LIVRES_2"},{"$f":"tblIndicators!D72","v":3},{"$f":"tblIndicators!L72","v":0},{"$f":"tblIndicators!V72","v":3},{"$f":"tblIndicators!W72","v":0},{"$f":"tblIndicators!X72","v":1},{"$f":"CHOOSE(G78,\"-\",Data!H78,H78)","v":0},{"$f":"CHOOSE(G78,\"-\",Data!I78,I78)","v":1},1,{"$f":"tblIndicators!AE72","v":"6.2.1) Protection of threatened species and populations "},"",{"$f":"tblIndicators!AJ72","v":0.5},{"$f":"IF(Data!$AI78=1,50,IF($G78=0,0,CHOOSE($G78,SUMPRODUCT($O79:$O$81*P79:P$81*($D79:$D$81=$C78)),IF(ISNUMBER(Data!N78),100*ABS($F78-(Data!N78-$J78)/$L78),0),IF(ISNUMBER(Data!N78),100*ABS($F78-(Data!N78-$J78)/$L78),0))))","v":100},{"$f":"IF(Data!$AI78=1,50,IF($G78=0,0,CHOOSE($G78,SUMPRODUCT($O79:$O$81*Q79:Q$81*($D79:$D$81=$C78)),IF(ISNUMBER(Data!O78),100*ABS($F78-(Data!O78-$J78)/$L78),0),IF(ISNUMBER(Data!O78),100*ABS($F78-(Data!O78-$J78)/$L78),0))))","v":100},{"$f":"IF(Data!$AI78=1,50,IF($G78=0,0,CHOOSE($G78,SUMPRODUCT($O79:$O$81*R79:R$81*($D79:$D$81=$C78)),IF(ISNUMBER(Data!P78),100*ABS($F78-(Data!P78-$J78)/$L78),0),IF(ISNUMBER(Data!P78),100*ABS($F78-(Data!P78-$J78)/$L78),0))))","v":100},{"$f":"IF(Data!$AI78=1,50,IF($G78=0,0,CHOOSE($G78,SUMPRODUCT($O79:$O$81*S79:S$81*($D79:$D$81=$C78)),IF(ISNUMBER(Data!Q78),100*ABS($F78-(Data!Q78-$J78)/$L78),0),IF(ISNUMBER(Data!Q78),100*ABS($F78-(Data!Q78-$J78)/$L78),0))))","v":100},{"$f":"IF(Data!$AI78=1,50,IF($G78=0,0,CHOOSE($G78,SUMPRODUCT($O79:$O$81*T79:T$81*($D79:$D$81=$C78)),IF(ISNUMBER(Data!R78),100*ABS($F78-(Data!R78-$J78)/$L78),0),IF(ISNUMBER(Data!R78),100*ABS($F78-(Data!R78-$J78)/$L78),0))))","v":100},{"$f":"IF(Data!$AI78=1,50,IF($G78=0,0,CHOOSE($G78,SUMPRODUCT($O79:$O$81*U79:U$81*($D79:$D$81=$C78)),IF(ISNUMBER(Data!S78),100*ABS($F78-(Data!S78-$J78)/$L78),0),IF(ISNUMBER(Data!S78),100*ABS($F78-(Data!S78-$J78)/$L78),0))))","v":100},{"$f":"IF(Data!$AI78=1,50,IF($G78=0,0,CHOOSE($G78,SUMPRODUCT($O79:$O$81*V79:V$81*($D79:$D$81=$C78)),IF(ISNUMBER(Data!T78),100*ABS($F78-(Data!T78-$J78)/$L78),0),IF(ISNUMBER(Data!T78),100*ABS($F78-(Data!T78-$J78)/$L78),0))))","v":100},{"$f":"IF(Data!$AI78=1,50,IF($G78=0,0,CHOOSE($G78,SUMPRODUCT($O79:$O$81*W79:W$81*($D79:$D$81=$C78)),IF(ISNUMBER(Data!U78),100*ABS($F78-(Data!U78-$J78)/$L78),0),IF(ISNUMBER(Data!U78),100*ABS($F78-(Data!U78-$J78)/$L78),0))))","v":0},{"$f":"IF(Data!$AI78=1,50,IF($G78=0,0,CHOOSE($G78,SUMPRODUCT($O79:$O$81*X79:X$81*($D79:$D$81=$C78)),IF(ISNUMBER(Data!V78),100*ABS($F78-(Data!V78-$J78)/$L78),0),IF(ISNUMBER(Data!V78),100*ABS($F78-(Data!V78-$J78)/$L78),0))))","v":100},{"$f":"IF(Data!$AI78=1,50,IF($G78=0,0,CHOOSE($G78,SUMPRODUCT($O79:$O$81*Y79:Y$81*($D79:$D$81=$C78)),IF(ISNUMBER(Data!W78),100*ABS($F78-(Data!W78-$J78)/$L78),0),IF(ISNUMBER(Data!W78),100*ABS($F78-(Data!W78-$J78)/$L78),0))))","v":100},{"$f":"IF(Data!$AI78=1,50,IF($G78=0,0,CHOOSE($G78,SUMPRODUCT($O79:$O$81*Z79:Z$81*($D79:$D$81=$C78)),IF(ISNUMBER(Data!X78),100*ABS($F78-(Data!X78-$J78)/$L78),0),IF(ISNUMBER(Data!X78),100*ABS($F78-(Data!X78-$J78)/$L78),0))))","v":100},{"$f":"IF(Data!$AI78=1,50,IF($G78=0,0,CHOOSE($G78,SUMPRODUCT($O79:$O$81*AA79:AA$81*($D79:$D$81=$C78)),IF(ISNUMBER(Data!Y78),100*ABS($F78-(Data!Y78-$J78)/$L78),0),IF(ISNUMBER(Data!Y78),100*ABS($F78-(Data!Y78-$J78)/$L78),0))))","v":100},{"$f":"IF(Data!$AI78=1,50,IF($G78=0,0,CHOOSE($G78,SUMPRODUCT($O79:$O$81*AB79:AB$81*($D79:$D$81=$C78)),IF(ISNUMBER(Data!Z78),100*ABS($F78-(Data!Z78-$J78)/$L78),0),IF(ISNUMBER(Data!Z78),100*ABS($F78-(Data!Z78-$J78)/$L78),0))))","v":100},{"$f":"IF(Data!$AI78=1,50,IF($G78=0,0,CHOOSE($G78,SUMPRODUCT($O79:$O$81*AC79:AC$81*($D79:$D$81=$C78)),IF(ISNUMBER(Data!AA78),100*ABS($F78-(Data!AA78-$J78)/$L78),0),IF(ISNUMBER(Data!AA78),100*ABS($F78-(Data!AA78-$J78)/$L78),0))))","v":100},{"$f":"IF(Data!$AI78=1,50,IF($G78=0,0,CHOOSE($G78,SUMPRODUCT($O79:$O$81*AD79:AD$81*($D79:$D$81=$C78)),IF(ISNUMBER(Data!AB78),100*ABS($F78-(Data!AB78-$J78)/$L78),0),IF(ISNUMBER(Data!AB78),100*ABS($F78-(Data!AB78-$J78)/$L78),0))))","v":100},{"$f":"IF(Data!$AI78=1,50,IF($G78=0,0,CHOOSE($G78,SUMPRODUCT($O79:$O$81*AE79:AE$81*($D79:$D$81=$C78)),IF(ISNUMBER(Data!AC78),100*ABS($F78-(Data!AC78-$J78)/$L78),0),IF(ISNUMBER(Data!AC78),100*ABS($F78-(Data!AC78-$J78)/$L78),0))))","v":100},{"$f":"IF(Data!$AI78=1,50,IF($G78=0,0,CHOOSE($G78,SUMPRODUCT($O79:$O$81*AF79:AF$81*($D79:$D$81=$C78)),IF(ISNUMBER(Data!AD78),100*ABS($F78-(Data!AD78-$J78)/$L78),0),IF(ISNUMBER(Data!AD78),100*ABS($F78-(Data!AD78-$J78)/$L78),0))))","v":100},{"$f":"IF(Data!$AI78=1,50,IF($G78=0,0,CHOOSE($G78,SUMPRODUCT($O79:$O$81*AG79:AG$81*($D79:$D$81=$C78)),IF(ISNUMBER(Data!AE78),100*ABS($F78-(Data!AE78-$J78)/$L78),0),IF(ISNUMBER(Data!AE78),100*ABS($F78-(Data!AE78-$J78)/$L78),0))))","v":100},{"$f":"IF(Data!$AI78=1,50,IF($G78=0,0,CHOOSE($G78,SUMPRODUCT($O79:$O$81*AH79:AH$81*($D79:$D$81=$C78)),IF(ISNUMBER(Data!AF78),100*ABS($F78-(Data!AF78-$J78)/$L78),0),IF(ISNUMBER(Data!AF78),100*ABS($F78-(Data!AF78-$J78)/$L78),0))))","v":100},{"$f":"IF(Data!$AI78=1,50,IF($G78=0,0,CHOOSE($G78,SUMPRODUCT($O79:$O$81*AI79:AI$81*($D79:$D$81=$C78)),IF(ISNUMBER(Data!AG78),100*ABS($F78-(Data!AG78-$J78)/$L78),0),IF(ISNUMBER(Data!AG78),100*ABS($F78-(Data!AG78-$J78)/$L78),0))))","v":100}]
[null,{"$f":"tblIndicators!A73","v":72},{"$f":"tblIndicators!B73","v":"LIVRES_2_2"},{"$f":"tblIndicators!C73","v":"LIVRES_2"},{"$f":"tblIndicators!D73","v":3},{"$f":"tblIndicators!L73","v":0},{"$f":"tblIndicators!V73","v":3},{"$f":"tblIndicators!W73","v":0},{"$f":"tblIndicators!X73","v":2},{"$f":"CHOOSE(G79,\"-\",Data!H79,H79)","v":0},{"$f":"CHOOSE(G79,\"-\",Data!I79,I79)","v":2},2,{"$f":"tblIndicators!AE73","v":"6.2.2) Prevalence of marine protected areas"},"",{"$f":"tblIndicators!AJ73","v":0.5},{"$f":"IF(Data!$AI79=1,50,IF($G79=0,0,CHOOSE($G79,SUMPRODUCT($O80:$O$81*P80:P$81*($D80:$D$81=$C79)),IF(ISNUMBER(Data!N79),100*ABS($F79-(Data!N79-$J79)/$L79),0),IF(ISNUMBER(Data!N79),100*ABS($F79-(Data!N79-$J79)/$L79),0))))","v":100},{"$f":"IF(Data!$AI79=1,50,IF($G79=0,0,CHOOSE($G79,SUMPRODUCT($O80:$O$81*Q80:Q$81*($D80:$D$81=$C79)),IF(ISNUMBER(Data!O79),100*ABS($F79-(Data!O79-$J79)/$L79),0),IF(ISNUMBER(Data!O79),100*ABS($F79-(Data!O79-$J79)/$L79),0))))","v":0},{"$f":"IF(Data!$AI79=1,50,IF($G79=0,0,CHOOSE($G79,SUMPRODUCT($O80:$O$81*R80:R$81*($D80:$D$81=$C79)),IF(ISNUMBER(Data!P79),100*ABS($F79-(Data!P79-$J79)/$L79),0),IF(ISNUMBER(Data!P79),100*ABS($F79-(Data!P79-$J79)/$L79),0))))","v":0},{"$f":"IF(Data!$AI79=1,50,IF($G79=0,0,CHOOSE($G79,SUMPRODUCT($O80:$O$81*S80:S$81*($D80:$D$81=$C79)),IF(ISNUMBER(Data!Q79),100*ABS($F79-(Data!Q79-$J79)/$L79),0),IF(ISNUMBER(Data!Q79),100*ABS($F79-(Data!Q79-$J79)/$L79),0))))","v":0},{"$f":"IF(Data!$AI79=1,50,IF($G79=0,0,CHOOSE($G79,SUMPRODUCT($O80:$O$81*T80:T$81*($D80:$D$81=$C79)),IF(ISNUMBER(Data!R79),100*ABS($F79-(Data!R79-$J79)/$L79),0),IF(ISNUMBER(Data!R79),100*ABS($F79-(Data!R79-$J79)/$L79),0))))","v":100},{"$f":"IF(Data!$AI79=1,50,IF($G79=0,0,CHOOSE($G79,SUMPRODUCT($O80:$O$81*U80:U$81*($D80:$D$81=$C79)),IF(ISNUMBER(Data!S79),100*ABS($F79-(Data!S79-$J79)/$L79),0),IF(ISNUMBER(Data!S79),100*ABS($F79-(Data!S79-$J79)/$L79),0))))","v":0},{"$f":"IF(Data!$AI79=1,50,IF($G79=0,0,CHOOSE($G79,SUMPRODUCT($O80:$O$81*V80:V$81*($D80:$D$81=$C79)),IF(ISNUMBER(Data!T79),100*ABS($F79-(Data!T79-$J79)/$L79),0),IF(ISNUMBER(Data!T79),100*ABS($F79-(Data!T79-$J79)/$L79),0))))","v":50},{"$f":"IF(Data!$AI79=1,50,IF($G79=0,0,CHOOSE($G79,SUMPRODUCT($O80:$O$81*W80:W$81*($D80:$D$81=$C79)),IF(ISNUMBER(Data!U79),100*ABS($F79-(Data!U79-$J79)/$L79),0),IF(ISNUMBER(Data!U79),100*ABS($F79-(Data!U79-$J79)/$L79),0))))","v":50},{"$f":"IF(Data!$AI79=1,50,IF($G79=0,0,CHOOSE($G79,SUMPRODUCT($O80:$O$81*X80:X$81*($D80:$D$81=$C79)),IF(ISNUMBER(Data!V79),100*ABS($F79-(Data!V79-$J79)/$L79),0),IF(ISNUMBER(Data!V79),100*ABS($F79-(Data!V79-$J79)/$L79),0))))","v":100},{"$f":"IF(Data!$AI79=1,50,IF($G79=0,0,CHOOSE($G79,SUMPRODUCT($O80:$O$81*Y80:Y$81*($D80:$D$81=$C79)),IF(ISNUMBER(Data!W79),100*ABS($F79-(Data!W79-$J79)/$L79),0),IF(ISNUMBER(Data!W79),100*ABS($F79-(Data!W79-$J79)/$L79),0))))","v":100},{"$f":"IF(Data!$AI79=1,50,IF($G79=0,0,CHOOSE($G79,SUMPRODUCT($O80:$O$81*Z80:Z$81*($D80:$D$81=$C79)),IF(ISNUMBER(Data!X79),100*ABS($F79-(Data!X79-$J79)/$L79),0),IF(ISNUMBER(Data!X79),100*ABS($F79-(Data!X79-$J79)/$L79),0))))","v":0},{"$f":"IF(Data!$AI79=1,50,IF($G79=0,0,CHOOSE($G79,SUMPRODUCT($O80:$O$81*AA80:AA$81*($D80:$D$81=$C79)),IF(ISNUMBER(Data!Y79),100*ABS($F79-(Data!Y79-$J79)/$L79),0),IF(ISNUMBER(Data!Y79),100*ABS($F79-(Data!Y79-$J79)/$L79),0))))","v":0},{"$f":"IF(Data!$AI79=1,50,IF($G79=0,0,CHOOSE($G79,SUMPRODUCT($O80:$O$81*AB80:AB$81*($D80:$D$81=$C79)),IF(ISNUMBER(Data!Z79),100*ABS($F79-(Data!Z79-$J79)/$L79),0),IF(ISNUMBER(Data!Z79),100*ABS($F79-(Data!Z79-$J79)/$L79),0))))","v":0},{"$f":"IF(Data!$AI79=1,50,IF($G79=0,0,CHOOSE($G79,SUMPRODUCT($O80:$O$81*AC80:AC$81*($D80:$D$81=$C79)),IF(ISNUMBER(Data!AA79),100*ABS($F79-(Data!AA79-$J79)/$L79),0),IF(ISNUMBER(Data!AA79),100*ABS($F79-(Data!AA79-$J79)/$L79),0))))","v":0},{"$f":"IF(Data!$AI79=1,50,IF($G79=0,0,CHOOSE($G79,SUMPRODUCT($O80:$O$81*AD80:AD$81*($D80:$D$81=$C79)),IF(ISNUMBER(Data!AB79),100*ABS($F79-(Data!AB79-$J79)/$L79),0),IF(ISNUMBER(Data!AB79),100*ABS($F79-(Data!AB79-$J79)/$L79),0))))","v":100},{"$f":"IF(Data!$AI79=1,50,IF($G79=0,0,CHOOSE($G79,SUMPRODUCT($O80:$O$81*AE80:AE$81*($D80:$D$81=$C79)),IF(ISNUMBER(Data!AC79),100*ABS($F79-(Data!AC79-$J79)/$L79),0),IF(ISNUMBER(Data!AC79),100*ABS($F79-(Data!AC79-$J79)/$L79),0))))","v":100},{"$f":"IF(Data!$AI79=1,50,IF($G79=0,0,CHOOSE($G79,SUMPRODUCT($O80:$O$81*AF80:AF$81*($D80:$D$81=$C79)),IF(ISNUMBER(Data!AD79),100*ABS($F79-(Data!AD79-$J79)/$L79),0),IF(ISNUMBER(Data!AD79),100*ABS($F79-(Data!AD79-$J79)/$L79),0))))","v":0},{"$f":"IF(Data!$AI79=1,50,IF($G79=0,0,CHOOSE($G79,SUMPRODUCT($O80:$O$81*AG80:AG$81*($D80:$D$81=$C79)),IF(ISNUMBER(Data!AE79),100*ABS($F79-(Data!AE79-$J79)/$L79),0),IF(ISNUMBER(Data!AE79),100*ABS($F79-(Data!AE79-$J79)/$L79),0))))","v":50},{"$f":"IF(Data!$AI79=1,50,IF($G79=0,0,CHOOSE($G79,SUMPRODUCT($O80:$O$81*AH80:AH$81*($D80:$D$81=$C79)),IF(ISNUMBER(Data!AF79),100*ABS($F79-(Data!AF79-$J79)/$L79),0),IF(ISNUMBER(Data!AF79),100*ABS($F79-(Data!AF79-$J79)/$L79),0))))","v":100},{"$f":"IF(Data!$AI79=1,50,IF($G79=0,0,CHOOSE($G79,SUMPRODUCT($O80:$O$81*AI80:AI$81*($D80:$D$81=$C79)),IF(ISNUMBER(Data!AG79),100*ABS($F79-(Data!AG79-$J79)/$L79),0),IF(ISNUMBER(Data!AG79),100*ABS($F79-(Data!AG79-$J79)/$L79),0))))","v":0}]
[null,{"$f":"tblIndicators!A74","v":73},{"$f":"tblIndicators!B74","v":"LIVRES_3"},{"$f":"tblIndicators!C74","v":"LIVRES"},{"$f":"tblIndicators!D74","v":2},{"$f":"tblIndicators!L74","v":0},{"$f":"tblIndicators!V74","v":1},{"$f":"tblIndicators!W74","v":0},{"$f":"tblIndicators!X74","v":100},{"$f":"CHOOSE(G80,\"-\",Data!H80,H80)","v":"-"},{"$f":"CHOOSE(G80,\"-\",Data!I80,I80)","v":"-"},"-",{"$f":"tblIndicators!AE74","v":"6.3) Ballast water treatment"},0.33333333333333331,{"$f":"tblIndicators!AJ74","v":0.33333333333333331},{"$f":"IF(Data!$AI80=1,50,IF($G80=0,0,CHOOSE($G80,SUMPRODUCT($O81:$O$81*P81:P$81*($D81:$D$81=$C80)),IF(ISNUMBER(Data!N80),100*ABS($F80-(Data!N80-$J80)/$L80),0),IF(ISNUMBER(Data!N80),100*ABS($F80-(Data!N80-$J80)/$L80),0))))","v":100},{"$f":"IF(Data!$AI80=1,50,IF($G80=0,0,CHOOSE($G80,SUMPRODUCT($O81:$O$81*Q81:Q$81*($D81:$D$81=$C80)),IF(ISNUMBER(Data!O80),100*ABS($F80-(Data!O80-$J80)/$L80),0),IF(ISNUMBER(Data!O80),100*ABS($F80-(Data!O80-$J80)/$L80),0))))","v":100},{"$f":"IF(Data!$AI80=1,50,IF($G80=0,0,CHOOSE($G80,SUMPRODUCT($O81:$O$81*R81:R$81*($D81:$D$81=$C80)),IF(ISNUMBER(Data!P80),100*ABS($F80-(Data!P80-$J80)/$L80),0),IF(ISNUMBER(Data!P80),100*ABS($F80-(Data!P80-$J80)/$L80),0))))","v":100},{"$f":"IF(Data!$AI80=1,50,IF($G80=0,0,CHOOSE($G80,SUMPRODUCT($O81:$O$81*S81:S$81*($D81:$D$81=$C80)),IF(ISNUMBER(Data!Q80),100*ABS($F80-(Data!Q80-$J80)/$L80),0),IF(ISNUMBER(Data!Q80),100*ABS($F80-(Data!Q80-$J80)/$L80),0))))","v":0},{"$f":"IF(Data!$AI80=1,50,IF($G80=0,0,CHOOSE($G80,SUMPRODUCT($O81:$O$81*T81:T$81*($D81:$D$81=$C80)),IF(ISNUMBER(Data!R80),100*ABS($F80-(Data!R80-$J80)/$L80),0),IF(ISNUMBER(Data!R80),100*ABS($F80-(Data!R80-$J80)/$L80),0))))","v":100},{"$f":"IF(Data!$AI80=1,50,IF($G80=0,0,CHOOSE($G80,SUMPRODUCT($O81:$O$81*U81:U$81*($D81:$D$81=$C80)),IF(ISNUMBER(Data!S80),100*ABS($F80-(Data!S80-$J80)/$L80),0),IF(ISNUMBER(Data!S80),100*ABS($F80-(Data!S80-$J80)/$L80),0))))","v":0},{"$f":"IF(Data!$AI80=1,50,IF($G80=0,0,CHOOSE($G80,SUMPRODUCT($O81:$O$81*V81:V$81*($D81:$D$81=$C80)),IF(ISNUMBER(Data!T80),100*ABS($F80-(Data!T80-$J80)/$L80),0),IF(ISNUMBER(Data!T80),100*ABS($F80-(Data!T80-$J80)/$L80),0))))","v":0},{"$f":"IF(Data!$AI80=1,50,IF($G80=0,0,CHOOSE($G80,SUMPRODUCT($O81:$O$81*W81:W$81*($D81:$D$81=$C80)),IF(ISNUMBER(Data!U80),100*ABS($F80-(Data!U80-$J80)/$L80),0),IF(ISNUMBER(Data!U80),100*ABS($F80-(Data!U80-$J80)/$L80),0))))","v":100},{"$f":"IF(Data!$AI80=1,50,IF($G80=0,0,CHOOSE($G80,SUMPRODUCT($O81:$O$81*X81:X$81*($D81:$D$81=$C80)),IF(ISNUMBER(Data!V80),100*ABS($F80-(Data!V80-$J80)/$L80),0),IF(ISNUMBER(Data!V80),100*ABS($F80-(Data!V80-$J80)/$L80),0))))","v":0},{"$f":"IF(Data!$AI80=1,50,IF($G80=0,0,CHOOSE($G80,SUMPRODUCT($O81:$O$81*Y81:Y$81*($D81:$D$81=$C80)),IF(ISNUMBER(Data!W80),100*ABS($F80-(Data!W80-$J80)/$L80),0),IF(ISNUMBER(Data!W80),100*ABS($F80-(Data!W80-$J80)/$L80),0))))","v":100},{"$f":"IF(Data!$AI80=1,50,IF($G80=0,0,CHOOSE($G80,SUMPRODUCT($O81:$O$81*Z81:Z$81*($D81:$D$81=$C80)),IF(ISNUMBER(Data!X80),100*ABS($F80-(Data!X80-$J80)/$L80),0),IF(ISNUMBER(Data!X80),100*ABS($F80-(Data!X80-$J80)/$L80),0))))","v":0},{"$f":"IF(Data!$AI80=1,50,IF($G80=0,0,CHOOSE($G80,SUMPRODUCT($O81:$O$81*AA81:AA$81*($D81:$D$81=$C80)),IF(ISNUMBER(Data!Y80),100*ABS($F80-(Data!Y80-$J80)/$L80),0),IF(ISNUMBER(Data!Y80),100*ABS($F80-(Data!Y80-$J80)/$L80),0))))","v":100},{"$f":"IF(Data!$AI80=1,50,IF($G80=0,0,CHOOSE($G80,SUMPRODUCT($O81:$O$81*AB81:AB$81*($D81:$D$81=$C80)),IF(ISNUMBER(Data!Z80),100*ABS($F80-(Data!Z80-$J80)/$L80),0),IF(ISNUMBER(Data!Z80),100*ABS($F80-(Data!Z80-$J80)/$L80),0))))","v":0},{"$f":"IF(Data!$AI80=1,50,IF($G80=0,0,CHOOSE($G80,SUMPRODUCT($O81:$O$81*AC81:AC$81*($D81:$D$81=$C80)),IF(ISNUMBER(Data!AA80),100*ABS($F80-(Data!AA80-$J80)/$L80),0),IF(ISNUMBER(Data!AA80),100*ABS($F80-(Data!AA80-$J80)/$L80),0))))","v":0},{"$f":"IF(Data!$AI80=1,50,IF($G80=0,0,CHOOSE($G80,SUMPRODUCT($O81:$O$81*AD81:AD$81*($D81:$D$81=$C80)),IF(ISNUMBER(Data!AB80),100*ABS($F80-(Data!AB80-$J80)/$L80),0),IF(ISNUMBER(Data!AB80),100*ABS($F80-(Data!AB80-$J80)/$L80),0))))","v":0},{"$f":"IF(Data!$AI80=1,50,IF($G80=0,0,CHOOSE($G80,SUMPRODUCT($O81:$O$81*AE81:AE$81*($D81:$D$81=$C80)),IF(ISNUMBER(Data!AC80),100*ABS($F80-(Data!AC80-$J80)/$L80),0),IF(ISNUMBER(Data!AC80),100*ABS($F80-(Data!AC80-$J80)/$L80),0))))","v":0},{"$f":"IF(Data!$AI80=1,50,IF($G80=0,0,CHOOSE($G80,SUMPRODUCT($O81:$O$81*AF81:AF$81*($D81:$D$81=$C80)),IF(ISNUMBER(Data!AD80),100*ABS($F80-(Data!AD80-$J80)/$L80),0),IF(ISNUMBER(Data!AD80),100*ABS($F80-(Data!AD80-$J80)/$L80),0))))","v":100},{"$f":"IF(Data!$AI80=1,50,IF($G80=0,0,CHOOSE($G80,SUMPRODUCT($O81:$O$81*AG81:AG$81*($D81:$D$81=$C80)),IF(ISNUMBER(Data!AE80),100*ABS($F80-(Data!AE80-$J80)/$L80),0),IF(ISNUMBER(Data!AE80),100*ABS($F80-(Data!AE80-$J80)/$L80),0))))","v":100},{"$f":"IF(Data!$AI80=1,50,IF($G80=0,0,CHOOSE($G80,SUMPRODUCT($O81:$O$81*AH81:AH$81*($D81:$D$81=$C80)),IF(ISNUMBER(Data!AF80),100*ABS($F80-(Data!AF80-$J80)/$L80),0),IF(ISNUMBER(Data!AF80),100*ABS($F80-(Data!AF80-$J80)/$L80),0))))","v":100},{"$f":"IF(Data!$AI80=1,50,IF($G80=0,0,CHOOSE($G80,SUMPRODUCT($O81:$O$81*AI81:AI$81*($D81:$D$81=$C80)),IF(ISNUMBER(Data!AG80),100*ABS($F80-(Data!AG80-$J80)/$L80),0),IF(ISNUMBER(Data!AG80),100*ABS($F80-(Data!AG80-$J80)/$L80),0))))","v":0}]
[null,{"$f":"tblIndicators!A75","v":74},{"$f":"tblIndicators!B75","v":"LIVRES_3_1"},{"$f":"tblIndicators!C75","v":"LIVRES_3"},{"$f":"tblIndicators!D75","v":3},{"$f":"tblIndicators!L75","v":0},{"$f":"tblIndicators!V75","v":3},{"$f":"tblIndicators!W75","v":0},{"$f":"tblIndicators!X75","v":1},{"$f":"CHOOSE(G81,\"-\",Data!H81,H81)","v":0},{"$f":"CHOOSE(G81,\"-\",Data!I81,I81)","v":1},1,{"$f":"tblIndicators!AE75","v":"6.3.1) Mechanisms to control pathways of introduction "},"",{"$f":"tblIndicators!AJ75","v":1},{"$f":"IF(Data!$AI81=1,50,IF($G81=0,0,CHOOSE($G81,SUMPRODUCT($O$81:$O82*P$81:P82*($D$81:$D82=$C81)),IF(ISNUMBER(Data!N81),100*ABS($F81-(Data!N81-$J81)/$L81),0),IF(ISNUMBER(Data!N81),100*ABS($F81-(Data!N81-$J81)/$L81),0))))","v":100},{"$f":"IF(Data!$AI81=1,50,IF($G81=0,0,CHOOSE($G81,SUMPRODUCT($O$81:$O82*Q$81:Q82*($D$81:$D82=$C81)),IF(ISNUMBER(Data!O81),100*ABS($F81-(Data!O81-$J81)/$L81),0),IF(ISNUMBER(Data!O81),100*ABS($F81-(Data!O81-$J81)/$L81),0))))","v":100},{"$f":"IF(Data!$AI81=1,50,IF($G81=0,0,CHOOSE($G81,SUMPRODUCT($O$81:$O82*R$81:R82*($D$81:$D82=$C81)),IF(ISNUMBER(Data!P81),100*ABS($F81-(Data!P81-$J81)/$L81),0),IF(ISNUMBER(Data!P81),100*ABS($F81-(Data!P81-$J81)/$L81),0))))","v":100},{"$f":"IF(Data!$AI81=1,50,IF($G81=0,0,CHOOSE($G81,SUMPRODUCT($O$81:$O82*S$81:S82*($D$81:$D82=$C81)),IF(ISNUMBER(Data!Q81),100*ABS($F81-(Data!Q81-$J81)/$L81),0),IF(ISNUMBER(Data!Q81),100*ABS($F81-(Data!Q81-$J81)/$L81),0))))","v":0},{"$f":"IF(Data!$AI81=1,50,IF($G81=0,0,CHOOSE($G81,SUMPRODUCT($O$81:$O82*T$81:T82*($D$81:$D82=$C81)),IF(ISNUMBER(Data!R81),100*ABS($F81-(Data!R81-$J81)/$L81),0),IF(ISNUMBER(Data!R81),100*ABS($F81-(Data!R81-$J81)/$L81),0))))","v":100},{"$f":"IF(Data!$AI81=1,50,IF($G81=0,0,CHOOSE($G81,SUMPRODUCT($O$81:$O82*U$81:U82*($D$81:$D82=$C81)),IF(ISNUMBER(Data!S81),100*ABS($F81-(Data!S81-$J81)/$L81),0),IF(ISNUMBER(Data!S81),100*ABS($F81-(Data!S81-$J81)/$L81),0))))","v":0},{"$f":"IF(Data!$AI81=1,50,IF($G81=0,0,CHOOSE($G81,SUMPRODUCT($O$81:$O82*V$81:V82*($D$81:$D82=$C81)),IF(ISNUMBER(Data!T81),100*ABS($F81-(Data!T81-$J81)/$L81),0),IF(ISNUMBER(Data!T81),100*ABS($F81-(Data!T81-$J81)/$L81),0))))","v":0},{"$f":"IF(Data!$AI81=1,50,IF($G81=0,0,CHOOSE($G81,SUMPRODUCT($O$81:$O82*W$81:W82*($D$81:$D82=$C81)),IF(ISNUMBER(Data!U81),100*ABS($F81-(Data!U81-$J81)/$L81),0),IF(ISNUMBER(Data!U81),100*ABS($F81-(Data!U81-$J81)/$L81),0))))","v":100},{"$f":"IF(Data!$AI81=1,50,IF($G81=0,0,CHOOSE($G81,SUMPRODUCT($O$81:$O82*X$81:X82*($D$81:$D82=$C81)),IF(ISNUMBER(Data!V81),100*ABS($F81-(Data!V81-$J81)/$L81),0),IF(ISNUMBER(Data!V81),100*ABS($F81-(Data!V81-$J81)/$L81),0))))","v":0},{"$f":"IF(Data!$AI81=1,50,IF($G81=0,0,CHOOSE($G81,SUMPRODUCT($O$81:$O82*Y$81:Y82*($D$81:$D82=$C81)),IF(ISNUMBER(Data!W81),100*ABS($F81-(Data!W81-$J81)/$L81),0),IF(ISNUMBER(Data!W81),100*ABS($F81-(Data!W81-$J81)/$L81),0))))","v":100},{"$f":"IF(Data!$AI81=1,50,IF($G81=0,0,CHOOSE($G81,SUMPRODUCT($O$81:$O82*Z$81:Z82*($D$81:$D82=$C81)),IF(ISNUMBER(Data!X81),100*ABS($F81-(Data!X81-$J81)/$L81),0),IF(ISNUMBER(Data!X81),100*ABS($F81-(Data!X81-$J81)/$L81),0))))","v":0},{"$f":"IF(Data!$AI81=1,50,IF($G81=0,0,CHOOSE($G81,SUMPRODUCT($O$81:$O82*AA$81:AA82*($D$81:$D82=$C81)),IF(ISNUMBER(Data!Y81),100*ABS($F81-(Data!Y81-$J81)/$L81),0),IF(ISNUMBER(Data!Y81),100*ABS($F81-(Data!Y81-$J81)/$L81),0))))","v":100},{"$f":"IF(Data!$AI81=1,50,IF($G81=0,0,CHOOSE($G81,SUMPRODUCT($O$81:$O82*AB$81:AB82*($D$81:$D82=$C81)),IF(ISNUMBER(Data!Z81),100*ABS($F81-(Data!Z81-$J81)/$L81),0),IF(ISNUMBER(Data!Z81),100*ABS($F81-(Data!Z81-$J81)/$L81),0))))","v":0},{"$f":"IF(Data!$AI81=1,50,IF($G81=0,0,CHOOSE($G81,SUMPRODUCT($O$81:$O82*AC$81:AC82*($D$81:$D82=$C81)),IF(ISNUMBER(Data!AA81),100*ABS($F81-(Data!AA81-$J81)/$L81),0),IF(ISNUMBER(Data!AA81),100*ABS($F81-(Data!AA81-$J81)/$L81),0))))","v":0},{"$f":"IF(Data!$AI81=1,50,IF($G81=0,0,CHOOSE($G81,SUMPRODUCT($O$81:$O82*AD$81:AD82*($D$81:$D82=$C81)),IF(ISNUMBER(Data!AB81),100*ABS($F81-(Data!AB81-$J81)/$L81),0),IF(ISNUMBER(Data!AB81),100*ABS($F81-(Data!AB81-$J81)/$L81),0))))","v":0},{"$f":"IF(Data!$AI81=1,50,IF($G81=0,0,CHOOSE($G81,SUMPRODUCT($O$81:$O82*AE$81:AE82*($D$81:$D82=$C81)),IF(ISNUMBER(Data!AC81),100*ABS($F81-(Data!AC81-$J81)/$L81),0),IF(ISNUMBER(Data!AC81),100*ABS($F81-(Data!AC81-$J81)/$L81),0))))","v":0},{"$f":"IF(Data!$AI81=1,50,IF($G81=0,0,CHOOSE($G81,SUMPRODUCT($O$81:$O82*AF$81:AF82*($D$81:$D82=$C81)),IF(ISNUMBER(Data!AD81),100*ABS($F81-(Data!AD81-$J81)/$L81),0),IF(ISNUMBER(Data!AD81),100*ABS($F81-(Data!AD81-$J81)/$L81),0))))","v":100},{"$f":"IF(Data!$AI81=1,50,IF($G81=0,0,CHOOSE($G81,SUMPRODUCT($O$81:$O82*AG$81:AG82*($D$81:$D82=$C81)),IF(ISNUMBER(Data!AE81),100*ABS($F81-(Data!AE81-$J81)/$L81),0),IF(ISNUMBER(Data!AE81),100*ABS($F81-(Data!AE81-$J81)/$L81),0))))","v":100},{"$f":"IF(Data!$AI81=1,50,IF($G81=0,0,CHOOSE($G81,SUMPRODUCT($O$81:$O82*AH$81:AH82*($D$81:$D82=$C81)),IF(ISNUMBER(Data!AF81),100*ABS($F81-(Data!AF81-$J81)/$L81),0),IF(ISNUMBER(Data!AF81),100*ABS($F81-(Data!AF81-$J81)/$L81),0))))","v":100},{"$f":"IF(Data!$AI81=1,50,IF($G81=0,0,CHOOSE($G81,SUMPRODUCT($O$81:$O82*AI$81:AI82*($D$81:$D82=$C81)),IF(ISNUMBER(Data!AG81),100*ABS($F81-(Data!AG81-$J81)/$L81),0),IF(ISNUMBER(Data!AG81),100*ABS($F81-(Data!AG81-$J81)/$L81),0))))","v":0}]

{"sheet":"aRoundedScores","index":25,"n_rows":81,"n_cols":35,"rows_kept":81,"cut":false,"hidden":true,"merged":[]}
["NORMALIZED SCORES"]
[]
[]
[]
[]
[null,null,null,null,null,null,null,null,null,null,null,null,null,null,null,1,2,3,4,5,6,7,8,9,10,11,12,13,14,15,16,17,18,19,20]
["Scored 0-100 where 100=most favorable conditions","ID","INDI_CODE","PARENT_CODE","DEPTH","HIGH_IS","NORM_ID (1=sumproduct, 2=min max set by data values, 3=min max set by user here)","Set Min","Set Max","MIN","MAX","RANGE",0,null,null,{"$f":"INDEX(luCountries,P6)","v":"Brazil"},"Canada","Chile","China","France","India","Indonesia","Japan","Mexico","New Zealand","Nigeria","Norway","Peru","Philippines","Russia","South Africa","South Korea","Spain","United States","Vietnam"]
[null,{"$f":"tblIndicators!A2","v":1},{"$f":"tblIndicators!B2","v":"OVERALL"},{"$f":"tblIndicators!C2","v":0},{"$f":"tblIndicators!D2","v":0},{"$f":"tblIndicators!L2","v":0},{"$f":"tblIndicators!V2","v":1},{"$f":"tblIndicators!W2","v":0},{"$f":"tblIndicators!X2","v":100},{"$f":"CHOOSE(G8,\"-\",Data!H8,H8)","v":"-"},{"$f":"CHOOSE(G8,\"-\",Data!I8,I8)","v":"-"},{"$f":"CHOOSE(G8,\"-\",K8-J8,K8-J8)","v":"-"},{"$f":"tblIndicators!AE2","v":"OVERALL SCORE"},null,null,{"$f":"ROUND(Scores!P8,aRoundedScores!$M$7)","v":67},{"$f":"ROUND(Scores!Q8,aRoundedScores!$M$7)","v":76},{"$f":"ROUND(Scores!R8,aRoundedScores!$M$7)","v":67},{"$f":"ROUND(Scores!S8,aRoundedScores!$M$7)","v":61},{"$f":"ROUND(Scores!T8,aRoundedScores!$M$7)","v":82},{"$f":"ROUND(Scores!U8,aRoundedScores!$M$7)","v":56},{"$f":"ROUND(Scores!V8,aRoundedScores!$M$7)","v":57},{"$f":"ROUND(Scores!W8,aRoundedScores!$M$7)","v":78},{"$f":"ROUND(Scores!X8,aRoundedScores!$M$7)","v":60},{"$f":"ROUND(Scores!Y8,aRoundedScores!$M$7)","v":86},{"$f":"ROUND(Scores!Z8,aRoundedScores!$M$7)","v":50},{"$f":"ROUND(Scores!AA8,aRoundedScores!$M$7)","v":79},{"$f":"ROUND(Scores!AB8,aRoundedScores!$M$7)","v":55},{"$f":"ROUND(Scores!AC8,aRoundedScores!$M$7)","v":59},{"$f":"ROUND(Scores!AD8,aRoundedScores!$M$7)","v":42},{"$f":"ROUND(Scores!AE8,aRoundedScores!$M$7)","v":68},{"$f":"ROUND(Scores!AF8,aRoundedScores!$M$7)","v":72},{"$f":"ROUND(Scores!AG8,aRoundedScores!$M$7)","v":80},{"$f":"ROUND(Scores!AH8,aRoundedScores!$M$7)","v":85},{"$f":"ROUND(Scores!AI8,aRoundedScores!$M$7)","v":57}]
[null,{"$f":"tblIndicators!A3","v":2},{"$f":"tblIndicators!B3","v":"PLCAP"},{"$f":"tblIndicators!C3","v":"OVERALL"},{"$f":"tblIndicators!D3","v":1},{"$f":"tblIndicators!L3","v":0},{"$f":"tblIndicators!V3","v":1},{"$f":"tblIndicators!W3","v":0},{"$f":"tblIndicators!X3","v":100},{"$f":"CHOOSE(G9,\"-\",Data!H9,H9)","v":"-"},{"$f":"CHOOSE(G9,\"-\",Data!I9,I9)","v":"-"},{"$f":"CHOOSE(G9,\"-\",K9-J9,K9-J9)","v":"-"},{"$f":"tblIndicators!AE3","v":"1) POLICY AND INSTITUTIONAL CAPACITY"},{"$f":"IF(E9=3,\"\",O9)","v":0.16666666666666666},{"$f":"tblIndicators!AJ3","v":0.16666666666666666},{"$f":"ROUND(Scores!P9,aRoundedScores!$M$7)","v":64},{"$f":"ROUND(Scores!Q9,aRoundedScores!$M$7)","v":71},{"$f":"ROUND(Scores!R9,aRoundedScores!$M$7)","v":36},{"$f":"ROUND(Scores!S9,aRoundedScores!$M$7)","v":71},{"$f":"ROUND(Scores!T9,aRoundedScores!$M$7)","v":79},{"$f":"ROUND(Scores!U9,aRoundedScores!$M$7)","v":54},{"$f":"ROUND(Scores!V9,aRoundedScores!$M$7)","v":69},{"$f":"ROUND(Scores!W9,aRoundedScores!$M$7)","v":79},{"$f":"ROUND(Scores!X9,aRoundedScores!$M$7)","v":57},{"$f":"ROUND(Scores!Y9,aRoundedScores!$M$7)","v":75},{"$f":"ROUND(Scores!Z9,aRoundedScores!$M$7)","v":43},{"$f":"ROUND(Scores!AA9,aRoundedScores!$M$7)","v":86},{"$f":"ROUND(Scores!AB9,aRoundedScores!$M$7)","v":32},{"$f":"ROUND(Scores!AC9,aRoundedScores!$M$7)","v":74},{"$f":"ROUND(Scores!AD9,aRoundedScores!$M$7)","v":14},{"$f":"ROUND(Scores!AE9,aRoundedScores!$M$7)","v":71},{"$f":"ROUND(Scores!AF9,aRoundedScores!$M$7)","v":68},{"$f":"ROUND(Scores!AG9,aRoundedScores!$M$7)","v":86},{"$f":"ROUND(Scores!AH9,aRoundedScores!$M$7)","v":85},{"$f":"ROUND(Scores!AI9,aRoundedScores!$M$7)","v":71}]
[null,{"$f":"tblIndicators!A4","v":3},{"$f":"tblIndicators!B4","v":"PLCAP_1"},{"$f":"tblIndicators!C4","v":"PLCAP"},{"$f":"tblIndicators!D4","v":2},{"$f":"tblIndicators!L4","v":0},{"$f":"tblIndicators!V4","v":1},{"$f":"tblIndicators!W4","v":0},{"$f":"tblIndicators!X4","v":100},{"$f":"CHOOSE(G10,\"-\",Data!H10,H10)","v":"-"},{"$f":"CHOOSE(G10,\"-\",Data!I10,I10)","v":"-"},"-",{"$f":"tblIndicators!AE4","v":"1.1) Coastal management policy and strategy"},{"$f":"IF(E10=3,\"\",O10)","v":0.14285714285714285},{"$f":"tblIndicators!AJ4","v":0.14285714285714285},{"$f":"ROUND(Scores!P10,aRoundedScores!$M$7)","v":100},{"$f":"ROUND(Scores!Q10,aRoundedScores!$M$7)","v":100},{"$f":"ROUND(Scores!R10,aRoundedScores!$M$7)","v":50},{"$f":"ROUND(Scores!S10,aRoundedScores!$M$7)","v":100},{"$f":"ROUND(Scores!T10,aRoundedScores!$M$7)","v":50},{"$f":"ROUND(Scores!U10,aRoundedScores!$M$7)","v":75},{"$f":"ROUND(Scores!V10,aRoundedScores!$M$7)","v":100},{"$f":"ROUND(Scores!W10,aRoundedScores!$M$7)","v":100},{"$f":"ROUND(Scores!X10,aRoundedScores!$M$7)","v":75},{"$f":"ROUND(Scores!Y10,aRoundedScores!$M$7)","v":75},{"$f":"ROUND(Scores!Z10,aRoundedScores!$M$7)","v":0},{"$f":"ROUND(Scores!AA10,aRoundedScores!$M$7)","v":100},{"$f":"ROUND(Scores!AB10,aRoundedScores!$M$7)","v":0},{"$f":"ROUND(Scores!AC10,aRoundedScores!$M$7)","v":100},{"$f":"ROUND(Scores!AD10,aRoundedScores!$M$7)","v":0},{"$f":"ROUND(Scores!AE10,aRoundedScores!$M$7)","v":75},{"$f":"ROUND(Scores!AF10,aRoundedScores!$M$7)","v":100},{"$f":"ROUND(Scores!AG10,aRoundedScores!$M$7)","v":100},{"$f":"ROUND(Scores!AH10,aRoundedScores!$M$7)","v":100},{"$f":"ROUND(Scores!AI10,aRoundedScores!$M$7)","v":100}]
[null,{"$f":"tblIndicators!A5","v":4},{"$f":"tblIndicators!B5","v":"PLCAP_1_1"},{"$f":"tblIndicators!C5","v":"PLCAP_1"},{"$f":"tblIndicators!D5","v":3},{"$f":"tblIndicators!L5","v":0},{"$f":"tblIndicators!V5","v":3},{"$f":"tblIndicators!W5","v":0},{"$f":"tblIndicators!X5","v":1},{"$f":"CHOOSE(G11,\"-\",Data!H11,H11)","v":0},{"$f":"CHOOSE(G11,\"-\",Data!I11,I11)","v":1},1,{"$f":"tblIndicators!AE5","v":"1.1.1) Coastal management policy"},"",{"$f":"tblIndicators!AJ5","v":0.5},{"$f":"ROUND(Scores!P11,aRoundedScores!$M$7)","v":100},{"$f":"ROUND(Scores!Q11,aRoundedScores!$M$7)","v":100},{"$f":"ROUND(Scores!R11,aRoundedScores!$M$7)","v":100},{"$f":"ROUND(Scores!S11,aRoundedScores!$M$7)","v":100},{"$f":"ROUND(Scores!T11,aRoundedScores!$M$7)","v":100},{"$f":"ROUND(Scores!U11,aRoundedScores!$M$7)","v":100},{"$f":"ROUND(Scores!V11,aRoundedScores!$M$7)","v":100},{"$f":"ROUND(Scores!W11,aRoundedScores!$M$7)","v":100},{"$f":"ROUND(Scores!X11,aRoundedScores!$M$7)","v":100},{"$f":"ROUND(Scores!Y11,aRoundedScores!$M$7)","v":100},{"$f":"ROUND(Scores!Z11,aRoundedScores!$M$7)","v":0},{"$f":"ROUND(Scores!AA11,aRoundedScores!$M$7)","v":100},{"$f":"ROUND(Scores!AB11,aRoundedScores!$M$7)","v":0},{"$f":"ROUND(Scores!AC11,aRoundedScores!$M$7)","v":100},{"$f":"ROUND(Scores!AD11,aRoundedScores!$M$7)","v":0},{"$f":"ROUND(Scores!AE11,aRoundedScores!$M$7)","v":100},{"$f":"ROUND(Scores!AF11,aRoundedScores!$M$7)","v":100},{"$f":"ROUND(Scores!AG11,aRoundedScores!$M$7)","v":100},{"$f":"ROUND(Scores!AH11,aRoundedScores!$M$7)","v":100},{"$f":"ROUND(Scores!AI11,aRoundedScores!$M$7)","v":100}]
[null,{"$f":"tblIndicators!A6","v":5},{"$f":"tblIndicators!B6","v":"PLCAP_1_2"},{"$f":"tblIndicators!C6","v":"PLCAP_1"},{"$f":"tblIndicators!D6","v":3},{"$f":"tblIndicators!L6","v":0},{"$f":"tblIndicators!V6","v":3},{"$f":"tblIndicators!W6","v":0},{"$f":"tblIndicators!X6","v":2},{"$f":"CHOOSE(G12,\"-\",Data!H12,H12)","v":0},{"$f":"CHOOSE(G12,\"-\",Data!I12,I12)","v":2},2,{"$f":"tblIndicators!AE6","v":"1.1.2) Coastal management strategy"},"",{"$f":"tblIndicators!AJ6","v":0.5},{"$f":"ROUND(Scores!P12,aRoundedScores!$M$7)","v":100},{"$f":"ROUND(Scores!Q12,aRoundedScores!$M$7)","v":100},{"$f":"ROUND(Scores!R12,aRoundedScores!$M$7)","v":0},{"$f":"ROUND(Scores!S12,aRoundedScores!$M$7)","v":100},{"$f":"ROUND(Scores!T12,aRoundedScores!$M$7)","v":0},{"$f":"ROUND(Scores!U12,aRoundedScores!$M$7)","v":50},{"$f":"ROUND(Scores!V12,aRoundedScores!$M$7)","v":100},{"$f":"ROUND(Scores!W12,aRoundedScores!$M$7)","v":100},{"$f":"ROUND(Scores!X12,aRoundedScores!$M$7)","v":50},{"$f":"ROUND(Scores!Y12,aRoundedScores!$M$7)","v":50},{"$f":"ROUND(Scores!Z12,aRoundedScores!$M$7)","v":0},{"$f":"ROUND(Scores!AA12,aRoundedScores!$M$7)","v":100},{"$f":"ROUND(Scores!AB12,aRoundedScores!$M$7)","v":0},{"$f":"ROUND(Scores!AC12,aRoundedScores!$M$7)","v":100},{"$f":"ROUND(Scores!AD12,aRoundedScores!$M$7)","v":0},{"$f":"ROUND(Scores!AE12,aRoundedScores!$M$7)","v":50},{"$f":"ROUND(Scores!AF12,aRoundedScores!$M$7)","v":100},{"$f":"ROUND(Scores!AG12,aRoundedScores!$M$7)","v":100},{"$f":"ROUND(Scores!AH12,aRoundedScores!$M$7)","v":100},{"$f":"ROUND(Scores!AI12,aRoundedScores!$M$7)","v":100}]
[null,{"$f":"tblIndicators!A7","v":6},{"$f":"tblIndicators!B7","v":"PLCAP_2"},{"$f":"tblIndicators!C7","v":"PLCAP"},{"$f":"tblIndicators!D7","v":2},{"$f":"tblIndicators!L7","v":0},{"$f":"tblIndicators!V7","v":1},{"$f":"tblIndicators!W7","v":0},{"$f":"tblIndicators!X7","v":100},{"$f":"CHOOSE(G13,\"-\",Data!H13,H13)","v":"-"},{"$f":"CHOOSE(G13,\"-\",Data!I13,I13)","v":"-"},"-",{"$f":"tblIndicators!AE7","v":"1.2) Presence of established institution(s)"},0.14285714285714285,{"$f":"tblIndicators!AJ7","v":0.14285714285714285},{"$f":"ROUND(Scores!P13,aRoundedScores!$M$7)","v":100},{"$f":"ROUND(Scores!Q13,aRoundedScores!$M$7)","v":50},{"$f":"ROUND(Scores!R13,aRoundedScores!$M$7)","v":0},{"$f":"ROUND(Scores!S13,aRoundedScores!$M$7)","v":100},{"$f":"ROUND(Scores!T13,aRoundedScores!$M$7)","v":100},{"$f":"ROUND(Scores!U13,aRoundedScores!$M$7)","v":50},{"$f":"ROUND(Scores!V13,aRoundedScores!$M$7)","v":50},{"$f":"ROUND(Scores!W13,aRoundedScores!$M$7)","v":100},{"$f":"ROUND(Scores!X13,aRoundedScores!$M$7)","v":50},{"$f":"ROUND(Scores!Y13,aRoundedScores!$M$7)","v":50},{"$f":"ROUND(Scores!Z13,aRoundedScores!$M$7)","v":0},{"$f":"ROUND(Scores!AA13,aRoundedScores!$M$7)","v":100},{"$f":"ROUND(Scores!AB13,aRoundedScores!$M$7)","v":50},{"$f":"ROUND(Scores!AC13,aRoundedScores!$M$7)","v":50},{"$f":"ROUND(Scores!AD13,aRoundedScores!$M$7)","v":0},{"$f":"ROUND(Scores!AE13,aRoundedScores!$M$7)","v":100},{"$f":"ROUND(Scores!AF13,aRoundedScores!$M$7)","v":50},{"$f":"ROUND(Scores!AG13,aRoundedScores!$M$7)","v":100},{"$f":"ROUND(Scores!AH13,aRoundedScores!$M$7)","v":100},{"$f":"ROUND(Scores!AI13,aRoundedScores!$M$7)","v":100}]
[null,{"$f":"tblIndicators!A8","v":7},{"$f":"tblIndicators!B8","v":"PLCAP_2_1"},{"$f":"tblIndicators!C8","v":"PLCAP_2"},{"$f":"tblIndicators!D8","v":3},{"$f":"tblIndicators!L8","v":0},{"$f":"tblIndicators!V8","v":3},{"$f":"tblIndicators!W8","v":0},{"$f":"tblIndicators!X8","v":2},{"$f":"CHOOSE(G14,\"-\",Data!H14,H14)","v":0},{"$f":"CHOOSE(G14,\"-\",Data!I14,I14)","v":2},2,{"$f":"tblIndicators!AE8","v":"1.2.1) Presence of coastal management strategy authority"},"",{"$f":"tblIndicators!AJ8","v":1},{"$f":"ROUND(Scores!P14,aRoundedScores!$M$7)","v":100},{"$f":"ROUND(Scores!Q14,aRoundedScores!$M$7)","v":50},{"$f":"ROUND(Scores!R14,aRoundedScores!$M$7)","v":0},{"$f":"ROUND(Scores!S14,aRoundedScores!$M$7)","v":100},{"$f":"ROUND(Scores!T14,aRoundedScores!$M$7)","v":100},{"$f":"ROUND(Scores!U14,aRoundedScores!$M$7)","v":50},{"$f":"ROUND(Scores!V14,aRoundedScores!$M$7)","v":50},{"$f":"ROUND(Scores!W14,aRoundedScores!$M$7)","v":100},{"$f":"ROUND(Scores!X14,aRoundedScores!$M$7)","v":50},{"$f":"ROUND(Scores!Y14,aRoundedScores!$M$7)","v":50},{"$f":"ROUND(Scores!Z14,aRoundedScores!$M$7)","v":0},{"$f":"ROUND(Scores!AA14,aRoundedScores!$M$7)","v":100},{"$f":"ROUND(Scores!AB14,aRoundedScores!$M$7)","v":50},{"$f":"ROUND(Scores!AC14,aRoundedScores!$M$7)","v":50},{"$f":"ROUND(Scores!AD14,aRoundedScores!$M$7)","v":0},{"$f":"ROUND(Scores!AE14,aRoundedScores!$M$7)","v":100},{"$f":"ROUND(Scores!AF14,aRoundedScores!$M$7)","v":50},{"$f":"ROUND(Scores!AG14,aRoundedScores!$M$7)","v":100},{"$f":"ROUND(Scores!AH14,aRoundedScores!$M$7)","v":100},{"$f":"ROUND(Scores!AI14,aRoundedScores!$M$7)","v":100}]
[null,{"$f":"tblIndicators!A9","v":8},{"$f":"tblIndicators!B9","v":"PLCAP_3"},{"$f":"tblIndicators!C9","v":"PLCAP"},{"$f":"tblIndicators!D9","v":2},{"$f":"tblIndicators!L9","v":0},{"$f":"tblIndicators!V9","v":1},{"$f":"tblIndicators!W9","v":0},{"$f":"tblIndicators!X9","v":100},{"$f":"CHOOSE(G15,\"-\",Data!H15,H15)","v":"-"},{"$f":"CHOOSE(G15,\"-\",Data!I15,I15)","v":"-"},"-",{"$f":"tblIndicators!AE9","v":"1.3) National strategy to adapt to climate change"},0.14285714285714285,{"$f":"tblIndicators!AJ9","v":0.14285714285714285},{"$f":"ROUND(Scores!P15,aRoundedScores!$M$7)","v":50},{"$f":"ROUND(Scores!Q15,aRoundedScores!$M$7)","v":100},{"$f":"ROUND(Scores!R15,aRoundedScores!$M$7)","v":50},{"$f":"ROUND(Scores!S15,aRoundedScores!$M$7)","v":100},{"$f":"ROUND(Scores!T15,aRoundedScores!$M$7)","v":100},{"$f":"ROUND(Scores!U15,aRoundedScores!$M$7)","v":50},{"$f":"ROUND(Scores!V15,aRoundedScores!$M$7)","v":100},{"$f":"ROUND(Scores!W15,aRoundedScores!$M$7)","v":50},{"$f":"ROUND(Scores!X15,aRoundedScores!$M$7)","v":50},{"$f":"ROUND(Scores!Y15,aRoundedScores!$M$7)","v":100},{"$f":"ROUND(Scores!Z15,aRoundedScores!$M$7)","v":100},{"$f":"ROUND(Scores!AA15,aRoundedScores!$M$7)","v":50},{"$f":"ROUND(Scores!AB15,aRoundedScores!$M$7)","v":50},{"$f":"ROUND(Scores!AC15,aRoundedScores!$M$7)","v":50},{"$f":"ROUND(Scores!AD15,aRoundedScores!$M$7)","v":0},{"$f":"ROUND(Scores!AE15,aRoundedScores!$M$7)","v":100},{"$f":"ROUND(Scores!AF15,aRoundedScores!$M$7)","v":100},{"$f":"ROUND(Scores!AG15,aRoundedScores!$M$7)","v":100},{"$f":"ROUND(Scores!AH15,aRoundedScores!$M$7)","v":100},{"$f":"ROUND(Scores!AI15,aRoundedScores!$M$7)","v":50}]
[null,{"$f":"tblIndicators!A10","v":9},{"$f":"tblIndicators!B10","v":"PLCAP_3_1"},{"$f":"tblIndicators!C10","v":"PLCAP_3"},{"$f":"tblIndicators!D10","v":3},{"$f":"tblIndicators!L10","v":0},{"$f":"tblIndicators!V10","v":3},{"$f":"tblIndicators!W10","v":0},{"$f":"tblIndicators!X10","v":2},{"$f":"CHOOSE(G16,\"-\",Data!H16,H16)","v":0},{"$f":"CHOOSE(G16,\"-\",Data!I16,I16)","v":2},2,{"$f":"tblIndicators!AE10","v":"1.3.1) Strategy to adapt coastal areas to climate change"},"",{"$f":"tblIndicators!AJ10","v":1},{"$f":"ROUND(Scores!P16,aRoundedScores!$M$7)","v":50},{"$f":"ROUND(Scores!Q16,aRoundedScores!$M$7)","v":100},{"$f":"ROUND(Scores!R16,aRoundedScores!$M$7)","v":50},{"$f":"ROUND(Scores!S16,aRoundedScores!$M$7)","v":100},{"$f":"ROUND(Scores!T16,aRoundedScores!$M$7)","v":100},{"$f":"ROUND(Scores!U16,aRoundedScores!$M$7)","v":50},{"$f":"ROUND(Scores!V16,aRoundedScores!$M$7)","v":100},{"$f":"ROUND(Scores!W16,aRoundedScores!$M$7)","v":50},{"$f":"ROUND(Scores!X16,aRoundedScores!$M$7)","v":50},{"$f":"ROUND(Scores!Y16,aRoundedScores!$M$7)","v":100},{"$f":"ROUND(Scores!Z16,aRoundedScores!$M$7)","v":100},{"$f":"ROUND(Scores!AA16,aRoundedScores!$M$7)","v":50},{"$f":"ROUND(Scores!AB16,aRoundedScores!$M$7)","v":50},{"$f":"ROUND(Scores!AC16,aRoundedScores!$M$7)","v":50},{"$f":"ROUND(Scores!AD16,aRoundedScores!$M$7)","v":0},{"$f":"ROUND(Scores!AE16,aRoundedScores!$M$7)","v":100},{"$f":"ROUND(Scores!AF16,aRoundedScores!$M$7)","v":100},{"$f":"ROUND(Scores!AG16,aRoundedScores!$M$7)","v":100},{"$f":"ROUND(Scores!AH16,aRoundedScores!$M$7)","v":100},{"$f":"ROUND(Scores!AI16,aRoundedScores!$M$7)","v":50}]
[null,{"$f":"tblIndicators!A11","v":10},{"$f":"tblIndicators!B11","v":"PLCAP_4"},{"$f":"tblIndicators!C11","v":"PLCAP"},{"$f":"tblIndicators!D11","v":2},{"$f":"tblIndicators!L11","v":0},{"$f":"tblIndicators!V11","v":1},{"$f":"tblIndicators!W11","v":0},{"$f":"tblIndicators!X11","v":100},{"$f":"CHOOSE(G17,\"-\",Data!H17,H17)","v":"-"},{"$f":"CHOOSE(G17,\"-\",Data!I17,I17)","v":"-"},"-",{"$f":"tblIndicators!AE11","v":"1.4) Maritime Spatial Planning"},0.14285714285714285,{"$f":"tblIndicators!AJ11","v":0.14285714285714285},{"$f":"ROUND(Scores!P17,aRoundedScores!$M$7)","v":0},{"$f":"ROUND(Scores!Q17,aRoundedScores!$M$7)","v":50},{"$f":"ROUND(Scores!R17,aRoundedScores!$M$7)","v":0},{"$f":"ROUND(Scores!S17,aRoundedScores!$M$7)","v":100},{"$f":"ROUND(Scores!T17,aRoundedScores!$M$7)","v":50},{"$f":"ROUND(Scores!U17,aRoundedScores!$M$7)","v":0},{"$f":"ROUND(Scores!V17,aRoundedScores!$M$7)","v":25},{"$f":"ROUND(Scores!W17,aRoundedScores!$M$7)","v":0},{"$f":"ROUND(Scores!X17,aRoundedScores!$M$7)","v":100},{"$f":"ROUND(Scores!Y17,aRoundedScores!$M$7)","v":50},{"$f":"ROUND(Scores!Z17,aRoundedScores!$M$7)","v":0},{"$f":"ROUND(Scores!AA17,aRoundedScores!$M$7)","v":100},{"$f":"ROUND(Scores!AB17,aRoundedScores!$M$7)","v":0},{"$f":"ROUND(Scores!AC17,aRoundedScores!$M$7)","v":50},{"$f":"ROUND(Scores!AD17,aRoundedScores!$M$7)","v":0},{"$f":"ROUND(Scores!AE17,aRoundedScores!$M$7)","v":25},{"$f":"ROUND(Scores!AF17,aRoundedScores!$M$7)","v":0},{"$f":"ROUND(Scores!AG17,aRoundedScores!$M$7)","v":100},{"$f":"ROUND(Scores!AH17,aRoundedScores!$M$7)","v":75},{"$f":"ROUND(Scores!AI17,aRoundedScores!$M$7)","v":100}]
[null,{"$f":"tblIndicators!A12","v":11},{"$f":"tblIndicators!B12","v":"PLCAP_4_1"},{"$f":"tblIndicators!C12","v":"PLCAP_4"},{"$f":"tblIndicators!D12","v":3},{"$f":"tblIndicators!L12","v":0},{"$f":"tblIndicators!V12","v":3},{"$f":"tblIndicators!W12","v":0},{"$f":"tblIndicators!X12","v":2},{"$f":"CHOOSE(G18,\"-\",Data!H18,H18)","v":0},{"$f":"CHOOSE(G18,\"-\",Data!I18,I18)","v":2},2,{"$f":"tblIndicators!AE12","v":"1.4.1) Legal basis for maritime spatial planning"},"",{"$f":"tblIndicators!AJ12","v":0.5},{"$f":"ROUND(Scores!P18,aRoundedScores!$M$7)","v":0},{"$f":"ROUND(Scores!Q18,aRoundedScores!$M$7)","v":50},{"$f":"ROUND(Scores!R18,aRoundedScores!$M$7)","v":0},{"$f":"ROUND(Scores!S18,aRoundedScores!$M$7)","v":100},{"$f":"ROUND(Scores!T18,aRoundedScores!$M$7)","v":50},{"$f":"ROUND(Scores!U18,aRoundedScores!$M$7)","v":0},{"$f":"ROUND(Scores!V18,aRoundedScores!$M$7)","v":0},{"$f":"ROUND(Scores!W18,aRoundedScores!$M$7)","v":0},{"$f":"ROUND(Scores!X18,aRoundedScores!$M$7)","v":100},{"$f":"ROUND(Scores!Y18,aRoundedScores!$M$7)","v":50},{"$f":"ROUND(Scores!Z18,aRoundedScores!$M$7)","v":0},{"$f":"ROUND(Scores!AA18,aRoundedScores!$M$7)","v":100},{"$f":"ROUND(Scores!AB18,aRoundedScores!$M$7)","v":0},{"$f":"ROUND(Scores!AC18,aRoundedScores!$M$7)","v":50},{"$f":"ROUND(Scores!AD18,aRoundedScores!$M$7)","v":0},{"$f":"ROUND(Scores!AE18,aRoundedScores!$M$7)","v":50},{"$f":"ROUND(Scores!AF18,aRoundedScores!$M$7)","v":0},{"$f":"ROUND(Scores!AG18,aRoundedScores!$M$7)","v":100},{"$f":"ROUND(Scores!AH18,aRoundedScores!$M$7)","v":50},{"$f":"ROUND(Scores!AI18,aRoundedScores!$M$7)","v":100}]
[null,{"$f":"tblIndicators!A13","v":12},{"$f":"tblIndicators!B13","v":"PLCAP_4_2"},{"$f":"tblIndicators!C13","v":"PLCAP_4"},{"$f":"tblIndicators!D13","v":3},{"$f":"tblIndicators!L13","v":0},{"$f":"tblIndicators!V13","v":3},{"$f":"tblIndicators!W13","v":0},{"$f":"tblIndicators!X13","v":2},{"$f":"CHOOSE(G19,\"-\",Data!H19,H19)","v":0},{"$f":"CHOOSE(G19,\"-\",Data!I19,I19)","v":2},2,{"$f":"tblIndicators!AE13","v":"1.4.2) Institution for maritime spatial planning"},"",{"$f":"tblIndicators!AJ13","v":0.5},{"$f":"ROUND(Scores!P19,aRoundedScores!$M$7)","v":0},{"$f":"ROUND(Scores!Q19,aRoundedScores!$M$7)","v":50},{"$f":"ROUND(Scores!R19,aRoundedScores!$M$7)","v":0},{"$f":"ROUND(Scores!S19,aRoundedScores!$M$7)","v":100},{"$f":"ROUND(Scores!T19,aRoundedScores!$M$7)","v":50},{"$f":"ROUND(Scores!U19,aRoundedScores!$M$7)","v":0},{"$f":"ROUND(Scores!V19,aRoundedScores!$M$7)","v":50},{"$f":"ROUND(Scores!W19,aRoundedScores!$M$7)","v":0},{"$f":"ROUND(Scores!X19,aRoundedScores!$M$7)","v":100},{"$f":"ROUND(Scores!Y19,aRoundedScores!$M$7)","v":50},{"$f":"ROUND(Scores!Z19,aRoundedScores!$M$7)","v":0},{"$f":"ROUND(Scores!AA19,aRoundedScores!$M$7)","v":100},{"$f":"ROUND(Scores!AB19,aRoundedScores!$M$7)","v":0},{"$f":"ROUND(Scores!AC19,aRoundedScores!$M$7)","v":50},{"$f":"ROUND(Scores!AD19,aRoundedScores!$M$7)","v":0},{"$f":"ROUND(Scores!AE19,aRoundedScores!$M$7)","v":0},{"$f":"ROUND(Scores!AF19,aRoundedScores!$M$7)","v":0},{"$f":"ROUND(Scores!AG19,aRoundedScores!$M$7)","v":100},{"$f":"ROUND(Scores!AH19,aRoundedScores!$M$7)","v":100},{"$f":"ROUND(Scores!AI19,aRoundedScores!$M$7)","v":100}]
[null,{"$f":"tblIndicators!A14","v":13},{"$f":"tblIndicators!B14","v":"PLCAP_5"},{"$f":"tblIndicators!C14","v":"PLCAP"},{"$f":"tblIndicators!D14","v":2},{"$f":"tblIndicators!L14","v":0},{"$f":"tblIndicators!V14","v":1},{"$f":"tblIndicators!W14","v":0},{"$f":"tblIndicators!X14","v":100},{"$f":"CHOOSE(G20,\"-\",Data!H20,H20)","v":"-"},{"$f":"CHOOSE(G20,\"-\",Data!I20,I20)","v":"-"},"-",{"$f":"tblIndicators!AE14","v":"1.5) Stakeholder engagement"},0.14285714285714285,{"$f":"tblIndicators!AJ14","v":0.14285714285714285},{"$f":"ROUND(Scores!P20,aRoundedScores!$M$7)","v":100},{"$f":"ROUND(Scores!Q20,aRoundedScores!$M$7)","v":100},{"$f":"ROUND(Scores!R20,aRoundedScores!$M$7)","v":50},{"$f":"ROUND(Scores!S20,aRoundedScores!$M$7)","v":0},{"$f":"ROUND(Scores!T20,aRoundedScores!$M$7)","v":50},{"$f":"ROUND(Scores!U20,aRoundedScores!$M$7)","v":100},{"$f":"ROUND(Scores!V20,aRoundedScores!$M$7)","v":75},{"$f":"ROUND(Scores!W20,aRoundedScores!$M$7)","v":100},{"$f":"ROUND(Scores!X20,aRoundedScores!$M$7)","v":25},{"$f":"ROUND(Scores!Y20,aRoundedScores!$M$7)","v":50},{"$f":"ROUND(Scores!Z20,aRoundedScores!$M$7)","v":0},{"$f":"ROUND(Scores!AA20,aRoundedScores!$M$7)","v":50},{"$f":"ROUND(Scores!AB20,aRoundedScores!$M$7)","v":25},{"$f":"ROUND(Scores!AC20,aRoundedScores!$M$7)","v":100},{"$f":"ROUND(Scores!AD20,aRoundedScores!$M$7)","v":0},{"$f":"ROUND(Scores!AE20,aRoundedScores!$M$7)","v":100},{"$f":"ROUND(Scores!AF20,aRoundedScores!$M$7)","v":25},{"$f":"ROUND(Scores!AG20,aRoundedScores!$M$7)","v":100},{"$f":"ROUND(Scores!AH20,aRoundedScores!$M$7)","v":100},{"$f":"ROUND(Scores!AI20,aRoundedScores!$M$7)","v":50}]
[null,{"$f":"tblIndicators!A15","v":14},{"$f":"tblIndicators!B15","v":"PLCAP_5_1"},{"$f":"tblIndicators!C15","v":"PLCAP_5"},{"$f":"tblIndicators!D15","v":3},{"$f":"tblIndicators!L15","v":0},{"$f":"tblIndicators!V15","v":3},{"$f":"tblIndicators!W15","v":0},{"$f":"tblIndicators!X15","v":2},{"$f":"CHOOSE(G21,\"-\",Data!H21,H21)","v":0},{"$f":"CHOOSE(G21,\"-\",Data!I21,I21)","v":2},2,{"$f":"tblIndicators!AE15","v":"1.5.1) Grievance redress"},"",{"$f":"tblIndicators!AJ15","v":0.5},{"$f":"ROUND(Scores!P21,aRoundedScores!$M$7)","v":100},{"$f":"ROUND(Scores!Q21,aRoundedScores!$M$7)","v":100},{"$f":"ROUND(Scores!R21,aRoundedScores!$M$7)","v":100},{"$f":"ROUND(Scores!S21,aRoundedScores!$M$7)","v":0},{"$f":"ROUND(Scores!T21,aRoundedScores!$M$7)","v":100},{"$f":"ROUND(Scores!U21,aRoundedScores!$M$7)","v":100},{"$f":"ROUND(Scores!V21,aRoundedScores!$M$7)","v":50},{"$f":"ROUND(Scores!W21,aRoundedScores!$M$7)","v":100},{"$f":"ROUND(Scores!X21,aRoundedScores!$M$7)","v":50},{"$f":"ROUND(Scores!Y21,aRoundedScores!$M$7)","v":100},{"$f":"ROUND(Scores!Z21,aRoundedScores!$M$7)","v":0},{"$f":"ROUND(Scores!AA21,aRoundedScores!$M$7)","v":100},{"$f":"ROUND(Scores!AB21,aRoundedScores!$M$7)","v":50},{"$f":"ROUND(Scores!AC21,aRoundedScores!$M$7)","v":100},{"$f":"ROUND(Scores!AD21,aRoundedScores!$M$7)","v":0},{"$f":"ROUND(Scores!AE21,aRoundedScores!$M$7)","v":100},{"$f":"ROUND(Scores!AF21,aRoundedScores!$M$7)","v":50},{"$f":"ROUND(Scores!AG21,aRoundedScores!$M$7)","v":100},{"$f":"ROUND(Scores!AH21,aRoundedScores!$M$7)","v":100},{"$f":"ROUND(Scores!AI21,aRoundedScores!$M$7)","v":0}]
[null,{"$f":"tblIndicators!A16","v":15},{"$f":"tblIndicators!B16","v":"PLCAP_5_2"},{"$f":"tblIndicators!C16","v":"PLCAP_5"},{"$f":"tblIndicators!D16","v":3},{"$f":"tblIndicators!L16","v":0},{"$f":"tblIndicators!V16","v":3},{"$f":"tblIndicators!W16","v":0},{"$f":"tblIndicators!X16","v":1},{"$f":"CHOOSE(G22,\"-\",Data!H22,H22)","v":0},{"$f":"CHOOSE(G22,\"-\",Data!I22,I22)","v":1},1,{"$f":"tblIndicators!AE16","v":"1.5.2) Multi-stakeholder engagement"},"",{"$f":"tblIndicators!AJ16","v":0.5},{"$f":"ROUND(Scores!P22,aRoundedScores!$M$7)","v":100},{"$f":"ROUND(Scores!Q22,aRoundedScores!$M$7)","v":100},{"$f":"ROUND(Scores!R22,aRoundedScores!$M$7)","v":0},{"$f":"ROUND(Scores!S22,aRoundedScores!$M$7)","v":0},{"$f":"ROUND(Scores!T22,aRoundedScores!$M$7)","v":0},{"$f":"ROUND(Scores!U22,aRoundedScores!$M$7)","v":100},{"$f":"ROUND(Scores!V22,aRoundedScores!$M$7)","v":100},{"$f":"ROUND(Scores!W22,aRoundedScores!$M$7)","v":100},{"$f":"ROUND(Scores!X22,aRoundedScores!$M$7)","v":0},{"$f":"ROUND(Scores!Y22,aRoundedScores!$M$7)","v":0},{"$f":"ROUND(Scores!Z22,aRoundedScores!$M$7)","v":0},{"$f":"ROUND(Scores!AA22,aRoundedScores!$M$7)","v":0},{"$f":"ROUND(Scores!AB22,aRoundedScores!$M$7)","v":0},{"$f":"ROUND(Scores!AC22,aRoundedScores!$M$7)","v":100},{"$f":"ROUND(Scores!AD22,aRoundedScores!$M$7)","v":0},{"$f":"ROUND(Scores!AE22,aRoundedScores!$M$7)","v":100},{"$f":"ROUND(Scores!AF22,aRoundedScores!$M$7)","v":0},{"$f":"ROUND(Scores!AG22,aRoundedScores!$M$7)","v":100},{"$f":"ROUND(Scores!AH22,aRoundedScores!$M$7)","v":100},{"$f":"ROUND(Scores!AI22,aRoundedScores!$M$7)","v":100}]
[null,{"$f":"tblIndicators!A17","v":16},{"$f":"tblIndicators!B17","v":"PLCAP_6"},{"$f":"tblIndicators!C17","v":"PLCAP"},{"$f":"tblIndicators!D17","v":2},{"$f":"tblIndicators!L17","v":0},{"$f":"tblIndicators!V17","v":1},{"$f":"tblIndicators!W17","v":0},{"$f":"tblIndicators!X17","v":100},{"$f":"CHOOSE(G23,\"-\",Data!H23,H23)","v":"-"},{"$f":"CHOOSE(G23,\"-\",Data!I23,I23)","v":"-"},"-",{"$f":"tblIndicators!AE17","v":"1.6) Extractive industries transparency"},0.14285714285714285,{"$f":"tblIndicators!AJ17","v":0.14285714285714285},{"$f":"ROUND(Scores!P23,aRoundedScores!$M$7)","v":0},{"$f":"ROUND(Scores!Q23,aRoundedScores!$M$7)","v":0},{"$f":"ROUND(Scores!R23,aRoundedScores!$M$7)","v":0},{"$f":"ROUND(Scores!S23,aRoundedScores!$M$7)","v":0},{"$f":"ROUND(Scores!T23,aRoundedScores!$M$7)","v":100},{"$f":"ROUND(Scores!U23,aRoundedScores!$M$7)","v":0},{"$f":"ROUND(Scores!V23,aRoundedScores!$M$7)","v":33},{"$f":"ROUND(Scores!W23,aRoundedScores!$M$7)","v":100},{"$f":"ROUND(Scores!X23,aRoundedScores!$M$7)","v":0},{"$f":"ROUND(Scores!Y23,aRoundedScores!$M$7)","v":100},{"$f":"ROUND(Scores!Z23,aRoundedScores!$M$7)","v":100},{"$f":"ROUND(Scores!AA23,aRoundedScores!$M$7)","v":100},{"$f":"ROUND(Scores!AB23,aRoundedScores!$M$7)","v":100},{"$f":"ROUND(Scores!AC23,aRoundedScores!$M$7)","v":67},{"$f":"ROUND(Scores!AD23,aRoundedScores!$M$7)","v":0},{"$f":"ROUND(Scores!AE23,aRoundedScores!$M$7)","v":0},{"$f":"ROUND(Scores!AF23,aRoundedScores!$M$7)","v":100},{"$f":"ROUND(Scores!AG23,aRoundedScores!$M$7)","v":0},{"$f":"ROUND(Scores!AH23,aRoundedScores!$M$7)","v":67},{"$f":"ROUND(Scores!AI23,aRoundedScores!$M$7)","v":0}]
[null,{"$f":"tblIndicators!A18","v":17},{"$f":"tblIndicators!B18","v":"PLCAP_6_1"},{"$f":"tblIndicators!C18","v":"PLCAP_6"},{"$f":"tblIndicators!D18","v":3},{"$f":"tblIndicators!L18","v":0},{"$f":"tblIndicators!V18","v":3},{"$f":"tblIndicators!W18","v":0},{"$f":"tblIndicators!X18","v":3},{"$f":"CHOOSE(G24,\"-\",Data!H24,H24)","v":0},{"$f":"CHOOSE(G24,\"-\",Data!I24,I24)","v":3},3,{"$f":"tblIndicators!AE18","v":"1.6.1) Adoption of EITI standards"},"",{"$f":"tblIndicators!AJ18","v":1},{"$f":"ROUND(Scores!P24,aRoundedScores!$M$7)","v":0},{"$f":"ROUND(Scores!Q24,aRoundedScores!$M$7)","v":0},{"$f":"ROUND(Scores!R24,aRoundedScores!$M$7)","v":0},{"$f":"ROUND(Scores!S24,aRoundedScores!$M$7)","v":0},{"$f":"ROUND(Scores!T24,aRoundedScores!$M$7)","v":100},{"$f":"ROUND(Scores!U24,aRoundedScores!$M$7)","v":0},{"$f":"ROUND(Scores!V24,aRoundedScores!$M$7)","v":33},{"$f":"ROUND(Scores!W24,aRoundedScores!$M$7)","v":100},{"$f":"ROUND(Scores!X24,aRoundedScores!$M$7)","v":0},{"$f":"ROUND(Scores!Y24,aRoundedScores!$M$7)","v":100},{"$f":"ROUND(Scores!Z24,aRoundedScores!$M$7)","v":100},{"$f":"ROUND(Scores!AA24,aRoundedScores!$M$7)","v":100},{"$f":"ROUND(Scores!AB24,aRoundedScores!$M$7)","v":100},{"$f":"ROUND(Scores!AC24,aRoundedScores!$M$7)","v":67},{"$f":"ROUND(Scores!AD24,aRoundedScores!$M$7)","v":0},{"$f":"ROUND(Scores!AE24,aRoundedScores!$M$7)","v":0},{"$f":"ROUND(Scores!AF24,aRoundedScores!$M$7)","v":100},{"$f":"ROUND(Scores!AG24,aRoundedScores!$M$7)","v":0},{"$f":"ROUND(Scores!AH24,aRoundedScores!$M$7)","v":67},{"$f":"ROUND(Scores!AI24,aRoundedScores!$M$7)","v":0}]
[null,{"$f":"tblIndicators!A19","v":18},{"$f":"tblIndicators!B19","v":"PLCAP_7"},{"$f":"tblIndicators!C19","v":"PLCAP"},{"$f":"tblIndicators!D19","v":2},{"$f":"tblIndicators!L19","v":0},{"$f":"tblIndicators!V19","v":1},{"$f":"tblIndicators!W19","v":0},{"$f":"tblIndicators!X19","v":100},{"$f":"CHOOSE(G25,\"-\",Data!H25,H25)","v":"-"},{"$f":"CHOOSE(G25,\"-\",Data!I25,I25)","v":"-"},"-",{"$f":"tblIndicators!AE19","v":"1.7) Adoption of the United Nations Convention on the Law of the Sea (UNCLOS)"},0.14285714285714285,{"$f":"tblIndicators!AJ19","v":0.14285714285714285},{"$f":"ROUND(Scores!P25,aRoundedScores!$M$7)","v":100},{"$f":"ROUND(Scores!Q25,aRoundedScores!$M$7)","v":100},{"$f":"ROUND(Scores!R25,aRoundedScores!$M$7)","v":100},{"$f":"ROUND(Scores!S25,aRoundedScores!$M$7)","v":100},{"$f":"ROUND(Scores!T25,aRoundedScores!$M$7)","v":100},{"$f":"ROUND(Scores!U25,aRoundedScores!$M$7)","v":100},{"$f":"ROUND(Scores!V25,aRoundedScores!$M$7)","v":100},{"$f":"ROUND(Scores!W25,aRoundedScores!$M$7)","v":100},{"$f":"ROUND(Scores!X25,aRoundedScores!$M$7)","v":100},{"$f":"ROUND(Scores!Y25,aRoundedScores!$M$7)","v":100},{"$f":"ROUND(Scores!Z25,aRoundedScores!$M$7)","v":100},{"$f":"ROUND(Scores!AA25,aRoundedScores!$M$7)","v":100},{"$f":"ROUND(Scores!AB25,aRoundedScores!$M$7)","v":0},{"$f":"ROUND(Scores!AC25,aRoundedScores!$M$7)","v":100},{"$f":"ROUND(Scores!AD25,aRoundedScores!$M$7)","v":100},{"$f":"ROUND(Scores!AE25,aRoundedScores!$M$7)","v":100},{"$f":"ROUND(Scores!AF25,aRoundedScores!$M$7)","v":100},{"$f":"ROUND(Scores!AG25,aRoundedScores!$M$7)","v":100},{"$f":"ROUND(Scores!AH25,aRoundedScores!$M$7)","v":50},{"$f":"ROUND(Scores!AI25,aRoundedScores!$M$7)","v":100}]
[null,{"$f":"tblIndicators!A20","v":19},{"$f":"tblIndicators!B20","v":"PLCAP_7_1"},{"$f":"tblIndicators!C20","v":"PLCAP_7"},{"$f":"tblIndicators!D20","v":3},{"$f":"tblIndicators!L20","v":0},{"$f":"tblIndicators!V20","v":3},{"$f":"tblIndicators!W20","v":0},{"$f":"tblIndicators!X20","v":2},{"$f":"CHOOSE(G26,\"-\",Data!H26,H26)","v":0},{"$f":"CHOOSE(G26,\"-\",Data!I26,I26)","v":2},2,{"$f":"tblIndicators!AE20","v":"1.7.1) Adoption of UNCLOS"},"",{"$f":"tblIndicators!AJ20","v":1},{"$f":"ROUND(Scores!P26,aRoundedScores!$M$7)","v":100},{"$f":"ROUND(Scores!Q26,aRoundedScores!$M$7)","v":100},{"$f":"ROUND(Scores!R26,aRoundedScores!$M$7)","v":100},{"$f":"ROUND(Scores!S26,aRoundedScores!$M$7)","v":100},{"$f":"ROUND(Scores!T26,aRoundedScores!$M$7)","v":100},{"$f":"ROUND(Scores!U26,aRoundedScores!$M$7)","v":100},{"$f":"ROUND(Scores!V26,aRoundedScores!$M$7)","v":100},{"$f":"ROUND(Scores!W26,aRoundedScores!$M$7)","v":100},{"$f":"ROUND(Scores!X26,aRoundedScores!$M$7)","v":100},{"$f":"ROUND(Scores!Y26,aRoundedScores!$M$7)","v":100},{"$f":"ROUND(Scores!Z26,aRoundedScores!$M$7)","v":100},{"$f":"ROUND(Scores!AA26,aRoundedScores!$M$7)","v":100},{"$f":"ROUND(Scores!AB26,aRoundedScores!$M$7)","v":0},{"$f":"ROUND(Scores!AC26,aRoundedScores!$M$7)","v":100},{"$f":"ROUND(Scores!AD26,aRoundedScores!$M$7)","v":100},{"$f":"ROUND(Scores!AE26,aRoundedScores!$M$7)","v":100},{"$f":"ROUND(Scores!AF26,aRoundedScores!$M$7)","v":100},{"$f":"ROUND(Scores!AG26,aRoundedScores!$M$7)","v":100},{"$f":"ROUND(Scores!AH26,aRoundedScores!$M$7)","v":50},{"$f":"ROUND(Scores!AI26,aRoundedScores!$M$7)","v":100}]
[null,{"$f":"tblIndicators!A21","v":20},{"$f":"tblIndicators!B21","v":"BUSENV"},{"$f":"tblIndicators!C21","v":"OVERALL"},{"$f":"tblIndicators!D21","v":1},{"$f":"tblIndicators!L21","v":0},{"$f":"tblIndicators!V21","v":1},{"$f":"tblIndicators!W21","v":0},{"$f":"tblIndicators!X21","v":100},{"$f":"CHOOSE(G27,\"-\",Data!H27,H27)","v":"-"},{"$f":"CHOOSE(G27,\"-\",Data!I27,I27)","v":"-"},"-",{"$f":"tblIndicators!AE21","v":"2) BUSINESS ENVIRONMENT FOR COASTAL ACTIVITIES"},0.16666666666666666,{"$f":"tblIndicators!AJ21","v":0.16666666666666666},{"$f":"ROUND(Scores!P27,aRoundedScores!$M$7)","v":50},{"$f":"ROUND(Scores!Q27,aRoundedScores!$M$7)","v":89},{"$f":"ROUND(Scores!R27,aRoundedScores!$M$7)","v":76},{"$f":"ROUND(Scores!S27,aRoundedScores!$M$7)","v":47},{"$f":"ROUND(Scores!T27,aRoundedScores!$M$7)","v":83},{"$f":"ROUND(Scores!U27,aRoundedScores!$M$7)","v":40},{"$f":"ROUND(Scores!V27,aRoundedScores!$M$7)","v":39},{"$f":"ROUND(Scores!W27,aRoundedScores!$M$7)","v":78},{"$f":"ROUND(Scores!X27,aRoundedScores!$M$7)","v":54},{"$f":"ROUND(Scores!Y27,aRoundedScores!$M$7)","v":87},{"$f":"ROUND(Scores!Z27,aRoundedScores!$M$7)","v":17},{"$f":"ROUND(Scores!AA27,aRoundedScores!$M$7)","v":88},{"$f":"ROUND(Scores!AB27,aRoundedScores!$M$7)","v":41},{"$f":"ROUND(Scores!AC27,aRoundedScores!$M$7)","v":44},{"$f":"ROUND(Scores!AD27,aRoundedScores!$M$7)","v":32},{"$f":"ROUND(Scores!AE27,aRoundedScores!$M$7)","v":56},{"$f":"ROUND(Scores!AF27,aRoundedScores!$M$7)","v":73},{"$f":"ROUND(Scores!AG27,aRoundedScores!$M$7)","v":80},{"$f":"ROUND(Scores!AH27,aRoundedScores!$M$7)","v":86},{"$f":"ROUND(Scores!AI27,aRoundedScores!$M$7)","v":42}]
[null,{"$f":"tblIndicators!A22","v":21},{"$f":"tblIndicators!B22","v":"BUSENV_1"},{"$f":"tblIndicators!C22","v":"BUSENV"},{"$f":"tblIndicators!D22","v":2},{"$f":"tblIndicators!L22","v":0},{"$f":"tblIndicators!V22","v":1},{"$f":"tblIndicators!W22","v":0},{"$f":"tblIndicators!X22","v":100},{"$f":"CHOOSE(G28,\"-\",Data!H28,H28)","v":"-"},{"$f":"CHOOSE(G28,\"-\",Data!I28,I28)","v":"-"},"-",{"$f":"tblIndicators!AE22","v":"2.1) Ease of doing business"},0.25,{"$f":"tblIndicators!AJ22","v":0.25},{"$f":"ROUND(Scores!P28,aRoundedScores!$M$7)","v":61},{"$f":"ROUND(Scores!Q28,aRoundedScores!$M$7)","v":81},{"$f":"ROUND(Scores!R28,aRoundedScores!$M$7)","v":77},{"$f":"ROUND(Scores!S28,aRoundedScores!$M$7)","v":59},{"$f":"ROUND(Scores!T28,aRoundedScores!$M$7)","v":71},{"$f":"ROUND(Scores!U28,aRoundedScores!$M$7)","v":54},{"$f":"ROUND(Scores!V28,aRoundedScores!$M$7)","v":53},{"$f":"ROUND(Scores!W28,aRoundedScores!$M$7)","v":69},{"$f":"ROUND(Scores!X28,aRoundedScores!$M$7)","v":66},{"$f":"ROUND(Scores!Y28,aRoundedScores!$M$7)","v":79},{"$f":"ROUND(Scores!Z28,aRoundedScores!$M$7)","v":40},{"$f":"ROUND(Scores!AA28,aRoundedScores!$M$7)","v":78},{"$f":"ROUND(Scores!AB28,aRoundedScores!$M$7)","v":58},{"$f":"ROUND(Scores!AC28,aRoundedScores!$M$7)","v":57},{"$f":"ROUND(Scores!AD28,aRoundedScores!$M$7)","v":52},{"$f":"ROUND(Scores!AE28,aRoundedScores!$M$7)","v":57},{"$f":"ROUND(Scores!AF28,aRoundedScores!$M$7)","v":70},{"$f":"ROUND(Scores!AG28,aRoundedScores!$M$7)","v":69},{"$f":"ROUND(Scores!AH28,aRoundedScores!$M$7)","v":80},{"$f":"ROUND(Scores!AI28,aRoundedScores!$M$7)","v":52}]
[null,{"$f":"tblIndicators!A23","v":22},{"$f":"tblIndicators!B23","v":"BUSENV_1_1"},{"$f":"tblIndicators!C23","v":"BUSENV_1"},{"$f":"tblIndicators!D23","v":3},{"$f":"tblIndicators!L23","v":0},{"$f":"tblIndicators!V23","v":3},{"$f":"tblIndicators!W23","v":0},{"$f":"tblIndicators!X23","v":9},{"$f":"CHOOSE(G29,\"-\",Data!H29,H29)","v":0},{"$f":"CHOOSE(G29,\"-\",Data!I29,I29)","v":9},9,{"$f":"tblIndicators!AE23","v":"2.1.1) Business environment"},"",{"$f":"tblIndicators!AJ23","v":1},{"$f":"ROUND(Scores!P29,aRoundedScores!$M$7)","v":61},{"$f":"ROUND(Scores!Q29,aRoundedScores!$M$7)","v":81},{"$f":"ROUND(Scores!R29,aRoundedScores!$M$7)","v":77},{"$f":"ROUND(Scores!S29,aRoundedScores!$M$7)","v":59},{"$f":"ROUND(Scores!T29,aRoundedScores!$M$7)","v":71},{"$f":"ROUND(Scores!U29,aRoundedScores!$M$7)","v":54},{"$f":"ROUND(Scores!V29,aRoundedScores!$M$7)","v":53},{"$f":"ROUND(Scores!W29,aRoundedScores!$M$7)","v":69},{"$f":"ROUND(Scores!X29,aRoundedScores!$M$7)","v":66},{"$f":"ROUND(Scores!Y29,aRoundedScores!$M$7)","v":79},{"$f":"ROUND(Scores!Z29,aRoundedScores!$M$7)","v":40},{"$f":"ROUND(Scores!AA29,aRoundedScores!$M$7)","v":78},{"$f":"ROUND(Scores!AB29,aRoundedScores!$M$7)","v":58},{"$f":"ROUND(Scores!AC29,aRoundedScores!$M$7)","v":57},{"$f":"ROUND(Scores!AD29,aRoundedScores!$M$7)","v":52},{"$f":"ROUND(Scores!AE29,aRoundedScores!$M$7)","v":57},{"$f":"ROUND(Scores!AF29,aRoundedScores!$M$7)","v":70},{"$f":"ROUND(Scores!AG29,aRoundedScores!$M$7)","v":69},{"$f":"ROUND(Scores!AH29,aRoundedScores!$M$7)","v":80},{"$f":"ROUND(Scores!AI29,aRoundedScores!$M$7)","v":52}]
[null,{"$f":"tblIndicators!A24","v":23},{"$f":"tblIndicators!B24","v":"BUSENV_2"},{"$f":"tblIndicators!C24","v":"BUSENV"},{"$f":"tblIndicators!D24","v":2},{"$f":"tblIndicators!L24","v":0},{"$f":"tblIndicators!V24","v":1},{"$f":"tblIndicators!W24","v":0},{"$f":"tblIndicators!X24","v":100},{"$f":"CHOOSE(G30,\"-\",Data!H30,H30)","v":"-"},{"$f":"CHOOSE(G30,\"-\",Data!I30,I30)","v":"-"},"-",{"$f":"tblIndicators!AE24","v":"2.2) Corruption perception"},0.25,{"$f":"tblIndicators!AJ24","v":0.25},{"$f":"ROUND(Scores!P30,aRoundedScores!$M$7)","v":55},{"$f":"ROUND(Scores!Q30,aRoundedScores!$M$7)","v":95},{"$f":"ROUND(Scores!R30,aRoundedScores!$M$7)","v":90},{"$f":"ROUND(Scores!S30,aRoundedScores!$M$7)","v":47},{"$f":"ROUND(Scores!T30,aRoundedScores!$M$7)","v":88},{"$f":"ROUND(Scores!U30,aRoundedScores!$M$7)","v":36},{"$f":"ROUND(Scores!V30,aRoundedScores!$M$7)","v":32},{"$f":"ROUND(Scores!W30,aRoundedScores!$M$7)","v":93},{"$f":"ROUND(Scores!X30,aRoundedScores!$M$7)","v":39},{"$f":"ROUND(Scores!Y30,aRoundedScores!$M$7)","v":100},{"$f":"ROUND(Scores!Z30,aRoundedScores!$M$7)","v":9},{"$f":"ROUND(Scores!AA30,aRoundedScores!$M$7)","v":99},{"$f":"ROUND(Scores!AB30,aRoundedScores!$M$7)","v":42},{"$f":"ROUND(Scores!AC30,aRoundedScores!$M$7)","v":44},{"$f":"ROUND(Scores!AD30,aRoundedScores!$M$7)","v":17},{"$f":"ROUND(Scores!AE30,aRoundedScores!$M$7)","v":55},{"$f":"ROUND(Scores!AF30,aRoundedScores!$M$7)","v":70},{"$f":"ROUND(Scores!AG30,aRoundedScores!$M$7)","v":75},{"$f":"ROUND(Scores!AH30,aRoundedScores!$M$7)","v":85},{"$f":"ROUND(Scores!AI30,aRoundedScores!$M$7)","v":37}]
[null,{"$f":"tblIndicators!A25","v":24},{"$f":"tblIndicators!B25","v":"BUSENV_2_1"},{"$f":"tblIndicators!C25","v":"BUSENV_2"},{"$f":"tblIndicators!D25","v":3},{"$f":"tblIndicators!L25","v":0},{"$f":"tblIndicators!V25","v":3},{"$f":"tblIndicators!W25","v":0},{"$f":"tblIndicators!X25","v":100},{"$f":"CHOOSE(G31,\"-\",Data!H31,H31)","v":0},{"$f":"CHOOSE(G31,\"-\",Data!I31,I31)","v":100},100,{"$f":"tblIndicators!AE25","v":"2.2.1) Control of corruption"},"",{"$f":"tblIndicators!AJ25","v":1},{"$f":"ROUND(Scores!P31,aRoundedScores!$M$7)","v":55},{"$f":"ROUND(Scores!Q31,aRoundedScores!$M$7)","v":95},{"$f":"ROUND(Scores!R31,aRoundedScores!$M$7)","v":90},{"$f":"ROUND(Scores!S31,aRoundedScores!$M$7)","v":47},{"$f":"ROUND(Scores!T31,aRoundedScores!$M$7)","v":88},{"$f":"ROUND(Scores!U31,aRoundedScores!$M$7)","v":36},{"$f":"ROUND(Scores!V31,aRoundedScores!$M$7)","v":32},{"$f":"ROUND(Scores!W31,aRoundedScores!$M$7)","v":93},{"$f":"ROUND(Scores!X31,aRoundedScores!$M$7)","v":39},{"$f":"ROUND(Scores!Y31,aRoundedScores!$M$7)","v":100},{"$f":"ROUND(Scores!Z31,aRoundedScores!$M$7)","v":9},{"$f":"ROUND(Scores!AA31,aRoundedScores!$M$7)","v":99},{"$f":"ROUND(Scores!AB31,aRoundedScores!$M$7)","v":42},{"$f":"ROUND(Scores!AC31,aRoundedScores!$M$7)","v":44},{"$f":"ROUND(Scores!AD31,aRoundedScores!$M$7)","v":17},{"$f":"ROUND(Scores!AE31,aRoundedScores!$M$7)","v":55},{"$f":"ROUND(Scores!AF31,aRoundedScores!$M$7)","v":70},{"$f":"ROUND(Scores!AG31,aRoundedScores!$M$7)","v":75},{"$f":"ROUND(Scores!AH31,aRoundedScores!$M$7)","v":85},{"$f":"ROUND(Scores!AI31,aRoundedScores!$M$7)","v":37}]
[null,{"$f":"tblIndicators!A26","v":25},{"$f":"tblIndicators!B26","v":"BUSENV_3"},{"$f":"tblIndicators!C26","v":"BUSENV"},{"$f":"tblIndicators!D26","v":2},{"$f":"tblIndicators!L26","v":0},{"$f":"tblIndicators!V26","v":1},{"$f":"tblIndicators!W26","v":0},{"$f":"tblIndicators!X26","v":100},{"$f":"CHOOSE(G32,\"-\",Data!H32,H32)","v":"-"},{"$f":"CHOOSE(G32,\"-\",Data!I32,I32)","v":"-"},"-",{"$f":"tblIndicators!AE26","v":"2.3) Effectiveness of dispute resolution mechanisms"},0.25,{"$f":"tblIndicators!AJ26","v":0.25},{"$f":"ROUND(Scores!P32,aRoundedScores!$M$7)","v":50},{"$f":"ROUND(Scores!Q32,aRoundedScores!$M$7)","v":100},{"$f":"ROUND(Scores!R32,aRoundedScores!$M$7)","v":75},{"$f":"ROUND(Scores!S32,aRoundedScores!$M$7)","v":25},{"$f":"ROUND(Scores!T32,aRoundedScores!$M$7)","v":88},{"$f":"ROUND(Scores!U32,aRoundedScores!$M$7)","v":25},{"$f":"ROUND(Scores!V32,aRoundedScores!$M$7)","v":25},{"$f":"ROUND(Scores!W32,aRoundedScores!$M$7)","v":63},{"$f":"ROUND(Scores!X32,aRoundedScores!$M$7)","v":63},{"$f":"ROUND(Scores!Y32,aRoundedScores!$M$7)","v":100},{"$f":"ROUND(Scores!Z32,aRoundedScores!$M$7)","v":0},{"$f":"ROUND(Scores!AA32,aRoundedScores!$M$7)","v":100},{"$f":"ROUND(Scores!AB32,aRoundedScores!$M$7)","v":25},{"$f":"ROUND(Scores!AC32,aRoundedScores!$M$7)","v":38},{"$f":"ROUND(Scores!AD32,aRoundedScores!$M$7)","v":13},{"$f":"ROUND(Scores!AE32,aRoundedScores!$M$7)","v":63},{"$f":"ROUND(Scores!AF32,aRoundedScores!$M$7)","v":75},{"$f":"ROUND(Scores!AG32,aRoundedScores!$M$7)","v":88},{"$f":"ROUND(Scores!AH32,aRoundedScores!$M$7)","v":100},{"$f":"ROUND(Scores!AI32,aRoundedScores!$M$7)","v":38}]
[null,{"$f":"tblIndicators!A27","v":26},{"$f":"tblIndicators!B27","v":"BUSENV_3_1"},{"$f":"tblIndicators!C27","v":"BUSENV_3"},{"$f":"tblIndicators!D27","v":3},{"$f":"tblIndicators!L27","v":0},{"$f":"tblIndicators!V27","v":3},{"$f":"tblIndicators!W27","v":0},{"$f":"tblIndicators!X27","v":4},{"$f":"CHOOSE(G33,\"-\",Data!H33,H33)","v":0},{"$f":"CHOOSE(G33,\"-\",Data!I33,I33)","v":4},4,{"$f":"tblIndicators!AE27","v":"2.3.1) Fairness of judicial process"},"",{"$f":"tblIndicators!AJ27","v":0.5},{"$f":"ROUND(Scores!P33,aRoundedScores!$M$7)","v":50},{"$f":"ROUND(Scores!Q33,aRoundedScores!$M$7)","v":100},{"$f":"ROUND(Scores!R33,aRoundedScores!$M$7)","v":75},{"$f":"ROUND(Scores!S33,aRoundedScores!$M$7)","v":25},{"$f":"ROUND(Scores!T33,aRoundedScores!$M$7)","v":75},{"$f":"ROUND(Scores!U33,aRoundedScores!$M$7)","v":25},{"$f":"ROUND(Scores!V33,aRoundedScores!$M$7)","v":25},{"$f":"ROUND(Scores!W33,aRoundedScores!$M$7)","v":75},{"$f":"ROUND(Scores!X33,aRoundedScores!$M$7)","v":50},{"$f":"ROUND(Scores!Y33,aRoundedScores!$M$7)","v":100},{"$f":"ROUND(Scores!Z33,aRoundedScores!$M$7)","v":0},{"$f":"ROUND(Scores!AA33,aRoundedScores!$M$7)","v":100},{"$f":"ROUND(Scores!AB33,aRoundedScores!$M$7)","v":25},{"$f":"ROUND(Scores!AC33,aRoundedScores!$M$7)","v":50},{"$f":"ROUND(Scores!AD33,aRoundedScores!$M$7)","v":0},{"$f":"ROUND(Scores!AE33,aRoundedScores!$M$7)","v":75},{"$f":"ROUND(Scores!AF33,aRoundedScores!$M$7)","v":75},{"$f":"ROUND(Scores!AG33,aRoundedScores!$M$7)","v":75},{"$f":"ROUND(Scores!AH33,aRoundedScores!$M$7)","v":100},{"$f":"ROUND(Scores!AI33,aRoundedScores!$M$7)","v":25}]
[null,{"$f":"tblIndicators!A28","v":27},{"$f":"tblIndicators!B28","v":"BUSENV_3_2"},{"$f":"tblIndicators!C28","v":"BUSENV_3"},{"$f":"tblIndicators!D28","v":3},{"$f":"tblIndicators!L28","v":0},{"$f":"tblIndicators!V28","v":3},{"$f":"tblIndicators!W28","v":0},{"$f":"tblIndicators!X28","v":4},{"$f":"CHOOSE(G34,\"-\",Data!H34,H34)","v":0},{"$f":"CHOOSE(G34,\"-\",Data!I34,I34)","v":4},4,{"$f":"tblIndicators!AE28","v":"2.3.2) Enforceability of contracts"},"",{"$f":"tblIndicators!AJ28","v":0.5},{"$f":"ROUND(Scores!P34,aRoundedScores!$M$7)","v":50},{"$f":"ROUND(Scores!Q34,aRoundedScores!$M$7)","v":100},{"$f":"ROUND(Scores!R34,aRoundedScores!$M$7)","v":75},{"$f":"ROUND(Scores!S34,aRoundedScores!$M$7)","v":25},{"$f":"ROUND(Scores!T34,aRoundedScores!$M$7)","v":100},{"$f":"ROUND(Scores!U34,aRoundedScores!$M$7)","v":25},{"$f":"ROUND(Scores!V34,aRoundedScores!$M$7)","v":25},{"$f":"ROUND(Scores!W34,aRoundedScores!$M$7)","v":50},{"$f":"ROUND(Scores!X34,aRoundedScores!$M$7)","v":75},{"$f":"ROUND(Scores!Y34,aRoundedScores!$M$7)","v":100},{"$f":"ROUND(Scores!Z34,aRoundedScores!$M$7)","v":0},{"$f":"ROUND(Scores!AA34,aRoundedScores!$M$7)","v":100},{"$f":"ROUND(Scores!AB34,aRoundedScores!$M$7)","v":25},{"$f":"ROUND(Scores!AC34,aRoundedScores!$M$7)","v":25},{"$f":"ROUND(Scores!AD34,aRoundedScores!$M$7)","v":25},{"$f":"ROUND(Scores!AE34,aRoundedScores!$M$7)","v":50},{"$f":"ROUND(Scores!AF34,aRoundedScores!$M$7)","v":75},{"$f":"ROUND(Scores!AG34,aRoundedScores!$M$7)","v":100},{"$f":"ROUND(Scores!AH34,aRoundedScores!$M$7)","v":100},{"$f":"ROUND(Scores!AI34,aRoundedScores!$M$7)","v":50}]
[null,{"$f":"tblIndicators!A29","v":28},{"$f":"tblIndicators!B29","v":"BUSENV_4"},{"$f":"tblIndicators!C29","v":"BUSENV"},{"$f":"tblIndicators!D29","v":2},{"$f":"tblIndicators!L29","v":0},{"$f":"tblIndicators!V29","v":1},{"$f":"tblIndicators!W29","v":0},{"$f":"tblIndicators!X29","v":100},{"$f":"CHOOSE(G35,\"-\",Data!H35,H35)","v":"-"},{"$f":"CHOOSE(G35,\"-\",Data!I35,I35)","v":"-"},"-",{"$f":"tblIndicators!AE29","v":"2.4) Quality of coastal infrastructure"},0.25,{"$f":"tblIndicators!AJ29","v":0.25},{"$f":"ROUND(Scores!P35,aRoundedScores!$M$7)","v":34},{"$f":"ROUND(Scores!Q35,aRoundedScores!$M$7)","v":80},{"$f":"ROUND(Scores!R35,aRoundedScores!$M$7)","v":63},{"$f":"ROUND(Scores!S35,aRoundedScores!$M$7)","v":57},{"$f":"ROUND(Scores!T35,aRoundedScores!$M$7)","v":86},{"$f":"ROUND(Scores!U35,aRoundedScores!$M$7)","v":44},{"$f":"ROUND(Scores!V35,aRoundedScores!$M$7)","v":45},{"$f":"ROUND(Scores!W35,aRoundedScores!$M$7)","v":87},{"$f":"ROUND(Scores!X35,aRoundedScores!$M$7)","v":49},{"$f":"ROUND(Scores!Y35,aRoundedScores!$M$7)","v":70},{"$f":"ROUND(Scores!Z35,aRoundedScores!$M$7)","v":18},{"$f":"ROUND(Scores!AA35,aRoundedScores!$M$7)","v":74},{"$f":"ROUND(Scores!AB35,aRoundedScores!$M$7)","v":38},{"$f":"ROUND(Scores!AC35,aRoundedScores!$M$7)","v":39},{"$f":"ROUND(Scores!AD35,aRoundedScores!$M$7)","v":48},{"$f":"ROUND(Scores!AE35,aRoundedScores!$M$7)","v":50},{"$f":"ROUND(Scores!AF35,aRoundedScores!$M$7)","v":77},{"$f":"ROUND(Scores!AG35,aRoundedScores!$M$7)","v":87},{"$f":"ROUND(Scores!AH35,aRoundedScores!$M$7)","v":79},{"$f":"ROUND(Scores!AI35,aRoundedScores!$M$7)","v":42}]
[null,{"$f":"tblIndicators!A30","v":29},{"$f":"tblIndicators!B30","v":"BUSENV_4_1"},{"$f":"tblIndicators!C30","v":"BUSENV_4"},{"$f":"tblIndicators!D30","v":3},{"$f":"tblIndicators!L30","v":0},{"$f":"tblIndicators!V30","v":3},{"$f":"tblIndicators!W30","v":0},{"$f":"tblIndicators!X30","v":6},{"$f":"CHOOSE(G36,\"-\",Data!H36,H36)","v":0},{"$f":"CHOOSE(G36,\"-\",Data!I36,I36)","v":6},6,{"$f":"tblIndicators!AE30","v":"2.4.1) Quality of port facilities"},"",{"$f":"tblIndicators!AJ30","v":0.2},{"$f":"ROUND(Scores!P36,aRoundedScores!$M$7)","v":28},{"$f":"ROUND(Scores!Q36,aRoundedScores!$M$7)","v":74},{"$f":"ROUND(Scores!R36,aRoundedScores!$M$7)","v":67},{"$f":"ROUND(Scores!S36,aRoundedScores!$M$7)","v":59},{"$f":"ROUND(Scores!T36,aRoundedScores!$M$7)","v":70},{"$f":"ROUND(Scores!U36,aRoundedScores!$M$7)","v":50},{"$f":"ROUND(Scores!V36,aRoundedScores!$M$7)","v":50},{"$f":"ROUND(Scores!W36,aRoundedScores!$M$7)","v":72},{"$f":"ROUND(Scores!X36,aRoundedScores!$M$7)","v":55},{"$f":"ROUND(Scores!Y36,aRoundedScores!$M$7)","v":79},{"$f":"ROUND(Scores!Z36,aRoundedScores!$M$7)","v":36},{"$f":"ROUND(Scores!AA36,aRoundedScores!$M$7)","v":78},{"$f":"ROUND(Scores!AB36,aRoundedScores!$M$7)","v":46},{"$f":"ROUND(Scores!AC36,aRoundedScores!$M$7)","v":41},{"$f":"ROUND(Scores!AD36,aRoundedScores!$M$7)","v":49},{"$f":"ROUND(Scores!AE36,aRoundedScores!$M$7)","v":64},{"$f":"ROUND(Scores!AF36,aRoundedScores!$M$7)","v":72},{"$f":"ROUND(Scores!AG36,aRoundedScores!$M$7)","v":80},{"$f":"ROUND(Scores!AH36,aRoundedScores!$M$7)","v":78},{"$f":"ROUND(Scores!AI36,aRoundedScores!$M$7)","v":46}]
[null,{"$f":"tblIndicators!A31","v":30},{"$f":"tblIndicators!B31","v":"BUSENV_4_2"},{"$f":"tblIndicators!C31","v":"BUSENV_4"},{"$f":"tblIndicators!D31","v":3},{"$f":"tblIndicators!L31","v":0},{"$f":"tblIndicators!V31","v":3},{"$f":"tblIndicators!W31","v":0},{"$f":"tblIndicators!X31","v":6},{"$f":"CHOOSE(G37,\"-\",Data!H37,H37)","v":0},{"$f":"CHOOSE(G37,\"-\",Data!I37,I37)","v":6},6,{"$f":"tblIndicators!AE31","v":"2.4.2) Quality of electricity supply"},"",{"$f":"tblIndicators!AJ31","v":0.2},{"$f":"ROUND(Scores!P37,aRoundedScores!$M$7)","v":52},{"$f":"ROUND(Scores!Q37,aRoundedScores!$M$7)","v":92},{"$f":"ROUND(Scores!R37,aRoundedScores!$M$7)","v":73},{"$f":"ROUND(Scores!S37,aRoundedScores!$M$7)","v":70},{"$f":"ROUND(Scores!T37,aRoundedScores!$M$7)","v":91},{"$f":"ROUND(Scores!U37,aRoundedScores!$M$7)","v":41},{"$f":"ROUND(Scores!V37,aRoundedScores!$M$7)","v":56},{"$f":"ROUND(Scores!W37,aRoundedScores!$M$7)","v":88},{"$f":"ROUND(Scores!X37,aRoundedScores!$M$7)","v":60},{"$f":"ROUND(Scores!Y37,aRoundedScores!$M$7)","v":87},{"$f":"ROUND(Scores!Z37,aRoundedScores!$M$7)","v":10},{"$f":"ROUND(Scores!AA37,aRoundedScores!$M$7)","v":95},{"$f":"ROUND(Scores!AB37,aRoundedScores!$M$7)","v":64},{"$f":"ROUND(Scores!AC37,aRoundedScores!$M$7)","v":53},{"$f":"ROUND(Scores!AD37,aRoundedScores!$M$7)","v":63},{"$f":"ROUND(Scores!AE37,aRoundedScores!$M$7)","v":43},{"$f":"ROUND(Scores!AF37,aRoundedScores!$M$7)","v":76},{"$f":"ROUND(Scores!AG37,aRoundedScores!$M$7)","v":89},{"$f":"ROUND(Scores!AH37,aRoundedScores!$M$7)","v":88},{"$f":"ROUND(Scores!AI37,aRoundedScores!$M$7)","v":53}]
[null,{"$f":"tblIndicators!A32","v":31},{"$f":"tblIndicators!B32","v":"BUSENV_4_3"},{"$f":"tblIndicators!C32","v":"BUSENV_4"},{"$f":"tblIndicators!D32","v":3},{"$f":"tblIndicators!L32","v":0},{"$f":"tblIndicators!V32","v":3},{"$f":"tblIndicators!W32","v":0},{"$f":"tblIndicators!X32","v":6},{"$f":"CHOOSE(G38,\"-\",Data!H38,H38)","v":0},{"$f":"CHOOSE(G38,\"-\",Data!I38,I38)","v":6},6,{"$f":"tblIndicators!AE32","v":"2.4.3) Quality of road infrastructure"},"",{"$f":"tblIndicators!AJ32","v":0.2},{"$f":"ROUND(Scores!P38,aRoundedScores!$M$7)","v":29},{"$f":"ROUND(Scores!Q38,aRoundedScores!$M$7)","v":72},{"$f":"ROUND(Scores!R38,aRoundedScores!$M$7)","v":69},{"$f":"ROUND(Scores!S38,aRoundedScores!$M$7)","v":60},{"$f":"ROUND(Scores!T38,aRoundedScores!$M$7)","v":86},{"$f":"ROUND(Scores!U38,aRoundedScores!$M$7)","v":47},{"$f":"ROUND(Scores!V38,aRoundedScores!$M$7)","v":49},{"$f":"ROUND(Scores!W38,aRoundedScores!$M$7)","v":82},{"$f":"ROUND(Scores!X38,aRoundedScores!$M$7)","v":57},{"$f":"ROUND(Scores!Y38,aRoundedScores!$M$7)","v":66},{"$f":"ROUND(Scores!Z38,aRoundedScores!$M$7)","v":28},{"$f":"ROUND(Scores!AA38,aRoundedScores!$M$7)","v":48},{"$f":"ROUND(Scores!AB38,aRoundedScores!$M$7)","v":37},{"$f":"ROUND(Scores!AC38,aRoundedScores!$M$7)","v":43},{"$f":"ROUND(Scores!AD38,aRoundedScores!$M$7)","v":29},{"$f":"ROUND(Scores!AE38,aRoundedScores!$M$7)","v":66},{"$f":"ROUND(Scores!AF38,aRoundedScores!$M$7)","v":77},{"$f":"ROUND(Scores!AG38,aRoundedScores!$M$7)","v":82},{"$f":"ROUND(Scores!AH38,aRoundedScores!$M$7)","v":78},{"$f":"ROUND(Scores!AI38,aRoundedScores!$M$7)","v":37}]
[null,{"$f":"tblIndicators!A33","v":32},{"$f":"tblIndicators!B33","v":"BUSENV_4_4"},{"$f":"tblIndicators!C33","v":"BUSENV_4"},{"$f":"tblIndicators!D33","v":3},{"$f":"tblIndicators!L33","v":0},{"$f":"tblIndicators!V33","v":3},{"$f":"tblIndicators!W33","v":0},{"$f":"tblIndicators!X33","v":6},{"$f":"CHOOSE(G39,\"-\",Data!H39,H39)","v":0},{"$f":"CHOOSE(G39,\"-\",Data!I39,I39)","v":6},6,{"$f":"tblIndicators!AE33","v":"2.4.4) Quality of railroad infrastructure"},"",{"$f":"tblIndicators!AJ33","v":0.2},{"$f":"ROUND(Scores!P39,aRoundedScores!$M$7)","v":12},{"$f":"ROUND(Scores!Q39,aRoundedScores!$M$7)","v":64},{"$f":"ROUND(Scores!R39,aRoundedScores!$M$7)","v":24},{"$f":"ROUND(Scores!S39,aRoundedScores!$M$7)","v":64},{"$f":"ROUND(Scores!T39,aRoundedScores!$M$7)","v":82},{"$f":"ROUND(Scores!U39,aRoundedScores!$M$7)","v":54},{"$f":"ROUND(Scores!V39,aRoundedScores!$M$7)","v":45},{"$f":"ROUND(Scores!W39,aRoundedScores!$M$7)","v":95},{"$f":"ROUND(Scores!X39,aRoundedScores!$M$7)","v":30},{"$f":"ROUND(Scores!Y39,aRoundedScores!$M$7)","v":45},{"$f":"ROUND(Scores!Z39,aRoundedScores!$M$7)","v":9},{"$f":"ROUND(Scores!AA39,aRoundedScores!$M$7)","v":48},{"$f":"ROUND(Scores!AB39,aRoundedScores!$M$7)","v":15},{"$f":"ROUND(Scores!AC39,aRoundedScores!$M$7)","v":21},{"$f":"ROUND(Scores!AD39,aRoundedScores!$M$7)","v":55},{"$f":"ROUND(Scores!AE39,aRoundedScores!$M$7)","v":40},{"$f":"ROUND(Scores!AF39,aRoundedScores!$M$7)","v":77},{"$f":"ROUND(Scores!AG39,aRoundedScores!$M$7)","v":83},{"$f":"ROUND(Scores!AH39,aRoundedScores!$M$7)","v":65},{"$f":"ROUND(Scores!AI39,aRoundedScores!$M$7)","v":34}]
[null,{"$f":"tblIndicators!A34","v":33},{"$f":"tblIndicators!B34","v":"BUSENV_4_5"},{"$f":"tblIndicators!C34","v":"BUSENV_4"},{"$f":"tblIndicators!D34","v":3},{"$f":"tblIndicators!L34","v":0},{"$f":"tblIndicators!V34","v":3},{"$f":"tblIndicators!W34","v":0},{"$f":"tblIndicators!X34","v":100},{"$f":"CHOOSE(G40,\"-\",Data!H40,H40)","v":0},{"$f":"CHOOSE(G40,\"-\",Data!I40,I40)","v":100},100,{"$f":"tblIndicators!AE34","v":"2.4.5) Quality of water infrastructure"},"",{"$f":"tblIndicators!AJ34","v":0.2},{"$f":"ROUND(Scores!P40,aRoundedScores!$M$7)","v":50},{"$f":"ROUND(Scores!Q40,aRoundedScores!$M$7)","v":96},{"$f":"ROUND(Scores!R40,aRoundedScores!$M$7)","v":80},{"$f":"ROUND(Scores!S40,aRoundedScores!$M$7)","v":33},{"$f":"ROUND(Scores!T40,aRoundedScores!$M$7)","v":100},{"$f":"ROUND(Scores!U40,aRoundedScores!$M$7)","v":26},{"$f":"ROUND(Scores!V40,aRoundedScores!$M$7)","v":24},{"$f":"ROUND(Scores!W40,aRoundedScores!$M$7)","v":100},{"$f":"ROUND(Scores!X40,aRoundedScores!$M$7)","v":46},{"$f":"ROUND(Scores!Y40,aRoundedScores!$M$7)","v":71},{"$f":"ROUND(Scores!Z40,aRoundedScores!$M$7)","v":8},{"$f":"ROUND(Scores!AA40,aRoundedScores!$M$7)","v":100},{"$f":"ROUND(Scores!AB40,aRoundedScores!$M$7)","v":29},{"$f":"ROUND(Scores!AC40,aRoundedScores!$M$7)","v":37},{"$f":"ROUND(Scores!AD40,aRoundedScores!$M$7)","v":45},{"$f":"ROUND(Scores!AE40,aRoundedScores!$M$7)","v":36},{"$f":"ROUND(Scores!AF40,aRoundedScores!$M$7)","v":86},{"$f":"ROUND(Scores!AG40,aRoundedScores!$M$7)","v":99},{"$f":"ROUND(Scores!AH40,aRoundedScores!$M$7)","v":86},{"$f":"ROUND(Scores!AI40,aRoundedScores!$M$7)","v":43}]
[null,{"$f":"tblIndicators!A35","v":34},{"$f":"tblIndicators!B35","v":"WATQUAL"},{"$f":"tblIndicators!C35","v":"OVERALL"},{"$f":"tblIndicators!D35","v":1},{"$f":"tblIndicators!L35","v":0},{"$f":"tblIndicators!V35","v":1},{"$f":"tblIndicators!W35","v":0},{"$f":"tblIndicators!X35","v":100},{"$f":"CHOOSE(G41,\"-\",Data!H41,H41)","v":"-"},{"$f":"CHOOSE(G41,\"-\",Data!I41,I41)","v":"-"},"-",{"$f":"tblIndicators!AE35","v":"3) WATER QUALITY"},0.16666666666666666,{"$f":"tblIndicators!AJ35","v":0.16666666666666666},{"$f":"ROUND(Scores!P41,aRoundedScores!$M$7)","v":75},{"$f":"ROUND(Scores!Q41,aRoundedScores!$M$7)","v":67},{"$f":"ROUND(Scores!R41,aRoundedScores!$M$7)","v":82},{"$f":"ROUND(Scores!S41,aRoundedScores!$M$7)","v":66},{"$f":"ROUND(Scores!T41,aRoundedScores!$M$7)","v":83},{"$f":"ROUND(Scores!U41,aRoundedScores!$M$7)","v":75},{"$f":"ROUND(Scores!V41,aRoundedScores!$M$7)","v":73},{"$f":"ROUND(Scores!W41,aRoundedScores!$M$7)","v":82},{"$f":"ROUND(Scores!X41,aRoundedScores!$M$7)","v":77},{"$f":"ROUND(Scores!Y41,aRoundedScores!$M$7)","v":83},{"$f":"ROUND(Scores!Z41,aRoundedScores!$M$7)","v":62},{"$f":"ROUND(Scores!AA41,aRoundedScores!$M$7)","v":77},{"$f":"ROUND(Scores!AB41,aRoundedScores!$M$7)","v":76},{"$f":"ROUND(Scores!AC41,aRoundedScores!$M$7)","v":61},{"$f":"ROUND(Scores!AD41,aRoundedScores!$M$7)","v":57},{"$f":"ROUND(Scores!AE41,aRoundedScores!$M$7)","v":71},{"$f":"ROUND(Scores!AF41,aRoundedScores!$M$7)","v":78},{"$f":"ROUND(Scores!AG41,aRoundedScores!$M$7)","v":79},{"$f":"ROUND(Scores!AH41,aRoundedScores!$M$7)","v":80},{"$f":"ROUND(Scores!AI41,aRoundedScores!$M$7)","v":74}]
[null,{"$f":"tblIndicators!A36","v":35},{"$f":"tblIndicators!B36","v":"WATQUAL_1"},{"$f":"tblIndicators!C36","v":"WATQUAL"},{"$f":"tblIndicators!D36","v":2},{"$f":"tblIndicators!L36","v":0},{"$f":"tblIndicators!V36","v":1},{"$f":"tblIndicators!W36","v":0},{"$f":"tblIndicators!X36","v":100},{"$f":"CHOOSE(G42,\"-\",Data!H42,H42)","v":"-"},{"$f":"CHOOSE(G42,\"-\",Data!I42,I42)","v":"-"},"-",{"$f":"tblIndicators!AE36","v":"3.1) Agency"},0.33333333333333331,{"$f":"tblIndicators!AJ36","v":0.33333333333333331},{"$f":"ROUND(Scores!P42,aRoundedScores!$M$7)","v":100},{"$f":"ROUND(Scores!Q42,aRoundedScores!$M$7)","v":50},{"$f":"ROUND(Scores!R42,aRoundedScores!$M$7)","v":100},{"$f":"ROUND(Scores!S42,aRoundedScores!$M$7)","v":100},{"$f":"ROUND(Scores!T42,aRoundedScores!$M$7)","v":100},{"$f":"ROUND(Scores!U42,aRoundedScores!$M$7)","v":100},{"$f":"ROUND(Scores!V42,aRoundedScores!$M$7)","v":100},{"$f":"ROUND(Scores!W42,aRoundedScores!$M$7)","v":100},{"$f":"ROUND(Scores!X42,aRoundedScores!$M$7)","v":100},{"$f":"ROUND(Scores!Y42,aRoundedScores!$M$7)","v":100},{"$f":"ROUND(Scores!Z42,aRoundedScores!$M$7)","v":100},{"$f":"ROUND(Scores!AA42,aRoundedScores!$M$7)","v":100},{"$f":"ROUND(Scores!AB42,aRoundedScores!$M$7)","v":100},{"$f":"ROUND(Scores!AC42,aRoundedScores!$M$7)","v":100},{"$f":"ROUND(Scores!AD42,aRoundedScores!$M$7)","v":100},{"$f":"ROUND(Scores!AE42,aRoundedScores!$M$7)","v":100},{"$f":"ROUND(Scores!AF42,aRoundedScores!$M$7)","v":100},{"$f":"ROUND(Scores!AG42,aRoundedScores!$M$7)","v":100},{"$f":"ROUND(Scores!AH42,aRoundedScores!$M$7)","v":100},{"$f":"ROUND(Scores!AI42,aRoundedScores!$M$7)","v":100}]
[null,{"$f":"tblIndicators!A37","v":36},{"$f":"tblIndicators!B37","v":"WATQUAL_1_1"},{"$f":"tblIndicators!C37","v":"WATQUAL_1"},{"$f":"tblIndicators!D37","v":3},{"$f":"tblIndicators!L37","v":0},{"$f":"tblIndicators!V37","v":3},{"$f":"tblIndicators!W37","v":0},{"$f":"tblIndicators!X37","v":2},{"$f":"CHOOSE(G43,\"-\",Data!H43,H43)","v":0},{"$f":"CHOOSE(G43,\"-\",Data!I43,I43)","v":2},2,{"$f":"tblIndicators!AE37","v":"3.1.1) Agency responsible for freshwater pollution controls"},"",{"$f":"tblIndicators!AJ37","v":1},{"$f":"ROUND(Scores!P43,aRoundedScores!$M$7)","v":100},{"$f":"ROUND(Scores!Q43,aRoundedScores!$M$7)","v":50},{"$f":"ROUND(Scores!R43,aRoundedScores!$M$7)","v":100},{"$f":"ROUND(Scores!S43,aRoundedScores!$M$7)","v":100},{"$f":"ROUND(Scores!T43,aRoundedScores!$M$7)","v":100},{"$f":"ROUND(Scores!U43,aRoundedScores!$M$7)","v":100},{"$f":"ROUND(Scores!V43,aRoundedScores!$M$7)","v":100},{"$f":"ROUND(Scores!W43,aRoundedScores!$M$7)","v":100},{"$f":"ROUND(Scores!X43,aRoundedScores!$M$7)","v":100},{"$f":"ROUND(Scores!Y43,aRoundedScores!$M$7)","v":100},{"$f":"ROUND(Scores!Z43,aRoundedScores!$M$7)","v":100},{"$f":"ROUND(Scores!AA43,aRoundedScores!$M$7)","v":100},{"$f":"ROUND(Scores!AB43,aRoundedScores!$M$7)","v":100},{"$f":"ROUND(Scores!AC43,aRoundedScores!$M$7)","v":100},{"$f":"ROUND(Scores!AD43,aRoundedScores!$M$7)","v":100},{"$f":"ROUND(Scores!AE43,aRoundedScores!$M$7)","v":100},{"$f":"ROUND(Scores!AF43,aRoundedScores!$M$7)","v":100},{"$f":"ROUND(Scores!AG43,aRoundedScores!$M$7)","v":100},{"$f":"ROUND(Scores!AH43,aRoundedScores!$M$7)","v":100},{"$f":"ROUND(Scores!AI43,aRoundedScores!$M$7)","v":100}]
[null,{"$f":"tblIndicators!A38","v":37},{"$f":"tblIndicators!B38","v":"WATQUAL_2"},{"$f":"tblIndicators!C38","v":"WATQUAL"},{"$f":"tblIndicators!D38","v":2},{"$f":"tblIndicators!L38","v":0},{"$f":"tblIndicators!V38","v":1},{"$f":"tblIndicators!W38","v":0},{"$f":"tblIndicators!X38","v":100},{"$f":"CHOOSE(G44,\"-\",Data!H44,H44)","v":"-"},{"$f":"CHOOSE(G44,\"-\",Data!I44,I44)","v":"-"},"-",{"$f":"tblIndicators!AE38","v":"3.2) Regulatory standards for water pollution"},0.33333333333333331,{"$f":"tblIndicators!AJ38","v":0.33333333333333331},{"$f":"ROUND(Scores!P44,aRoundedScores!$M$7)","v":50},{"$f":"ROUND(Scores!Q44,aRoundedScores!$M$7)","v":75},{"$f":"ROUND(Scores!R44,aRoundedScores!$M$7)","v":70},{"$f":"ROUND(Scores!S44,aRoundedScores!$M$7)","v":40},{"$f":"ROUND(Scores!T44,aRoundedScores!$M$7)","v":75},{"$f":"ROUND(Scores!U44,aRoundedScores!$M$7)","v":51},{"$f":"ROUND(Scores!V44,aRoundedScores!$M$7)","v":45},{"$f":"ROUND(Scores!W44,aRoundedScores!$M$7)","v":71},{"$f":"ROUND(Scores!X44,aRoundedScores!$M$7)","v":56},{"$f":"ROUND(Scores!Y44,aRoundedScores!$M$7)","v":75},{"$f":"ROUND(Scores!Z44,aRoundedScores!$M$7)","v":45},{"$f":"ROUND(Scores!AA44,aRoundedScores!$M$7)","v":73},{"$f":"ROUND(Scores!AB44,aRoundedScores!$M$7)","v":52},{"$f":"ROUND(Scores!AC44,aRoundedScores!$M$7)","v":41},{"$f":"ROUND(Scores!AD44,aRoundedScores!$M$7)","v":28},{"$f":"ROUND(Scores!AE44,aRoundedScores!$M$7)","v":55},{"$f":"ROUND(Scores!AF44,aRoundedScores!$M$7)","v":75},{"$f":"ROUND(Scores!AG44,aRoundedScores!$M$7)","v":78},{"$f":"ROUND(Scores!AH44,aRoundedScores!$M$7)","v":65},{"$f":"ROUND(Scores!AI44,aRoundedScores!$M$7)","v":46}]
[null,{"$f":"tblIndicators!A39","v":38},{"$f":"tblIndicators!B39","v":"WATQUAL_2_1"},{"$f":"tblIndicators!C39","v":"WATQUAL_2"},{"$f":"tblIndicators!D39","v":3},{"$f":"tblIndicators!L39","v":0},{"$f":"tblIndicators!V39","v":3},{"$f":"tblIndicators!W39","v":0},{"$f":"tblIndicators!X39","v":1},{"$f":"CHOOSE(G45,\"-\",Data!H45,H45)","v":0},{"$f":"CHOOSE(G45,\"-\",Data!I45,I45)","v":1},1,{"$f":"tblIndicators!AE39","v":"3.2.1) Standards for point source pollution"},"",{"$f":"tblIndicators!AJ39","v":0.33333333333333331},{"$f":"ROUND(Scores!P45,aRoundedScores!$M$7)","v":50},{"$f":"ROUND(Scores!Q45,aRoundedScores!$M$7)","v":50},{"$f":"ROUND(Scores!R45,aRoundedScores!$M$7)","v":50},{"$f":"ROUND(Scores!S45,aRoundedScores!$M$7)","v":50},{"$f":"ROUND(Scores!T45,aRoundedScores!$M$7)","v":50},{"$f":"ROUND(Scores!U45,aRoundedScores!$M$7)","v":50},{"$f":"ROUND(Scores!V45,aRoundedScores!$M$7)","v":50},{"$f":"ROUND(Scores!W45,aRoundedScores!$M$7)","v":50},{"$f":"ROUND(Scores!X45,aRoundedScores!$M$7)","v":50},{"$f":"ROUND(Scores!Y45,aRoundedScores!$M$7)","v":50},{"$f":"ROUND(Scores!Z45,aRoundedScores!$M$7)","v":50},{"$f":"ROUND(Scores!AA45,aRoundedScores!$M$7)","v":50},{"$f":"ROUND(Scores!AB45,aRoundedScores!$M$7)","v":50},{"$f":"ROUND(Scores!AC45,aRoundedScores!$M$7)","v":50},{"$f":"ROUND(Scores!AD45,aRoundedScores!$M$7)","v":50},{"$f":"ROUND(Scores!AE45,aRoundedScores!$M$7)","v":50},{"$f":"ROUND(Scores!AF45,aRoundedScores!$M$7)","v":50},{"$f":"ROUND(Scores!AG45,aRoundedScores!$M$7)","v":50},{"$f":"ROUND(Scores!AH45,aRoundedScores!$M$7)","v":50},{"$f":"ROUND(Scores!AI45,aRoundedScores!$M$7)","v":50}]
[null,{"$f":"tblIndicators!A40","v":39},{"$f":"tblIndicators!B40","v":"WATQUAL_2_2"},{"$f":"tblIndicators!C40","v":"WATQUAL_2"},{"$f":"tblIndicators!D40","v":3},{"$f":"tblIndicators!L40","v":0},{"$f":"tblIndicators!V40","v":3},{"$f":"tblIndicators!W40","v":0},{"$f":"tblIndicators!X40","v":25},{"$f":"CHOOSE(G46,\"-\",Data!H46,H46)","v":0},{"$f":"CHOOSE(G46,\"-\",Data!I46,I46)","v":25},25,{"$f":"tblIndicators!AE40","v":"3.2.2) Restrictions on \"Dirty Dozen\" persistent pollutants"},"",{"$f":"tblIndicators!AJ40","v":0.33333333333333331},{"$f":"ROUND(Scores!P46,aRoundedScores!$M$7)","v":88},{"$f":"ROUND(Scores!Q46,aRoundedScores!$M$7)","v":96},{"$f":"ROUND(Scores!R46,aRoundedScores!$M$7)","v":92},{"$f":"ROUND(Scores!S46,aRoundedScores!$M$7)","v":52},{"$f":"ROUND(Scores!T46,aRoundedScores!$M$7)","v":92},{"$f":"ROUND(Scores!U46,aRoundedScores!$M$7)","v":92},{"$f":"ROUND(Scores!V46,aRoundedScores!$M$7)","v":84},{"$f":"ROUND(Scores!W46,aRoundedScores!$M$7)","v":92},{"$f":"ROUND(Scores!X46,aRoundedScores!$M$7)","v":80},{"$f":"ROUND(Scores!Y46,aRoundedScores!$M$7)","v":96},{"$f":"ROUND(Scores!Z46,aRoundedScores!$M$7)","v":84},{"$f":"ROUND(Scores!AA46,aRoundedScores!$M$7)","v":92},{"$f":"ROUND(Scores!AB46,aRoundedScores!$M$7)","v":84},{"$f":"ROUND(Scores!AC46,aRoundedScores!$M$7)","v":72},{"$f":"ROUND(Scores!AD46,aRoundedScores!$M$7)","v":12},{"$f":"ROUND(Scores!AE46,aRoundedScores!$M$7)","v":88},{"$f":"ROUND(Scores!AF46,aRoundedScores!$M$7)","v":92},{"$f":"ROUND(Scores!AG46,aRoundedScores!$M$7)","v":92},{"$f":"ROUND(Scores!AH46,aRoundedScores!$M$7)","v":80},{"$f":"ROUND(Scores!AI46,aRoundedScores!$M$7)","v":88}]
[null,{"$f":"tblIndicators!A41","v":40},{"$f":"tblIndicators!B41","v":"WATQUAL_2_3"},{"$f":"tblIndicators!C41","v":"WATQUAL_2"},{"$f":"tblIndicators!D41","v":3},{"$f":"tblIndicators!L41","v":0},{"$f":"tblIndicators!V41","v":3},{"$f":"tblIndicators!W41","v":0},{"$f":"tblIndicators!X41","v":100},{"$f":"CHOOSE(G47,\"-\",Data!H47,H47)","v":0},{"$f":"CHOOSE(G47,\"-\",Data!I47,I47)","v":100},100,{"$f":"tblIndicators!AE41","v":"3.2.3) Wastewater treatment"},"",{"$f":"tblIndicators!AJ41","v":0.33333333333333331},{"$f":"ROUND(Scores!P47,aRoundedScores!$M$7)","v":11},{"$f":"ROUND(Scores!Q47,aRoundedScores!$M$7)","v":80},{"$f":"ROUND(Scores!R47,aRoundedScores!$M$7)","v":69},{"$f":"ROUND(Scores!S47,aRoundedScores!$M$7)","v":18},{"$f":"ROUND(Scores!T47,aRoundedScores!$M$7)","v":84},{"$f":"ROUND(Scores!U47,aRoundedScores!$M$7)","v":10},{"$f":"ROUND(Scores!V47,aRoundedScores!$M$7)","v":0},{"$f":"ROUND(Scores!W47,aRoundedScores!$M$7)","v":71},{"$f":"ROUND(Scores!X47,aRoundedScores!$M$7)","v":37},{"$f":"ROUND(Scores!Y47,aRoundedScores!$M$7)","v":78},{"$f":"ROUND(Scores!Z47,aRoundedScores!$M$7)","v":1},{"$f":"ROUND(Scores!AA47,aRoundedScores!$M$7)","v":77},{"$f":"ROUND(Scores!AB47,aRoundedScores!$M$7)","v":21},{"$f":"ROUND(Scores!AC47,aRoundedScores!$M$7)","v":1},{"$f":"ROUND(Scores!AD47,aRoundedScores!$M$7)","v":22},{"$f":"ROUND(Scores!AE47,aRoundedScores!$M$7)","v":28},{"$f":"ROUND(Scores!AF47,aRoundedScores!$M$7)","v":84},{"$f":"ROUND(Scores!AG47,aRoundedScores!$M$7)","v":93},{"$f":"ROUND(Scores!AH47,aRoundedScores!$M$7)","v":64},{"$f":"ROUND(Scores!AI47,aRoundedScores!$M$7)","v":0}]
[null,{"$f":"tblIndicators!A42","v":41},{"$f":"tblIndicators!B42","v":"WATQUAL_3"},{"$f":"tblIndicators!C42","v":"WATQUAL"},{"$f":"tblIndicators!D42","v":2},{"$f":"tblIndicators!L42","v":0},{"$f":"tblIndicators!V42","v":1},{"$f":"tblIndicators!W42","v":0},{"$f":"tblIndicators!X42","v":100},{"$f":"CHOOSE(G48,\"-\",Data!H48,H48)","v":"-"},{"$f":"CHOOSE(G48,\"-\",Data!I48,I48)","v":"-"},"-",{"$f":"tblIndicators!AE42","v":"3.3) Monitoring and enforcement"},0.33333333333333331,{"$f":"tblIndicators!AJ42","v":0.33333333333333331},{"$f":"ROUND(Scores!P48,aRoundedScores!$M$7)","v":75},{"$f":"ROUND(Scores!Q48,aRoundedScores!$M$7)","v":75},{"$f":"ROUND(Scores!R48,aRoundedScores!$M$7)","v":75},{"$f":"ROUND(Scores!S48,aRoundedScores!$M$7)","v":58},{"$f":"ROUND(Scores!T48,aRoundedScores!$M$7)","v":75},{"$f":"ROUND(Scores!U48,aRoundedScores!$M$7)","v":75},{"$f":"ROUND(Scores!V48,aRoundedScores!$M$7)","v":75},{"$f":"ROUND(Scores!W48,aRoundedScores!$M$7)","v":75},{"$f":"ROUND(Scores!X48,aRoundedScores!$M$7)","v":75},{"$f":"ROUND(Scores!Y48,aRoundedScores!$M$7)","v":75},{"$f":"ROUND(Scores!Z48,aRoundedScores!$M$7)","v":42},{"$f":"ROUND(Scores!AA48,aRoundedScores!$M$7)","v":58},{"$f":"ROUND(Scores!AB48,aRoundedScores!$M$7)","v":75},{"$f":"ROUND(Scores!AC48,aRoundedScores!$M$7)","v":42},{"$f":"ROUND(Scores!AD48,aRoundedScores!$M$7)","v":42},{"$f":"ROUND(Scores!AE48,aRoundedScores!$M$7)","v":58},{"$f":"ROUND(Scores!AF48,aRoundedScores!$M$7)","v":58},{"$f":"ROUND(Scores!AG48,aRoundedScores!$M$7)","v":58},{"$f":"ROUND(Scores!AH48,aRoundedScores!$M$7)","v":75},{"$f":"ROUND(Scores!AI48,aRoundedScores!$M$7)","v":75}]
[null,{"$f":"tblIndicators!A43","v":42},{"$f":"tblIndicators!B43","v":"WATQUAL_3_1"},{"$f":"tblIndicators!C43","v":"WATQUAL_3"},{"$f":"tblIndicators!D43","v":3},{"$f":"tblIndicators!L43","v":0},{"$f":"tblIndicators!V43","v":3},{"$f":"tblIndicators!W43","v":0},{"$f":"tblIndicators!X43","v":3},{"$f":"CHOOSE(G49,\"-\",Data!H49,H49)","v":0},{"$f":"CHOOSE(G49,\"-\",Data!I49,I49)","v":3},3,{"$f":"tblIndicators!AE43","v":"3.3.1) Coastal water quality data"},"",{"$f":"tblIndicators!AJ43","v":0.5},{"$f":"ROUND(Scores!P49,aRoundedScores!$M$7)","v":100},{"$f":"ROUND(Scores!Q49,aRoundedScores!$M$7)","v":100},{"$f":"ROUND(Scores!R49,aRoundedScores!$M$7)","v":100},{"$f":"ROUND(Scores!S49,aRoundedScores!$M$7)","v":67},{"$f":"ROUND(Scores!T49,aRoundedScores!$M$7)","v":100},{"$f":"ROUND(Scores!U49,aRoundedScores!$M$7)","v":100},{"$f":"ROUND(Scores!V49,aRoundedScores!$M$7)","v":100},{"$f":"ROUND(Scores!W49,aRoundedScores!$M$7)","v":100},{"$f":"ROUND(Scores!X49,aRoundedScores!$M$7)","v":100},{"$f":"ROUND(Scores!Y49,aRoundedScores!$M$7)","v":100},{"$f":"ROUND(Scores!Z49,aRoundedScores!$M$7)","v":33},{"$f":"ROUND(Scores!AA49,aRoundedScores!$M$7)","v":67},{"$f":"ROUND(Scores!AB49,aRoundedScores!$M$7)","v":100},{"$f":"ROUND(Scores!AC49,aRoundedScores!$M$7)","v":33},{"$f":"ROUND(Scores!AD49,aRoundedScores!$M$7)","v":33},{"$f":"ROUND(Scores!AE49,aRoundedScores!$M$7)","v":67},{"$f":"ROUND(Scores!AF49,aRoundedScores!$M$7)","v":67},{"$f":"ROUND(Scores!AG49,aRoundedScores!$M$7)","v":67},{"$f":"ROUND(Scores!AH49,aRoundedScores!$M$7)","v":100},{"$f":"ROUND(Scores!AI49,aRoundedScores!$M$7)","v":100}]
[null,{"$f":"tblIndicators!A44","v":43},{"$f":"tblIndicators!B44","v":"WATQUAL_3_2"},{"$f":"tblIndicators!C44","v":"WATQUAL_3"},{"$f":"tblIndicators!D44","v":3},{"$f":"tblIndicators!L44","v":0},{"$f":"tblIndicators!V44","v":3},{"$f":"tblIndicators!W44","v":0},{"$f":"tblIndicators!X44","v":1},{"$f":"CHOOSE(G50,\"-\",Data!H50,H50)","v":0},{"$f":"CHOOSE(G50,\"-\",Data!I50,I50)","v":1},1,{"$f":"tblIndicators!AE44","v":"3.3.2) Penalties for water quality violations "},"",{"$f":"tblIndicators!AJ44","v":0.5},{"$f":"ROUND(Scores!P50,aRoundedScores!$M$7)","v":50},{"$f":"ROUND(Scores!Q50,aRoundedScores!$M$7)","v":50},{"$f":"ROUND(Scores!R50,aRoundedScores!$M$7)","v":50},{"$f":"ROUND(Scores!S50,aRoundedScores!$M$7)","v":50},{"$f":"ROUND(Scores!T50,aRoundedScores!$M$7)","v":50},{"$f":"ROUND(Scores!U50,aRoundedScores!$M$7)","v":50},{"$f":"ROUND(Scores!V50,aRoundedScores!$M$7)","v":50},{"$f":"ROUND(Scores!W50,aRoundedScores!$M$7)","v":50},{"$f":"ROUND(Scores!X50,aRoundedScores!$M$7)","v":50},{"$f":"ROUND(Scores!Y50,aRoundedScores!$M$7)","v":50},{"$f":"ROUND(Scores!Z50,aRoundedScores!$M$7)","v":50},{"$f":"ROUND(Scores!AA50,aRoundedScores!$M$7)","v":50},{"$f":"ROUND(Scores!AB50,aRoundedScores!$M$7)","v":50},{"$f":"ROUND(Scores!AC50,aRoundedScores!$M$7)","v":50},{"$f":"ROUND(Scores!AD50,aRoundedScores!$M$7)","v":50},{"$f":"ROUND(Scores!AE50,aRoundedScores!$M$7)","v":50},{"$f":"ROUND(Scores!AF50,aRoundedScores!$M$7)","v":50},{"$f":"ROUND(Scores!AG50,aRoundedScores!$M$7)","v":50},{"$f":"ROUND(Scores!AH50,aRoundedScores!$M$7)","v":50},{"$f":"ROUND(Scores!AI50,aRoundedScores!$M$7)","v":50}]
[null,{"$f":"tblIndicators!A45","v":44},{"$f":"tblIndicators!B45","v":"MINENG"},{"$f":"tblIndicators!C45","v":"OVERALL"},{"$f":"tblIndicators!D45","v":1},{"$f":"tblIndicators!L45","v":0},{"$f":"tblIndicators!V45","v":1},{"$f":"tblIndicators!W45","v":0},{"$f":"tblIndicators!X45","v":100},{"$f":"CHOOSE(G51,\"-\",Data!H51,H51)","v":"-"},{"$f":"CHOOSE(G51,\"-\",Data!I51,I51)","v":"-"},"-",{"$f":"tblIndicators!AE45","v":"4) MINERALS AND ENERGY"},0.16666666666666666,{"$f":"tblIndicators!AJ45","v":0.16666666666666666},{"$f":"ROUND(Scores!P51,aRoundedScores!$M$7)","v":82},{"$f":"ROUND(Scores!Q51,aRoundedScores!$M$7)","v":86},{"$f":"ROUND(Scores!R51,aRoundedScores!$M$7)","v":75},{"$f":"ROUND(Scores!S51,aRoundedScores!$M$7)","v":76},{"$f":"ROUND(Scores!T51,aRoundedScores!$M$7)","v":64},{"$f":"ROUND(Scores!U51,aRoundedScores!$M$7)","v":74},{"$f":"ROUND(Scores!V51,aRoundedScores!$M$7)","v":47},{"$f":"ROUND(Scores!W51,aRoundedScores!$M$7)","v":92},{"$f":"ROUND(Scores!X51,aRoundedScores!$M$7)","v":67},{"$f":"ROUND(Scores!Y51,aRoundedScores!$M$7)","v":82},{"$f":"ROUND(Scores!Z51,aRoundedScores!$M$7)","v":86},{"$f":"ROUND(Scores!AA51,aRoundedScores!$M$7)","v":92},{"$f":"ROUND(Scores!AB51,aRoundedScores!$M$7)","v":67},{"$f":"ROUND(Scores!AC51,aRoundedScores!$M$7)","v":71},{"$f":"ROUND(Scores!AD51,aRoundedScores!$M$7)","v":67},{"$f":"ROUND(Scores!AE51,aRoundedScores!$M$7)","v":82},{"$f":"ROUND(Scores!AF51,aRoundedScores!$M$7)","v":81},{"$f":"ROUND(Scores!AG51,aRoundedScores!$M$7)","v":72},{"$f":"ROUND(Scores!AH51,aRoundedScores!$M$7)","v":86},{"$f":"ROUND(Scores!AI51,aRoundedScores!$M$7)","v":57}]
[null,{"$f":"tblIndicators!A46","v":45},{"$f":"tblIndicators!B46","v":"MINENG_1"},{"$f":"tblIndicators!C46","v":"MINENG"},{"$f":"tblIndicators!D46","v":2},{"$f":"tblIndicators!L46","v":0},{"$f":"tblIndicators!V46","v":1},{"$f":"tblIndicators!W46","v":0},{"$f":"tblIndicators!X46","v":100},{"$f":"CHOOSE(G52,\"-\",Data!H52,H52)","v":"-"},{"$f":"CHOOSE(G52,\"-\",Data!I52,I52)","v":"-"},"-",{"$f":"tblIndicators!AE46","v":"4.1) Permitting and licensing"},0.33333333333333331,{"$f":"tblIndicators!AJ46","v":0.33333333333333331},{"$f":"ROUND(Scores!P52,aRoundedScores!$M$7)","v":100},{"$f":"ROUND(Scores!Q52,aRoundedScores!$M$7)","v":100},{"$f":"ROUND(Scores!R52,aRoundedScores!$M$7)","v":50},{"$f":"ROUND(Scores!S52,aRoundedScores!$M$7)","v":100},{"$f":"ROUND(Scores!T52,aRoundedScores!$M$7)","v":100},{"$f":"ROUND(Scores!U52,aRoundedScores!$M$7)","v":75},{"$f":"ROUND(Scores!V52,aRoundedScores!$M$7)","v":25},{"$f":"ROUND(Scores!W52,aRoundedScores!$M$7)","v":100},{"$f":"ROUND(Scores!X52,aRoundedScores!$M$7)","v":75},{"$f":"ROUND(Scores!Y52,aRoundedScores!$M$7)","v":100},{"$f":"ROUND(Scores!Z52,aRoundedScores!$M$7)","v":100},{"$f":"ROUND(Scores!AA52,aRoundedScores!$M$7)","v":100},{"$f":"ROUND(Scores!AB52,aRoundedScores!$M$7)","v":100},{"$f":"ROUND(Scores!AC52,aRoundedScores!$M$7)","v":100},{"$f":"ROUND(Scores!AD52,aRoundedScores!$M$7)","v":100},{"$f":"ROUND(Scores!AE52,aRoundedScores!$M$7)","v":100},{"$f":"ROUND(Scores!AF52,aRoundedScores!$M$7)","v":100},{"$f":"ROUND(Scores!AG52,aRoundedScores!$M$7)","v":100},{"$f":"ROUND(Scores!AH52,aRoundedScores!$M$7)","v":100},{"$f":"ROUND(Scores!AI52,aRoundedScores!$M$7)","v":75}]
[null,{"$f":"tblIndicators!A47","v":46},{"$f":"tblIndicators!B47","v":"MINENG_1_1"},{"$f":"tblIndicators!C47","v":"MINENG_1"},{"$f":"tblIndicators!D47","v":3},{"$f":"tblIndicators!L47","v":0},{"$f":"tblIndicators!V47","v":3},{"$f":"tblIndicators!W47","v":0},{"$f":"tblIndicators!X47","v":2},{"$f":"CHOOSE(G53,\"-\",Data!H53,H53)","v":0},{"$f":"CHOOSE(G53,\"-\",Data!I53,I53)","v":2},2,{"$f":"tblIndicators!AE47","v":"4.1.1) Oil and gas tenure"},"",{"$f":"tblIndicators!AJ47","v":0.5},{"$f":"ROUND(Scores!P53,aRoundedScores!$M$7)","v":100},{"$f":"ROUND(Scores!Q53,aRoundedScores!$M$7)","v":100},{"$f":"ROUND(Scores!R53,aRoundedScores!$M$7)","v":50},{"$f":"ROUND(Scores!S53,aRoundedScores!$M$7)","v":100},{"$f":"ROUND(Scores!T53,aRoundedScores!$M$7)","v":100},{"$f":"ROUND(Scores!U53,aRoundedScores!$M$7)","v":50},{"$f":"ROUND(Scores!V53,aRoundedScores!$M$7)","v":50},{"$f":"ROUND(Scores!W53,aRoundedScores!$M$7)","v":100},{"$f":"ROUND(Scores!X53,aRoundedScores!$M$7)","v":50},{"$f":"ROUND(Scores!Y53,aRoundedScores!$M$7)","v":100},{"$f":"ROUND(Scores!Z53,aRoundedScores!$M$7)","v":100},{"$f":"ROUND(Scores!AA53,aRoundedScores!$M$7)","v":100},{"$f":"ROUND(Scores!AB53,aRoundedScores!$M$7)","v":100},{"$f":"ROUND(Scores!AC53,aRoundedScores!$M$7)","v":100},{"$f":"ROUND(Scores!AD53,aRoundedScores!$M$7)","v":100},{"$f":"ROUND(Scores!AE53,aRoundedScores!$M$7)","v":100},{"$f":"ROUND(Scores!AF53,aRoundedScores!$M$7)","v":100},{"$f":"ROUND(Scores!AG53,aRoundedScores!$M$7)","v":100},{"$f":"ROUND(Scores!AH53,aRoundedScores!$M$7)","v":100},{"$f":"ROUND(Scores!AI53,aRoundedScores!$M$7)","v":50}]
[null,{"$f":"tblIndicators!A48","v":47},{"$f":"tblIndicators!B48","v":"MINENG_1_2"},{"$f":"tblIndicators!C48","v":"MINENG_1"},{"$f":"tblIndicators!D48","v":3},{"$f":"tblIndicators!L48","v":0},{"$f":"tblIndicators!V48","v":3},{"$f":"tblIndicators!W48","v":0},{"$f":"tblIndicators!X48","v":2},{"$f":"CHOOSE(G54,\"-\",Data!H54,H54)","v":0},{"$f":"CHOOSE(G54,\"-\",Data!I54,I54)","v":2},2,{"$f":"tblIndicators!AE48","v":"4.1.2) Mining and minerals tenure"},"",{"$f":"tblIndicators!AJ48","v":0.5},{"$f":"ROUND(Scores!P54,aRoundedScores!$M$7)","v":100},{"$f":"ROUND(Scores!Q54,aRoundedScores!$M$7)","v":100},{"$f":"ROUND(Scores!R54,aRoundedScores!$M$7)","v":50},{"$f":"ROUND(Scores!S54,aRoundedScores!$M$7)","v":100},{"$f":"ROUND(Scores!T54,aRoundedScores!$M$7)","v":100},{"$f":"ROUND(Scores!U54,aRoundedScores!$M$7)","v":100},{"$f":"ROUND(Scores!V54,aRoundedScores!$M$7)","v":0},{"$f":"ROUND(Scores!W54,aRoundedScores!$M$7)","v":100},{"$f":"ROUND(Scores!X54,aRoundedScores!$M$7)","v":100},{"$f":"ROUND(Scores!Y54,aRoundedScores!$M$7)","v":100},{"$f":"ROUND(Scores!Z54,aRoundedScores!$M$7)","v":100},{"$f":"ROUND(Scores!AA54,aRoundedScores!$M$7)","v":100},{"$f":"ROUND(Scores!AB54,aRoundedScores!$M$7)","v":100},{"$f":"ROUND(Scores!AC54,aRoundedScores!$M$7)","v":100},{"$f":"ROUND(Scores!AD54,aRoundedScores!$M$7)","v":100},{"$f":"ROUND(Scores!AE54,aRoundedScores!$M$7)","v":100},{"$f":"ROUND(Scores!AF54,aRoundedScores!$M$7)","v":100},{"$f":"ROUND(Scores!AG54,aRoundedScores!$M$7)","v":100},{"$f":"ROUND(Scores!AH54,aRoundedScores!$M$7)","v":100},{"$f":"ROUND(Scores!AI54,aRoundedScores!$M$7)","v":100}]
[null,{"$f":"tblIndicators!A49","v":48},{"$f":"tblIndicators!B49","v":"MINENG_2"},{"$f":"tblIndicators!C49","v":"MINENG"},{"$f":"tblIndicators!D49","v":2},{"$f":"tblIndicators!L49","v":0},{"$f":"tblIndicators!V49","v":1},{"$f":"tblIndicators!W49","v":0},{"$f":"tblIndicators!X49","v":100},{"$f":"CHOOSE(G55,\"-\",Data!H55,H55)","v":"-"},{"$f":"CHOOSE(G55,\"-\",Data!I55,I55)","v":"-"},"-",{"$f":"tblIndicators!AE49","v":"4.2) Monitoring and enforcement"},0.33333333333333331,{"$f":"tblIndicators!AJ49","v":0.33333333333333331},{"$f":"ROUND(Scores!P55,aRoundedScores!$M$7)","v":63},{"$f":"ROUND(Scores!Q55,aRoundedScores!$M$7)","v":75},{"$f":"ROUND(Scores!R55,aRoundedScores!$M$7)","v":75},{"$f":"ROUND(Scores!S55,aRoundedScores!$M$7)","v":63},{"$f":"ROUND(Scores!T55,aRoundedScores!$M$7)","v":25},{"$f":"ROUND(Scores!U55,aRoundedScores!$M$7)","v":63},{"$f":"ROUND(Scores!V55,aRoundedScores!$M$7)","v":50},{"$f":"ROUND(Scores!W55,aRoundedScores!$M$7)","v":75},{"$f":"ROUND(Scores!X55,aRoundedScores!$M$7)","v":75},{"$f":"ROUND(Scores!Y55,aRoundedScores!$M$7)","v":63},{"$f":"ROUND(Scores!Z55,aRoundedScores!$M$7)","v":75},{"$f":"ROUND(Scores!AA55,aRoundedScores!$M$7)","v":75},{"$f":"ROUND(Scores!AB55,aRoundedScores!$M$7)","v":50},{"$f":"ROUND(Scores!AC55,aRoundedScores!$M$7)","v":63},{"$f":"ROUND(Scores!AD55,aRoundedScores!$M$7)","v":50},{"$f":"ROUND(Scores!AE55,aRoundedScores!$M$7)","v":63},{"$f":"ROUND(Scores!AF55,aRoundedScores!$M$7)","v":75},{"$f":"ROUND(Scores!AG55,aRoundedScores!$M$7)","v":50},{"$f":"ROUND(Scores!AH55,aRoundedScores!$M$7)","v":75},{"$f":"ROUND(Scores!AI55,aRoundedScores!$M$7)","v":63}]
[null,{"$f":"tblIndicators!A50","v":49},{"$f":"tblIndicators!B50","v":"MINENG_2_1"},{"$f":"tblIndicators!C50","v":"MINENG_2"},{"$f":"tblIndicators!D50","v":3},{"$f":"tblIndicators!L50","v":0},{"$f":"tblIndicators!V50","v":3},{"$f":"tblIndicators!W50","v":0},{"$f":"tblIndicators!X50","v":1},{"$f":"CHOOSE(G56,\"-\",Data!H56,H56)","v":0},{"$f":"CHOOSE(G56,\"-\",Data!I56,I56)","v":1},1,{"$f":"tblIndicators!AE50","v":"4.2.1) Environmental impact assessment for oil and gas"},"",{"$f":"tblIndicators!AJ50","v":0.25},{"$f":"ROUND(Scores!P56,aRoundedScores!$M$7)","v":50},{"$f":"ROUND(Scores!Q56,aRoundedScores!$M$7)","v":50},{"$f":"ROUND(Scores!R56,aRoundedScores!$M$7)","v":50},{"$f":"ROUND(Scores!S56,aRoundedScores!$M$7)","v":50},{"$f":"ROUND(Scores!T56,aRoundedScores!$M$7)","v":50},{"$f":"ROUND(Scores!U56,aRoundedScores!$M$7)","v":50},{"$f":"ROUND(Scores!V56,aRoundedScores!$M$7)","v":50},{"$f":"ROUND(Scores!W56,aRoundedScores!$M$7)","v":50},{"$f":"ROUND(Scores!X56,aRoundedScores!$M$7)","v":50},{"$f":"ROUND(Scores!Y56,aRoundedScores!$M$7)","v":50},{"$f":"ROUND(Scores!Z56,aRoundedScores!$M$7)","v":50},{"$f":"ROUND(Scores!AA56,aRoundedScores!$M$7)","v":50},{"$f":"ROUND(Scores!AB56,aRoundedScores!$M$7)","v":50},{"$f":"ROUND(Scores!AC56,aRoundedScores!$M$7)","v":50},{"$f":"ROUND(Scores!AD56,aRoundedScores!$M$7)","v":50},{"$f":"ROUND(Scores!AE56,aRoundedScores!$M$7)","v":50},{"$f":"ROUND(Scores!AF56,aRoundedScores!$M$7)","v":50},{"$f":"ROUND(Scores!AG56,aRoundedScores!$M$7)","v":50},{"$f":"ROUND(Scores!AH56,aRoundedScores!$M$7)","v":50},{"$f":"ROUND(Scores!AI56,aRoundedScores!$M$7)","v":50}]
[null,{"$f":"tblIndicators!A51","v":50},{"$f":"tblIndicators!B51","v":"MINENG_2_2"},{"$f":"tblIndicators!C51","v":"MINENG_2"},{"$f":"tblIndicators!D51","v":3},{"$f":"tblIndicators!L51","v":0},{"$f":"tblIndicators!V51","v":3},{"$f":"tblIndicators!W51","v":0},{"$f":"tblIndicators!X51","v":1},{"$f":"CHOOSE(G57,\"-\",Data!H57,H57)","v":0},{"$f":"CHOOSE(G57,\"-\",Data!I57,I57)","v":1},1,{"$f":"tblIndicators!AE51","v":"4.2.2) Environment impact assessment for mining and minerals"},"",{"$f":"tblIndicators!AJ51","v":0.25},{"$f":"ROUND(Scores!P57,aRoundedScores!$M$7)","v":50},{"$f":"ROUND(Scores!Q57,aRoundedScores!$M$7)","v":50},{"$f":"ROUND(Scores!R57,aRoundedScores!$M$7)","v":50},{"$f":"ROUND(Scores!S57,aRoundedScores!$M$7)","v":50},{"$f":"ROUND(Scores!T57,aRoundedScores!$M$7)","v":50},{"$f":"ROUND(Scores!U57,aRoundedScores!$M$7)","v":50},{"$f":"ROUND(Scores!V57,aRoundedScores!$M$7)","v":50},{"$f":"ROUND(Scores!W57,aRoundedScores!$M$7)","v":50},{"$f":"ROUND(Scores!X57,aRoundedScores!$M$7)","v":50},{"$f":"ROUND(Scores!Y57,aRoundedScores!$M$7)","v":50},{"$f":"ROUND(Scores!Z57,aRoundedScores!$M$7)","v":50},{"$f":"ROUND(Scores!AA57,aRoundedScores!$M$7)","v":50},{"$f":"ROUND(Scores!AB57,aRoundedScores!$M$7)","v":50},{"$f":"ROUND(Scores!AC57,aRoundedScores!$M$7)","v":50},{"$f":"ROUND(Scores!AD57,aRoundedScores!$M$7)","v":50},{"$f":"ROUND(Scores!AE57,aRoundedScores!$M$7)","v":50},{"$f":"ROUND(Scores!AF57,aRoundedScores!$M$7)","v":50},{"$f":"ROUND(Scores!AG57,aRoundedScores!$M$7)","v":50},{"$f":"ROUND(Scores!AH57,aRoundedScores!$M$7)","v":50},{"$f":"ROUND(Scores!AI57,aRoundedScores!$M$7)","v":50}]
[null,{"$f":"tblIndicators!A52","v":51},{"$f":"tblIndicators!B52","v":"MINENG_2_3"},{"$f":"tblIndicators!C52","v":"MINENG_2"},{"$f":"tblIndicators!D52","v":3},{"$f":"tblIndicators!L52","v":0},{"$f":"tblIndicators!V52","v":3},{"$f":"tblIndicators!W52","v":0},{"$f":"tblIndicators!X52","v":1},{"$f":"CHOOSE(G58,\"-\",Data!H58,H58)","v":0},{"$f":"CHOOSE(G58,\"-\",Data!I58,I58)","v":1},1,{"$f":"tblIndicators!AE52","v":"4.2.3) On-site reviews "},"",{"$f":"tblIndicators!AJ52","v":0.25},{"$f":"ROUND(Scores!P58,aRoundedScores!$M$7)","v":100},{"$f":"ROUND(Scores!Q58,aRoundedScores!$M$7)","v":100},{"$f":"ROUND(Scores!R58,aRoundedScores!$M$7)","v":100},{"$f":"ROUND(Scores!S58,aRoundedScores!$M$7)","v":100},{"$f":"ROUND(Scores!T58,aRoundedScores!$M$7)","v":0},{"$f":"ROUND(Scores!U58,aRoundedScores!$M$7)","v":100},{"$f":"ROUND(Scores!V58,aRoundedScores!$M$7)","v":100},{"$f":"ROUND(Scores!W58,aRoundedScores!$M$7)","v":100},{"$f":"ROUND(Scores!X58,aRoundedScores!$M$7)","v":100},{"$f":"ROUND(Scores!Y58,aRoundedScores!$M$7)","v":100},{"$f":"ROUND(Scores!Z58,aRoundedScores!$M$7)","v":100},{"$f":"ROUND(Scores!AA58,aRoundedScores!$M$7)","v":100},{"$f":"ROUND(Scores!AB58,aRoundedScores!$M$7)","v":100},{"$f":"ROUND(Scores!AC58,aRoundedScores!$M$7)","v":100},{"$f":"ROUND(Scores!AD58,aRoundedScores!$M$7)","v":100},{"$f":"ROUND(Scores!AE58,aRoundedScores!$M$7)","v":100},{"$f":"ROUND(Scores!AF58,aRoundedScores!$M$7)","v":100},{"$f":"ROUND(Scores!AG58,aRoundedScores!$M$7)","v":0},{"$f":"ROUND(Scores!AH58,aRoundedScores!$M$7)","v":100},{"$f":"ROUND(Scores!AI58,aRoundedScores!$M$7)","v":100}]
[null,{"$f":"tblIndicators!A53","v":52},{"$f":"tblIndicators!B53","v":"MINENG_2_4"},{"$f":"tblIndicators!C53","v":"MINENG_2"},{"$f":"tblIndicators!D53","v":3},{"$f":"tblIndicators!L53","v":0},{"$f":"tblIndicators!V53","v":3},{"$f":"tblIndicators!W53","v":0},{"$f":"tblIndicators!X53","v":2},{"$f":"CHOOSE(G59,\"-\",Data!H59,H59)","v":0},{"$f":"CHOOSE(G59,\"-\",Data!I59,I59)","v":2},2,{"$f":"tblIndicators!AE53","v":"4.2.4) Collection of oil spills data"},"",{"$f":"tblIndicators!AJ53","v":0.25},{"$f":"ROUND(Scores!P59,aRoundedScores!$M$7)","v":50},{"$f":"ROUND(Scores!Q59,aRoundedScores!$M$7)","v":100},{"$f":"ROUND(Scores!R59,aRoundedScores!$M$7)","v":100},{"$f":"ROUND(Scores!S59,aRoundedScores!$M$7)","v":50},{"$f":"ROUND(Scores!T59,aRoundedScores!$M$7)","v":0},{"$f":"ROUND(Scores!U59,aRoundedScores!$M$7)","v":50},{"$f":"ROUND(Scores!V59,aRoundedScores!$M$7)","v":0},{"$f":"ROUND(Scores!W59,aRoundedScores!$M$7)","v":100},{"$f":"ROUND(Scores!X59,aRoundedScores!$M$7)","v":100},{"$f":"ROUND(Scores!Y59,aRoundedScores!$M$7)","v":50},{"$f":"ROUND(Scores!Z59,aRoundedScores!$M$7)","v":100},{"$f":"ROUND(Scores!AA59,aRoundedScores!$M$7)","v":100},{"$f":"ROUND(Scores!AB59,aRoundedScores!$M$7)","v":0},{"$f":"ROUND(Scores!AC59,aRoundedScores!$M$7)","v":50},{"$f":"ROUND(Scores!AD59,aRoundedScores!$M$7)","v":0},{"$f":"ROUND(Scores!AE59,aRoundedScores!$M$7)","v":50},{"$f":"ROUND(Scores!AF59,aRoundedScores!$M$7)","v":100},{"$f":"ROUND(Scores!AG59,aRoundedScores!$M$7)","v":100},{"$f":"ROUND(Scores!AH59,aRoundedScores!$M$7)","v":100},{"$f":"ROUND(Scores!AI59,aRoundedScores!$M$7)","v":50}]
[null,{"$f":"tblIndicators!A54","v":53},{"$f":"tblIndicators!B54","v":"MINENG_3"},{"$f":"tblIndicators!C54","v":"MINENG"},{"$f":"tblIndicators!D54","v":2},{"$f":"tblIndicators!L54","v":0},{"$f":"tblIndicators!V54","v":1},{"$f":"tblIndicators!W54","v":0},{"$f":"tblIndicators!X54","v":100},{"$f":"CHOOSE(G60,\"-\",Data!H60,H60)","v":"-"},{"$f":"CHOOSE(G60,\"-\",Data!I60,I60)","v":"-"},"-",{"$f":"tblIndicators!AE54","v":"4.3) Risk mitigation"},0.33333333333333331,{"$f":"tblIndicators!AJ54","v":0.33333333333333331},{"$f":"ROUND(Scores!P60,aRoundedScores!$M$7)","v":83},{"$f":"ROUND(Scores!Q60,aRoundedScores!$M$7)","v":83},{"$f":"ROUND(Scores!R60,aRoundedScores!$M$7)","v":100},{"$f":"ROUND(Scores!S60,aRoundedScores!$M$7)","v":67},{"$f":"ROUND(Scores!T60,aRoundedScores!$M$7)","v":67},{"$f":"ROUND(Scores!U60,aRoundedScores!$M$7)","v":83},{"$f":"ROUND(Scores!V60,aRoundedScores!$M$7)","v":67},{"$f":"ROUND(Scores!W60,aRoundedScores!$M$7)","v":100},{"$f":"ROUND(Scores!X60,aRoundedScores!$M$7)","v":50},{"$f":"ROUND(Scores!Y60,aRoundedScores!$M$7)","v":83},{"$f":"ROUND(Scores!Z60,aRoundedScores!$M$7)","v":83},{"$f":"ROUND(Scores!AA60,aRoundedScores!$M$7)","v":100},{"$f":"ROUND(Scores!AB60,aRoundedScores!$M$7)","v":50},{"$f":"ROUND(Scores!AC60,aRoundedScores!$M$7)","v":50},{"$f":"ROUND(Scores!AD60,aRoundedScores!$M$7)","v":50},{"$f":"ROUND(Scores!AE60,aRoundedScores!$M$7)","v":83},{"$f":"ROUND(Scores!AF60,aRoundedScores!$M$7)","v":67},{"$f":"ROUND(Scores!AG60,aRoundedScores!$M$7)","v":67},{"$f":"ROUND(Scores!AH60,aRoundedScores!$M$7)","v":83},{"$f":"ROUND(Scores!AI60,aRoundedScores!$M$7)","v":33}]
[null,{"$f":"tblIndicators!A55","v":54},{"$f":"tblIndicators!B55","v":"MINENG_3_1"},{"$f":"tblIndicators!C55","v":"MINENG_3"},{"$f":"tblIndicators!D55","v":3},{"$f":"tblIndicators!L55","v":0},{"$f":"tblIndicators!V55","v":3},{"$f":"tblIndicators!W55","v":0},{"$f":"tblIndicators!X55","v":2},{"$f":"CHOOSE(G61,\"-\",Data!H61,H61)","v":0},{"$f":"CHOOSE(G61,\"-\",Data!I61,I61)","v":2},2,{"$f":"tblIndicators!AE55","v":"4.3.1) Adoption of the OPRC "},"",{"$f":"tblIndicators!AJ55","v":0.33333333333333331},{"$f":"ROUND(Scores!P61,aRoundedScores!$M$7)","v":50},{"$f":"ROUND(Scores!Q61,aRoundedScores!$M$7)","v":50},{"$f":"ROUND(Scores!R61,aRoundedScores!$M$7)","v":100},{"$f":"ROUND(Scores!S61,aRoundedScores!$M$7)","v":100},{"$f":"ROUND(Scores!T61,aRoundedScores!$M$7)","v":100},{"$f":"ROUND(Scores!U61,aRoundedScores!$M$7)","v":50},{"$f":"ROUND(Scores!V61,aRoundedScores!$M$7)","v":0},{"$f":"ROUND(Scores!W61,aRoundedScores!$M$7)","v":100},{"$f":"ROUND(Scores!X61,aRoundedScores!$M$7)","v":50},{"$f":"ROUND(Scores!Y61,aRoundedScores!$M$7)","v":50},{"$f":"ROUND(Scores!Z61,aRoundedScores!$M$7)","v":50},{"$f":"ROUND(Scores!AA61,aRoundedScores!$M$7)","v":100},{"$f":"ROUND(Scores!AB61,aRoundedScores!$M$7)","v":50},{"$f":"ROUND(Scores!AC61,aRoundedScores!$M$7)","v":50},{"$f":"ROUND(Scores!AD61,aRoundedScores!$M$7)","v":50},{"$f":"ROUND(Scores!AE61,aRoundedScores!$M$7)","v":50},{"$f":"ROUND(Scores!AF61,aRoundedScores!$M$7)","v":100},{"$f":"ROUND(Scores!AG61,aRoundedScores!$M$7)","v":100},{"$f":"ROUND(Scores!AH61,aRoundedScores!$M$7)","v":50},{"$f":"ROUND(Scores!AI61,aRoundedScores!$M$7)","v":0}]
[null,{"$f":"tblIndicators!A56","v":55},{"$f":"tblIndicators!B56","v":"MINENG_3_2"},{"$f":"tblIndicators!C56","v":"MINENG_3"},{"$f":"tblIndicators!D56","v":3},{"$f":"tblIndicators!L56","v":0},{"$f":"tblIndicators!V56","v":3},{"$f":"tblIndicators!W56","v":0},{"$f":"tblIndicators!X56","v":1},{"$f":"CHOOSE(G62,\"-\",Data!H62,H62)","v":0},{"$f":"CHOOSE(G62,\"-\",Data!I62,I62)","v":1},1,{"$f":"tblIndicators!AE56","v":"4.3.2) Emergency plan "},"",{"$f":"tblIndicators!AJ56","v":0.33333333333333331},{"$f":"ROUND(Scores!P62,aRoundedScores!$M$7)","v":100},{"$f":"ROUND(Scores!Q62,aRoundedScores!$M$7)","v":100},{"$f":"ROUND(Scores!R62,aRoundedScores!$M$7)","v":100},{"$f":"ROUND(Scores!S62,aRoundedScores!$M$7)","v":100},{"$f":"ROUND(Scores!T62,aRoundedScores!$M$7)","v":100},{"$f":"ROUND(Scores!U62,aRoundedScores!$M$7)","v":100},{"$f":"ROUND(Scores!V62,aRoundedScores!$M$7)","v":100},{"$f":"ROUND(Scores!W62,aRoundedScores!$M$7)","v":100},{"$f":"ROUND(Scores!X62,aRoundedScores!$M$7)","v":100},{"$f":"ROUND(Scores!Y62,aRoundedScores!$M$7)","v":100},{"$f":"ROUND(Scores!Z62,aRoundedScores!$M$7)","v":100},{"$f":"ROUND(Scores!AA62,aRoundedScores!$M$7)","v":100},{"$f":"ROUND(Scores!AB62,aRoundedScores!$M$7)","v":100},{"$f":"ROUND(Scores!AC62,aRoundedScores!$M$7)","v":0},{"$f":"ROUND(Scores!AD62,aRoundedScores!$M$7)","v":100},{"$f":"ROUND(Scores!AE62,aRoundedScores!$M$7)","v":100},{"$f":"ROUND(Scores!AF62,aRoundedScores!$M$7)","v":100},{"$f":"ROUND(Scores!AG62,aRoundedScores!$M$7)","v":100},{"$f":"ROUND(Scores!AH62,aRoundedScores!$M$7)","v":100},{"$f":"ROUND(Scores!AI62,aRoundedScores!$M$7)","v":100}]
[null,{"$f":"tblIndicators!A57","v":56},{"$f":"tblIndicators!B57","v":"MINENG_3_3"},{"$f":"tblIndicators!C57","v":"MINENG_3"},{"$f":"tblIndicators!D57","v":3},{"$f":"tblIndicators!L57","v":0},{"$f":"tblIndicators!V57","v":3},{"$f":"tblIndicators!W57","v":0},{"$f":"tblIndicators!X57","v":1},{"$f":"CHOOSE(G63,\"-\",Data!H63,H63)","v":0},{"$f":"CHOOSE(G63,\"-\",Data!I63,I63)","v":1},1,{"$f":"tblIndicators!AE57","v":"4.3.3) Off-limit areas "},"",{"$f":"tblIndicators!AJ57","v":0.33333333333333331},{"$f":"ROUND(Scores!P63,aRoundedScores!$M$7)","v":100},{"$f":"ROUND(Scores!Q63,aRoundedScores!$M$7)","v":100},{"$f":"ROUND(Scores!R63,aRoundedScores!$M$7)","v":100},{"$f":"ROUND(Scores!S63,aRoundedScores!$M$7)","v":0},{"$f":"ROUND(Scores!T63,aRoundedScores!$M$7)","v":0},{"$f":"ROUND(Scores!U63,aRoundedScores!$M$7)","v":100},{"$f":"ROUND(Scores!V63,aRoundedScores!$M$7)","v":100},{"$f":"ROUND(Scores!W63,aRoundedScores!$M$7)","v":100},{"$f":"ROUND(Scores!X63,aRoundedScores!$M$7)","v":0},{"$f":"ROUND(Scores!Y63,aRoundedScores!$M$7)","v":100},{"$f":"ROUND(Scores!Z63,aRoundedScores!$M$7)","v":100},{"$f":"ROUND(Scores!AA63,aRoundedScores!$M$7)","v":100},{"$f":"ROUND(Scores!AB63,aRoundedScores!$M$7)","v":0},{"$f":"ROUND(Scores!AC63,aRoundedScores!$M$7)","v":100},{"$f":"ROUND(Scores!AD63,aRoundedScores!$M$7)","v":0},{"$f":"ROUND(Scores!AE63,aRoundedScores!$M$7)","v":100},{"$f":"ROUND(Scores!AF63,aRoundedScores!$M$7)","v":0},{"$f":"ROUND(Scores!AG63,aRoundedScores!$M$7)","v":0},{"$f":"ROUND(Scores!AH63,aRoundedScores!$M$7)","v":100},{"$f":"ROUND(Scores!AI63,aRoundedScores!$M$7)","v":0}]
[null,{"$f":"tblIndicators!A58","v":57},{"$f":"tblIndicators!B58","v":"LAND"},{"$f":"tblIndicators!C58","v":"OVERALL"},{"$f":"tblIndicators!D58","v":1},{"$f":"tblIndicators!L58","v":0},{"$f":"tblIndicators!V58","v":1},{"$f":"tblIndicators!W58","v":0},{"$f":"tblIndicators!X58","v":100},{"$f":"CHOOSE(G64,\"-\",Data!H64,H64)","v":"-"},{"$f":"CHOOSE(G64,\"-\",Data!I64,I64)","v":"-"},"-",{"$f":"tblIndicators!AE58","v":"5) LAND"},0.16666666666666666,{"$f":"tblIndicators!AJ58","v":0.16666666666666666},{"$f":"ROUND(Scores!P64,aRoundedScores!$M$7)","v":50},{"$f":"ROUND(Scores!Q64,aRoundedScores!$M$7)","v":67},{"$f":"ROUND(Scores!R64,aRoundedScores!$M$7)","v":64},{"$f":"ROUND(Scores!S64,aRoundedScores!$M$7)","v":78},{"$f":"ROUND(Scores!T64,aRoundedScores!$M$7)","v":92},{"$f":"ROUND(Scores!U64,aRoundedScores!$M$7)","v":63},{"$f":"ROUND(Scores!V64,aRoundedScores!$M$7)","v":76},{"$f":"ROUND(Scores!W64,aRoundedScores!$M$7)","v":77},{"$f":"ROUND(Scores!X64,aRoundedScores!$M$7)","v":53},{"$f":"ROUND(Scores!Y64,aRoundedScores!$M$7)","v":96},{"$f":"ROUND(Scores!Z64,aRoundedScores!$M$7)","v":61},{"$f":"ROUND(Scores!AA64,aRoundedScores!$M$7)","v":53},{"$f":"ROUND(Scores!AB64,aRoundedScores!$M$7)","v":78},{"$f":"ROUND(Scores!AC64,aRoundedScores!$M$7)","v":76},{"$f":"ROUND(Scores!AD64,aRoundedScores!$M$7)","v":22},{"$f":"ROUND(Scores!AE64,aRoundedScores!$M$7)","v":67},{"$f":"ROUND(Scores!AF64,aRoundedScores!$M$7)","v":63},{"$f":"ROUND(Scores!AG64,aRoundedScores!$M$7)","v":80},{"$f":"ROUND(Scores!AH64,aRoundedScores!$M$7)","v":79},{"$f":"ROUND(Scores!AI64,aRoundedScores!$M$7)","v":62}]
[null,{"$f":"tblIndicators!A59","v":58},{"$f":"tblIndicators!B59","v":"LAND_1"},{"$f":"tblIndicators!C59","v":"LAND"},{"$f":"tblIndicators!D59","v":2},{"$f":"tblIndicators!L59","v":0},{"$f":"tblIndicators!V59","v":1},{"$f":"tblIndicators!W59","v":0},{"$f":"tblIndicators!X59","v":100},{"$f":"CHOOSE(G65,\"-\",Data!H65,H65)","v":"-"},{"$f":"CHOOSE(G65,\"-\",Data!I65,I65)","v":"-"},"-",{"$f":"tblIndicators!AE59","v":"5.1) Prevalence of coastal protected areas"},0.25,{"$f":"tblIndicators!AJ59","v":0.25},{"$f":"ROUND(Scores!P65,aRoundedScores!$M$7)","v":100},{"$f":"ROUND(Scores!Q65,aRoundedScores!$M$7)","v":0},{"$f":"ROUND(Scores!R65,aRoundedScores!$M$7)","v":100},{"$f":"ROUND(Scores!S65,aRoundedScores!$M$7)","v":50},{"$f":"ROUND(Scores!T65,aRoundedScores!$M$7)","v":100},{"$f":"ROUND(Scores!U65,aRoundedScores!$M$7)","v":0},{"$f":"ROUND(Scores!V65,aRoundedScores!$M$7)","v":50},{"$f":"ROUND(Scores!W65,aRoundedScores!$M$7)","v":50},{"$f":"ROUND(Scores!X65,aRoundedScores!$M$7)","v":50},{"$f":"ROUND(Scores!Y65,aRoundedScores!$M$7)","v":100},{"$f":"ROUND(Scores!Z65,aRoundedScores!$M$7)","v":50},{"$f":"ROUND(Scores!AA65,aRoundedScores!$M$7)","v":50},{"$f":"ROUND(Scores!AB65,aRoundedScores!$M$7)","v":100},{"$f":"ROUND(Scores!AC65,aRoundedScores!$M$7)","v":50},{"$f":"ROUND(Scores!AD65,aRoundedScores!$M$7)","v":50},{"$f":"ROUND(Scores!AE65,aRoundedScores!$M$7)","v":0},{"$f":"ROUND(Scores!AF65,aRoundedScores!$M$7)","v":0},{"$f":"ROUND(Scores!AG65,aRoundedScores!$M$7)","v":100},{"$f":"ROUND(Scores!AH65,aRoundedScores!$M$7)","v":50},{"$f":"ROUND(Scores!AI65,aRoundedScores!$M$7)","v":0}]
[null,{"$f":"tblIndicators!A60","v":59},{"$f":"tblIndicators!B60","v":"LAND_1_1"},{"$f":"tblIndicators!C60","v":"LAND_1"},{"$f":"tblIndicators!D60","v":3},{"$f":"tblIndicators!L60","v":0},{"$f":"tblIndicators!V60","v":3},{"$f":"tblIndicators!W60","v":0},{"$f":"tblIndicators!X60","v":2},{"$f":"CHOOSE(G66,\"-\",Data!H66,H66)","v":0},{"$f":"CHOOSE(G66,\"-\",Data!I66,I66)","v":2},2,{"$f":"tblIndicators!AE60","v":"5.1.1) Terrestrial protected areas"},"",{"$f":"tblIndicators!AJ60","v":1},{"$f":"ROUND(Scores!P66,aRoundedScores!$M$7)","v":100},{"$f":"ROUND(Scores!Q66,aRoundedScores!$M$7)","v":0},{"$f":"ROUND(Scores!R66,aRoundedScores!$M$7)","v":100},{"$f":"ROUND(Scores!S66,aRoundedScores!$M$7)","v":50},{"$f":"ROUND(Scores!T66,aRoundedScores!$M$7)","v":100},{"$f":"ROUND(Scores!U66,aRoundedScores!$M$7)","v":0},{"$f":"ROUND(Scores!V66,aRoundedScores!$M$7)","v":50},{"$f":"ROUND(Scores!W66,aRoundedScores!$M$7)","v":50},{"$f":"ROUND(Scores!X66,aRoundedScores!$M$7)","v":50},{"$f":"ROUND(Scores!Y66,aRoundedScores!$M$7)","v":100},{"$f":"ROUND(Scores!Z66,aRoundedScores!$M$7)","v":50},{"$f":"ROUND(Scores!AA66,aRoundedScores!$M$7)","v":50},{"$f":"ROUND(Scores!AB66,aRoundedScores!$M$7)","v":100},{"$f":"ROUND(Scores!AC66,aRoundedScores!$M$7)","v":50},{"$f":"ROUND(Scores!AD66,aRoundedScores!$M$7)","v":50},{"$f":"ROUND(Scores!AE66,aRoundedScores!$M$7)","v":0},{"$f":"ROUND(Scores!AF66,aRoundedScores!$M$7)","v":0},{"$f":"ROUND(Scores!AG66,aRoundedScores!$M$7)","v":100},{"$f":"ROUND(Scores!AH66,aRoundedScores!$M$7)","v":50},{"$f":"ROUND(Scores!AI66,aRoundedScores!$M$7)","v":0}]
[null,{"$f":"tblIndicators!A61","v":60},{"$f":"tblIndicators!B61","v":"LAND_2"},{"$f":"tblIndicators!C61","v":"LAND"},{"$f":"tblIndicators!D61","v":2},{"$f":"tblIndicators!L61","v":0},{"$f":"tblIndicators!V61","v":1},{"$f":"tblIndicators!W61","v":0},{"$f":"tblIndicators!X61","v":100},{"$f":"CHOOSE(G67,\"-\",Data!H67,H67)","v":"-"},{"$f":"CHOOSE(G67,\"-\",Data!I67,I67)","v":"-"},"-",{"$f":"tblIndicators!AE61","v":"5.2) Environmental impact of coastal development"},0.25,{"$f":"tblIndicators!AJ61","v":0.25},{"$f":"ROUND(Scores!P67,aRoundedScores!$M$7)","v":50},{"$f":"ROUND(Scores!Q67,aRoundedScores!$M$7)","v":100},{"$f":"ROUND(Scores!R67,aRoundedScores!$M$7)","v":100},{"$f":"ROUND(Scores!S67,aRoundedScores!$M$7)","v":100},{"$f":"ROUND(Scores!T67,aRoundedScores!$M$7)","v":100},{"$f":"ROUND(Scores!U67,aRoundedScores!$M$7)","v":100},{"$f":"ROUND(Scores!V67,aRoundedScores!$M$7)","v":100},{"$f":"ROUND(Scores!W67,aRoundedScores!$M$7)","v":100},{"$f":"ROUND(Scores!X67,aRoundedScores!$M$7)","v":100},{"$f":"ROUND(Scores!Y67,aRoundedScores!$M$7)","v":100},{"$f":"ROUND(Scores!Z67,aRoundedScores!$M$7)","v":50},{"$f":"ROUND(Scores!AA67,aRoundedScores!$M$7)","v":100},{"$f":"ROUND(Scores!AB67,aRoundedScores!$M$7)","v":50},{"$f":"ROUND(Scores!AC67,aRoundedScores!$M$7)","v":100},{"$f":"ROUND(Scores!AD67,aRoundedScores!$M$7)","v":0},{"$f":"ROUND(Scores!AE67,aRoundedScores!$M$7)","v":100},{"$f":"ROUND(Scores!AF67,aRoundedScores!$M$7)","v":100},{"$f":"ROUND(Scores!AG67,aRoundedScores!$M$7)","v":50},{"$f":"ROUND(Scores!AH67,aRoundedScores!$M$7)","v":100},{"$f":"ROUND(Scores!AI67,aRoundedScores!$M$7)","v":100}]
[null,{"$f":"tblIndicators!A62","v":61},{"$f":"tblIndicators!B62","v":"LAND_2_1"},{"$f":"tblIndicators!C62","v":"LAND_2"},{"$f":"tblIndicators!D62","v":3},{"$f":"tblIndicators!L62","v":0},{"$f":"tblIndicators!V62","v":3},{"$f":"tblIndicators!W62","v":0},{"$f":"tblIndicators!X62","v":1},{"$f":"CHOOSE(G68,\"-\",Data!H68,H68)","v":0},{"$f":"CHOOSE(G68,\"-\",Data!I68,I68)","v":1},1,{"$f":"tblIndicators!AE62","v":"5.2.1) Environment impact assessment for coastal development "},"",{"$f":"tblIndicators!AJ62","v":0.5},{"$f":"ROUND(Scores!P68,aRoundedScores!$M$7)","v":100},{"$f":"ROUND(Scores!Q68,aRoundedScores!$M$7)","v":100},{"$f":"ROUND(Scores!R68,aRoundedScores!$M$7)","v":100},{"$f":"ROUND(Scores!S68,aRoundedScores!$M$7)","v":100},{"$f":"ROUND(Scores!T68,aRoundedScores!$M$7)","v":100},{"$f":"ROUND(Scores!U68,aRoundedScores!$M$7)","v":100},{"$f":"ROUND(Scores!V68,aRoundedScores!$M$7)","v":100},{"$f":"ROUND(Scores!W68,aRoundedScores!$M$7)","v":100},{"$f":"ROUND(Scores!X68,aRoundedScores!$M$7)","v":100},{"$f":"ROUND(Scores!Y68,aRoundedScores!$M$7)","v":100},{"$f":"ROUND(Scores!Z68,aRoundedScores!$M$7)","v":100},{"$f":"ROUND(Scores!AA68,aRoundedScores!$M$7)","v":100},{"$f":"ROUND(Scores!AB68,aRoundedScores!$M$7)","v":0},{"$f":"ROUND(Scores!AC68,aRoundedScores!$M$7)","v":100},{"$f":"ROUND(Scores!AD68,aRoundedScores!$M$7)","v":0},{"$f":"ROUND(Scores!AE68,aRoundedScores!$M$7)","v":100},{"$f":"ROUND(Scores!AF68,aRoundedScores!$M$7)","v":100},{"$f":"ROUND(Scores!AG68,aRoundedScores!$M$7)","v":100},{"$f":"ROUND(Scores!AH68,aRoundedScores!$M$7)","v":100},{"$f":"ROUND(Scores!AI68,aRoundedScores!$M$7)","v":100}]
[null,{"$f":"tblIndicators!A63","v":62},{"$f":"tblIndicators!B63","v":"LAND_2_2"},{"$f":"tblIndicators!C63","v":"LAND_2"},{"$f":"tblIndicators!D63","v":3},{"$f":"tblIndicators!L63","v":0},{"$f":"tblIndicators!V63","v":3},{"$f":"tblIndicators!W63","v":0},{"$f":"tblIndicators!X63","v":1},{"$f":"CHOOSE(G69,\"-\",Data!H69,H69)","v":0},{"$f":"CHOOSE(G69,\"-\",Data!I69,I69)","v":1},1,{"$f":"tblIndicators!AE63","v":"5.2.2) On-site reviews "},"",{"$f":"tblIndicators!AJ63","v":0.5},{"$f":"ROUND(Scores!P69,aRoundedScores!$M$7)","v":0},{"$f":"ROUND(Scores!Q69,aRoundedScores!$M$7)","v":100},{"$f":"ROUND(Scores!R69,aRoundedScores!$M$7)","v":100},{"$f":"ROUND(Scores!S69,aRoundedScores!$M$7)","v":100},{"$f":"ROUND(Scores!T69,aRoundedScores!$M$7)","v":100},{"$f":"ROUND(Scores!U69,aRoundedScores!$M$7)","v":100},{"$f":"ROUND(Scores!V69,aRoundedScores!$M$7)","v":100},{"$f":"ROUND(Scores!W69,aRoundedScores!$M$7)","v":100},{"$f":"ROUND(Scores!X69,aRoundedScores!$M$7)","v":100},{"$f":"ROUND(Scores!Y69,aRoundedScores!$M$7)","v":100},{"$f":"ROUND(Scores!Z69,aRoundedScores!$M$7)","v":0},{"$f":"ROUND(Scores!AA69,aRoundedScores!$M$7)","v":100},{"$f":"ROUND(Scores!AB69,aRoundedScores!$M$7)","v":100},{"$f":"ROUND(Scores!AC69,aRoundedScores!$M$7)","v":100},{"$f":"ROUND(Scores!AD69,aRoundedScores!$M$7)","v":0},{"$f":"ROUND(Scores!AE69,aRoundedScores!$M$7)","v":100},{"$f":"ROUND(Scores!AF69,aRoundedScores!$M$7)","v":100},{"$f":"ROUND(Scores!AG69,aRoundedScores!$M$7)","v":0},{"$f":"ROUND(Scores!AH69,aRoundedScores!$M$7)","v":100},{"$f":"ROUND(Scores!AI69,aRoundedScores!$M$7)","v":100}]
[null,{"$f":"tblIndicators!A64","v":63},{"$f":"tblIndicators!B64","v":"LAND_3"},{"$f":"tblIndicators!C64","v":"LAND"},{"$f":"tblIndicators!D64","v":2},{"$f":"tblIndicators!L64","v":0},{"$f":"tblIndicators!V64","v":1},{"$f":"tblIndicators!W64","v":0},{"$f":"tblIndicators!X64","v":100},{"$f":"CHOOSE(G70,\"-\",Data!H70,H70)","v":"-"},{"$f":"CHOOSE(G70,\"-\",Data!I70,I70)","v":"-"},"-",{"$f":"tblIndicators!AE64","v":"5.3) Government commitment to sustainability in coastal tourism development"},0.25,{"$f":"tblIndicators!AJ64","v":0.25},{"$f":"ROUND(Scores!P70,aRoundedScores!$M$7)","v":49},{"$f":"ROUND(Scores!Q70,aRoundedScores!$M$7)","v":67},{"$f":"ROUND(Scores!R70,aRoundedScores!$M$7)","v":57},{"$f":"ROUND(Scores!S70,aRoundedScores!$M$7)","v":62},{"$f":"ROUND(Scores!T70,aRoundedScores!$M$7)","v":67},{"$f":"ROUND(Scores!U70,aRoundedScores!$M$7)","v":52},{"$f":"ROUND(Scores!V70,aRoundedScores!$M$7)","v":55},{"$f":"ROUND(Scores!W70,aRoundedScores!$M$7)","v":59},{"$f":"ROUND(Scores!X70,aRoundedScores!$M$7)","v":61},{"$f":"ROUND(Scores!Y70,aRoundedScores!$M$7)","v":84},{"$f":"ROUND(Scores!Z70,aRoundedScores!$M$7)","v":44},{"$f":"ROUND(Scores!AA70,aRoundedScores!$M$7)","v":63},{"$f":"ROUND(Scores!AB70,aRoundedScores!$M$7)","v":63},{"$f":"ROUND(Scores!AC70,aRoundedScores!$M$7)","v":52},{"$f":"ROUND(Scores!AD70,aRoundedScores!$M$7)","v":37},{"$f":"ROUND(Scores!AE70,aRoundedScores!$M$7)","v":66},{"$f":"ROUND(Scores!AF70,aRoundedScores!$M$7)","v":52},{"$f":"ROUND(Scores!AG70,aRoundedScores!$M$7)","v":68},{"$f":"ROUND(Scores!AH70,aRoundedScores!$M$7)","v":67},{"$f":"ROUND(Scores!AI70,aRoundedScores!$M$7)","v":46}]
[null,{"$f":"tblIndicators!A65","v":64},{"$f":"tblIndicators!B65","v":"LAND_3_1"},{"$f":"tblIndicators!C65","v":"LAND_3"},{"$f":"tblIndicators!D65","v":3},{"$f":"tblIndicators!L65","v":0},{"$f":"tblIndicators!V65","v":3},{"$f":"tblIndicators!W65","v":0},{"$f":"tblIndicators!X65","v":6},{"$f":"CHOOSE(G71,\"-\",Data!H71,H71)","v":0},{"$f":"CHOOSE(G71,\"-\",Data!I71,I71)","v":6},6,{"$f":"tblIndicators!AE65","v":"5.3.1) Sustainability of tourism"},"",{"$f":"tblIndicators!AJ65","v":1},{"$f":"ROUND(Scores!P71,aRoundedScores!$M$7)","v":49},{"$f":"ROUND(Scores!Q71,aRoundedScores!$M$7)","v":67},{"$f":"ROUND(Scores!R71,aRoundedScores!$M$7)","v":57},{"$f":"ROUND(Scores!S71,aRoundedScores!$M$7)","v":62},{"$f":"ROUND(Scores!T71,aRoundedScores!$M$7)","v":67},{"$f":"ROUND(Scores!U71,aRoundedScores!$M$7)","v":52},{"$f":"ROUND(Scores!V71,aRoundedScores!$M$7)","v":55},{"$f":"ROUND(Scores!W71,aRoundedScores!$M$7)","v":59},{"$f":"ROUND(Scores!X71,aRoundedScores!$M$7)","v":61},{"$f":"ROUND(Scores!Y71,aRoundedScores!$M$7)","v":84},{"$f":"ROUND(Scores!Z71,aRoundedScores!$M$7)","v":44},{"$f":"ROUND(Scores!AA71,aRoundedScores!$M$7)","v":63},{"$f":"ROUND(Scores!AB71,aRoundedScores!$M$7)","v":63},{"$f":"ROUND(Scores!AC71,aRoundedScores!$M$7)","v":52},{"$f":"ROUND(Scores!AD71,aRoundedScores!$M$7)","v":37},{"$f":"ROUND(Scores!AE71,aRoundedScores!$M$7)","v":66},{"$f":"ROUND(Scores!AF71,aRoundedScores!$M$7)","v":52},{"$f":"ROUND(Scores!AG71,aRoundedScores!$M$7)","v":68},{"$f":"ROUND(Scores!AH71,aRoundedScores!$M$7)","v":67},{"$f":"ROUND(Scores!AI71,aRoundedScores!$M$7)","v":46}]
[null,{"$f":"tblIndicators!A66","v":65},{"$f":"tblIndicators!B66","v":"LAND_4"},{"$f":"tblIndicators!C66","v":"LAND"},{"$f":"tblIndicators!D66","v":2},{"$f":"tblIndicators!L66","v":0},{"$f":"tblIndicators!V66","v":1},{"$f":"tblIndicators!W66","v":0},{"$f":"tblIndicators!X66","v":100},{"$f":"CHOOSE(G72,\"-\",Data!H72,H72)","v":"-"},{"$f":"CHOOSE(G72,\"-\",Data!I72,I72)","v":"-"},"-",{"$f":"tblIndicators!AE66","v":"5.4) Natural disaster risk mitigation"},0.25,{"$f":"tblIndicators!AJ66","v":0.25},{"$f":"ROUND(Scores!P72,aRoundedScores!$M$7)","v":0},{"$f":"ROUND(Scores!Q72,aRoundedScores!$M$7)","v":100},{"$f":"ROUND(Scores!R72,aRoundedScores!$M$7)","v":0},{"$f":"ROUND(Scores!S72,aRoundedScores!$M$7)","v":100},{"$f":"ROUND(Scores!T72,aRoundedScores!$M$7)","v":100},{"$f":"ROUND(Scores!U72,aRoundedScores!$M$7)","v":100},{"$f":"ROUND(Scores!V72,aRoundedScores!$M$7)","v":100},{"$f":"ROUND(Scores!W72,aRoundedScores!$M$7)","v":100},{"$f":"ROUND(Scores!X72,aRoundedScores!$M$7)","v":0},{"$f":"ROUND(Scores!Y72,aRoundedScores!$M$7)","v":100},{"$f":"ROUND(Scores!Z72,aRoundedScores!$M$7)","v":100},{"$f":"ROUND(Scores!AA72,aRoundedScores!$M$7)","v":0},{"$f":"ROUND(Scores!AB72,aRoundedScores!$M$7)","v":100},{"$f":"ROUND(Scores!AC72,aRoundedScores!$M$7)","v":100},{"$f":"ROUND(Scores!AD72,aRoundedScores!$M$7)","v":0},{"$f":"ROUND(Scores!AE72,aRoundedScores!$M$7)","v":100},{"$f":"ROUND(Scores!AF72,aRoundedScores!$M$7)","v":100},{"$f":"ROUND(Scores!AG72,aRoundedScores!$M$7)","v":100},{"$f":"ROUND(Scores!AH72,aRoundedScores!$M$7)","v":100},{"$f":"ROUND(Scores!AI72,aRoundedScores!$M$7)","v":100}]
[null,{"$f":"tblIndicators!A67","v":66},{"$f":"tblIndicators!B67","v":"LAND_4_1"},{"$f":"tblIndicators!C67","v":"LAND_4"},{"$f":"tblIndicators!D67","v":3},{"$f":"tblIndicators!L67","v":0},{"$f":"tblIndicators!V67","v":3},{"$f":"tblIndicators!W67","v":0},{"$f":"tblIndicators!X67","v":1},{"$f":"CHOOSE(G73,\"-\",Data!H73,H73)","v":0},{"$f":"CHOOSE(G73,\"-\",Data!I73,I73)","v":1},{"$f":"CHOOSE(G73,\"-\",K73-J73,K73-J73)","v":1},{"$f":"tblIndicators!AE67","v":"5.4.1) Strategy for risk mitigation "},"",{"$f":"tblIndicators!AJ67","v":1},{"$f":"ROUND(Scores!P73,aRoundedScores!$M$7)","v":0},{"$f":"ROUND(Scores!Q73,aRoundedScores!$M$7)","v":100},{"$f":"ROUND(Scores!R73,aRoundedScores!$M$7)","v":0},{"$f":"ROUND(Scores!S73,aRoundedScores!$M$7)","v":100},{"$f":"ROUND(Scores!T73,aRoundedScores!$M$7)","v":100},{"$f":"ROUND(Scores!U73,aRoundedScores!$M$7)","v":100},{"$f":"ROUND(Scores!V73,aRoundedScores!$M$7)","v":100},{"$f":"ROUND(Scores!W73,aRoundedScores!$M$7)","v":100},{"$f":"ROUND(Scores!X73,aRoundedScores!$M$7)","v":0},{"$f":"ROUND(Scores!Y73,aRoundedScores!$M$7)","v":100},{"$f":"ROUND(Scores!Z73,aRoundedScores!$M$7)","v":100},{"$f":"ROUND(Scores!AA73,aRoundedScores!$M$7)","v":0},{"$f":"ROUND(Scores!AB73,aRoundedScores!$M$7)","v":100},{"$f":"ROUND(Scores!AC73,aRoundedScores!$M$7)","v":100},{"$f":"ROUND(Scores!AD73,aRoundedScores!$M$7)","v":0},{"$f":"ROUND(Scores!AE73,aRoundedScores!$M$7)","v":100},{"$f":"ROUND(Scores!AF73,aRoundedScores!$M$7)","v":100},{"$f":"ROUND(Scores!AG73,aRoundedScores!$M$7)","v":100},{"$f":"ROUND(Scores!AH73,aRoundedScores!$M$7)","v":100},{"$f":"ROUND(Scores!AI73,aRoundedScores!$M$7)","v":100}]
[null,{"$f":"tblIndicators!A68","v":67},{"$f":"tblIndicators!B68","v":"LIVRES"},{"$f":"tblIndicators!C68","v":"OVERALL"},{"$f":"tblIndicators!D68","v":1},{"$f":"tblIndicators!L68","v":0},{"$f":"tblIndicators!V68","v":1},{"$f":"tblIndicators!W68","v":0},{"$f":"tblIndicators!X68","v":100},{"$f":"CHOOSE(G74,\"-\",Data!H74,H74)","v":"-"},{"$f":"CHOOSE(G74,\"-\",Data!I74,I74)","v":"-"},"-",{"$f":"tblIndicators!AE68","v":"6) LIVING RESOURCES"},{"$f":"IF(E74=3,\"\",O74)","v":0.16666666666666666},{"$f":"tblIndicators!AJ68","v":0.16666666666666666},{"$f":"ROUND(Scores!P74,aRoundedScores!$M$7)","v":78},{"$f":"ROUND(Scores!Q74,aRoundedScores!$M$7)","v":77},{"$f":"ROUND(Scores!R74,aRoundedScores!$M$7)","v":71},{"$f":"ROUND(Scores!S74,aRoundedScores!$M$7)","v":25},{"$f":"ROUND(Scores!T74,aRoundedScores!$M$7)","v":91},{"$f":"ROUND(Scores!U74,aRoundedScores!$M$7)","v":31},{"$f":"ROUND(Scores!V74,aRoundedScores!$M$7)","v":37},{"$f":"ROUND(Scores!W74,aRoundedScores!$M$7)","v":62},{"$f":"ROUND(Scores!X74,aRoundedScores!$M$7)","v":51},{"$f":"ROUND(Scores!Y74,aRoundedScores!$M$7)","v":94},{"$f":"ROUND(Scores!Z74,aRoundedScores!$M$7)","v":31},{"$f":"ROUND(Scores!AA74,aRoundedScores!$M$7)","v":79},{"$f":"ROUND(Scores!AB74,aRoundedScores!$M$7)","v":37},{"$f":"ROUND(Scores!AC74,aRoundedScores!$M$7)","v":31},{"$f":"ROUND(Scores!AD74,aRoundedScores!$M$7)","v":62},{"$f":"ROUND(Scores!AE74,aRoundedScores!$M$7)","v":60},{"$f":"ROUND(Scores!AF74,aRoundedScores!$M$7)","v":70},{"$f":"ROUND(Scores!AG74,aRoundedScores!$M$7)","v":83},{"$f":"ROUND(Scores!AH74,aRoundedScores!$M$7)","v":97},{"$f":"ROUND(Scores!AI74,aRoundedScores!$M$7)","v":34}]
[null,{"$f":"tblIndicators!A69","v":68},{"$f":"tblIndicators!B69","v":"LIVRES_1"},{"$f":"tblIndicators!C69","v":"LIVRES"},{"$f":"tblIndicators!D69","v":2},{"$f":"tblIndicators!L69","v":0},{"$f":"tblIndicators!V69","v":1},{"$f":"tblIndicators!W69","v":0},{"$f":"tblIndicators!X69","v":100},{"$f":"CHOOSE(G75,\"-\",Data!H75,H75)","v":"-"},{"$f":"CHOOSE(G75,\"-\",Data!I75,I75)","v":"-"},"-",{"$f":"tblIndicators!AE69","v":"6.1) Fisheries governance and management effectiveness"},0.33333333333333331,{"$f":"tblIndicators!AJ69","v":0.33333333333333331},{"$f":"ROUND(Scores!P75,aRoundedScores!$M$7)","v":34},{"$f":"ROUND(Scores!Q75,aRoundedScores!$M$7)","v":81},{"$f":"ROUND(Scores!R75,aRoundedScores!$M$7)","v":63},{"$f":"ROUND(Scores!S75,aRoundedScores!$M$7)","v":25},{"$f":"ROUND(Scores!T75,aRoundedScores!$M$7)","v":74},{"$f":"ROUND(Scores!U75,aRoundedScores!$M$7)","v":44},{"$f":"ROUND(Scores!V75,aRoundedScores!$M$7)","v":37},{"$f":"ROUND(Scores!W75,aRoundedScores!$M$7)","v":60},{"$f":"ROUND(Scores!X75,aRoundedScores!$M$7)","v":54},{"$f":"ROUND(Scores!Y75,aRoundedScores!$M$7)","v":81},{"$f":"ROUND(Scores!Z75,aRoundedScores!$M$7)","v":44},{"$f":"ROUND(Scores!AA75,aRoundedScores!$M$7)","v":88},{"$f":"ROUND(Scores!AB75,aRoundedScores!$M$7)","v":62},{"$f":"ROUND(Scores!AC75,aRoundedScores!$M$7)","v":42},{"$f":"ROUND(Scores!AD75,aRoundedScores!$M$7)","v":86},{"$f":"ROUND(Scores!AE75,aRoundedScores!$M$7)","v":81},{"$f":"ROUND(Scores!AF75,aRoundedScores!$M$7)","v":59},{"$f":"ROUND(Scores!AG75,aRoundedScores!$M$7)","v":74},{"$f":"ROUND(Scores!AH75,aRoundedScores!$M$7)","v":91},{"$f":"ROUND(Scores!AI75,aRoundedScores!$M$7)","v":53}]
[null,{"$f":"tblIndicators!A70","v":69},{"$f":"tblIndicators!B70","v":"LIVRES_1_1"},{"$f":"tblIndicators!C70","v":"LIVRES_1"},{"$f":"tblIndicators!D70","v":3},{"$f":"tblIndicators!L70","v":0},{"$f":"tblIndicators!V70","v":3},{"$f":"tblIndicators!W70","v":0},{"$f":"tblIndicators!X70","v":1},{"$f":"CHOOSE(G76,\"-\",Data!H76,H76)","v":0},{"$f":"CHOOSE(G76,\"-\",Data!I76,I76)","v":1},1,{"$f":"tblIndicators!AE70","v":"6.1.1) Fisheries governance and management effectiveness"},"",{"$f":"tblIndicators!AJ70","v":1},{"$f":"ROUND(Scores!P76,aRoundedScores!$M$7)","v":34},{"$f":"ROUND(Scores!Q76,aRoundedScores!$M$7)","v":81},{"$f":"ROUND(Scores!R76,aRoundedScores!$M$7)","v":63},{"$f":"ROUND(Scores!S76,aRoundedScores!$M$7)","v":25},{"$f":"ROUND(Scores!T76,aRoundedScores!$M$7)","v":74},{"$f":"ROUND(Scores!U76,aRoundedScores!$M$7)","v":44},{"$f":"ROUND(Scores!V76,aRoundedScores!$M$7)","v":37},{"$f":"ROUND(Scores!W76,aRoundedScores!$M$7)","v":60},{"$f":"ROUND(Scores!X76,aRoundedScores!$M$7)","v":54},{"$f":"ROUND(Scores!Y76,aRoundedScores!$M$7)","v":81},{"$f":"ROUND(Scores!Z76,aRoundedScores!$M$7)","v":44},{"$f":"ROUND(Scores!AA76,aRoundedScores!$M$7)","v":88},{"$f":"ROUND(Scores!AB76,aRoundedScores!$M$7)","v":62},{"$f":"ROUND(Scores!AC76,aRoundedScores!$M$7)","v":42},{"$f":"ROUND(Scores!AD76,aRoundedScores!$M$7)","v":86},{"$f":"ROUND(Scores!AE76,aRoundedScores!$M$7)","v":81},{"$f":"ROUND(Scores!AF76,aRoundedScores!$M$7)","v":59},{"$f":"ROUND(Scores!AG76,aRoundedScores!$M$7)","v":74},{"$f":"ROUND(Scores!AH76,aRoundedScores!$M$7)","v":91},{"$f":"ROUND(Scores!AI76,aRoundedScores!$M$7)","v":53}]
[null,{"$f":"tblIndicators!A71","v":70},{"$f":"tblIndicators!B71","v":"LIVRES_2"},{"$f":"tblIndicators!C71","v":"LIVRES"},{"$f":"tblIndicators!D71","v":2},{"$f":"tblIndicators!L71","v":0},{"$f":"tblIndicators!V71","v":1},{"$f":"tblIndicators!W71","v":0},{"$f":"tblIndicators!X71","v":100},{"$f":"CHOOSE(G77,\"-\",Data!H77,H77)","v":"-"},{"$f":"CHOOSE(G77,\"-\",Data!I77,I77)","v":"-"},"-",{"$f":"tblIndicators!AE71","v":"6.2) Protection for marine/coastal species"},0.33333333333333331,{"$f":"tblIndicators!AJ71","v":0.33333333333333331},{"$f":"ROUND(Scores!P77,aRoundedScores!$M$7)","v":100},{"$f":"ROUND(Scores!Q77,aRoundedScores!$M$7)","v":50},{"$f":"ROUND(Scores!R77,aRoundedScores!$M$7)","v":50},{"$f":"ROUND(Scores!S77,aRoundedScores!$M$7)","v":50},{"$f":"ROUND(Scores!T77,aRoundedScores!$M$7)","v":100},{"$f":"ROUND(Scores!U77,aRoundedScores!$M$7)","v":50},{"$f":"ROUND(Scores!V77,aRoundedScores!$M$7)","v":75},{"$f":"ROUND(Scores!W77,aRoundedScores!$M$7)","v":25},{"$f":"ROUND(Scores!X77,aRoundedScores!$M$7)","v":100},{"$f":"ROUND(Scores!Y77,aRoundedScores!$M$7)","v":100},{"$f":"ROUND(Scores!Z77,aRoundedScores!$M$7)","v":50},{"$f":"ROUND(Scores!AA77,aRoundedScores!$M$7)","v":50},{"$f":"ROUND(Scores!AB77,aRoundedScores!$M$7)","v":50},{"$f":"ROUND(Scores!AC77,aRoundedScores!$M$7)","v":50},{"$f":"ROUND(Scores!AD77,aRoundedScores!$M$7)","v":100},{"$f":"ROUND(Scores!AE77,aRoundedScores!$M$7)","v":100},{"$f":"ROUND(Scores!AF77,aRoundedScores!$M$7)","v":50},{"$f":"ROUND(Scores!AG77,aRoundedScores!$M$7)","v":75},{"$f":"ROUND(Scores!AH77,aRoundedScores!$M$7)","v":100},{"$f":"ROUND(Scores!AI77,aRoundedScores!$M$7)","v":50}]
[null,{"$f":"tblIndicators!A72","v":71},{"$f":"tblIndicators!B72","v":"LIVRES_2_1"},{"$f":"tblIndicators!C72","v":"LIVRES_2"},{"$f":"tblIndicators!D72","v":3},{"$f":"tblIndicators!L72","v":0},{"$f":"tblIndicators!V72","v":3},{"$f":"tblIndicators!W72","v":0},{"$f":"tblIndicators!X72","v":1},{"$f":"CHOOSE(G78,\"-\",Data!H78,H78)","v":0},{"$f":"CHOOSE(G78,\"-\",Data!I78,I78)","v":1},1,{"$f":"tblIndicators!AE72","v":"6.2.1) Protection of threatened species and populations "},"",{"$f":"tblIndicators!AJ72","v":0.5},{"$f":"ROUND(Scores!P78,aRoundedScores!$M$7)","v":100},{"$f":"ROUND(Scores!Q78,aRoundedScores!$M$7)","v":100},{"$f":"ROUND(Scores!R78,aRoundedScores!$M$7)","v":100},{"$f":"ROUND(Scores!S78,aRoundedScores!$M$7)","v":100},{"$f":"ROUND(Scores!T78,aRoundedScores!$M$7)","v":100},{"$f":"ROUND(Scores!U78,aRoundedScores!$M$7)","v":100},{"$f":"ROUND(Scores!V78,aRoundedScores!$M$7)","v":100},{"$f":"ROUND(Scores!W78,aRoundedScores!$M$7)","v":0},{"$f":"ROUND(Scores!X78,aRoundedScores!$M$7)","v":100},{"$f":"ROUND(Scores!Y78,aRoundedScores!$M$7)","v":100},{"$f":"ROUND(Scores!Z78,aRoundedScores!$M$7)","v":100},{"$f":"ROUND(Scores!AA78,aRoundedScores!$M$7)","v":100},{"$f":"ROUND(Scores!AB78,aRoundedScores!$M$7)","v":100},{"$f":"ROUND(Scores!AC78,aRoundedScores!$M$7)","v":100},{"$f":"ROUND(Scores!AD78,aRoundedScores!$M$7)","v":100},{"$f":"ROUND(Scores!AE78,aRoundedScores!$M$7)","v":100},{"$f":"ROUND(Scores!AF78,aRoundedScores!$M$7)","v":100},{"$f":"ROUND(Scores!AG78,aRoundedScores!$M$7)","v":100},{"$f":"ROUND(Scores!AH78,aRoundedScores!$M$7)","v":100},{"$f":"ROUND(Scores!AI78,aRoundedScores!$M$7)","v":100}]
[null,{"$f":"tblIndicators!A73","v":72},{"$f":"tblIndicators!B73","v":"LIVRES_2_2"},{"$f":"tblIndicators!C73","v":"LIVRES_2"},{"$f":"tblIndicators!D73","v":3},{"$f":"tblIndicators!L73","v":0},{"$f":"tblIndicators!V73","v":3},{"$f":"tblIndicators!W73","v":0},{"$f":"tblIndicators!X73","v":2},{"$f":"CHOOSE(G79,\"-\",Data!H79,H79)","v":0},{"$f":"CHOOSE(G79,\"-\",Data!I79,I79)","v":2},2,{"$f":"tblIndicators!AE73","v":"6.2.2) Prevalence of marine protected areas"},"",{"$f":"tblIndicators!AJ73","v":0.5},{"$f":"ROUND(Scores!P79,aRoundedScores!$M$7)","v":100},{"$f":"ROUND(Scores!Q79,aRoundedScores!$M$7)","v":0},{"$f":"ROUND(Scores!R79,aRoundedScores!$M$7)","v":0},{"$f":"ROUND(Scores!S79,aRoundedScores!$M$7)","v":0},{"$f":"ROUND(Scores!T79,aRoundedScores!$M$7)","v":100},{"$f":"ROUND(Scores!U79,aRoundedScores!$M$7)","v":0},{"$f":"ROUND(Scores!V79,aRoundedScores!$M$7)","v":50},{"$f":"ROUND(Scores!W79,aRoundedScores!$M$7)","v":50},{"$f":"ROUND(Scores!X79,aRoundedScores!$M$7)","v":100},{"$f":"ROUND(Scores!Y79,aRoundedScores!$M$7)","v":100},{"$f":"ROUND(Scores!Z79,aRoundedScores!$M$7)","v":0},{"$f":"ROUND(Scores!AA79,aRoundedScores!$M$7)","v":0},{"$f":"ROUND(Scores!AB79,aRoundedScores!$M$7)","v":0},{"$f":"ROUND(Scores!AC79,aRoundedScores!$M$7)","v":0},{"$f":"ROUND(Scores!AD79,aRoundedScores!$M$7)","v":100},{"$f":"ROUND(Scores!AE79,aRoundedScores!$M$7)","v":100},{"$f":"ROUND(Scores!AF79,aRoundedScores!$M$7)","v":0},{"$f":"ROUND(Scores!AG79,aRoundedScores!$M$7)","v":50},{"$f":"ROUND(Scores!AH79,aRoundedScores!$M$7)","v":100},{"$f":"ROUND(Scores!AI79,aRoundedScores!$M$7)","v":0}]
[null,{"$f":"tblIndicators!A74","v":73},{"$f":"tblIndicators!B74","v":"LIVRES_3"},{"$f":"tblIndicators!C74","v":"LIVRES"},{"$f":"tblIndicators!D74","v":2},{"$f":"tblIndicators!L74","v":0},{"$f":"tblIndicators!V74","v":1},{"$f":"tblIndicators!W74","v":0},{"$f":"tblIndicators!X74","v":100},{"$f":"CHOOSE(G80,\"-\",Data!H80,H80)","v":"-"},{"$f":"CHOOSE(G80,\"-\",Data!I80,I80)","v":"-"},"-",{"$f":"tblIndicators!AE74","v":"6.3) Ballast water treatment"},0.33333333333333331,{"$f":"tblIndicators!AJ74","v":0.33333333333333331},{"$f":"ROUND(Scores!P80,aRoundedScores!$M$7)","v":100},{"$f":"ROUND(Scores!Q80,aRoundedScores!$M$7)","v":100},{"$f":"ROUND(Scores!R80,aRoundedScores!$M$7)","v":100},{"$f":"ROUND(Scores!S80,aRoundedScores!$M$7)","v":0},{"$f":"ROUND(Scores!T80,aRoundedScores!$M$7)","v":100},{"$f":"ROUND(Scores!U80,aRoundedScores!$M$7)","v":0},{"$f":"ROUND(Scores!V80,aRoundedScores!$M$7)","v":0},{"$f":"ROUND(Scores!W80,aRoundedScores!$M$7)","v":100},{"$f":"ROUND(Scores!X80,aRoundedScores!$M$7)","v":0},{"$f":"ROUND(Scores!Y80,aRoundedScores!$M$7)","v":100},{"$f":"ROUND(Scores!Z80,aRoundedScores!$M$7)","v":0},{"$f":"ROUND(Scores!AA80,aRoundedScores!$M$7)","v":100},{"$f":"ROUND(Scores!AB80,aRoundedScores!$M$7)","v":0},{"$f":"ROUND(Scores!AC80,aRoundedScores!$M$7)","v":0},{"$f":"ROUND(Scores!AD80,aRoundedScores!$M$7)","v":0},{"$f":"ROUND(Scores!AE80,aRoundedScores!$M$7)","v":0},{"$f":"ROUND(Scores!AF80,aRoundedScores!$M$7)","v":100},{"$f":"ROUND(Scores!AG80,aRoundedScores!$M$7)","v":100},{"$f":"ROUND(Scores!AH80,aRoundedScores!$M$7)","v":100},{"$f":"ROUND(Scores!AI80,aRoundedScores!$M$7)","v":0}]
[null,{"$f":"tblIndicators!A75","v":74},{"$f":"tblIndicators!B75","v":"LIVRES_3_1"},{"$f":"tblIndicators!C75","v":"LIVRES_3"},{"$f":"tblIndicators!D75","v":3},{"$f":"tblIndicators!L75","v":0},{"$f":"tblIndicators!V75","v":3},{"$f":"tblIndicators!W75","v":0},{"$f":"tblIndicators!X75","v":1},{"$f":"CHOOSE(G81,\"-\",Data!H81,H81)","v":0},{"$f":"CHOOSE(G81,\"-\",Data!I81,I81)","v":1},1,{"$f":"tblIndicators!AE75","v":"6.3.1) Mechanisms to control pathways of introduction "},"",{"$f":"tblIndicators!AJ75","v":1},{"$f":"ROUND(Scores!P81,aRoundedScores!$M$7)","v":100},{"$f":"ROUND(Scores!Q81,aRoundedScores!$M$7)","v":100},{"$f":"ROUND(Scores!R81,aRoundedScores!$M$7)","v":100},{"$f":"ROUND(Scores!S81,aRoundedScores!$M$7)","v":0},{"$f":"ROUND(Scores!T81,aRoundedScores!$M$7)","v":100},{"$f":"ROUND(Scores!U81,aRoundedScores!$M$7)","v":0},{"$f":"ROUND(Scores!V81,aRoundedScores!$M$7)","v":0},{"$f":"ROUND(Scores!W81,aRoundedScores!$M$7)","v":100},{"$f":"ROUND(Scores!X81,aRoundedScores!$M$7)","v":0},{"$f":"ROUND(Scores!Y81,aRoundedScores!$M$7)","v":100},{"$f":"ROUND(Scores!Z81,aRoundedScores!$M$7)","v":0},{"$f":"ROUND(Scores!AA81,aRoundedScores!$M$7)","v":100},{"$f":"ROUND(Scores!AB81,aRoundedScores!$M$7)","v":0},{"$f":"ROUND(Scores!AC81,aRoundedScores!$M$7)","v":0},{"$f":"ROUND(Scores!AD81,aRoundedScores!$M$7)","v":0},{"$f":"ROUND(Scores!AE81,aRoundedScores!$M$7)","v":0},{"$f":"ROUND(Scores!AF81,aRoundedScores!$M$7)","v":100},{"$f":"ROUND(Scores!AG81,aRoundedScores!$M$7)","v":100},{"$f":"ROUND(Scores!AH81,aRoundedScores!$M$7)","v":100},{"$f":"ROUND(Scores!AI81,aRoundedScores!$M$7)","v":0}]